{"text_format":"3","workbook":"xlsx","n_sheets":5,"sheets":["KI_TES","HARMONOGRAM","KO_TES","KO_roboczy","KI_roboczy"],"not_rendered":{"defined_names":11},"read":"whole","date_system":"1900"}

{"sheet":"KI_TES","index":0,"n_rows":16,"n_cols":8,"rows_kept":16,"hidden":true,"merged":[[0,0,0,4],[13,0,13,3],[14,0,14,3],[15,0,15,3]]}
["KOSZTORYS INWESTORSKI  (BR. OBIEKTY INŻYNIERSKIE) - TABELA ELEMENTÓW SCALONYCH"]
["Poz.","Kod CPV","Numer SST","Wyszczególnienie elementów rozliczeniowych","Wartość robót"]
[1,2,3,4,5]
[1]
[2]
[3,{"$f":"#REF!","v":{"$error":"#REF!"}},{"$f":"#REF!","v":{"$error":"#REF!"}},{"$f":"#REF!","v":{"$error":"#REF!"}},{"$f":"SUM(#REF!)","v":{"$error":"#REF!"}},6828261.05,null,{"$f":"E6-F6","v":{"$error":"#REF!"}}]
[4]
[5]
[6]
[7]
[8]
[9]
[10]
["Razem (NETTO)",{"$nulls":3},{"$f":"SUM(E4:E13)","v":{"$error":"#REF!"}}]
["Podatek VAT 23%",{"$nulls":3},{"$f":"0.23*E14","v":{"$error":"#REF!"}}]
["Razem (BRUTTO)",{"$nulls":3},{"$f":"E14+E15","v":{"$error":"#REF!"}}]

{"sheet":"HARMONOGRAM","index":1,"n_rows":27,"n_cols":8,"rows_kept":27,"merged":[[1,1,1,7],[2,1,2,7],[3,1,3,7],[4,1,4,7],[5,3,6,7],[7,1,8,2],[7,3,8,3],[23,1,23,2]]}
[{"$nulls":7},"zał. nr ..............\ndo wzoru umowy"]
[null,"Wzór Harmonogramu rzeczowo-finansowego"]
[null,"dotyczy inwestycji pod nazwą:"]
[null,"„Modernizacja mostów w ciągu ul. Toruńskiej nad Starą i Nową Motławą wraz z modernizacją chodników i nawierzchni jezdni ul. Toruńskiej”–etap 1 –remont Mostu Popielnego"]
[]
[]
[]
[{"$nulls":3},"WARTOŚĆ","nazwa miesiąca / rok","nazwa miesiąca / rok","nazwa miesiąca / rok","nazwa miesiąca / rok"]
[{"$nulls":4},"………………..../…………","………………..../…………","………………..../…………","………………..../…………"]
[null,"1","WYMAGANIA OGÓLNE"]
[null,"2","ROBOTY PRZYGOTOWAWCZE"]
[null,"3","ROBOTY ZIEMNE"]
[null,"4","PODBUDOWA"]
[null,"5","NAWIERZCHNIE"]
[null,"6","CZASOWA ORGANIZACJA RUCHU"]
[null,"7","ROBOTY ROZBIÓRKOWE"]
[null,"8","ZBROJENIE"]
[null,"9","BETON"]
[null,"10","KONSTRUKCJE STALOWE"]
[null,"11","IZOLACJA I NAWIERZCHNIE"]
[null,"12","ODWODNIENIE"]
[null,"13","URZĄDZENIA BEZPIECZEŃSTWA RUCHU"]
[null,"14","INNE ROBOTY MOSTOWE"]
[]
[null,null,"RAZEM NETTO","[zł]","[zł,00]","[zł,00]","[zł,00]","[zł,00]"]
[null,null,"podatek VAT ... %","[zł]","[zł,gr]","[zł,gr]","[zł,gr]","[zł,gr]"]
[null,null,"RAZEM kosztorys BRUTTO","[zł]","[zł,gr]","[zł,gr]","[zł,gr]","[zł,gr]"]

{"sheet":"KO_TES","index":2,"n_rows":16,"n_cols":5,"rows_kept":16,"hidden":true,"merged":[[0,0,0,4],[13,0,13,3],[14,0,14,3],[15,0,15,3]]}
["KOSZTORYS OFERTOWY  (BR. OBIEKTY INŻYNIERSKIE) - TABELA ELEMENTÓW SCALONYCH"]
["Poz.","Kod CPV","Numer SST","Wyszczególnienie elementów rozliczeniowych","Wartość robót"]
[1,2,3,4,5]
[1]
[2]
[3]
[4]
[5]
[6]
[7]
[8]
[9]
[10]
["Razem (NETTO)"]
["Podatek VAT 23%"]
["Razem (BRUTTO)"]

{"sheet":"KO_roboczy","index":3,"n_rows":108,"n_cols":11,"rows_kept":108,"hidden":true,"merged":[[0,0,0,7],[64,0,64,3],[64,4,64,7],[65,0,65,3],[65,4,65,7],[66,0,66,3],[66,4,66,7]]}
["KOSZTORYS OFERTOWY (BR. MOSTOWA)"]
["Poz.","Kod CPV","Numer STWiORB","Wyszczególnienie elementów rozliczeniowych","Jedn.","Ilość","Cena jedn.","Wartość"]
[1,2,2,3,4,5,6,7]
[{"$f":"IF(J4=0,\"\",J4)","v":{"$error":"#REF!"}},{"$f":"IF(K4=0,\"\",K4)","v":{"$error":"#REF!"}},{"$f":"I4","v":{"$error":"#REF!"}},{"$f":"IF(J4=\"\",VLOOKUP(C4,OFFSET([0]!_xlnm.Print_Area,3,2),2,FALSE),VLOOKUP(A4,OFFSET([0]!_xlnm.Print_Area,3,0),4,FALSE))","v":{"$error":"#REF!"}},{"$f":"IF(J4=\"\",\"\",VLOOKUP(A4,OFFSET([0]!_xlnm.Print_Area,3,0),5,FALSE))","v":{"$error":"#REF!"}},{"$f":"IF(J4=\"\",\"\",VLOOKUP(A4,OFFSET([0]!_xlnm.Print_Area,3,0),6,FALSE))","v":{"$error":"#REF!"}},null,null,{"$f":"INDEX(#REF!,SMALL(IF(#REF!<>\"\",ROW(#REF!)),ROWS(I$1:I4)-1))","v":{"$error":"#REF!"}},{"$f":"INDEX(#REF!,SMALL(IF(#REF!<>\"\",ROW(#REF!)),ROWS(J$1:J4)-1))","v":{"$error":"#REF!"}},{"$f":"INDEX(#REF!,SMALL(IF(#REF!<>\"\",ROW(#REF!)),ROWS(K$1:K4)-1))","v":{"$error":"#REF!"}}]
[{"$f":"IF(J5=0,\"\",J5)","v":{"$error":"#REF!"}},{"$f":"IF(K5=0,\"\",K5)","v":{"$error":"#REF!"}},{"$f":"I5","v":{"$error":"#REF!"}},{"$f":"IF(J5=\"\",VLOOKUP(C5,OFFSET([0]!_xlnm.Print_Area,3,2),2,FALSE),VLOOKUP(A5,OFFSET([0]!_xlnm.Print_Area,3,0),4,FALSE))","v":{"$error":"#REF!"}},{"$f":"IF(J5=\"\",\"\",VLOOKUP(A5,OFFSET([0]!_xlnm.Print_Area,3,0),5,FALSE))","v":{"$error":"#REF!"}},{"$f":"IF(J5=\"\",\"\",VLOOKUP(A5,OFFSET([0]!_xlnm.Print_Area,3,0),6,FALSE))","v":{"$error":"#REF!"}},null,null,{"$f":"INDEX(#REF!,SMALL(IF(#REF!<>\"\",ROW(#REF!)),ROWS(I$1:I5)-1))","v":{"$error":"#REF!"}},{"$f":"INDEX(#REF!,SMALL(IF(#REF!<>\"\",ROW(#REF!)),ROWS(J$1:J5)-1))","v":{"$error":"#REF!"}},{"$f":"INDEX(#REF!,SMALL(IF(#REF!<>\"\",ROW(#REF!)),ROWS(K$1:K5)-1))","v":{"$error":"#REF!"}}]
[{"$error":"#REF!"},{"$error":"#REF!"},{"$error":"#REF!"},{"$f":"IF(J6=\"\",VLOOKUP(C6,OFFSET([0]!_xlnm.Print_Area,3,2),2,FALSE),VLOOKUP(A6,OFFSET([0]!_xlnm.Print_Area,3,0),4,FALSE))","v":{"$error":"#REF!"}},{"$f":"IF(J6=\"\",\"\",VLOOKUP(A6,OFFSET([0]!_xlnm.Print_Area,3,0),5,FALSE))","v":{"$error":"#REF!"}},{"$f":"IF(J6=\"\",\"\",VLOOKUP(A6,OFFSET([0]!_xlnm.Print_Area,3,0),6,FALSE))","v":{"$error":"#REF!"}},null,null,{"$f":"INDEX(#REF!,SMALL(IF(#REF!<>\"\",ROW(#REF!)),ROWS(I$1:I6)-1))","v":{"$error":"#REF!"}},{"$f":"INDEX(#REF!,SMALL(IF(#REF!<>\"\",ROW(#REF!)),ROWS(J$1:J6)-1))","v":{"$error":"#REF!"}},{"$f":"INDEX(#REF!,SMALL(IF(#REF!<>\"\",ROW(#REF!)),ROWS(K$1:K6)-1))","v":{"$error":"#REF!"}}]
[{"$error":"#REF!"},{"$error":"#REF!"},{"$error":"#REF!"},{"$f":"IF(J7=\"\",VLOOKUP(C7,OFFSET([0]!_xlnm.Print_Area,3,2),2,FALSE),VLOOKUP(A7,OFFSET([0]!_xlnm.Print_Area,3,0),4,FALSE))","v":{"$error":"#REF!"}},{"$f":"IF(J7=\"\",\"\",VLOOKUP(A7,OFFSET([0]!_xlnm.Print_Area,3,0),5,FALSE))","v":{"$error":"#REF!"}},{"$f":"IF(J7=\"\",\"\",VLOOKUP(A7,OFFSET([0]!_xlnm.Print_Area,3,0),6,FALSE))","v":{"$error":"#REF!"}},null,null,{"$f":"INDEX(#REF!,SMALL(IF(#REF!<>\"\",ROW(#REF!)),ROWS(I$1:I7)-1))","v":{"$error":"#REF!"}},{"$f":"INDEX(#REF!,SMALL(IF(#REF!<>\"\",ROW(#REF!)),ROWS(J$1:J7)-1))","v":{"$error":"#REF!"}},{"$f":"INDEX(#REF!,SMALL(IF(#REF!<>\"\",ROW(#REF!)),ROWS(K$1:K7)-1))","v":{"$error":"#REF!"}}]
[{"$error":"#REF!"},{"$error":"#REF!"},{"$error":"#REF!"},{"$f":"IF(J8=\"\",VLOOKUP(C8,OFFSET([0]!_xlnm.Print_Area,3,2),2,FALSE),VLOOKUP(A8,OFFSET([0]!_xlnm.Print_Area,3,0),4,FALSE))","v":{"$error":"#REF!"}},{"$f":"IF(J8=\"\",\"\",VLOOKUP(A8,OFFSET([0]!_xlnm.Print_Area,3,0),5,FALSE))","v":{"$error":"#REF!"}},{"$f":"IF(J8=\"\",\"\",VLOOKUP(A8,OFFSET([0]!_xlnm.Print_Area,3,0),6,FALSE))","v":{"$error":"#REF!"}},null,null,{"$f":"INDEX(#REF!,SMALL(IF(#REF!<>\"\",ROW(#REF!)),ROWS(I$1:I8)-1))","v":{"$error":"#REF!"}},{"$f":"INDEX(#REF!,SMALL(IF(#REF!<>\"\",ROW(#REF!)),ROWS(J$1:J8)-1))","v":{"$error":"#REF!"}},{"$f":"INDEX(#REF!,SMALL(IF(#REF!<>\"\",ROW(#REF!)),ROWS(K$1:K8)-1))","v":{"$error":"#REF!"}}]
[{"$error":"#REF!"},{"$error":"#REF!"},{"$error":"#REF!"},{"$f":"IF(J9=\"\",VLOOKUP(C9,OFFSET([0]!_xlnm.Print_Area,3,2),2,FALSE),VLOOKUP(A9,OFFSET([0]!_xlnm.Print_Area,3,0),4,FALSE))","v":{"$error":"#REF!"}},{"$f":"IF(J9=\"\",\"\",VLOOKUP(A9,OFFSET([0]!_xlnm.Print_Area,3,0),5,FALSE))","v":{"$error":"#REF!"}},{"$f":"IF(J9=\"\",\"\",VLOOKUP(A9,OFFSET([0]!_xlnm.Print_Area,3,0),6,FALSE))","v":{"$error":"#REF!"}},null,null,{"$f":"INDEX(#REF!,SMALL(IF(#REF!<>\"\",ROW(#REF!)),ROWS(I$1:I9)-1))","v":{"$error":"#REF!"}},{"$f":"INDEX(#REF!,SMALL(IF(#REF!<>\"\",ROW(#REF!)),ROWS(J$1:J9)-1))","v":{"$error":"#REF!"}},{"$f":"INDEX(#REF!,SMALL(IF(#REF!<>\"\",ROW(#REF!)),ROWS(K$1:K9)-1))","v":{"$error":"#REF!"}}]
[{"$error":"#REF!"},{"$error":"#REF!"},{"$error":"#REF!"},{"$f":"IF(J10=\"\",VLOOKUP(C10,OFFSET([0]!_xlnm.Print_Area,3,2),2,FALSE),VLOOKUP(A10,OFFSET([0]!_xlnm.Print_Area,3,0),4,FALSE))","v":{"$error":"#REF!"}},{"$f":"IF(J10=\"\",\"\",VLOOKUP(A10,OFFSET([0]!_xlnm.Print_Area,3,0),5,FALSE))","v":{"$error":"#REF!"}},{"$f":"IF(J10=\"\",\"\",VLOOKUP(A10,OFFSET([0]!_xlnm.Print_Area,3,0),6,FALSE))","v":{"$error":"#REF!"}},null,null,{"$f":"INDEX(#REF!,SMALL(IF(#REF!<>\"\",ROW(#REF!)),ROWS(I$1:I10)-1))","v":{"$error":"#REF!"}},{"$f":"INDEX(#REF!,SMALL(IF(#REF!<>\"\",ROW(#REF!)),ROWS(J$1:J10)-1))","v":{"$error":"#REF!"}},{"$f":"INDEX(#REF!,SMALL(IF(#REF!<>\"\",ROW(#REF!)),ROWS(K$1:K10)-1))","v":{"$error":"#REF!"}}]
[{"$error":"#REF!"},{"$error":"#REF!"},{"$error":"#REF!"},{"$f":"IF(J11=\"\",VLOOKUP(C11,OFFSET([0]!_xlnm.Print_Area,3,2),2,FALSE),VLOOKUP(A11,OFFSET([0]!_xlnm.Print_Area,3,0),4,FALSE))","v":{"$error":"#REF!"}},{"$f":"IF(J11=\"\",\"\",VLOOKUP(A11,OFFSET([0]!_xlnm.Print_Area,3,0),5,FALSE))","v":{"$error":"#REF!"}},{"$f":"IF(J11=\"\",\"\",VLOOKUP(A11,OFFSET([0]!_xlnm.Print_Area,3,0),6,FALSE))","v":{"$error":"#REF!"}},null,null,{"$f":"INDEX(#REF!,SMALL(IF(#REF!<>\"\",ROW(#REF!)),ROWS(I$1:I11)-1))","v":{"$error":"#REF!"}},{"$f":"INDEX(#REF!,SMALL(IF(#REF!<>\"\",ROW(#REF!)),ROWS(J$1:J11)-1))","v":{"$error":"#REF!"}},{"$f":"INDEX(#REF!,SMALL(IF(#REF!<>\"\",ROW(#REF!)),ROWS(K$1:K11)-1))","v":{"$error":"#REF!"}}]
[{"$error":"#REF!"},{"$error":"#REF!"},{"$error":"#REF!"},{"$f":"IF(J12=\"\",VLOOKUP(C12,OFFSET([0]!_xlnm.Print_Area,3,2),2,FALSE),VLOOKUP(A12,OFFSET([0]!_xlnm.Print_Area,3,0),4,FALSE))","v":{"$error":"#REF!"}},{"$f":"IF(J12=\"\",\"\",VLOOKUP(A12,OFFSET([0]!_xlnm.Print_Area,3,0),5,FALSE))","v":{"$error":"#REF!"}},{"$f":"IF(J12=\"\",\"\",VLOOKUP(A12,OFFSET([0]!_xlnm.Print_Area,3,0),6,FALSE))","v":{"$error":"#REF!"}},null,null,{"$f":"INDEX(#REF!,SMALL(IF(#REF!<>\"\",ROW(#REF!)),ROWS(I$1:I12)-1))","v":{"$error":"#REF!"}},{"$f":"INDEX(#REF!,SMALL(IF(#REF!<>\"\",ROW(#REF!)),ROWS(J$1:J12)-1))","v":{"$error":"#REF!"}},{"$f":"INDEX(#REF!,SMALL(IF(#REF!<>\"\",ROW(#REF!)),ROWS(K$1:K12)-1))","v":{"$error":"#REF!"}}]
[{"$error":"#REF!"},{"$error":"#REF!"},{"$error":"#REF!"},{"$f":"IF(J13=\"\",VLOOKUP(C13,OFFSET([0]!_xlnm.Print_Area,3,2),2,FALSE),VLOOKUP(A13,OFFSET([0]!_xlnm.Print_Area,3,0),4,FALSE))","v":{"$error":"#REF!"}},{"$f":"IF(J13=\"\",\"\",VLOOKUP(A13,OFFSET([0]!_xlnm.Print_Area,3,0),5,FALSE))","v":{"$error":"#REF!"}},{"$f":"IF(J13=\"\",\"\",VLOOKUP(A13,OFFSET([0]!_xlnm.Print_Area,3,0),6,FALSE))","v":{"$error":"#REF!"}},null,null,{"$f":"INDEX(#REF!,SMALL(IF(#REF!<>\"\",ROW(#REF!)),ROWS(I$1:I13)-1))","v":{"$error":"#REF!"}},{"$f":"INDEX(#REF!,SMALL(IF(#REF!<>\"\",ROW(#REF!)),ROWS(J$1:J13)-1))","v":{"$error":"#REF!"}},{"$f":"INDEX(#REF!,SMALL(IF(#REF!<>\"\",ROW(#REF!)),ROWS(K$1:K13)-1))","v":{"$error":"#REF!"}}]
[{"$error":"#REF!"},{"$error":"#REF!"},{"$error":"#REF!"},{"$f":"IF(J14=\"\",VLOOKUP(C14,OFFSET([0]!_xlnm.Print_Area,3,2),2,FALSE),VLOOKUP(A14,OFFSET([0]!_xlnm.Print_Area,3,0),4,FALSE))","v":{"$error":"#REF!"}},{"$f":"IF(J14=\"\",\"\",VLOOKUP(A14,OFFSET([0]!_xlnm.Print_Area,3,0),5,FALSE))","v":{"$error":"#REF!"}},{"$f":"IF(J14=\"\",\"\",VLOOKUP(A14,OFFSET([0]!_xlnm.Print_Area,3,0),6,FALSE))","v":{"$error":"#REF!"}},null,null,{"$f":"INDEX(#REF!,SMALL(IF(#REF!<>\"\",ROW(#REF!)),ROWS(I$1:I14)-1))","v":{"$error":"#REF!"}},{"$f":"INDEX(#REF!,SMALL(IF(#REF!<>\"\",ROW(#REF!)),ROWS(J$1:J14)-1))","v":{"$error":"#REF!"}},{"$f":"INDEX(#REF!,SMALL(IF(#REF!<>\"\",ROW(#REF!)),ROWS(K$1:K14)-1))","v":{"$error":"#REF!"}}]
[{"$error":"#REF!"},{"$error":"#REF!"},{"$error":"#REF!"},{"$f":"IF(J15=\"\",VLOOKUP(C15,OFFSET([0]!_xlnm.Print_Area,3,2),2,FALSE),VLOOKUP(A15,OFFSET([0]!_xlnm.Print_Area,3,0),4,FALSE))","v":{"$error":"#REF!"}},{"$f":"IF(J15=\"\",\"\",VLOOKUP(A15,OFFSET([0]!_xlnm.Print_Area,3,0),5,FALSE))","v":{"$error":"#REF!"}},{"$f":"IF(J15=\"\",\"\",VLOOKUP(A15,OFFSET([0]!_xlnm.Print_Area,3,0),6,FALSE))","v":{"$error":"#REF!"}},null,null,{"$f":"INDEX(#REF!,SMALL(IF(#REF!<>\"\",ROW(#REF!)),ROWS(I$1:I15)-1))","v":{"$error":"#REF!"}},{"$f":"INDEX(#REF!,SMALL(IF(#REF!<>\"\",ROW(#REF!)),ROWS(J$1:J15)-1))","v":{"$error":"#REF!"}},{"$f":"INDEX(#REF!,SMALL(IF(#REF!<>\"\",ROW(#REF!)),ROWS(K$1:K15)-1))","v":{"$error":"#REF!"}}]
[{"$error":"#REF!"},{"$error":"#REF!"},{"$error":"#REF!"},{"$f":"IF(J16=\"\",VLOOKUP(C16,OFFSET([0]!_xlnm.Print_Area,3,2),2,FALSE),VLOOKUP(A16,OFFSET([0]!_xlnm.Print_Area,3,0),4,FALSE))","v":{"$error":"#REF!"}},{"$f":"IF(J16=\"\",\"\",VLOOKUP(A16,OFFSET([0]!_xlnm.Print_Area,3,0),5,FALSE))","v":{"$error":"#REF!"}},{"$f":"IF(J16=\"\",\"\",VLOOKUP(A16,OFFSET([0]!_xlnm.Print_Area,3,0),6,FALSE))","v":{"$error":"#REF!"}},null,null,{"$f":"INDEX(#REF!,SMALL(IF(#REF!<>\"\",ROW(#REF!)),ROWS(I$1:I16)-1))","v":{"$error":"#REF!"}},{"$f":"INDEX(#REF!,SMALL(IF(#REF!<>\"\",ROW(#REF!)),ROWS(J$1:J16)-1))","v":{"$error":"#REF!"}},{"$f":"INDEX(#REF!,SMALL(IF(#REF!<>\"\",ROW(#REF!)),ROWS(K$1:K16)-1))","v":{"$error":"#REF!"}}]
[{"$error":"#REF!"},{"$error":"#REF!"},{"$error":"#REF!"},{"$f":"IF(J17=\"\",VLOOKUP(C17,OFFSET([0]!_xlnm.Print_Area,3,2),2,FALSE),VLOOKUP(A17,OFFSET([0]!_xlnm.Print_Area,3,0),4,FALSE))","v":{"$error":"#REF!"}},{"$f":"IF(J17=\"\",\"\",VLOOKUP(A17,OFFSET([0]!_xlnm.Print_Area,3,0),5,FALSE))","v":{"$error":"#REF!"}},{"$f":"IF(J17=\"\",\"\",VLOOKUP(A17,OFFSET([0]!_xlnm.Print_Area,3,0),6,FALSE))","v":{"$error":"#REF!"}},null,null,{"$f":"INDEX(#REF!,SMALL(IF(#REF!<>\"\",ROW(#REF!)),ROWS(I$1:I17)-1))","v":{"$error":"#REF!"}},{"$f":"INDEX(#REF!,SMALL(IF(#REF!<>\"\",ROW(#REF!)),ROWS(J$1:J17)-1))","v":{"$error":"#REF!"}},{"$f":"INDEX(#REF!,SMALL(IF(#REF!<>\"\",ROW(#REF!)),ROWS(K$1:K17)-1))","v":{"$error":"#REF!"}}]
[{"$error":"#REF!"},{"$error":"#REF!"},{"$error":"#REF!"},{"$f":"IF(J18=\"\",VLOOKUP(C18,OFFSET([0]!_xlnm.Print_Area,3,2),2,FALSE),VLOOKUP(A18,OFFSET([0]!_xlnm.Print_Area,3,0),4,FALSE))","v":{"$error":"#REF!"}},{"$f":"IF(J18=\"\",\"\",VLOOKUP(A18,OFFSET([0]!_xlnm.Print_Area,3,0),5,FALSE))","v":{"$error":"#REF!"}},{"$f":"IF(J18=\"\",\"\",VLOOKUP(A18,OFFSET([0]!_xlnm.Print_Area,3,0),6,FALSE))","v":{"$error":"#REF!"}},null,null,{"$f":"INDEX(#REF!,SMALL(IF(#REF!<>\"\",ROW(#REF!)),ROWS(I$1:I18)-1))","v":{"$error":"#REF!"}},{"$f":"INDEX(#REF!,SMALL(IF(#REF!<>\"\",ROW(#REF!)),ROWS(J$1:J18)-1))","v":{"$error":"#REF!"}},{"$f":"INDEX(#REF!,SMALL(IF(#REF!<>\"\",ROW(#REF!)),ROWS(K$1:K18)-1))","v":{"$error":"#REF!"}}]
[{"$error":"#REF!"},{"$error":"#REF!"},{"$error":"#REF!"},{"$f":"IF(J19=\"\",VLOOKUP(C19,OFFSET([0]!_xlnm.Print_Area,3,2),2,FALSE),VLOOKUP(A19,OFFSET([0]!_xlnm.Print_Area,3,0),4,FALSE))","v":{"$error":"#REF!"}},{"$f":"IF(J19=\"\",\"\",VLOOKUP(A19,OFFSET([0]!_xlnm.Print_Area,3,0),5,FALSE))","v":{"$error":"#REF!"}},{"$f":"IF(J19=\"\",\"\",VLOOKUP(A19,OFFSET([0]!_xlnm.Print_Area,3,0),6,FALSE))","v":{"$error":"#REF!"}},null,null,{"$f":"INDEX(#REF!,SMALL(IF(#REF!<>\"\",ROW(#REF!)),ROWS(I$1:I19)-1))","v":{"$error":"#REF!"}},{"$f":"INDEX(#REF!,SMALL(IF(#REF!<>\"\",ROW(#REF!)),ROWS(J$1:J19)-1))","v":{"$error":"#REF!"}},{"$f":"INDEX(#REF!,SMALL(IF(#REF!<>\"\",ROW(#REF!)),ROWS(K$1:K19)-1))","v":{"$error":"#REF!"}}]
[{"$error":"#REF!"},{"$error":"#REF!"},{"$error":"#REF!"},{"$f":"IF(J20=\"\",VLOOKUP(C20,OFFSET([0]!_xlnm.Print_Area,3,2),2,FALSE),VLOOKUP(A20,OFFSET([0]!_xlnm.Print_Area,3,0),4,FALSE))","v":{"$error":"#REF!"}},{"$f":"IF(J20=\"\",\"\",VLOOKUP(A20,OFFSET([0]!_xlnm.Print_Area,3,0),5,FALSE))","v":{"$error":"#REF!"}},{"$f":"IF(J20=\"\",\"\",VLOOKUP(A20,OFFSET([0]!_xlnm.Print_Area,3,0),6,FALSE))","v":{"$error":"#REF!"}},null,null,{"$f":"INDEX(#REF!,SMALL(IF(#REF!<>\"\",ROW(#REF!)),ROWS(I$1:I20)-1))","v":{"$error":"#REF!"}},{"$f":"INDEX(#REF!,SMALL(IF(#REF!<>\"\",ROW(#REF!)),ROWS(J$1:J20)-1))","v":{"$error":"#REF!"}},{"$f":"INDEX(#REF!,SMALL(IF(#REF!<>\"\",ROW(#REF!)),ROWS(K$1:K20)-1))","v":{"$error":"#REF!"}}]
[{"$error":"#REF!"},{"$error":"#REF!"},{"$error":"#REF!"},{"$f":"IF(J21=\"\",VLOOKUP(C21,OFFSET([0]!_xlnm.Print_Area,3,2),2,FALSE),VLOOKUP(A21,OFFSET([0]!_xlnm.Print_Area,3,0),4,FALSE))","v":{"$error":"#REF!"}},{"$f":"IF(J21=\"\",\"\",VLOOKUP(A21,OFFSET([0]!_xlnm.Print_Area,3,0),5,FALSE))","v":{"$error":"#REF!"}},{"$f":"IF(J21=\"\",\"\",VLOOKUP(A21,OFFSET([0]!_xlnm.Print_Area,3,0),6,FALSE))","v":{"$error":"#REF!"}},null,null,{"$f":"INDEX(#REF!,SMALL(IF(#REF!<>\"\",ROW(#REF!)),ROWS(I$1:I21)-1))","v":{"$error":"#REF!"}},{"$f":"INDEX(#REF!,SMALL(IF(#REF!<>\"\",ROW(#REF!)),ROWS(J$1:J21)-1))","v":{"$error":"#REF!"}},{"$f":"INDEX(#REF!,SMALL(IF(#REF!<>\"\",ROW(#REF!)),ROWS(K$1:K21)-1))","v":{"$error":"#REF!"}}]
[{"$error":"#REF!"},{"$error":"#REF!"},{"$error":"#REF!"},{"$f":"IF(J22=\"\",VLOOKUP(C22,OFFSET([0]!_xlnm.Print_Area,3,2),2,FALSE),VLOOKUP(A22,OFFSET([0]!_xlnm.Print_Area,3,0),4,FALSE))","v":{"$error":"#REF!"}},{"$f":"IF(J22=\"\",\"\",VLOOKUP(A22,OFFSET([0]!_xlnm.Print_Area,3,0),5,FALSE))","v":{"$error":"#REF!"}},{"$f":"IF(J22=\"\",\"\",VLOOKUP(A22,OFFSET([0]!_xlnm.Print_Area,3,0),6,FALSE))","v":{"$error":"#REF!"}},null,null,{"$f":"INDEX(#REF!,SMALL(IF(#REF!<>\"\",ROW(#REF!)),ROWS(I$1:I22)-1))","v":{"$error":"#REF!"}},{"$f":"INDEX(#REF!,SMALL(IF(#REF!<>\"\",ROW(#REF!)),ROWS(J$1:J22)-1))","v":{"$error":"#REF!"}},{"$f":"INDEX(#REF!,SMALL(IF(#REF!<>\"\",ROW(#REF!)),ROWS(K$1:K22)-1))","v":{"$error":"#REF!"}}]
[{"$error":"#REF!"},{"$error":"#REF!"},{"$error":"#REF!"},{"$f":"IF(J23=\"\",VLOOKUP(C23,OFFSET([0]!_xlnm.Print_Area,3,2),2,FALSE),VLOOKUP(A23,OFFSET([0]!_xlnm.Print_Area,3,0),4,FALSE))","v":{"$error":"#REF!"}},{"$f":"IF(J23=\"\",\"\",VLOOKUP(A23,OFFSET([0]!_xlnm.Print_Area,3,0),5,FALSE))","v":{"$error":"#REF!"}},{"$f":"IF(J23=\"\",\"\",VLOOKUP(A23,OFFSET([0]!_xlnm.Print_Area,3,0),6,FALSE))","v":{"$error":"#REF!"}},null,null,{"$f":"INDEX(#REF!,SMALL(IF(#REF!<>\"\",ROW(#REF!)),ROWS(I$1:I23)-1))","v":{"$error":"#REF!"}},{"$f":"INDEX(#REF!,SMALL(IF(#REF!<>\"\",ROW(#REF!)),ROWS(J$1:J23)-1))","v":{"$error":"#REF!"}},{"$f":"INDEX(#REF!,SMALL(IF(#REF!<>\"\",ROW(#REF!)),ROWS(K$1:K23)-1))","v":{"$error":"#REF!"}}]
[{"$error":"#REF!"},{"$error":"#REF!"},{"$error":"#REF!"},{"$f":"IF(J24=\"\",VLOOKUP(C24,OFFSET([0]!_xlnm.Print_Area,3,2),2,FALSE),VLOOKUP(A24,OFFSET([0]!_xlnm.Print_Area,3,0),4,FALSE))","v":{"$error":"#REF!"}},{"$f":"IF(J24=\"\",\"\",VLOOKUP(A24,OFFSET([0]!_xlnm.Print_Area,3,0),5,FALSE))","v":{"$error":"#REF!"}},{"$f":"IF(J24=\"\",\"\",VLOOKUP(A24,OFFSET([0]!_xlnm.Print_Area,3,0),6,FALSE))","v":{"$error":"#REF!"}},null,null,{"$f":"INDEX(#REF!,SMALL(IF(#REF!<>\"\",ROW(#REF!)),ROWS(I$1:I24)-1))","v":{"$error":"#REF!"}},{"$f":"INDEX(#REF!,SMALL(IF(#REF!<>\"\",ROW(#REF!)),ROWS(J$1:J24)-1))","v":{"$error":"#REF!"}},{"$f":"INDEX(#REF!,SMALL(IF(#REF!<>\"\",ROW(#REF!)),ROWS(K$1:K24)-1))","v":{"$error":"#REF!"}}]
[{"$error":"#REF!"},{"$error":"#REF!"},{"$error":"#REF!"},{"$f":"IF(J25=\"\",VLOOKUP(C25,OFFSET([0]!_xlnm.Print_Area,3,2),2,FALSE),VLOOKUP(A25,OFFSET([0]!_xlnm.Print_Area,3,0),4,FALSE))","v":{"$error":"#REF!"}},{"$f":"IF(J25=\"\",\"\",VLOOKUP(A25,OFFSET([0]!_xlnm.Print_Area,3,0),5,FALSE))","v":{"$error":"#REF!"}},{"$f":"IF(J25=\"\",\"\",VLOOKUP(A25,OFFSET([0]!_xlnm.Print_Area,3,0),6,FALSE))","v":{"$error":"#REF!"}},null,null,{"$f":"INDEX(#REF!,SMALL(IF(#REF!<>\"\",ROW(#REF!)),ROWS(I$1:I25)-1))","v":{"$error":"#REF!"}},{"$f":"INDEX(#REF!,SMALL(IF(#REF!<>\"\",ROW(#REF!)),ROWS(J$1:J25)-1))","v":{"$error":"#REF!"}},{"$f":"INDEX(#REF!,SMALL(IF(#REF!<>\"\",ROW(#REF!)),ROWS(K$1:K25)-1))","v":{"$error":"#REF!"}}]
[{"$error":"#REF!"},{"$error":"#REF!"},{"$error":"#REF!"},{"$f":"IF(J26=\"\",VLOOKUP(C26,OFFSET([0]!_xlnm.Print_Area,3,2),2,FALSE),VLOOKUP(A26,OFFSET([0]!_xlnm.Print_Area,3,0),4,FALSE))","v":{"$error":"#REF!"}},{"$f":"IF(J26=\"\",\"\",VLOOKUP(A26,OFFSET([0]!_xlnm.Print_Area,3,0),5,FALSE))","v":{"$error":"#REF!"}},{"$f":"IF(J26=\"\",\"\",VLOOKUP(A26,OFFSET([0]!_xlnm.Print_Area,3,0),6,FALSE))","v":{"$error":"#REF!"}},null,null,{"$f":"INDEX(#REF!,SMALL(IF(#REF!<>\"\",ROW(#REF!)),ROWS(I$1:I26)-1))","v":{"$error":"#REF!"}},{"$f":"INDEX(#REF!,SMALL(IF(#REF!<>\"\",ROW(#REF!)),ROWS(J$1:J26)-1))","v":{"$error":"#REF!"}},{"$f":"INDEX(#REF!,SMALL(IF(#REF!<>\"\",ROW(#REF!)),ROWS(K$1:K26)-1))","v":{"$error":"#REF!"}}]
[{"$error":"#REF!"},{"$error":"#REF!"},{"$error":"#REF!"},{"$f":"IF(J27=\"\",VLOOKUP(C27,OFFSET([0]!_xlnm.Print_Area,3,2),2,FALSE),VLOOKUP(A27,OFFSET([0]!_xlnm.Print_Area,3,0),4,FALSE))","v":{"$error":"#REF!"}},{"$f":"IF(J27=\"\",\"\",VLOOKUP(A27,OFFSET([0]!_xlnm.Print_Area,3,0),5,FALSE))","v":{"$error":"#REF!"}},{"$f":"IF(J27=\"\",\"\",VLOOKUP(A27,OFFSET([0]!_xlnm.Print_Area,3,0),6,FALSE))","v":{"$error":"#REF!"}},null,null,{"$f":"INDEX(#REF!,SMALL(IF(#REF!<>\"\",ROW(#REF!)),ROWS(I$1:I27)-1))","v":{"$error":"#REF!"}},{"$f":"INDEX(#REF!,SMALL(IF(#REF!<>\"\",ROW(#REF!)),ROWS(J$1:J27)-1))","v":{"$error":"#REF!"}},{"$f":"INDEX(#REF!,SMALL(IF(#REF!<>\"\",ROW(#REF!)),ROWS(K$1:K27)-1))","v":{"$error":"#REF!"}}]
[{"$error":"#REF!"},{"$error":"#REF!"},{"$error":"#REF!"},{"$f":"IF(J28=\"\",VLOOKUP(C28,OFFSET([0]!_xlnm.Print_Area,3,2),2,FALSE),VLOOKUP(A28,OFFSET([0]!_xlnm.Print_Area,3,0),4,FALSE))","v":{"$error":"#REF!"}},{"$f":"IF(J28=\"\",\"\",VLOOKUP(A28,OFFSET([0]!_xlnm.Print_Area,3,0),5,FALSE))","v":{"$error":"#REF!"}},{"$f":"IF(J28=\"\",\"\",VLOOKUP(A28,OFFSET([0]!_xlnm.Print_Area,3,0),6,FALSE))","v":{"$error":"#REF!"}},null,null,{"$f":"INDEX(#REF!,SMALL(IF(#REF!<>\"\",ROW(#REF!)),ROWS(I$1:I28)-1))","v":{"$error":"#REF!"}},{"$f":"INDEX(#REF!,SMALL(IF(#REF!<>\"\",ROW(#REF!)),ROWS(J$1:J28)-1))","v":{"$error":"#REF!"}},{"$f":"INDEX(#REF!,SMALL(IF(#REF!<>\"\",ROW(#REF!)),ROWS(K$1:K28)-1))","v":{"$error":"#REF!"}}]
[{"$error":"#REF!"},{"$error":"#REF!"},{"$error":"#REF!"},{"$f":"IF(J29=\"\",VLOOKUP(C29,OFFSET([0]!_xlnm.Print_Area,3,2),2,FALSE),VLOOKUP(A29,OFFSET([0]!_xlnm.Print_Area,3,0),4,FALSE))","v":{"$error":"#REF!"}},{"$f":"IF(J29=\"\",\"\",VLOOKUP(A29,OFFSET([0]!_xlnm.Print_Area,3,0),5,FALSE))","v":{"$error":"#REF!"}},{"$f":"IF(J29=\"\",\"\",VLOOKUP(A29,OFFSET([0]!_xlnm.Print_Area,3,0),6,FALSE))","v":{"$error":"#REF!"}},null,null,{"$f":"INDEX(#REF!,SMALL(IF(#REF!<>\"\",ROW(#REF!)),ROWS(I$1:I29)-1))","v":{"$error":"#REF!"}},{"$f":"INDEX(#REF!,SMALL(IF(#REF!<>\"\",ROW(#REF!)),ROWS(J$1:J29)-1))","v":{"$error":"#REF!"}},{"$f":"INDEX(#REF!,SMALL(IF(#REF!<>\"\",ROW(#REF!)),ROWS(K$1:K29)-1))","v":{"$error":"#REF!"}}]
[{"$error":"#REF!"},{"$error":"#REF!"},{"$error":"#REF!"},{"$f":"IF(J30=\"\",VLOOKUP(C30,OFFSET([0]!_xlnm.Print_Area,3,2),2,FALSE),VLOOKUP(A30,OFFSET([0]!_xlnm.Print_Area,3,0),4,FALSE))","v":{"$error":"#REF!"}},{"$f":"IF(J30=\"\",\"\",VLOOKUP(A30,OFFSET([0]!_xlnm.Print_Area,3,0),5,FALSE))","v":{"$error":"#REF!"}},{"$f":"IF(J30=\"\",\"\",VLOOKUP(A30,OFFSET([0]!_xlnm.Print_Area,3,0),6,FALSE))","v":{"$error":"#REF!"}},null,null,{"$f":"INDEX(#REF!,SMALL(IF(#REF!<>\"\",ROW(#REF!)),ROWS(I$1:I30)-1))","v":{"$error":"#REF!"}},{"$f":"INDEX(#REF!,SMALL(IF(#REF!<>\"\",ROW(#REF!)),ROWS(J$1:J30)-1))","v":{"$error":"#REF!"}},{"$f":"INDEX(#REF!,SMALL(IF(#REF!<>\"\",ROW(#REF!)),ROWS(K$1:K30)-1))","v":{"$error":"#REF!"}}]
[{"$error":"#REF!"},{"$error":"#REF!"},{"$error":"#REF!"},{"$f":"IF(J31=\"\",VLOOKUP(C31,OFFSET([0]!_xlnm.Print_Area,3,2),2,FALSE),VLOOKUP(A31,OFFSET([0]!_xlnm.Print_Area,3,0),4,FALSE))","v":{"$error":"#REF!"}},{"$f":"IF(J31=\"\",\"\",VLOOKUP(A31,OFFSET([0]!_xlnm.Print_Area,3,0),5,FALSE))","v":{"$error":"#REF!"}},{"$f":"IF(J31=\"\",\"\",VLOOKUP(A31,OFFSET([0]!_xlnm.Print_Area,3,0),6,FALSE))","v":{"$error":"#REF!"}},null,null,{"$f":"INDEX(#REF!,SMALL(IF(#REF!<>\"\",ROW(#REF!)),ROWS(I$1:I31)-1))","v":{"$error":"#REF!"}},{"$f":"INDEX(#REF!,SMALL(IF(#REF!<>\"\",ROW(#REF!)),ROWS(J$1:J31)-1))","v":{"$error":"#REF!"}},{"$f":"INDEX(#REF!,SMALL(IF(#REF!<>\"\",ROW(#REF!)),ROWS(K$1:K31)-1))","v":{"$error":"#REF!"}}]
[{"$error":"#REF!"},{"$error":"#REF!"},{"$error":"#REF!"},{"$f":"IF(J32=\"\",VLOOKUP(C32,OFFSET([0]!_xlnm.Print_Area,3,2),2,FALSE),VLOOKUP(A32,OFFSET([0]!_xlnm.Print_Area,3,0),4,FALSE))","v":{"$error":"#REF!"}},{"$f":"IF(J32=\"\",\"\",VLOOKUP(A32,OFFSET([0]!_xlnm.Print_Area,3,0),5,FALSE))","v":{"$error":"#REF!"}},{"$f":"IF(J32=\"\",\"\",VLOOKUP(A32,OFFSET([0]!_xlnm.Print_Area,3,0),6,FALSE))","v":{"$error":"#REF!"}},null,null,{"$f":"INDEX(#REF!,SMALL(IF(#REF!<>\"\",ROW(#REF!)),ROWS(I$1:I32)-1))","v":{"$error":"#REF!"}},{"$f":"INDEX(#REF!,SMALL(IF(#REF!<>\"\",ROW(#REF!)),ROWS(J$1:J32)-1))","v":{"$error":"#REF!"}},{"$f":"INDEX(#REF!,SMALL(IF(#REF!<>\"\",ROW(#REF!)),ROWS(K$1:K32)-1))","v":{"$error":"#REF!"}}]
[{"$error":"#REF!"},{"$error":"#REF!"},{"$error":"#REF!"},{"$f":"IF(J33=\"\",VLOOKUP(C33,OFFSET([0]!_xlnm.Print_Area,3,2),2,FALSE),VLOOKUP(A33,OFFSET([0]!_xlnm.Print_Area,3,0),4,FALSE))","v":{"$error":"#REF!"}},{"$f":"IF(J33=\"\",\"\",VLOOKUP(A33,OFFSET([0]!_xlnm.Print_Area,3,0),5,FALSE))","v":{"$error":"#REF!"}},{"$f":"IF(J33=\"\",\"\",VLOOKUP(A33,OFFSET([0]!_xlnm.Print_Area,3,0),6,FALSE))","v":{"$error":"#REF!"}},null,null,{"$f":"INDEX(#REF!,SMALL(IF(#REF!<>\"\",ROW(#REF!)),ROWS(I$1:I33)-1))","v":{"$error":"#REF!"}},{"$f":"INDEX(#REF!,SMALL(IF(#REF!<>\"\",ROW(#REF!)),ROWS(J$1:J33)-1))","v":{"$error":"#REF!"}},{"$f":"INDEX(#REF!,SMALL(IF(#REF!<>\"\",ROW(#REF!)),ROWS(K$1:K33)-1))","v":{"$error":"#REF!"}}]
[{"$error":"#REF!"},{"$error":"#REF!"},{"$error":"#REF!"},{"$f":"IF(J34=\"\",VLOOKUP(C34,OFFSET([0]!_xlnm.Print_Area,3,2),2,FALSE),VLOOKUP(A34,OFFSET([0]!_xlnm.Print_Area,3,0),4,FALSE))","v":{"$error":"#REF!"}},{"$f":"IF(J34=\"\",\"\",VLOOKUP(A34,OFFSET([0]!_xlnm.Print_Area,3,0),5,FALSE))","v":{"$error":"#REF!"}},{"$f":"IF(J34=\"\",\"\",VLOOKUP(A34,OFFSET([0]!_xlnm.Print_Area,3,0),6,FALSE))","v":{"$error":"#REF!"}},null,null,{"$f":"INDEX(#REF!,SMALL(IF(#REF!<>\"\",ROW(#REF!)),ROWS(I$1:I34)-1))","v":{"$error":"#REF!"}},{"$f":"INDEX(#REF!,SMALL(IF(#REF!<>\"\",ROW(#REF!)),ROWS(J$1:J34)-1))","v":{"$error":"#REF!"}},{"$f":"INDEX(#REF!,SMALL(IF(#REF!<>\"\",ROW(#REF!)),ROWS(K$1:K34)-1))","v":{"$error":"#REF!"}}]
[{"$error":"#REF!"},{"$error":"#REF!"},{"$error":"#REF!"},{"$f":"IF(J35=\"\",VLOOKUP(C35,OFFSET([0]!_xlnm.Print_Area,3,2),2,FALSE),VLOOKUP(A35,OFFSET([0]!_xlnm.Print_Area,3,0),4,FALSE))","v":{"$error":"#REF!"}},{"$f":"IF(J35=\"\",\"\",VLOOKUP(A35,OFFSET([0]!_xlnm.Print_Area,3,0),5,FALSE))","v":{"$error":"#REF!"}},{"$f":"IF(J35=\"\",\"\",VLOOKUP(A35,OFFSET([0]!_xlnm.Print_Area,3,0),6,FALSE))","v":{"$error":"#REF!"}},null,null,{"$f":"INDEX(#REF!,SMALL(IF(#REF!<>\"\",ROW(#REF!)),ROWS(I$1:I35)-1))","v":{"$error":"#REF!"}},{"$f":"INDEX(#REF!,SMALL(IF(#REF!<>\"\",ROW(#REF!)),ROWS(J$1:J35)-1))","v":{"$error":"#REF!"}},{"$f":"INDEX(#REF!,SMALL(IF(#REF!<>\"\",ROW(#REF!)),ROWS(K$1:K35)-1))","v":{"$error":"#REF!"}}]
[{"$error":"#REF!"},{"$error":"#REF!"},{"$error":"#REF!"},{"$f":"IF(J36=\"\",VLOOKUP(C36,OFFSET([0]!_xlnm.Print_Area,3,2),2,FALSE),VLOOKUP(A36,OFFSET([0]!_xlnm.Print_Area,3,0),4,FALSE))","v":{"$error":"#REF!"}},{"$f":"IF(J36=\"\",\"\",VLOOKUP(A36,OFFSET([0]!_xlnm.Print_Area,3,0),5,FALSE))","v":{"$error":"#REF!"}},{"$f":"IF(J36=\"\",\"\",VLOOKUP(A36,OFFSET([0]!_xlnm.Print_Area,3,0),6,FALSE))","v":{"$error":"#REF!"}},null,null,{"$f":"INDEX(#REF!,SMALL(IF(#REF!<>\"\",ROW(#REF!)),ROWS(I$1:I36)-1))","v":{"$error":"#REF!"}},{"$f":"INDEX(#REF!,SMALL(IF(#REF!<>\"\",ROW(#REF!)),ROWS(J$1:J36)-1))","v":{"$error":"#REF!"}},{"$f":"INDEX(#REF!,SMALL(IF(#REF!<>\"\",ROW(#REF!)),ROWS(K$1:K36)-1))","v":{"$error":"#REF!"}}]
[{"$error":"#REF!"},{"$error":"#REF!"},{"$error":"#REF!"},{"$f":"IF(J37=\"\",VLOOKUP(C37,OFFSET([0]!_xlnm.Print_Area,3,2),2,FALSE),VLOOKUP(A37,OFFSET([0]!_xlnm.Print_Area,3,0),4,FALSE))","v":{"$error":"#REF!"}},{"$f":"IF(J37=\"\",\"\",VLOOKUP(A37,OFFSET([0]!_xlnm.Print_Area,3,0),5,FALSE))","v":{"$error":"#REF!"}},{"$f":"IF(J37=\"\",\"\",VLOOKUP(A37,OFFSET([0]!_xlnm.Print_Area,3,0),6,FALSE))","v":{"$error":"#REF!"}},null,null,{"$f":"INDEX(#REF!,SMALL(IF(#REF!<>\"\",ROW(#REF!)),ROWS(I$1:I37)-1))","v":{"$error":"#REF!"}},{"$f":"INDEX(#REF!,SMALL(IF(#REF!<>\"\",ROW(#REF!)),ROWS(J$1:J37)-1))","v":{"$error":"#REF!"}},{"$f":"INDEX(#REF!,SMALL(IF(#REF!<>\"\",ROW(#REF!)),ROWS(K$1:K37)-1))","v":{"$error":"#REF!"}}]
[{"$error":"#REF!"},{"$error":"#REF!"},{"$error":"#REF!"},{"$f":"IF(J38=\"\",VLOOKUP(C38,OFFSET([0]!_xlnm.Print_Area,3,2),2,FALSE),VLOOKUP(A38,OFFSET([0]!_xlnm.Print_Area,3,0),4,FALSE))","v":{"$error":"#REF!"}},{"$f":"IF(J38=\"\",\"\",VLOOKUP(A38,OFFSET([0]!_xlnm.Print_Area,3,0),5,FALSE))","v":{"$error":"#REF!"}},{"$f":"IF(J38=\"\",\"\",VLOOKUP(A38,OFFSET([0]!_xlnm.Print_Area,3,0),6,FALSE))","v":{"$error":"#REF!"}},null,null,{"$f":"INDEX(#REF!,SMALL(IF(#REF!<>\"\",ROW(#REF!)),ROWS(I$1:I38)-1))","v":{"$error":"#REF!"}},{"$f":"INDEX(#REF!,SMALL(IF(#REF!<>\"\",ROW(#REF!)),ROWS(J$1:J38)-1))","v":{"$error":"#REF!"}},{"$f":"INDEX(#REF!,SMALL(IF(#REF!<>\"\",ROW(#REF!)),ROWS(K$1:K38)-1))","v":{"$error":"#REF!"}}]
[{"$error":"#REF!"},{"$error":"#REF!"},{"$error":"#REF!"},{"$f":"IF(J39=\"\",VLOOKUP(C39,OFFSET([0]!_xlnm.Print_Area,3,2),2,FALSE),VLOOKUP(A39,OFFSET([0]!_xlnm.Print_Area,3,0),4,FALSE))","v":{"$error":"#REF!"}},{"$f":"IF(J39=\"\",\"\",VLOOKUP(A39,OFFSET([0]!_xlnm.Print_Area,3,0),5,FALSE))","v":{"$error":"#REF!"}},{"$f":"IF(J39=\"\",\"\",VLOOKUP(A39,OFFSET([0]!_xlnm.Print_Area,3,0),6,FALSE))","v":{"$error":"#REF!"}},null,null,{"$f":"INDEX(#REF!,SMALL(IF(#REF!<>\"\",ROW(#REF!)),ROWS(I$1:I39)-1))","v":{"$error":"#REF!"}},{"$f":"INDEX(#REF!,SMALL(IF(#REF!<>\"\",ROW(#REF!)),ROWS(J$1:J39)-1))","v":{"$error":"#REF!"}},{"$f":"INDEX(#REF!,SMALL(IF(#REF!<>\"\",ROW(#REF!)),ROWS(K$1:K39)-1))","v":{"$error":"#REF!"}}]
[{"$error":"#REF!"},{"$error":"#REF!"},{"$error":"#REF!"},{"$f":"IF(J40=\"\",VLOOKUP(C40,OFFSET([0]!_xlnm.Print_Area,3,2),2,FALSE),VLOOKUP(A40,OFFSET([0]!_xlnm.Print_Area,3,0),4,FALSE))","v":{"$error":"#REF!"}},{"$f":"IF(J40=\"\",\"\",VLOOKUP(A40,OFFSET([0]!_xlnm.Print_Area,3,0),5,FALSE))","v":{"$error":"#REF!"}},{"$f":"IF(J40=\"\",\"\",VLOOKUP(A40,OFFSET([0]!_xlnm.Print_Area,3,0),6,FALSE))","v":{"$error":"#REF!"}},null,null,{"$f":"INDEX(#REF!,SMALL(IF(#REF!<>\"\",ROW(#REF!)),ROWS(I$1:I40)-1))","v":{"$error":"#REF!"}},{"$f":"INDEX(#REF!,SMALL(IF(#REF!<>\"\",ROW(#REF!)),ROWS(J$1:J40)-1))","v":{"$error":"#REF!"}},{"$f":"INDEX(#REF!,SMALL(IF(#REF!<>\"\",ROW(#REF!)),ROWS(K$1:K40)-1))","v":{"$error":"#REF!"}}]
[{"$error":"#REF!"},{"$error":"#REF!"},{"$error":"#REF!"},{"$f":"IF(J41=\"\",VLOOKUP(C41,OFFSET([0]!_xlnm.Print_Area,3,2),2,FALSE),VLOOKUP(A41,OFFSET([0]!_xlnm.Print_Area,3,0),4,FALSE))","v":{"$error":"#REF!"}},{"$f":"IF(J41=\"\",\"\",VLOOKUP(A41,OFFSET([0]!_xlnm.Print_Area,3,0),5,FALSE))","v":{"$error":"#REF!"}},{"$f":"IF(J41=\"\",\"\",VLOOKUP(A41,OFFSET([0]!_xlnm.Print_Area,3,0),6,FALSE))","v":{"$error":"#REF!"}},null,null,{"$f":"INDEX(#REF!,SMALL(IF(#REF!<>\"\",ROW(#REF!)),ROWS(I$1:I41)-1))","v":{"$error":"#REF!"}},{"$f":"INDEX(#REF!,SMALL(IF(#REF!<>\"\",ROW(#REF!)),ROWS(J$1:J41)-1))","v":{"$error":"#REF!"}},{"$f":"INDEX(#REF!,SMALL(IF(#REF!<>\"\",ROW(#REF!)),ROWS(K$1:K41)-1))","v":{"$error":"#REF!"}}]
[{"$error":"#REF!"},{"$error":"#REF!"},{"$error":"#REF!"},{"$f":"IF(J42=\"\",VLOOKUP(C42,OFFSET([0]!_xlnm.Print_Area,3,2),2,FALSE),VLOOKUP(A42,OFFSET([0]!_xlnm.Print_Area,3,0),4,FALSE))","v":{"$error":"#REF!"}},{"$f":"IF(J42=\"\",\"\",VLOOKUP(A42,OFFSET([0]!_xlnm.Print_Area,3,0),5,FALSE))","v":{"$error":"#REF!"}},{"$f":"IF(J42=\"\",\"\",VLOOKUP(A42,OFFSET([0]!_xlnm.Print_Area,3,0),6,FALSE))","v":{"$error":"#REF!"}},null,null,{"$f":"INDEX(#REF!,SMALL(IF(#REF!<>\"\",ROW(#REF!)),ROWS(I$1:I42)-1))","v":{"$error":"#REF!"}},{"$f":"INDEX(#REF!,SMALL(IF(#REF!<>\"\",ROW(#REF!)),ROWS(J$1:J42)-1))","v":{"$error":"#REF!"}},{"$f":"INDEX(#REF!,SMALL(IF(#REF!<>\"\",ROW(#REF!)),ROWS(K$1:K42)-1))","v":{"$error":"#REF!"}}]
[{"$error":"#REF!"},{"$error":"#REF!"},{"$error":"#REF!"},{"$f":"IF(J43=\"\",VLOOKUP(C43,OFFSET([0]!_xlnm.Print_Area,3,2),2,FALSE),VLOOKUP(A43,OFFSET([0]!_xlnm.Print_Area,3,0),4,FALSE))","v":{"$error":"#REF!"}},{"$f":"IF(J43=\"\",\"\",VLOOKUP(A43,OFFSET([0]!_xlnm.Print_Area,3,0),5,FALSE))","v":{"$error":"#REF!"}},{"$f":"IF(J43=\"\",\"\",VLOOKUP(A43,OFFSET([0]!_xlnm.Print_Area,3,0),6,FALSE))","v":{"$error":"#REF!"}},null,null,{"$f":"INDEX(#REF!,SMALL(IF(#REF!<>\"\",ROW(#REF!)),ROWS(I$1:I43)-1))","v":{"$error":"#REF!"}},{"$f":"INDEX(#REF!,SMALL(IF(#REF!<>\"\",ROW(#REF!)),ROWS(J$1:J43)-1))","v":{"$error":"#REF!"}},{"$f":"INDEX(#REF!,SMALL(IF(#REF!<>\"\",ROW(#REF!)),ROWS(K$1:K43)-1))","v":{"$error":"#REF!"}}]
[{"$error":"#REF!"},{"$error":"#REF!"},{"$error":"#REF!"},{"$f":"IF(J44=\"\",VLOOKUP(C44,OFFSET([0]!_xlnm.Print_Area,3,2),2,FALSE),VLOOKUP(A44,OFFSET([0]!_xlnm.Print_Area,3,0),4,FALSE))","v":{"$error":"#REF!"}},{"$f":"IF(J44=\"\",\"\",VLOOKUP(A44,OFFSET([0]!_xlnm.Print_Area,3,0),5,FALSE))","v":{"$error":"#REF!"}},{"$f":"IF(J44=\"\",\"\",VLOOKUP(A44,OFFSET([0]!_xlnm.Print_Area,3,0),6,FALSE))","v":{"$error":"#REF!"}},null,null,{"$f":"INDEX(#REF!,SMALL(IF(#REF!<>\"\",ROW(#REF!)),ROWS(I$1:I44)-1))","v":{"$error":"#REF!"}},{"$f":"INDEX(#REF!,SMALL(IF(#REF!<>\"\",ROW(#REF!)),ROWS(J$1:J44)-1))","v":{"$error":"#REF!"}},{"$f":"INDEX(#REF!,SMALL(IF(#REF!<>\"\",ROW(#REF!)),ROWS(K$1:K44)-1))","v":{"$error":"#REF!"}}]
[{"$error":"#REF!"},{"$error":"#REF!"},{"$error":"#REF!"},{"$f":"IF(J45=\"\",VLOOKUP(C45,OFFSET([0]!_xlnm.Print_Area,3,2),2,FALSE),VLOOKUP(A45,OFFSET([0]!_xlnm.Print_Area,3,0),4,FALSE))","v":{"$error":"#REF!"}},{"$f":"IF(J45=\"\",\"\",VLOOKUP(A45,OFFSET([0]!_xlnm.Print_Area,3,0),5,FALSE))","v":{"$error":"#REF!"}},{"$f":"IF(J45=\"\",\"\",VLOOKUP(A45,OFFSET([0]!_xlnm.Print_Area,3,0),6,FALSE))","v":{"$error":"#REF!"}},null,null,{"$f":"INDEX(#REF!,SMALL(IF(#REF!<>\"\",ROW(#REF!)),ROWS(I$1:I45)-1))","v":{"$error":"#REF!"}},{"$f":"INDEX(#REF!,SMALL(IF(#REF!<>\"\",ROW(#REF!)),ROWS(J$1:J45)-1))","v":{"$error":"#REF!"}},{"$f":"INDEX(#REF!,SMALL(IF(#REF!<>\"\",ROW(#REF!)),ROWS(K$1:K45)-1))","v":{"$error":"#REF!"}}]
[{"$error":"#REF!"},{"$error":"#REF!"},{"$error":"#REF!"},{"$f":"IF(J46=\"\",VLOOKUP(C46,OFFSET([0]!_xlnm.Print_Area,3,2),2,FALSE),VLOOKUP(A46,OFFSET([0]!_xlnm.Print_Area,3,0),4,FALSE))","v":{"$error":"#REF!"}},{"$f":"IF(J46=\"\",\"\",VLOOKUP(A46,OFFSET([0]!_xlnm.Print_Area,3,0),5,FALSE))","v":{"$error":"#REF!"}},{"$f":"IF(J46=\"\",\"\",VLOOKUP(A46,OFFSET([0]!_xlnm.Print_Area,3,0),6,FALSE))","v":{"$error":"#REF!"}},null,null,{"$f":"INDEX(#REF!,SMALL(IF(#REF!<>\"\",ROW(#REF!)),ROWS(I$1:I46)-1))","v":{"$error":"#REF!"}},{"$f":"INDEX(#REF!,SMALL(IF(#REF!<>\"\",ROW(#REF!)),ROWS(J$1:J46)-1))","v":{"$error":"#REF!"}},{"$f":"INDEX(#REF!,SMALL(IF(#REF!<>\"\",ROW(#REF!)),ROWS(K$1:K46)-1))","v":{"$error":"#REF!"}}]
[{"$error":"#REF!"},{"$error":"#REF!"},{"$error":"#REF!"},{"$f":"IF(J47=\"\",VLOOKUP(C47,OFFSET([0]!_xlnm.Print_Area,3,2),2,FALSE),VLOOKUP(A47,OFFSET([0]!_xlnm.Print_Area,3,0),4,FALSE))","v":{"$error":"#REF!"}},{"$f":"IF(J47=\"\",\"\",VLOOKUP(A47,OFFSET([0]!_xlnm.Print_Area,3,0),5,FALSE))","v":{"$error":"#REF!"}},{"$f":"IF(J47=\"\",\"\",VLOOKUP(A47,OFFSET([0]!_xlnm.Print_Area,3,0),6,FALSE))","v":{"$error":"#REF!"}},null,null,{"$f":"INDEX(#REF!,SMALL(IF(#REF!<>\"\",ROW(#REF!)),ROWS(I$1:I47)-1))","v":{"$error":"#REF!"}},{"$f":"INDEX(#REF!,SMALL(IF(#REF!<>\"\",ROW(#REF!)),ROWS(J$1:J47)-1))","v":{"$error":"#REF!"}},{"$f":"INDEX(#REF!,SMALL(IF(#REF!<>\"\",ROW(#REF!)),ROWS(K$1:K47)-1))","v":{"$error":"#REF!"}}]
[{"$error":"#REF!"},{"$error":"#REF!"},{"$error":"#REF!"},{"$f":"IF(J48=\"\",VLOOKUP(C48,OFFSET([0]!_xlnm.Print_Area,3,2),2,FALSE),VLOOKUP(A48,OFFSET([0]!_xlnm.Print_Area,3,0),4,FALSE))","v":{"$error":"#REF!"}},{"$f":"IF(J48=\"\",\"\",VLOOKUP(A48,OFFSET([0]!_xlnm.Print_Area,3,0),5,FALSE))","v":{"$error":"#REF!"}},{"$f":"IF(J48=\"\",\"\",VLOOKUP(A48,OFFSET([0]!_xlnm.Print_Area,3,0),6,FALSE))","v":{"$error":"#REF!"}},null,null,{"$f":"INDEX(#REF!,SMALL(IF(#REF!<>\"\",ROW(#REF!)),ROWS(I$1:I48)-1))","v":{"$error":"#REF!"}},{"$f":"INDEX(#REF!,SMALL(IF(#REF!<>\"\",ROW(#REF!)),ROWS(J$1:J48)-1))","v":{"$error":"#REF!"}},{"$f":"INDEX(#REF!,SMALL(IF(#REF!<>\"\",ROW(#REF!)),ROWS(K$1:K48)-1))","v":{"$error":"#REF!"}}]
[{"$error":"#REF!"},{"$error":"#REF!"},{"$error":"#REF!"},{"$f":"IF(J49=\"\",VLOOKUP(C49,OFFSET([0]!_xlnm.Print_Area,3,2),2,FALSE),VLOOKUP(A49,OFFSET([0]!_xlnm.Print_Area,3,0),4,FALSE))","v":{"$error":"#REF!"}},{"$f":"IF(J49=\"\",\"\",VLOOKUP(A49,OFFSET([0]!_xlnm.Print_Area,3,0),5,FALSE))","v":{"$error":"#REF!"}},{"$f":"IF(J49=\"\",\"\",VLOOKUP(A49,OFFSET([0]!_xlnm.Print_Area,3,0),6,FALSE))","v":{"$error":"#REF!"}},null,null,{"$f":"INDEX(#REF!,SMALL(IF(#REF!<>\"\",ROW(#REF!)),ROWS(I$1:I49)-1))","v":{"$error":"#REF!"}},{"$f":"INDEX(#REF!,SMALL(IF(#REF!<>\"\",ROW(#REF!)),ROWS(J$1:J49)-1))","v":{"$error":"#REF!"}},{"$f":"INDEX(#REF!,SMALL(IF(#REF!<>\"\",ROW(#REF!)),ROWS(K$1:K49)-1))","v":{"$error":"#REF!"}}]
[{"$error":"#REF!"},{"$error":"#REF!"},{"$error":"#REF!"},{"$f":"IF(J50=\"\",VLOOKUP(C50,OFFSET([0]!_xlnm.Print_Area,3,2),2,FALSE),VLOOKUP(A50,OFFSET([0]!_xlnm.Print_Area,3,0),4,FALSE))","v":{"$error":"#REF!"}},{"$f":"IF(J50=\"\",\"\",VLOOKUP(A50,OFFSET([0]!_xlnm.Print_Area,3,0),5,FALSE))","v":{"$error":"#REF!"}},{"$f":"IF(J50=\"\",\"\",VLOOKUP(A50,OFFSET([0]!_xlnm.Print_Area,3,0),6,FALSE))","v":{"$error":"#REF!"}},null,null,{"$f":"INDEX(#REF!,SMALL(IF(#REF!<>\"\",ROW(#REF!)),ROWS(I$1:I50)-1))","v":{"$error":"#REF!"}},{"$f":"INDEX(#REF!,SMALL(IF(#REF!<>\"\",ROW(#REF!)),ROWS(J$1:J50)-1))","v":{"$error":"#REF!"}},{"$f":"INDEX(#REF!,SMALL(IF(#REF!<>\"\",ROW(#REF!)),ROWS(K$1:K50)-1))","v":{"$error":"#REF!"}}]
[{"$error":"#REF!"},{"$error":"#REF!"},{"$error":"#REF!"},{"$f":"IF(J51=\"\",VLOOKUP(C51,OFFSET([0]!_xlnm.Print_Area,3,2),2,FALSE),VLOOKUP(A51,OFFSET([0]!_xlnm.Print_Area,3,0),4,FALSE))","v":{"$error":"#REF!"}},{"$f":"IF(J51=\"\",\"\",VLOOKUP(A51,OFFSET([0]!_xlnm.Print_Area,3,0),5,FALSE))","v":{"$error":"#REF!"}},{"$f":"IF(J51=\"\",\"\",VLOOKUP(A51,OFFSET([0]!_xlnm.Print_Area,3,0),6,FALSE))","v":{"$error":"#REF!"}},null,null,{"$f":"INDEX(#REF!,SMALL(IF(#REF!<>\"\",ROW(#REF!)),ROWS(I$1:I51)-1))","v":{"$error":"#REF!"}},{"$f":"INDEX(#REF!,SMALL(IF(#REF!<>\"\",ROW(#REF!)),ROWS(J$1:J51)-1))","v":{"$error":"#REF!"}},{"$f":"INDEX(#REF!,SMALL(IF(#REF!<>\"\",ROW(#REF!)),ROWS(K$1:K51)-1))","v":{"$error":"#REF!"}}]
[{"$error":"#REF!"},{"$error":"#REF!"},{"$error":"#REF!"},{"$f":"IF(J52=\"\",VLOOKUP(C52,OFFSET([0]!_xlnm.Print_Area,3,2),2,FALSE),VLOOKUP(A52,OFFSET([0]!_xlnm.Print_Area,3,0),4,FALSE))","v":{"$error":"#REF!"}},{"$f":"IF(J52=\"\",\"\",VLOOKUP(A52,OFFSET([0]!_xlnm.Print_Area,3,0),5,FALSE))","v":{"$error":"#REF!"}},{"$f":"IF(J52=\"\",\"\",VLOOKUP(A52,OFFSET([0]!_xlnm.Print_Area,3,0),6,FALSE))","v":{"$error":"#REF!"}},null,null,{"$f":"INDEX(#REF!,SMALL(IF(#REF!<>\"\",ROW(#REF!)),ROWS(I$1:I52)-1))","v":{"$error":"#REF!"}},{"$f":"INDEX(#REF!,SMALL(IF(#REF!<>\"\",ROW(#REF!)),ROWS(J$1:J52)-1))","v":{"$error":"#REF!"}},{"$f":"INDEX(#REF!,SMALL(IF(#REF!<>\"\",ROW(#REF!)),ROWS(K$1:K52)-1))","v":{"$error":"#REF!"}}]
[{"$error":"#REF!"},{"$error":"#REF!"},{"$error":"#REF!"},{"$f":"IF(J53=\"\",VLOOKUP(C53,OFFSET([0]!_xlnm.Print_Area,3,2),2,FALSE),VLOOKUP(A53,OFFSET([0]!_xlnm.Print_Area,3,0),4,FALSE))","v":{"$error":"#REF!"}},{"$f":"IF(J53=\"\",\"\",VLOOKUP(A53,OFFSET([0]!_xlnm.Print_Area,3,0),5,FALSE))","v":{"$error":"#REF!"}},{"$f":"IF(J53=\"\",\"\",VLOOKUP(A53,OFFSET([0]!_xlnm.Print_Area,3,0),6,FALSE))","v":{"$error":"#REF!"}},null,null,{"$f":"INDEX(#REF!,SMALL(IF(#REF!<>\"\",ROW(#REF!)),ROWS(I$1:I53)-1))","v":{"$error":"#REF!"}},{"$f":"INDEX(#REF!,SMALL(IF(#REF!<>\"\",ROW(#REF!)),ROWS(J$1:J53)-1))","v":{"$error":"#REF!"}},{"$f":"INDEX(#REF!,SMALL(IF(#REF!<>\"\",ROW(#REF!)),ROWS(K$1:K53)-1))","v":{"$error":"#REF!"}}]
[{"$error":"#REF!"},{"$error":"#REF!"},{"$error":"#REF!"},{"$f":"IF(J54=\"\",VLOOKUP(C54,OFFSET([0]!_xlnm.Print_Area,3,2),2,FALSE),VLOOKUP(A54,OFFSET([0]!_xlnm.Print_Area,3,0),4,FALSE))","v":{"$error":"#REF!"}},{"$f":"IF(J54=\"\",\"\",VLOOKUP(A54,OFFSET([0]!_xlnm.Print_Area,3,0),5,FALSE))","v":{"$error":"#REF!"}},{"$f":"IF(J54=\"\",\"\",VLOOKUP(A54,OFFSET([0]!_xlnm.Print_Area,3,0),6,FALSE))","v":{"$error":"#REF!"}},null,null,{"$f":"INDEX(#REF!,SMALL(IF(#REF!<>\"\",ROW(#REF!)),ROWS(I$1:I54)-1))","v":{"$error":"#REF!"}},{"$f":"INDEX(#REF!,SMALL(IF(#REF!<>\"\",ROW(#REF!)),ROWS(J$1:J54)-1))","v":{"$error":"#REF!"}},{"$f":"INDEX(#REF!,SMALL(IF(#REF!<>\"\",ROW(#REF!)),ROWS(K$1:K54)-1))","v":{"$error":"#REF!"}}]
[{"$error":"#REF!"},{"$error":"#REF!"},{"$error":"#REF!"},{"$f":"IF(J55=\"\",VLOOKUP(C55,OFFSET([0]!_xlnm.Print_Area,3,2),2,FALSE),VLOOKUP(A55,OFFSET([0]!_xlnm.Print_Area,3,0),4,FALSE))","v":{"$error":"#REF!"}},{"$f":"IF(J55=\"\",\"\",VLOOKUP(A55,OFFSET([0]!_xlnm.Print_Area,3,0),5,FALSE))","v":{"$error":"#REF!"}},{"$f":"IF(J55=\"\",\"\",VLOOKUP(A55,OFFSET([0]!_xlnm.Print_Area,3,0),6,FALSE))","v":{"$error":"#REF!"}},null,null,{"$f":"INDEX(#REF!,SMALL(IF(#REF!<>\"\",ROW(#REF!)),ROWS(I$1:I55)-1))","v":{"$error":"#REF!"}},{"$f":"INDEX(#REF!,SMALL(IF(#REF!<>\"\",ROW(#REF!)),ROWS(J$1:J55)-1))","v":{"$error":"#REF!"}},{"$f":"INDEX(#REF!,SMALL(IF(#REF!<>\"\",ROW(#REF!)),ROWS(K$1:K55)-1))","v":{"$error":"#REF!"}}]
[{"$error":"#REF!"},{"$error":"#REF!"},{"$error":"#REF!"},{"$f":"IF(J56=\"\",VLOOKUP(C56,OFFSET([0]!_xlnm.Print_Area,3,2),2,FALSE),VLOOKUP(A56,OFFSET([0]!_xlnm.Print_Area,3,0),4,FALSE))","v":{"$error":"#REF!"}},{"$f":"IF(J56=\"\",\"\",VLOOKUP(A56,OFFSET([0]!_xlnm.Print_Area,3,0),5,FALSE))","v":{"$error":"#REF!"}},{"$f":"IF(J56=\"\",\"\",VLOOKUP(A56,OFFSET([0]!_xlnm.Print_Area,3,0),6,FALSE))","v":{"$error":"#REF!"}},null,null,{"$f":"INDEX(#REF!,SMALL(IF(#REF!<>\"\",ROW(#REF!)),ROWS(I$1:I56)-1))","v":{"$error":"#REF!"}},{"$f":"INDEX(#REF!,SMALL(IF(#REF!<>\"\",ROW(#REF!)),ROWS(J$1:J56)-1))","v":{"$error":"#REF!"}},{"$f":"INDEX(#REF!,SMALL(IF(#REF!<>\"\",ROW(#REF!)),ROWS(K$1:K56)-1))","v":{"$error":"#REF!"}}]
[{"$error":"#REF!"},{"$error":"#REF!"},{"$error":"#REF!"},{"$f":"IF(J57=\"\",VLOOKUP(C57,OFFSET([0]!_xlnm.Print_Area,3,2),2,FALSE),VLOOKUP(A57,OFFSET([0]!_xlnm.Print_Area,3,0),4,FALSE))","v":{"$error":"#REF!"}},{"$f":"IF(J57=\"\",\"\",VLOOKUP(A57,OFFSET([0]!_xlnm.Print_Area,3,0),5,FALSE))","v":{"$error":"#REF!"}},{"$f":"IF(J57=\"\",\"\",VLOOKUP(A57,OFFSET([0]!_xlnm.Print_Area,3,0),6,FALSE))","v":{"$error":"#REF!"}},null,null,{"$f":"INDEX(#REF!,SMALL(IF(#REF!<>\"\",ROW(#REF!)),ROWS(I$1:I57)-1))","v":{"$error":"#REF!"}},{"$f":"INDEX(#REF!,SMALL(IF(#REF!<>\"\",ROW(#REF!)),ROWS(J$1:J57)-1))","v":{"$error":"#REF!"}},{"$f":"INDEX(#REF!,SMALL(IF(#REF!<>\"\",ROW(#REF!)),ROWS(K$1:K57)-1))","v":{"$error":"#REF!"}}]
[{"$error":"#REF!"},{"$error":"#REF!"},{"$error":"#REF!"},{"$f":"IF(J58=\"\",VLOOKUP(C58,OFFSET([0]!_xlnm.Print_Area,3,2),2,FALSE),VLOOKUP(A58,OFFSET([0]!_xlnm.Print_Area,3,0),4,FALSE))","v":{"$error":"#REF!"}},{"$f":"IF(J58=\"\",\"\",VLOOKUP(A58,OFFSET([0]!_xlnm.Print_Area,3,0),5,FALSE))","v":{"$error":"#REF!"}},{"$f":"IF(J58=\"\",\"\",VLOOKUP(A58,OFFSET([0]!_xlnm.Print_Area,3,0),6,FALSE))","v":{"$error":"#REF!"}},null,null,{"$f":"INDEX(#REF!,SMALL(IF(#REF!<>\"\",ROW(#REF!)),ROWS(I$1:I58)-1))","v":{"$error":"#REF!"}},{"$f":"INDEX(#REF!,SMALL(IF(#REF!<>\"\",ROW(#REF!)),ROWS(J$1:J58)-1))","v":{"$error":"#REF!"}},{"$f":"INDEX(#REF!,SMALL(IF(#REF!<>\"\",ROW(#REF!)),ROWS(K$1:K58)-1))","v":{"$error":"#REF!"}}]
[{"$error":"#REF!"},{"$error":"#REF!"},{"$error":"#REF!"},{"$f":"IF(J59=\"\",VLOOKUP(C59,OFFSET([0]!_xlnm.Print_Area,3,2),2,FALSE),VLOOKUP(A59,OFFSET([0]!_xlnm.Print_Area,3,0),4,FALSE))","v":{"$error":"#REF!"}},{"$f":"IF(J59=\"\",\"\",VLOOKUP(A59,OFFSET([0]!_xlnm.Print_Area,3,0),5,FALSE))","v":{"$error":"#REF!"}},{"$f":"IF(J59=\"\",\"\",VLOOKUP(A59,OFFSET([0]!_xlnm.Print_Area,3,0),6,FALSE))","v":{"$error":"#REF!"}},null,null,{"$f":"INDEX(#REF!,SMALL(IF(#REF!<>\"\",ROW(#REF!)),ROWS(I$1:I59)-1))","v":{"$error":"#REF!"}},{"$f":"INDEX(#REF!,SMALL(IF(#REF!<>\"\",ROW(#REF!)),ROWS(J$1:J59)-1))","v":{"$error":"#REF!"}},{"$f":"INDEX(#REF!,SMALL(IF(#REF!<>\"\",ROW(#REF!)),ROWS(K$1:K59)-1))","v":{"$error":"#REF!"}}]
[{"$error":"#REF!"},{"$error":"#REF!"},{"$error":"#REF!"},{"$f":"IF(J60=\"\",VLOOKUP(C60,OFFSET([0]!_xlnm.Print_Area,3,2),2,FALSE),VLOOKUP(A60,OFFSET([0]!_xlnm.Print_Area,3,0),4,FALSE))","v":{"$error":"#REF!"}},{"$f":"IF(J60=\"\",\"\",VLOOKUP(A60,OFFSET([0]!_xlnm.Print_Area,3,0),5,FALSE))","v":{"$error":"#REF!"}},{"$f":"IF(J60=\"\",\"\",VLOOKUP(A60,OFFSET([0]!_xlnm.Print_Area,3,0),6,FALSE))","v":{"$error":"#REF!"}},null,null,{"$f":"INDEX(#REF!,SMALL(IF(#REF!<>\"\",ROW(#REF!)),ROWS(I$1:I60)-1))","v":{"$error":"#REF!"}},{"$f":"INDEX(#REF!,SMALL(IF(#REF!<>\"\",ROW(#REF!)),ROWS(J$1:J60)-1))","v":{"$error":"#REF!"}},{"$f":"INDEX(#REF!,SMALL(IF(#REF!<>\"\",ROW(#REF!)),ROWS(K$1:K60)-1))","v":{"$error":"#REF!"}}]
[{"$error":"#REF!"},{"$error":"#REF!"},{"$error":"#REF!"},{"$f":"IF(J61=\"\",VLOOKUP(C61,OFFSET([0]!_xlnm.Print_Area,3,2),2,FALSE),VLOOKUP(A61,OFFSET([0]!_xlnm.Print_Area,3,0),4,FALSE))","v":{"$error":"#REF!"}},{"$f":"IF(J61=\"\",\"\",VLOOKUP(A61,OFFSET([0]!_xlnm.Print_Area,3,0),5,FALSE))","v":{"$error":"#REF!"}},{"$f":"IF(J61=\"\",\"\",VLOOKUP(A61,OFFSET([0]!_xlnm.Print_Area,3,0),6,FALSE))","v":{"$error":"#REF!"}},null,null,{"$f":"INDEX(#REF!,SMALL(IF(#REF!<>\"\",ROW(#REF!)),ROWS(I$1:I61)-1))","v":{"$error":"#REF!"}},{"$f":"INDEX(#REF!,SMALL(IF(#REF!<>\"\",ROW(#REF!)),ROWS(J$1:J61)-1))","v":{"$error":"#REF!"}},{"$f":"INDEX(#REF!,SMALL(IF(#REF!<>\"\",ROW(#REF!)),ROWS(K$1:K61)-1))","v":{"$error":"#REF!"}}]
[{"$error":"#REF!"},{"$error":"#REF!"},{"$error":"#REF!"},{"$f":"IF(J62=\"\",VLOOKUP(C62,OFFSET([0]!_xlnm.Print_Area,3,2),2,FALSE),VLOOKUP(A62,OFFSET([0]!_xlnm.Print_Area,3,0),4,FALSE))","v":{"$error":"#REF!"}},{"$f":"IF(J62=\"\",\"\",VLOOKUP(A62,OFFSET([0]!_xlnm.Print_Area,3,0),5,FALSE))","v":{"$error":"#REF!"}},{"$f":"IF(J62=\"\",\"\",VLOOKUP(A62,OFFSET([0]!_xlnm.Print_Area,3,0),6,FALSE))","v":{"$error":"#REF!"}},null,null,{"$f":"INDEX(#REF!,SMALL(IF(#REF!<>\"\",ROW(#REF!)),ROWS(I$1:I62)-1))","v":{"$error":"#REF!"}},{"$f":"INDEX(#REF!,SMALL(IF(#REF!<>\"\",ROW(#REF!)),ROWS(J$1:J62)-1))","v":{"$error":"#REF!"}},{"$f":"INDEX(#REF!,SMALL(IF(#REF!<>\"\",ROW(#REF!)),ROWS(K$1:K62)-1))","v":{"$error":"#REF!"}}]
[{"$error":"#REF!"},{"$error":"#REF!"},{"$error":"#REF!"},{"$f":"IF(J63=\"\",VLOOKUP(C63,OFFSET([0]!_xlnm.Print_Area,3,2),2,FALSE),VLOOKUP(A63,OFFSET([0]!_xlnm.Print_Area,3,0),4,FALSE))","v":{"$error":"#REF!"}},{"$f":"IF(J63=\"\",\"\",VLOOKUP(A63,OFFSET([0]!_xlnm.Print_Area,3,0),5,FALSE))","v":{"$error":"#REF!"}},{"$f":"IF(J63=\"\",\"\",VLOOKUP(A63,OFFSET([0]!_xlnm.Print_Area,3,0),6,FALSE))","v":{"$error":"#REF!"}},null,null,{"$f":"INDEX(#REF!,SMALL(IF(#REF!<>\"\",ROW(#REF!)),ROWS(I$1:I63)-1))","v":{"$error":"#REF!"}},{"$f":"INDEX(#REF!,SMALL(IF(#REF!<>\"\",ROW(#REF!)),ROWS(J$1:J63)-1))","v":{"$error":"#REF!"}},{"$f":"INDEX(#REF!,SMALL(IF(#REF!<>\"\",ROW(#REF!)),ROWS(K$1:K63)-1))","v":{"$error":"#REF!"}}]
[{"$error":"#REF!"},{"$error":"#REF!"},{"$error":"#REF!"},{"$f":"IF(J64=\"\",VLOOKUP(C64,OFFSET([0]!_xlnm.Print_Area,3,2),2,FALSE),VLOOKUP(A64,OFFSET([0]!_xlnm.Print_Area,3,0),4,FALSE))","v":{"$error":"#REF!"}},{"$f":"IF(J64=\"\",\"\",VLOOKUP(A64,OFFSET([0]!_xlnm.Print_Area,3,0),5,FALSE))","v":{"$error":"#REF!"}},{"$f":"IF(J64=\"\",\"\",VLOOKUP(A64,OFFSET([0]!_xlnm.Print_Area,3,0),6,FALSE))","v":{"$error":"#REF!"}},null,null,{"$f":"INDEX(#REF!,SMALL(IF(#REF!<>\"\",ROW(#REF!)),ROWS(I$1:I64)-1))","v":{"$error":"#REF!"}},{"$f":"INDEX(#REF!,SMALL(IF(#REF!<>\"\",ROW(#REF!)),ROWS(J$1:J64)-1))","v":{"$error":"#REF!"}},{"$f":"INDEX(#REF!,SMALL(IF(#REF!<>\"\",ROW(#REF!)),ROWS(K$1:K64)-1))","v":{"$error":"#REF!"}}]
["RAZEM (NETTO)",{"$nulls":3},{"$f":"SUM(OFFSET(_xlnm.Print_Area,3,6,ROWS(_xlnm.Print_Area)-7,1))","v":{"v":0,"d":"0.00"}},{"$nulls":3},{"$f":"INDEX(#REF!,SMALL(IF(#REF!<>\"\",ROW(#REF!)),ROWS(I$1:I65)-1))","v":{"$error":"#REF!"}},{"$f":"INDEX(#REF!,SMALL(IF(#REF!<>\"\",ROW(#REF!)),ROWS(J$1:J65)-1))","v":{"$error":"#REF!"}},{"$f":"INDEX(#REF!,SMALL(IF(#REF!<>\"\",ROW(#REF!)),ROWS(K$1:K65)-1))","v":{"$error":"#REF!"}}]
["PODATEK VAT 23%",{"$nulls":3},{"$f":"0.23*E65","v":{"v":0,"d":"0.00"}},{"$nulls":3},{"$f":"INDEX(#REF!,SMALL(IF(#REF!<>\"\",ROW(#REF!)),ROWS(I$1:I66)-1))","v":{"$error":"#REF!"}},{"$f":"INDEX(#REF!,SMALL(IF(#REF!<>\"\",ROW(#REF!)),ROWS(J$1:J66)-1))","v":{"$error":"#REF!"}},{"$f":"INDEX(#REF!,SMALL(IF(#REF!<>\"\",ROW(#REF!)),ROWS(K$1:K66)-1))","v":{"$error":"#REF!"}}]
["RAZEM (BRUTTO)",{"$nulls":3},{"$f":"E65+E66","v":{"v":0,"d":"0.00"}},{"$nulls":3},{"$f":"INDEX(#REF!,SMALL(IF(#REF!<>\"\",ROW(#REF!)),ROWS(I$1:I67)-1))","v":{"$error":"#REF!"}},{"$f":"INDEX(#REF!,SMALL(IF(#REF!<>\"\",ROW(#REF!)),ROWS(J$1:J67)-1))","v":{"$error":"#REF!"}},{"$f":"INDEX(#REF!,SMALL(IF(#REF!<>\"\",ROW(#REF!)),ROWS(K$1:K67)-1))","v":{"$error":"#REF!"}}]
[{"$nulls":8},{"$f":"INDEX(#REF!,SMALL(IF(#REF!<>\"\",ROW(#REF!)),ROWS(I$1:I68)-1))","v":{"$error":"#REF!"}},{"$f":"INDEX(#REF!,SMALL(IF(#REF!<>\"\",ROW(#REF!)),ROWS(J$1:J68)-1))","v":{"$error":"#REF!"}},{"$f":"INDEX(#REF!,SMALL(IF(#REF!<>\"\",ROW(#REF!)),ROWS(K$1:K68)-1))","v":{"$error":"#REF!"}}]
["Słownie (cena ofertowa) .............................................................................................................",{"$nulls":7},{"$f":"INDEX(#REF!,SMALL(IF(#REF!<>\"\",ROW(#REF!)),ROWS(I$1:I69)-1))","v":{"$error":"#REF!"}},{"$f":"INDEX(#REF!,SMALL(IF(#REF!<>\"\",ROW(#REF!)),ROWS(J$1:J69)-1))","v":{"$error":"#REF!"}},{"$f":"INDEX(#REF!,SMALL(IF(#REF!<>\"\",ROW(#REF!)),ROWS(K$1:K69)-1))","v":{"$error":"#REF!"}}]
[{"$nulls":8},{"$f":"INDEX(#REF!,SMALL(IF(#REF!<>\"\",ROW(#REF!)),ROWS(I$1:I70)-1))","v":{"$error":"#REF!"}},{"$f":"INDEX(#REF!,SMALL(IF(#REF!<>\"\",ROW(#REF!)),ROWS(J$1:J70)-1))","v":{"$error":"#REF!"}},{"$f":"INDEX(#REF!,SMALL(IF(#REF!<>\"\",ROW(#REF!)),ROWS(K$1:K70)-1))","v":{"$error":"#REF!"}}]
[{"$nulls":8},{"$f":"INDEX(#REF!,SMALL(IF(#REF!<>\"\",ROW(#REF!)),ROWS(I$1:I71)-1))","v":{"$error":"#REF!"}},{"$f":"INDEX(#REF!,SMALL(IF(#REF!<>\"\",ROW(#REF!)),ROWS(J$1:J71)-1))","v":{"$error":"#REF!"}},{"$f":"INDEX(#REF!,SMALL(IF(#REF!<>\"\",ROW(#REF!)),ROWS(K$1:K71)-1))","v":{"$error":"#REF!"}}]
[null,null,".................................................",null,null,".................................................",null,null,{"$f":"INDEX(#REF!,SMALL(IF(#REF!<>\"\",ROW(#REF!)),ROWS(I$1:I72)-1))","v":{"$error":"#REF!"}},{"$f":"INDEX(#REF!,SMALL(IF(#REF!<>\"\",ROW(#REF!)),ROWS(J$1:J72)-1))","v":{"$error":"#REF!"}},{"$f":"INDEX(#REF!,SMALL(IF(#REF!<>\"\",ROW(#REF!)),ROWS(K$1:K72)-1))","v":{"$error":"#REF!"}}]
[null,null,"      Pieczęć firmowa Oferenta",null,null,"Pieczątka i podpis upoważnionego",null,null,{"$f":"INDEX(#REF!,SMALL(IF(#REF!<>\"\",ROW(#REF!)),ROWS(I$1:I73)-1))","v":{"$error":"#REF!"}},{"$f":"INDEX(#REF!,SMALL(IF(#REF!<>\"\",ROW(#REF!)),ROWS(J$1:J73)-1))","v":{"$error":"#REF!"}},{"$f":"INDEX(#REF!,SMALL(IF(#REF!<>\"\",ROW(#REF!)),ROWS(K$1:K73)-1))","v":{"$error":"#REF!"}}]
[{"$nulls":5},"przedstawiciela",null,null,{"$f":"INDEX(#REF!,SMALL(IF(#REF!<>\"\",ROW(#REF!)),ROWS(I$1:I74)-1))","v":{"$error":"#REF!"}},{"$f":"INDEX(#REF!,SMALL(IF(#REF!<>\"\",ROW(#REF!)),ROWS(J$1:J74)-1))","v":{"$error":"#REF!"}},{"$f":"INDEX(#REF!,SMALL(IF(#REF!<>\"\",ROW(#REF!)),ROWS(K$1:K74)-1))","v":{"$error":"#REF!"}}]
[{"$nulls":8},{"$f":"INDEX(#REF!,SMALL(IF(#REF!<>\"\",ROW(#REF!)),ROWS(I$1:I75)-1))","v":{"$error":"#REF!"}},{"$f":"INDEX(#REF!,SMALL(IF(#REF!<>\"\",ROW(#REF!)),ROWS(J$1:J75)-1))","v":{"$error":"#REF!"}},{"$f":"INDEX(#REF!,SMALL(IF(#REF!<>\"\",ROW(#REF!)),ROWS(K$1:K75)-1))","v":{"$error":"#REF!"}}]
[{"$nulls":8},{"$f":"INDEX(#REF!,SMALL(IF(#REF!<>\"\",ROW(#REF!)),ROWS(I$1:I76)-1))","v":{"$error":"#REF!"}},{"$f":"INDEX(#REF!,SMALL(IF(#REF!<>\"\",ROW(#REF!)),ROWS(J$1:J76)-1))","v":{"$error":"#REF!"}},{"$f":"INDEX(#REF!,SMALL(IF(#REF!<>\"\",ROW(#REF!)),ROWS(K$1:K76)-1))","v":{"$error":"#REF!"}}]
[{"$nulls":8},{"$f":"INDEX(#REF!,SMALL(IF(#REF!<>\"\",ROW(#REF!)),ROWS(I$1:I77)-1))","v":{"$error":"#REF!"}},{"$f":"INDEX(#REF!,SMALL(IF(#REF!<>\"\",ROW(#REF!)),ROWS(J$1:J77)-1))","v":{"$error":"#REF!"}},{"$f":"INDEX(#REF!,SMALL(IF(#REF!<>\"\",ROW(#REF!)),ROWS(K$1:K77)-1))","v":{"$error":"#REF!"}}]
[{"$nulls":8},{"$f":"INDEX(#REF!,SMALL(IF(#REF!<>\"\",ROW(#REF!)),ROWS(I$1:I78)-1))","v":{"$error":"#REF!"}},{"$f":"INDEX(#REF!,SMALL(IF(#REF!<>\"\",ROW(#REF!)),ROWS(J$1:J78)-1))","v":{"$error":"#REF!"}},{"$f":"INDEX(#REF!,SMALL(IF(#REF!<>\"\",ROW(#REF!)),ROWS(K$1:K78)-1))","v":{"$error":"#REF!"}}]
[{"$nulls":8},{"$f":"INDEX(#REF!,SMALL(IF(#REF!<>\"\",ROW(#REF!)),ROWS(I$1:I79)-1))","v":{"$error":"#REF!"}},{"$f":"INDEX(#REF!,SMALL(IF(#REF!<>\"\",ROW(#REF!)),ROWS(J$1:J79)-1))","v":{"$error":"#REF!"}},{"$f":"INDEX(#REF!,SMALL(IF(#REF!<>\"\",ROW(#REF!)),ROWS(K$1:K79)-1))","v":{"$error":"#REF!"}}]
[{"$nulls":8},{"$f":"INDEX(#REF!,SMALL(IF(#REF!<>\"\",ROW(#REF!)),ROWS(I$1:I80)-1))","v":{"$error":"#REF!"}},{"$f":"INDEX(#REF!,SMALL(IF(#REF!<>\"\",ROW(#REF!)),ROWS(J$1:J80)-1))","v":{"$error":"#REF!"}},{"$f":"INDEX(#REF!,SMALL(IF(#REF!<>\"\",ROW(#REF!)),ROWS(K$1:K80)-1))","v":{"$error":"#REF!"}}]
[{"$nulls":8},{"$f":"INDEX(#REF!,SMALL(IF(#REF!<>\"\",ROW(#REF!)),ROWS(I$1:I81)-1))","v":{"$error":"#REF!"}},{"$f":"INDEX(#REF!,SMALL(IF(#REF!<>\"\",ROW(#REF!)),ROWS(J$1:J81)-1))","v":{"$error":"#REF!"}},{"$f":"INDEX(#REF!,SMALL(IF(#REF!<>\"\",ROW(#REF!)),ROWS(K$1:K81)-1))","v":{"$error":"#REF!"}}]
[{"$nulls":8},{"$f":"INDEX(#REF!,SMALL(IF(#REF!<>\"\",ROW(#REF!)),ROWS(I$1:I82)-1))","v":{"$error":"#REF!"}},{"$f":"INDEX(#REF!,SMALL(IF(#REF!<>\"\",ROW(#REF!)),ROWS(J$1:J82)-1))","v":{"$error":"#REF!"}},{"$f":"INDEX(#REF!,SMALL(IF(#REF!<>\"\",ROW(#REF!)),ROWS(K$1:K82)-1))","v":{"$error":"#REF!"}}]
[{"$nulls":8},{"$f":"INDEX(#REF!,SMALL(IF(#REF!<>\"\",ROW(#REF!)),ROWS(I$1:I83)-1))","v":{"$error":"#REF!"}},{"$f":"INDEX(#REF!,SMALL(IF(#REF!<>\"\",ROW(#REF!)),ROWS(J$1:J83)-1))","v":{"$error":"#REF!"}},{"$f":"INDEX(#REF!,SMALL(IF(#REF!<>\"\",ROW(#REF!)),ROWS(K$1:K83)-1))","v":{"$error":"#REF!"}}]
[{"$nulls":8},{"$f":"INDEX(#REF!,SMALL(IF(#REF!<>\"\",ROW(#REF!)),ROWS(I$1:I84)-1))","v":{"$error":"#REF!"}},{"$f":"INDEX(#REF!,SMALL(IF(#REF!<>\"\",ROW(#REF!)),ROWS(J$1:J84)-1))","v":{"$error":"#REF!"}},{"$f":"INDEX(#REF!,SMALL(IF(#REF!<>\"\",ROW(#REF!)),ROWS(K$1:K84)-1))","v":{"$error":"#REF!"}}]
[{"$nulls":8},{"$f":"INDEX(#REF!,SMALL(IF(#REF!<>\"\",ROW(#REF!)),ROWS(I$1:I85)-1))","v":{"$error":"#REF!"}},{"$f":"INDEX(#REF!,SMALL(IF(#REF!<>\"\",ROW(#REF!)),ROWS(J$1:J85)-1))","v":{"$error":"#REF!"}},{"$f":"INDEX(#REF!,SMALL(IF(#REF!<>\"\",ROW(#REF!)),ROWS(K$1:K85)-1))","v":{"$error":"#REF!"}}]
[{"$nulls":8},{"$f":"INDEX(#REF!,SMALL(IF(#REF!<>\"\",ROW(#REF!)),ROWS(I$1:I86)-1))","v":{"$error":"#REF!"}},{"$f":"INDEX(#REF!,SMALL(IF(#REF!<>\"\",ROW(#REF!)),ROWS(J$1:J86)-1))","v":{"$error":"#REF!"}},{"$f":"INDEX(#REF!,SMALL(IF(#REF!<>\"\",ROW(#REF!)),ROWS(K$1:K86)-1))","v":{"$error":"#REF!"}}]
[{"$nulls":8},{"$f":"INDEX(#REF!,SMALL(IF(#REF!<>\"\",ROW(#REF!)),ROWS(I$1:I87)-1))","v":{"$error":"#REF!"}},{"$f":"INDEX(#REF!,SMALL(IF(#REF!<>\"\",ROW(#REF!)),ROWS(J$1:J87)-1))","v":{"$error":"#REF!"}},{"$f":"INDEX(#REF!,SMALL(IF(#REF!<>\"\",ROW(#REF!)),ROWS(K$1:K87)-1))","v":{"$error":"#REF!"}}]
[{"$nulls":8},{"$f":"INDEX(#REF!,SMALL(IF(#REF!<>\"\",ROW(#REF!)),ROWS(I$1:I88)-1))","v":{"$error":"#REF!"}},{"$f":"INDEX(#REF!,SMALL(IF(#REF!<>\"\",ROW(#REF!)),ROWS(J$1:J88)-1))","v":{"$error":"#REF!"}},{"$f":"INDEX(#REF!,SMALL(IF(#REF!<>\"\",ROW(#REF!)),ROWS(K$1:K88)-1))","v":{"$error":"#REF!"}}]
[{"$nulls":8},{"$f":"INDEX(#REF!,SMALL(IF(#REF!<>\"\",ROW(#REF!)),ROWS(I$1:I89)-1))","v":{"$error":"#REF!"}},{"$f":"INDEX(#REF!,SMALL(IF(#REF!<>\"\",ROW(#REF!)),ROWS(J$1:J89)-1))","v":{"$error":"#REF!"}},{"$f":"INDEX(#REF!,SMALL(IF(#REF!<>\"\",ROW(#REF!)),ROWS(K$1:K89)-1))","v":{"$error":"#REF!"}}]
[{"$nulls":8},{"$f":"INDEX(#REF!,SMALL(IF(#REF!<>\"\",ROW(#REF!)),ROWS(I$1:I90)-1))","v":{"$error":"#REF!"}},{"$f":"INDEX(#REF!,SMALL(IF(#REF!<>\"\",ROW(#REF!)),ROWS(J$1:J90)-1))","v":{"$error":"#REF!"}},{"$f":"INDEX(#REF!,SMALL(IF(#REF!<>\"\",ROW(#REF!)),ROWS(K$1:K90)-1))","v":{"$error":"#REF!"}}]
[{"$nulls":8},{"$f":"INDEX(#REF!,SMALL(IF(#REF!<>\"\",ROW(#REF!)),ROWS(I$1:I91)-1))","v":{"$error":"#REF!"}},{"$f":"INDEX(#REF!,SMALL(IF(#REF!<>\"\",ROW(#REF!)),ROWS(J$1:J91)-1))","v":{"$error":"#REF!"}},{"$f":"INDEX(#REF!,SMALL(IF(#REF!<>\"\",ROW(#REF!)),ROWS(K$1:K91)-1))","v":{"$error":"#REF!"}}]
[{"$nulls":8},{"$f":"INDEX(#REF!,SMALL(IF(#REF!<>\"\",ROW(#REF!)),ROWS(I$1:I92)-1))","v":{"$error":"#REF!"}},{"$f":"INDEX(#REF!,SMALL(IF(#REF!<>\"\",ROW(#REF!)),ROWS(J$1:J92)-1))","v":{"$error":"#REF!"}},{"$f":"INDEX(#REF!,SMALL(IF(#REF!<>\"\",ROW(#REF!)),ROWS(K$1:K92)-1))","v":{"$error":"#REF!"}}]
[{"$nulls":8},{"$f":"INDEX(#REF!,SMALL(IF(#REF!<>\"\",ROW(#REF!)),ROWS(I$1:I93)-1))","v":{"$error":"#REF!"}},{"$f":"INDEX(#REF!,SMALL(IF(#REF!<>\"\",ROW(#REF!)),ROWS(J$1:J93)-1))","v":{"$error":"#REF!"}},{"$f":"INDEX(#REF!,SMALL(IF(#REF!<>\"\",ROW(#REF!)),ROWS(K$1:K93)-1))","v":{"$error":"#REF!"}}]
[{"$nulls":8},{"$f":"INDEX(#REF!,SMALL(IF(#REF!<>\"\",ROW(#REF!)),ROWS(I$1:I94)-1))","v":{"$error":"#REF!"}},{"$f":"INDEX(#REF!,SMALL(IF(#REF!<>\"\",ROW(#REF!)),ROWS(J$1:J94)-1))","v":{"$error":"#REF!"}},{"$f":"INDEX(#REF!,SMALL(IF(#REF!<>\"\",ROW(#REF!)),ROWS(K$1:K94)-1))","v":{"$error":"#REF!"}}]
[{"$nulls":8},{"$f":"INDEX(#REF!,SMALL(IF(#REF!<>\"\",ROW(#REF!)),ROWS(I$1:I95)-1))","v":{"$error":"#REF!"}},{"$f":"INDEX(#REF!,SMALL(IF(#REF!<>\"\",ROW(#REF!)),ROWS(J$1:J95)-1))","v":{"$error":"#REF!"}},{"$f":"INDEX(#REF!,SMALL(IF(#REF!<>\"\",ROW(#REF!)),ROWS(K$1:K95)-1))","v":{"$error":"#REF!"}}]
[{"$nulls":8},{"$f":"INDEX(#REF!,SMALL(IF(#REF!<>\"\",ROW(#REF!)),ROWS(I$1:I96)-1))","v":{"$error":"#REF!"}},{"$f":"INDEX(#REF!,SMALL(IF(#REF!<>\"\",ROW(#REF!)),ROWS(J$1:J96)-1))","v":{"$error":"#REF!"}},{"$f":"INDEX(#REF!,SMALL(IF(#REF!<>\"\",ROW(#REF!)),ROWS(K$1:K96)-1))","v":{"$error":"#REF!"}}]
[{"$nulls":8},{"$f":"INDEX(#REF!,SMALL(IF(#REF!<>\"\",ROW(#REF!)),ROWS(I$1:I97)-1))","v":{"$error":"#REF!"}},{"$f":"INDEX(#REF!,SMALL(IF(#REF!<>\"\",ROW(#REF!)),ROWS(J$1:J97)-1))","v":{"$error":"#REF!"}},{"$f":"INDEX(#REF!,SMALL(IF(#REF!<>\"\",ROW(#REF!)),ROWS(K$1:K97)-1))","v":{"$error":"#REF!"}}]
[{"$nulls":8},{"$f":"INDEX(#REF!,SMALL(IF(#REF!<>\"\",ROW(#REF!)),ROWS(I$1:I98)-1))","v":{"$error":"#REF!"}},{"$f":"INDEX(#REF!,SMALL(IF(#REF!<>\"\",ROW(#REF!)),ROWS(J$1:J98)-1))","v":{"$error":"#REF!"}},{"$f":"INDEX(#REF!,SMALL(IF(#REF!<>\"\",ROW(#REF!)),ROWS(K$1:K98)-1))","v":{"$error":"#REF!"}}]
[{"$nulls":8},{"$f":"INDEX(#REF!,SMALL(IF(#REF!<>\"\",ROW(#REF!)),ROWS(I$1:I99)-1))","v":{"$error":"#REF!"}},{"$f":"INDEX(#REF!,SMALL(IF(#REF!<>\"\",ROW(#REF!)),ROWS(J$1:J99)-1))","v":{"$error":"#REF!"}},{"$f":"INDEX(#REF!,SMALL(IF(#REF!<>\"\",ROW(#REF!)),ROWS(K$1:K99)-1))","v":{"$error":"#REF!"}}]
[{"$nulls":8},{"$f":"INDEX(#REF!,SMALL(IF(#REF!<>\"\",ROW(#REF!)),ROWS(I$1:I100)-1))","v":{"$error":"#REF!"}},{"$f":"INDEX(#REF!,SMALL(IF(#REF!<>\"\",ROW(#REF!)),ROWS(J$1:J100)-1))","v":{"$error":"#REF!"}},{"$f":"INDEX(#REF!,SMALL(IF(#REF!<>\"\",ROW(#REF!)),ROWS(K$1:K100)-1))","v":{"$error":"#REF!"}}]
[{"$nulls":8},{"$f":"INDEX(#REF!,SMALL(IF(#REF!<>\"\",ROW(#REF!)),ROWS(I$1:I101)-1))","v":{"$error":"#REF!"}},{"$f":"INDEX(#REF!,SMALL(IF(#REF!<>\"\",ROW(#REF!)),ROWS(J$1:J101)-1))","v":{"$error":"#REF!"}},{"$f":"INDEX(#REF!,SMALL(IF(#REF!<>\"\",ROW(#REF!)),ROWS(K$1:K101)-1))","v":{"$error":"#REF!"}}]
[{"$nulls":8},{"$f":"INDEX(#REF!,SMALL(IF(#REF!<>\"\",ROW(#REF!)),ROWS(I$1:I102)-1))","v":{"$error":"#REF!"}},{"$f":"INDEX(#REF!,SMALL(IF(#REF!<>\"\",ROW(#REF!)),ROWS(J$1:J102)-1))","v":{"$error":"#REF!"}},{"$f":"INDEX(#REF!,SMALL(IF(#REF!<>\"\",ROW(#REF!)),ROWS(K$1:K102)-1))","v":{"$error":"#REF!"}}]
[{"$nulls":8},{"$f":"INDEX(#REF!,SMALL(IF(#REF!<>\"\",ROW(#REF!)),ROWS(I$1:I103)-1))","v":{"$error":"#REF!"}},{"$f":"INDEX(#REF!,SMALL(IF(#REF!<>\"\",ROW(#REF!)),ROWS(J$1:J103)-1))","v":{"$error":"#REF!"}},{"$f":"INDEX(#REF!,SMALL(IF(#REF!<>\"\",ROW(#REF!)),ROWS(K$1:K103)-1))","v":{"$error":"#REF!"}}]
[{"$nulls":8},{"$f":"INDEX(#REF!,SMALL(IF(#REF!<>\"\",ROW(#REF!)),ROWS(I$1:I104)-1))","v":{"$error":"#REF!"}},{"$f":"INDEX(#REF!,SMALL(IF(#REF!<>\"\",ROW(#REF!)),ROWS(J$1:J104)-1))","v":{"$error":"#REF!"}},{"$f":"INDEX(#REF!,SMALL(IF(#REF!<>\"\",ROW(#REF!)),ROWS(K$1:K104)-1))","v":{"$error":"#REF!"}}]
[{"$nulls":8},{"$f":"INDEX(#REF!,SMALL(IF(#REF!<>\"\",ROW(#REF!)),ROWS(I$1:I105)-1))","v":{"$error":"#REF!"}},{"$f":"INDEX(#REF!,SMALL(IF(#REF!<>\"\",ROW(#REF!)),ROWS(J$1:J105)-1))","v":{"$error":"#REF!"}},{"$f":"INDEX(#REF!,SMALL(IF(#REF!<>\"\",ROW(#REF!)),ROWS(K$1:K105)-1))","v":{"$error":"#REF!"}}]
[{"$nulls":8},{"$f":"INDEX(#REF!,SMALL(IF(#REF!<>\"\",ROW(#REF!)),ROWS(I$1:I106)-1))","v":{"$error":"#REF!"}},{"$f":"INDEX(#REF!,SMALL(IF(#REF!<>\"\",ROW(#REF!)),ROWS(J$1:J106)-1))","v":{"$error":"#REF!"}},{"$f":"INDEX(#REF!,SMALL(IF(#REF!<>\"\",ROW(#REF!)),ROWS(K$1:K106)-1))","v":{"$error":"#REF!"}}]
[{"$nulls":8},{"$f":"INDEX(#REF!,SMALL(IF(#REF!<>\"\",ROW(#REF!)),ROWS(I$1:I107)-1))","v":{"$error":"#REF!"}},{"$f":"INDEX(#REF!,SMALL(IF(#REF!<>\"\",ROW(#REF!)),ROWS(J$1:J107)-1))","v":{"$error":"#REF!"}},{"$f":"INDEX(#REF!,SMALL(IF(#REF!<>\"\",ROW(#REF!)),ROWS(K$1:K107)-1))","v":{"$error":"#REF!"}}]
[{"$nulls":8},{"$f":"INDEX(#REF!,SMALL(IF(#REF!<>\"\",ROW(#REF!)),ROWS(I$1:I108)-1))","v":{"$error":"#REF!"}},{"$f":"INDEX(#REF!,SMALL(IF(#REF!<>\"\",ROW(#REF!)),ROWS(J$1:J108)-1))","v":{"$error":"#REF!"}},{"$f":"INDEX(#REF!,SMALL(IF(#REF!<>\"\",ROW(#REF!)),ROWS(K$1:K108)-1))","v":{"$error":"#REF!"}}]

{"sheet":"KI_roboczy","index":4,"n_rows":1000,"n_cols":11,"rows_kept":1000,"hidden":true,"merged":[[0,0,0,7]]}
["KOSZTORYS INWESTORSKI (BR. MOSTOWA)"]
["Poz.","Kod CPV","Numer STWiORB","Wyszczególnienie elementów rozliczeniowych","Jedn.","Ilość","Cena jedn.","Wartość"]
[1,2,2,3,4,5,6,7]
[{"$f":"IF(J4=0,\"\",J4)","v":{"$error":"#REF!"}},{"$f":"IF(K4=0,\"\",K4)","v":{"$error":"#REF!"}},{"$f":"I4","v":{"$error":"#REF!"}},{"$f":"IF(J4=\"\",VLOOKUP(C4,OFFSET([0]!_xlnm.Print_Area,3,2),2,FALSE),VLOOKUP(A4,OFFSET([0]!_xlnm.Print_Area,3,0),4,FALSE))","v":{"$error":"#REF!"}},{"$f":"IF(J4=\"\",\"\",VLOOKUP(A4,OFFSET([0]!_xlnm.Print_Area,3,0),5,FALSE))","v":{"$error":"#REF!"}},{"$f":"IF(J4=\"\",\"\",VLOOKUP(A4,OFFSET([0]!_xlnm.Print_Area,3,0),6,FALSE))","v":{"$error":"#REF!"}},{"$f":"IF(J4=\"\",\"\",VLOOKUP(A4,OFFSET([0]!_xlnm.Print_Area,3,0,,7),7,FALSE))","v":{"$error":"#REF!"}},{"$f":"IFERROR(ROUND(F4*G4,2),\" \")","v":" "},{"$f":"INDEX(#REF!,SMALL(IF(#REF!<>\"\",ROW(#REF!)),ROWS(I$1:I4)-1))","v":{"$error":"#REF!"}},{"$f":"INDEX(#REF!,SMALL(IF(#REF!<>\"\",ROW(#REF!)),ROWS(J$1:J4)-1))","v":{"$error":"#REF!"}},{"$f":"INDEX(#REF!,SMALL(IF(#REF!<>\"\",ROW(#REF!)),ROWS(K$1:K4)-1))","v":{"$error":"#REF!"}}]
[{"$f":"IF(J5=0,\"\",J5)","v":{"$error":"#REF!"}},{"$f":"IF(K5=0,\"\",K5)","v":{"$error":"#REF!"}},{"$f":"I5","v":{"$error":"#REF!"}},{"$f":"IF(J5=\"\",VLOOKUP(C5,OFFSET([0]!_xlnm.Print_Area,3,2),2,FALSE),VLOOKUP(A5,OFFSET([0]!_xlnm.Print_Area,3,0),4,FALSE))","v":{"$error":"#REF!"}},{"$f":"IF(J5=\"\",\"\",VLOOKUP(A5,OFFSET([0]!_xlnm.Print_Area,3,0),5,FALSE))","v":{"$error":"#REF!"}},{"$f":"IF(J5=\"\",\"\",VLOOKUP(A5,OFFSET([0]!_xlnm.Print_Area,3,0),6,FALSE))","v":{"$error":"#REF!"}},{"$f":"IF(J5=\"\",\"\",VLOOKUP(A5,OFFSET([0]!_xlnm.Print_Area,3,0,,7),7,FALSE))","v":{"$error":"#REF!"}},{"$f":"IFERROR(ROUND(F5*G5,2),\" \")","v":" "},{"$f":"INDEX(#REF!,SMALL(IF(#REF!<>\"\",ROW(#REF!)),ROWS(I$1:I5)-1))","v":{"$error":"#REF!"}},{"$f":"INDEX(#REF!,SMALL(IF(#REF!<>\"\",ROW(#REF!)),ROWS(J$1:J5)-1))","v":{"$error":"#REF!"}},{"$f":"INDEX(#REF!,SMALL(IF(#REF!<>\"\",ROW(#REF!)),ROWS(K$1:K5)-1))","v":{"$error":"#REF!"}}]
[{"$error":"#REF!"},{"$error":"#REF!"},{"$error":"#REF!"},{"$f":"IF(J6=\"\",VLOOKUP(C6,OFFSET([0]!_xlnm.Print_Area,3,2),2,FALSE),VLOOKUP(A6,OFFSET([0]!_xlnm.Print_Area,3,0),4,FALSE))","v":{"$error":"#REF!"}},{"$f":"IF(J6=\"\",\"\",VLOOKUP(A6,OFFSET([0]!_xlnm.Print_Area,3,0),5,FALSE))","v":{"$error":"#REF!"}},{"$f":"IF(J6=\"\",\"\",VLOOKUP(A6,OFFSET([0]!_xlnm.Print_Area,3,0),6,FALSE))","v":{"$error":"#REF!"}},{"$f":"IF(J6=\"\",\"\",VLOOKUP(A6,OFFSET([0]!_xlnm.Print_Area,3,0,,7),7,FALSE))","v":{"$error":"#REF!"}}," ",{"$f":"INDEX(#REF!,SMALL(IF(#REF!<>\"\",ROW(#REF!)),ROWS(I$1:I6)-1))","v":{"$error":"#REF!"}},{"$f":"INDEX(#REF!,SMALL(IF(#REF!<>\"\",ROW(#REF!)),ROWS(J$1:J6)-1))","v":{"$error":"#REF!"}},{"$f":"INDEX(#REF!,SMALL(IF(#REF!<>\"\",ROW(#REF!)),ROWS(K$1:K6)-1))","v":{"$error":"#REF!"}}]
[{"$error":"#REF!"},{"$error":"#REF!"},{"$error":"#REF!"},{"$f":"IF(J7=\"\",VLOOKUP(C7,OFFSET([0]!_xlnm.Print_Area,3,2),2,FALSE),VLOOKUP(A7,OFFSET([0]!_xlnm.Print_Area,3,0),4,FALSE))","v":{"$error":"#REF!"}},{"$f":"IF(J7=\"\",\"\",VLOOKUP(A7,OFFSET([0]!_xlnm.Print_Area,3,0),5,FALSE))","v":{"$error":"#REF!"}},{"$f":"IF(J7=\"\",\"\",VLOOKUP(A7,OFFSET([0]!_xlnm.Print_Area,3,0),6,FALSE))","v":{"$error":"#REF!"}},{"$f":"IF(J7=\"\",\"\",VLOOKUP(A7,OFFSET([0]!_xlnm.Print_Area,3,0,,7),7,FALSE))","v":{"$error":"#REF!"}}," ",{"$f":"INDEX(#REF!,SMALL(IF(#REF!<>\"\",ROW(#REF!)),ROWS(I$1:I7)-1))","v":{"$error":"#REF!"}},{"$f":"INDEX(#REF!,SMALL(IF(#REF!<>\"\",ROW(#REF!)),ROWS(J$1:J7)-1))","v":{"$error":"#REF!"}},{"$f":"INDEX(#REF!,SMALL(IF(#REF!<>\"\",ROW(#REF!)),ROWS(K$1:K7)-1))","v":{"$error":"#REF!"}}]
[{"$error":"#REF!"},{"$error":"#REF!"},{"$error":"#REF!"},{"$f":"IF(J8=\"\",VLOOKUP(C8,OFFSET([0]!_xlnm.Print_Area,3,2),2,FALSE),VLOOKUP(A8,OFFSET([0]!_xlnm.Print_Area,3,0),4,FALSE))","v":{"$error":"#REF!"}},{"$f":"IF(J8=\"\",\"\",VLOOKUP(A8,OFFSET([0]!_xlnm.Print_Area,3,0),5,FALSE))","v":{"$error":"#REF!"}},{"$f":"IF(J8=\"\",\"\",VLOOKUP(A8,OFFSET([0]!_xlnm.Print_Area,3,0),6,FALSE))","v":{"$error":"#REF!"}},{"$f":"IF(J8=\"\",\"\",VLOOKUP(A8,OFFSET([0]!_xlnm.Print_Area,3,0,,7),7,FALSE))","v":{"$error":"#REF!"}}," ",{"$f":"INDEX(#REF!,SMALL(IF(#REF!<>\"\",ROW(#REF!)),ROWS(I$1:I8)-1))","v":{"$error":"#REF!"}},{"$f":"INDEX(#REF!,SMALL(IF(#REF!<>\"\",ROW(#REF!)),ROWS(J$1:J8)-1))","v":{"$error":"#REF!"}},{"$f":"INDEX(#REF!,SMALL(IF(#REF!<>\"\",ROW(#REF!)),ROWS(K$1:K8)-1))","v":{"$error":"#REF!"}}]
[{"$error":"#REF!"},{"$error":"#REF!"},{"$error":"#REF!"},{"$f":"IF(J9=\"\",VLOOKUP(C9,OFFSET([0]!_xlnm.Print_Area,3,2),2,FALSE),VLOOKUP(A9,OFFSET([0]!_xlnm.Print_Area,3,0),4,FALSE))","v":{"$error":"#REF!"}},{"$f":"IF(J9=\"\",\"\",VLOOKUP(A9,OFFSET([0]!_xlnm.Print_Area,3,0),5,FALSE))","v":{"$error":"#REF!"}},{"$f":"IF(J9=\"\",\"\",VLOOKUP(A9,OFFSET([0]!_xlnm.Print_Area,3,0),6,FALSE))","v":{"$error":"#REF!"}},{"$f":"IF(J9=\"\",\"\",VLOOKUP(A9,OFFSET([0]!_xlnm.Print_Area,3,0,,7),7,FALSE))","v":{"$error":"#REF!"}}," ",{"$f":"INDEX(#REF!,SMALL(IF(#REF!<>\"\",ROW(#REF!)),ROWS(I$1:I9)-1))","v":{"$error":"#REF!"}},{"$f":"INDEX(#REF!,SMALL(IF(#REF!<>\"\",ROW(#REF!)),ROWS(J$1:J9)-1))","v":{"$error":"#REF!"}},{"$f":"INDEX(#REF!,SMALL(IF(#REF!<>\"\",ROW(#REF!)),ROWS(K$1:K9)-1))","v":{"$error":"#REF!"}}]
[{"$error":"#REF!"},{"$error":"#REF!"},{"$error":"#REF!"},{"$f":"IF(J10=\"\",VLOOKUP(C10,OFFSET([0]!_xlnm.Print_Area,3,2),2,FALSE),VLOOKUP(A10,OFFSET([0]!_xlnm.Print_Area,3,0),4,FALSE))","v":{"$error":"#REF!"}},{"$f":"IF(J10=\"\",\"\",VLOOKUP(A10,OFFSET([0]!_xlnm.Print_Area,3,0),5,FALSE))","v":{"$error":"#REF!"}},{"$f":"IF(J10=\"\",\"\",VLOOKUP(A10,OFFSET([0]!_xlnm.Print_Area,3,0),6,FALSE))","v":{"$error":"#REF!"}},{"$f":"IF(J10=\"\",\"\",VLOOKUP(A10,OFFSET([0]!_xlnm.Print_Area,3,0,,7),7,FALSE))","v":{"$error":"#REF!"}}," ",{"$f":"INDEX(#REF!,SMALL(IF(#REF!<>\"\",ROW(#REF!)),ROWS(I$1:I10)-1))","v":{"$error":"#REF!"}},{"$f":"INDEX(#REF!,SMALL(IF(#REF!<>\"\",ROW(#REF!)),ROWS(J$1:J10)-1))","v":{"$error":"#REF!"}},{"$f":"INDEX(#REF!,SMALL(IF(#REF!<>\"\",ROW(#REF!)),ROWS(K$1:K10)-1))","v":{"$error":"#REF!"}}]
[{"$error":"#REF!"},{"$error":"#REF!"},{"$error":"#REF!"},{"$f":"IF(J11=\"\",VLOOKUP(C11,OFFSET([0]!_xlnm.Print_Area,3,2),2,FALSE),VLOOKUP(A11,OFFSET([0]!_xlnm.Print_Area,3,0),4,FALSE))","v":{"$error":"#REF!"}},{"$f":"IF(J11=\"\",\"\",VLOOKUP(A11,OFFSET([0]!_xlnm.Print_Area,3,0),5,FALSE))","v":{"$error":"#REF!"}},{"$f":"IF(J11=\"\",\"\",VLOOKUP(A11,OFFSET([0]!_xlnm.Print_Area,3,0),6,FALSE))","v":{"$error":"#REF!"}},{"$f":"IF(J11=\"\",\"\",VLOOKUP(A11,OFFSET([0]!_xlnm.Print_Area,3,0,,7),7,FALSE))","v":{"$error":"#REF!"}}," ",{"$f":"INDEX(#REF!,SMALL(IF(#REF!<>\"\",ROW(#REF!)),ROWS(I$1:I11)-1))","v":{"$error":"#REF!"}},{"$f":"INDEX(#REF!,SMALL(IF(#REF!<>\"\",ROW(#REF!)),ROWS(J$1:J11)-1))","v":{"$error":"#REF!"}},{"$f":"INDEX(#REF!,SMALL(IF(#REF!<>\"\",ROW(#REF!)),ROWS(K$1:K11)-1))","v":{"$error":"#REF!"}}]
[{"$error":"#REF!"},{"$error":"#REF!"},{"$error":"#REF!"},{"$f":"IF(J12=\"\",VLOOKUP(C12,OFFSET([0]!_xlnm.Print_Area,3,2),2,FALSE),VLOOKUP(A12,OFFSET([0]!_xlnm.Print_Area,3,0),4,FALSE))","v":{"$error":"#REF!"}},{"$f":"IF(J12=\"\",\"\",VLOOKUP(A12,OFFSET([0]!_xlnm.Print_Area,3,0),5,FALSE))","v":{"$error":"#REF!"}},{"$f":"IF(J12=\"\",\"\",VLOOKUP(A12,OFFSET([0]!_xlnm.Print_Area,3,0),6,FALSE))","v":{"$error":"#REF!"}},{"$f":"IF(J12=\"\",\"\",VLOOKUP(A12,OFFSET([0]!_xlnm.Print_Area,3,0,,7),7,FALSE))","v":{"$error":"#REF!"}}," ",{"$f":"INDEX(#REF!,SMALL(IF(#REF!<>\"\",ROW(#REF!)),ROWS(I$1:I12)-1))","v":{"$error":"#REF!"}},{"$f":"INDEX(#REF!,SMALL(IF(#REF!<>\"\",ROW(#REF!)),ROWS(J$1:J12)-1))","v":{"$error":"#REF!"}},{"$f":"INDEX(#REF!,SMALL(IF(#REF!<>\"\",ROW(#REF!)),ROWS(K$1:K12)-1))","v":{"$error":"#REF!"}}]
[{"$error":"#REF!"},{"$error":"#REF!"},{"$error":"#REF!"},{"$f":"IF(J13=\"\",VLOOKUP(C13,OFFSET([0]!_xlnm.Print_Area,3,2),2,FALSE),VLOOKUP(A13,OFFSET([0]!_xlnm.Print_Area,3,0),4,FALSE))","v":{"$error":"#REF!"}},{"$f":"IF(J13=\"\",\"\",VLOOKUP(A13,OFFSET([0]!_xlnm.Print_Area,3,0),5,FALSE))","v":{"$error":"#REF!"}},{"$f":"IF(J13=\"\",\"\",VLOOKUP(A13,OFFSET([0]!_xlnm.Print_Area,3,0),6,FALSE))","v":{"$error":"#REF!"}},{"$f":"IF(J13=\"\",\"\",VLOOKUP(A13,OFFSET([0]!_xlnm.Print_Area,3,0,,7),7,FALSE))","v":{"$error":"#REF!"}}," ",{"$f":"INDEX(#REF!,SMALL(IF(#REF!<>\"\",ROW(#REF!)),ROWS(I$1:I13)-1))","v":{"$error":"#REF!"}},{"$f":"INDEX(#REF!,SMALL(IF(#REF!<>\"\",ROW(#REF!)),ROWS(J$1:J13)-1))","v":{"$error":"#REF!"}},{"$f":"INDEX(#REF!,SMALL(IF(#REF!<>\"\",ROW(#REF!)),ROWS(K$1:K13)-1))","v":{"$error":"#REF!"}}]
[{"$error":"#REF!"},{"$error":"#REF!"},{"$error":"#REF!"},{"$f":"IF(J14=\"\",VLOOKUP(C14,OFFSET([0]!_xlnm.Print_Area,3,2),2,FALSE),VLOOKUP(A14,OFFSET([0]!_xlnm.Print_Area,3,0),4,FALSE))","v":{"$error":"#REF!"}},{"$f":"IF(J14=\"\",\"\",VLOOKUP(A14,OFFSET([0]!_xlnm.Print_Area,3,0),5,FALSE))","v":{"$error":"#REF!"}},{"$f":"IF(J14=\"\",\"\",VLOOKUP(A14,OFFSET([0]!_xlnm.Print_Area,3,0),6,FALSE))","v":{"$error":"#REF!"}},{"$f":"IF(J14=\"\",\"\",VLOOKUP(A14,OFFSET([0]!_xlnm.Print_Area,3,0,,7),7,FALSE))","v":{"$error":"#REF!"}}," ",{"$f":"INDEX(#REF!,SMALL(IF(#REF!<>\"\",ROW(#REF!)),ROWS(I$1:I14)-1))","v":{"$error":"#REF!"}},{"$f":"INDEX(#REF!,SMALL(IF(#REF!<>\"\",ROW(#REF!)),ROWS(J$1:J14)-1))","v":{"$error":"#REF!"}},{"$f":"INDEX(#REF!,SMALL(IF(#REF!<>\"\",ROW(#REF!)),ROWS(K$1:K14)-1))","v":{"$error":"#REF!"}}]
[{"$error":"#REF!"},{"$error":"#REF!"},{"$error":"#REF!"},{"$f":"IF(J15=\"\",VLOOKUP(C15,OFFSET([0]!_xlnm.Print_Area,3,2),2,FALSE),VLOOKUP(A15,OFFSET([0]!_xlnm.Print_Area,3,0),4,FALSE))","v":{"$error":"#REF!"}},{"$f":"IF(J15=\"\",\"\",VLOOKUP(A15,OFFSET([0]!_xlnm.Print_Area,3,0),5,FALSE))","v":{"$error":"#REF!"}},{"$f":"IF(J15=\"\",\"\",VLOOKUP(A15,OFFSET([0]!_xlnm.Print_Area,3,0),6,FALSE))","v":{"$error":"#REF!"}},{"$f":"IF(J15=\"\",\"\",VLOOKUP(A15,OFFSET([0]!_xlnm.Print_Area,3,0,,7),7,FALSE))","v":{"$error":"#REF!"}}," ",{"$f":"INDEX(#REF!,SMALL(IF(#REF!<>\"\",ROW(#REF!)),ROWS(I$1:I15)-1))","v":{"$error":"#REF!"}},{"$f":"INDEX(#REF!,SMALL(IF(#REF!<>\"\",ROW(#REF!)),ROWS(J$1:J15)-1))","v":{"$error":"#REF!"}},{"$f":"INDEX(#REF!,SMALL(IF(#REF!<>\"\",ROW(#REF!)),ROWS(K$1:K15)-1))","v":{"$error":"#REF!"}}]
[{"$error":"#REF!"},{"$error":"#REF!"},{"$error":"#REF!"},{"$f":"IF(J16=\"\",VLOOKUP(C16,OFFSET([0]!_xlnm.Print_Area,3,2),2,FALSE),VLOOKUP(A16,OFFSET([0]!_xlnm.Print_Area,3,0),4,FALSE))","v":{"$error":"#REF!"}},{"$f":"IF(J16=\"\",\"\",VLOOKUP(A16,OFFSET([0]!_xlnm.Print_Area,3,0),5,FALSE))","v":{"$error":"#REF!"}},{"$f":"IF(J16=\"\",\"\",VLOOKUP(A16,OFFSET([0]!_xlnm.Print_Area,3,0),6,FALSE))","v":{"$error":"#REF!"}},{"$f":"IF(J16=\"\",\"\",VLOOKUP(A16,OFFSET([0]!_xlnm.Print_Area,3,0,,7),7,FALSE))","v":{"$error":"#REF!"}}," ",{"$f":"INDEX(#REF!,SMALL(IF(#REF!<>\"\",ROW(#REF!)),ROWS(I$1:I16)-1))","v":{"$error":"#REF!"}},{"$f":"INDEX(#REF!,SMALL(IF(#REF!<>\"\",ROW(#REF!)),ROWS(J$1:J16)-1))","v":{"$error":"#REF!"}},{"$f":"INDEX(#REF!,SMALL(IF(#REF!<>\"\",ROW(#REF!)),ROWS(K$1:K16)-1))","v":{"$error":"#REF!"}}]
[{"$error":"#REF!"},{"$error":"#REF!"},{"$error":"#REF!"},{"$f":"IF(J17=\"\",VLOOKUP(C17,OFFSET([0]!_xlnm.Print_Area,3,2),2,FALSE),VLOOKUP(A17,OFFSET([0]!_xlnm.Print_Area,3,0),4,FALSE))","v":{"$error":"#REF!"}},{"$f":"IF(J17=\"\",\"\",VLOOKUP(A17,OFFSET([0]!_xlnm.Print_Area,3,0),5,FALSE))","v":{"$error":"#REF!"}},{"$f":"IF(J17=\"\",\"\",VLOOKUP(A17,OFFSET([0]!_xlnm.Print_Area,3,0),6,FALSE))","v":{"$error":"#REF!"}},{"$f":"IF(J17=\"\",\"\",VLOOKUP(A17,OFFSET([0]!_xlnm.Print_Area,3,0,,7),7,FALSE))","v":{"$error":"#REF!"}}," ",{"$f":"INDEX(#REF!,SMALL(IF(#REF!<>\"\",ROW(#REF!)),ROWS(I$1:I17)-1))","v":{"$error":"#REF!"}},{"$f":"INDEX(#REF!,SMALL(IF(#REF!<>\"\",ROW(#REF!)),ROWS(J$1:J17)-1))","v":{"$error":"#REF!"}},{"$f":"INDEX(#REF!,SMALL(IF(#REF!<>\"\",ROW(#REF!)),ROWS(K$1:K17)-1))","v":{"$error":"#REF!"}}]
[{"$error":"#REF!"},{"$error":"#REF!"},{"$error":"#REF!"},{"$f":"IF(J18=\"\",VLOOKUP(C18,OFFSET([0]!_xlnm.Print_Area,3,2),2,FALSE),VLOOKUP(A18,OFFSET([0]!_xlnm.Print_Area,3,0),4,FALSE))","v":{"$error":"#REF!"}},{"$f":"IF(J18=\"\",\"\",VLOOKUP(A18,OFFSET([0]!_xlnm.Print_Area,3,0),5,FALSE))","v":{"$error":"#REF!"}},{"$f":"IF(J18=\"\",\"\",VLOOKUP(A18,OFFSET([0]!_xlnm.Print_Area,3,0),6,FALSE))","v":{"$error":"#REF!"}},{"$f":"IF(J18=\"\",\"\",VLOOKUP(A18,OFFSET([0]!_xlnm.Print_Area,3,0,,7),7,FALSE))","v":{"$error":"#REF!"}}," ",{"$f":"INDEX(#REF!,SMALL(IF(#REF!<>\"\",ROW(#REF!)),ROWS(I$1:I18)-1))","v":{"$error":"#REF!"}},{"$f":"INDEX(#REF!,SMALL(IF(#REF!<>\"\",ROW(#REF!)),ROWS(J$1:J18)-1))","v":{"$error":"#REF!"}},{"$f":"INDEX(#REF!,SMALL(IF(#REF!<>\"\",ROW(#REF!)),ROWS(K$1:K18)-1))","v":{"$error":"#REF!"}}]
[{"$error":"#REF!"},{"$error":"#REF!"},{"$error":"#REF!"},{"$f":"IF(J19=\"\",VLOOKUP(C19,OFFSET([0]!_xlnm.Print_Area,3,2),2,FALSE),VLOOKUP(A19,OFFSET([0]!_xlnm.Print_Area,3,0),4,FALSE))","v":{"$error":"#REF!"}},{"$f":"IF(J19=\"\",\"\",VLOOKUP(A19,OFFSET([0]!_xlnm.Print_Area,3,0),5,FALSE))","v":{"$error":"#REF!"}},{"$f":"IF(J19=\"\",\"\",VLOOKUP(A19,OFFSET([0]!_xlnm.Print_Area,3,0),6,FALSE))","v":{"$error":"#REF!"}},{"$f":"IF(J19=\"\",\"\",VLOOKUP(A19,OFFSET([0]!_xlnm.Print_Area,3,0,,7),7,FALSE))","v":{"$error":"#REF!"}}," ",{"$f":"INDEX(#REF!,SMALL(IF(#REF!<>\"\",ROW(#REF!)),ROWS(I$1:I19)-1))","v":{"$error":"#REF!"}},{"$f":"INDEX(#REF!,SMALL(IF(#REF!<>\"\",ROW(#REF!)),ROWS(J$1:J19)-1))","v":{"$error":"#REF!"}},{"$f":"INDEX(#REF!,SMALL(IF(#REF!<>\"\",ROW(#REF!)),ROWS(K$1:K19)-1))","v":{"$error":"#REF!"}}]
[{"$error":"#REF!"},{"$error":"#REF!"},{"$error":"#REF!"},{"$f":"IF(J20=\"\",VLOOKUP(C20,OFFSET([0]!_xlnm.Print_Area,3,2),2,FALSE),VLOOKUP(A20,OFFSET([0]!_xlnm.Print_Area,3,0),4,FALSE))","v":{"$error":"#REF!"}},{"$f":"IF(J20=\"\",\"\",VLOOKUP(A20,OFFSET([0]!_xlnm.Print_Area,3,0),5,FALSE))","v":{"$error":"#REF!"}},{"$f":"IF(J20=\"\",\"\",VLOOKUP(A20,OFFSET([0]!_xlnm.Print_Area,3,0),6,FALSE))","v":{"$error":"#REF!"}},{"$f":"IF(J20=\"\",\"\",VLOOKUP(A20,OFFSET([0]!_xlnm.Print_Area,3,0,,7),7,FALSE))","v":{"$error":"#REF!"}}," ",{"$f":"INDEX(#REF!,SMALL(IF(#REF!<>\"\",ROW(#REF!)),ROWS(I$1:I20)-1))","v":{"$error":"#REF!"}},{"$f":"INDEX(#REF!,SMALL(IF(#REF!<>\"\",ROW(#REF!)),ROWS(J$1:J20)-1))","v":{"$error":"#REF!"}},{"$f":"INDEX(#REF!,SMALL(IF(#REF!<>\"\",ROW(#REF!)),ROWS(K$1:K20)-1))","v":{"$error":"#REF!"}}]
[{"$error":"#REF!"},{"$error":"#REF!"},{"$error":"#REF!"},{"$f":"IF(J21=\"\",VLOOKUP(C21,OFFSET([0]!_xlnm.Print_Area,3,2),2,FALSE),VLOOKUP(A21,OFFSET([0]!_xlnm.Print_Area,3,0),4,FALSE))","v":{"$error":"#REF!"}},{"$f":"IF(J21=\"\",\"\",VLOOKUP(A21,OFFSET([0]!_xlnm.Print_Area,3,0),5,FALSE))","v":{"$error":"#REF!"}},{"$f":"IF(J21=\"\",\"\",VLOOKUP(A21,OFFSET([0]!_xlnm.Print_Area,3,0),6,FALSE))","v":{"$error":"#REF!"}},{"$f":"IF(J21=\"\",\"\",VLOOKUP(A21,OFFSET([0]!_xlnm.Print_Area,3,0,,7),7,FALSE))","v":{"$error":"#REF!"}}," ",{"$f":"INDEX(#REF!,SMALL(IF(#REF!<>\"\",ROW(#REF!)),ROWS(I$1:I21)-1))","v":{"$error":"#REF!"}},{"$f":"INDEX(#REF!,SMALL(IF(#REF!<>\"\",ROW(#REF!)),ROWS(J$1:J21)-1))","v":{"$error":"#REF!"}},{"$f":"INDEX(#REF!,SMALL(IF(#REF!<>\"\",ROW(#REF!)),ROWS(K$1:K21)-1))","v":{"$error":"#REF!"}}]
[{"$error":"#REF!"},{"$error":"#REF!"},{"$error":"#REF!"},{"$f":"IF(J22=\"\",VLOOKUP(C22,OFFSET([0]!_xlnm.Print_Area,3,2),2,FALSE),VLOOKUP(A22,OFFSET([0]!_xlnm.Print_Area,3,0),4,FALSE))","v":{"$error":"#REF!"}},{"$f":"IF(J22=\"\",\"\",VLOOKUP(A22,OFFSET([0]!_xlnm.Print_Area,3,0),5,FALSE))","v":{"$error":"#REF!"}},{"$f":"IF(J22=\"\",\"\",VLOOKUP(A22,OFFSET([0]!_xlnm.Print_Area,3,0),6,FALSE))","v":{"$error":"#REF!"}},{"$f":"IF(J22=\"\",\"\",VLOOKUP(A22,OFFSET([0]!_xlnm.Print_Area,3,0,,7),7,FALSE))","v":{"$error":"#REF!"}}," ",{"$f":"INDEX(#REF!,SMALL(IF(#REF!<>\"\",ROW(#REF!)),ROWS(I$1:I22)-1))","v":{"$error":"#REF!"}},{"$f":"INDEX(#REF!,SMALL(IF(#REF!<>\"\",ROW(#REF!)),ROWS(J$1:J22)-1))","v":{"$error":"#REF!"}},{"$f":"INDEX(#REF!,SMALL(IF(#REF!<>\"\",ROW(#REF!)),ROWS(K$1:K22)-1))","v":{"$error":"#REF!"}}]
[{"$error":"#REF!"},{"$error":"#REF!"},{"$error":"#REF!"},{"$f":"IF(J23=\"\",VLOOKUP(C23,OFFSET([0]!_xlnm.Print_Area,3,2),2,FALSE),VLOOKUP(A23,OFFSET([0]!_xlnm.Print_Area,3,0),4,FALSE))","v":{"$error":"#REF!"}},{"$f":"IF(J23=\"\",\"\",VLOOKUP(A23,OFFSET([0]!_xlnm.Print_Area,3,0),5,FALSE))","v":{"$error":"#REF!"}},{"$f":"IF(J23=\"\",\"\",VLOOKUP(A23,OFFSET([0]!_xlnm.Print_Area,3,0),6,FALSE))","v":{"$error":"#REF!"}},{"$f":"IF(J23=\"\",\"\",VLOOKUP(A23,OFFSET([0]!_xlnm.Print_Area,3,0,,7),7,FALSE))","v":{"$error":"#REF!"}}," ",{"$f":"INDEX(#REF!,SMALL(IF(#REF!<>\"\",ROW(#REF!)),ROWS(I$1:I23)-1))","v":{"$error":"#REF!"}},{"$f":"INDEX(#REF!,SMALL(IF(#REF!<>\"\",ROW(#REF!)),ROWS(J$1:J23)-1))","v":{"$error":"#REF!"}},{"$f":"INDEX(#REF!,SMALL(IF(#REF!<>\"\",ROW(#REF!)),ROWS(K$1:K23)-1))","v":{"$error":"#REF!"}}]
[{"$error":"#REF!"},{"$error":"#REF!"},{"$error":"#REF!"},{"$f":"IF(J24=\"\",VLOOKUP(C24,OFFSET([0]!_xlnm.Print_Area,3,2),2,FALSE),VLOOKUP(A24,OFFSET([0]!_xlnm.Print_Area,3,0),4,FALSE))","v":{"$error":"#REF!"}},{"$f":"IF(J24=\"\",\"\",VLOOKUP(A24,OFFSET([0]!_xlnm.Print_Area,3,0),5,FALSE))","v":{"$error":"#REF!"}},{"$f":"IF(J24=\"\",\"\",VLOOKUP(A24,OFFSET([0]!_xlnm.Print_Area,3,0),6,FALSE))","v":{"$error":"#REF!"}},{"$f":"IF(J24=\"\",\"\",VLOOKUP(A24,OFFSET([0]!_xlnm.Print_Area,3,0,,7),7,FALSE))","v":{"$error":"#REF!"}}," ",{"$f":"INDEX(#REF!,SMALL(IF(#REF!<>\"\",ROW(#REF!)),ROWS(I$1:I24)-1))","v":{"$error":"#REF!"}},{"$f":"INDEX(#REF!,SMALL(IF(#REF!<>\"\",ROW(#REF!)),ROWS(J$1:J24)-1))","v":{"$error":"#REF!"}},{"$f":"INDEX(#REF!,SMALL(IF(#REF!<>\"\",ROW(#REF!)),ROWS(K$1:K24)-1))","v":{"$error":"#REF!"}}]
[{"$error":"#REF!"},{"$error":"#REF!"},{"$error":"#REF!"},{"$f":"IF(J25=\"\",VLOOKUP(C25,OFFSET([0]!_xlnm.Print_Area,3,2),2,FALSE),VLOOKUP(A25,OFFSET([0]!_xlnm.Print_Area,3,0),4,FALSE))","v":{"$error":"#REF!"}},{"$f":"IF(J25=\"\",\"\",VLOOKUP(A25,OFFSET([0]!_xlnm.Print_Area,3,0),5,FALSE))","v":{"$error":"#REF!"}},{"$f":"IF(J25=\"\",\"\",VLOOKUP(A25,OFFSET([0]!_xlnm.Print_Area,3,0),6,FALSE))","v":{"$error":"#REF!"}},{"$f":"IF(J25=\"\",\"\",VLOOKUP(A25,OFFSET([0]!_xlnm.Print_Area,3,0,,7),7,FALSE))","v":{"$error":"#REF!"}}," ",{"$f":"INDEX(#REF!,SMALL(IF(#REF!<>\"\",ROW(#REF!)),ROWS(I$1:I25)-1))","v":{"$error":"#REF!"}},{"$f":"INDEX(#REF!,SMALL(IF(#REF!<>\"\",ROW(#REF!)),ROWS(J$1:J25)-1))","v":{"$error":"#REF!"}},{"$f":"INDEX(#REF!,SMALL(IF(#REF!<>\"\",ROW(#REF!)),ROWS(K$1:K25)-1))","v":{"$error":"#REF!"}}]
[{"$error":"#REF!"},{"$error":"#REF!"},{"$error":"#REF!"},{"$f":"IF(J26=\"\",VLOOKUP(C26,OFFSET([0]!_xlnm.Print_Area,3,2),2,FALSE),VLOOKUP(A26,OFFSET([0]!_xlnm.Print_Area,3,0),4,FALSE))","v":{"$error":"#REF!"}},{"$f":"IF(J26=\"\",\"\",VLOOKUP(A26,OFFSET([0]!_xlnm.Print_Area,3,0),5,FALSE))","v":{"$error":"#REF!"}},{"$f":"IF(J26=\"\",\"\",VLOOKUP(A26,OFFSET([0]!_xlnm.Print_Area,3,0),6,FALSE))","v":{"$error":"#REF!"}},{"$f":"IF(J26=\"\",\"\",VLOOKUP(A26,OFFSET([0]!_xlnm.Print_Area,3,0,,7),7,FALSE))","v":{"$error":"#REF!"}}," ",{"$f":"INDEX(#REF!,SMALL(IF(#REF!<>\"\",ROW(#REF!)),ROWS(I$1:I26)-1))","v":{"$error":"#REF!"}},{"$f":"INDEX(#REF!,SMALL(IF(#REF!<>\"\",ROW(#REF!)),ROWS(J$1:J26)-1))","v":{"$error":"#REF!"}},{"$f":"INDEX(#REF!,SMALL(IF(#REF!<>\"\",ROW(#REF!)),ROWS(K$1:K26)-1))","v":{"$error":"#REF!"}}]
[{"$error":"#REF!"},{"$error":"#REF!"},{"$error":"#REF!"},{"$f":"IF(J27=\"\",VLOOKUP(C27,OFFSET([0]!_xlnm.Print_Area,3,2),2,FALSE),VLOOKUP(A27,OFFSET([0]!_xlnm.Print_Area,3,0),4,FALSE))","v":{"$error":"#REF!"}},{"$f":"IF(J27=\"\",\"\",VLOOKUP(A27,OFFSET([0]!_xlnm.Print_Area,3,0),5,FALSE))","v":{"$error":"#REF!"}},{"$f":"IF(J27=\"\",\"\",VLOOKUP(A27,OFFSET([0]!_xlnm.Print_Area,3,0),6,FALSE))","v":{"$error":"#REF!"}},{"$f":"IF(J27=\"\",\"\",VLOOKUP(A27,OFFSET([0]!_xlnm.Print_Area,3,0,,7),7,FALSE))","v":{"$error":"#REF!"}}," ",{"$f":"INDEX(#REF!,SMALL(IF(#REF!<>\"\",ROW(#REF!)),ROWS(I$1:I27)-1))","v":{"$error":"#REF!"}},{"$f":"INDEX(#REF!,SMALL(IF(#REF!<>\"\",ROW(#REF!)),ROWS(J$1:J27)-1))","v":{"$error":"#REF!"}},{"$f":"INDEX(#REF!,SMALL(IF(#REF!<>\"\",ROW(#REF!)),ROWS(K$1:K27)-1))","v":{"$error":"#REF!"}}]
[{"$error":"#REF!"},{"$error":"#REF!"},{"$error":"#REF!"},{"$f":"IF(J28=\"\",VLOOKUP(C28,OFFSET([0]!_xlnm.Print_Area,3,2),2,FALSE),VLOOKUP(A28,OFFSET([0]!_xlnm.Print_Area,3,0),4,FALSE))","v":{"$error":"#REF!"}},{"$f":"IF(J28=\"\",\"\",VLOOKUP(A28,OFFSET([0]!_xlnm.Print_Area,3,0),5,FALSE))","v":{"$error":"#REF!"}},{"$f":"IF(J28=\"\",\"\",VLOOKUP(A28,OFFSET([0]!_xlnm.Print_Area,3,0),6,FALSE))","v":{"$error":"#REF!"}},{"$f":"IF(J28=\"\",\"\",VLOOKUP(A28,OFFSET([0]!_xlnm.Print_Area,3,0,,7),7,FALSE))","v":{"$error":"#REF!"}}," ",{"$f":"INDEX(#REF!,SMALL(IF(#REF!<>\"\",ROW(#REF!)),ROWS(I$1:I28)-1))","v":{"$error":"#REF!"}},{"$f":"INDEX(#REF!,SMALL(IF(#REF!<>\"\",ROW(#REF!)),ROWS(J$1:J28)-1))","v":{"$error":"#REF!"}},{"$f":"INDEX(#REF!,SMALL(IF(#REF!<>\"\",ROW(#REF!)),ROWS(K$1:K28)-1))","v":{"$error":"#REF!"}}]
[{"$error":"#REF!"},{"$error":"#REF!"},{"$error":"#REF!"},{"$f":"IF(J29=\"\",VLOOKUP(C29,OFFSET([0]!_xlnm.Print_Area,3,2),2,FALSE),VLOOKUP(A29,OFFSET([0]!_xlnm.Print_Area,3,0),4,FALSE))","v":{"$error":"#REF!"}},{"$f":"IF(J29=\"\",\"\",VLOOKUP(A29,OFFSET([0]!_xlnm.Print_Area,3,0),5,FALSE))","v":{"$error":"#REF!"}},{"$f":"IF(J29=\"\",\"\",VLOOKUP(A29,OFFSET([0]!_xlnm.Print_Area,3,0),6,FALSE))","v":{"$error":"#REF!"}},{"$f":"IF(J29=\"\",\"\",VLOOKUP(A29,OFFSET([0]!_xlnm.Print_Area,3,0,,7),7,FALSE))","v":{"$error":"#REF!"}}," ",{"$f":"INDEX(#REF!,SMALL(IF(#REF!<>\"\",ROW(#REF!)),ROWS(I$1:I29)-1))","v":{"$error":"#REF!"}},{"$f":"INDEX(#REF!,SMALL(IF(#REF!<>\"\",ROW(#REF!)),ROWS(J$1:J29)-1))","v":{"$error":"#REF!"}},{"$f":"INDEX(#REF!,SMALL(IF(#REF!<>\"\",ROW(#REF!)),ROWS(K$1:K29)-1))","v":{"$error":"#REF!"}}]
[{"$error":"#REF!"},{"$error":"#REF!"},{"$error":"#REF!"},{"$f":"IF(J30=\"\",VLOOKUP(C30,OFFSET([0]!_xlnm.Print_Area,3,2),2,FALSE),VLOOKUP(A30,OFFSET([0]!_xlnm.Print_Area,3,0),4,FALSE))","v":{"$error":"#REF!"}},{"$f":"IF(J30=\"\",\"\",VLOOKUP(A30,OFFSET([0]!_xlnm.Print_Area,3,0),5,FALSE))","v":{"$error":"#REF!"}},{"$f":"IF(J30=\"\",\"\",VLOOKUP(A30,OFFSET([0]!_xlnm.Print_Area,3,0),6,FALSE))","v":{"$error":"#REF!"}},{"$f":"IF(J30=\"\",\"\",VLOOKUP(A30,OFFSET([0]!_xlnm.Print_Area,3,0,,7),7,FALSE))","v":{"$error":"#REF!"}}," ",{"$f":"INDEX(#REF!,SMALL(IF(#REF!<>\"\",ROW(#REF!)),ROWS(I$1:I30)-1))","v":{"$error":"#REF!"}},{"$f":"INDEX(#REF!,SMALL(IF(#REF!<>\"\",ROW(#REF!)),ROWS(J$1:J30)-1))","v":{"$error":"#REF!"}},{"$f":"INDEX(#REF!,SMALL(IF(#REF!<>\"\",ROW(#REF!)),ROWS(K$1:K30)-1))","v":{"$error":"#REF!"}}]
[{"$error":"#REF!"},{"$error":"#REF!"},{"$error":"#REF!"},{"$f":"IF(J31=\"\",VLOOKUP(C31,OFFSET([0]!_xlnm.Print_Area,3,2),2,FALSE),VLOOKUP(A31,OFFSET([0]!_xlnm.Print_Area,3,0),4,FALSE))","v":{"$error":"#REF!"}},{"$f":"IF(J31=\"\",\"\",VLOOKUP(A31,OFFSET([0]!_xlnm.Print_Area,3,0),5,FALSE))","v":{"$error":"#REF!"}},{"$f":"IF(J31=\"\",\"\",VLOOKUP(A31,OFFSET([0]!_xlnm.Print_Area,3,0),6,FALSE))","v":{"$error":"#REF!"}},{"$f":"IF(J31=\"\",\"\",VLOOKUP(A31,OFFSET([0]!_xlnm.Print_Area,3,0,,7),7,FALSE))","v":{"$error":"#REF!"}}," ",{"$f":"INDEX(#REF!,SMALL(IF(#REF!<>\"\",ROW(#REF!)),ROWS(I$1:I31)-1))","v":{"$error":"#REF!"}},{"$f":"INDEX(#REF!,SMALL(IF(#REF!<>\"\",ROW(#REF!)),ROWS(J$1:J31)-1))","v":{"$error":"#REF!"}},{"$f":"INDEX(#REF!,SMALL(IF(#REF!<>\"\",ROW(#REF!)),ROWS(K$1:K31)-1))","v":{"$error":"#REF!"}}]
[{"$error":"#REF!"},{"$error":"#REF!"},{"$error":"#REF!"},{"$f":"IF(J32=\"\",VLOOKUP(C32,OFFSET([0]!_xlnm.Print_Area,3,2),2,FALSE),VLOOKUP(A32,OFFSET([0]!_xlnm.Print_Area,3,0),4,FALSE))","v":{"$error":"#REF!"}},{"$f":"IF(J32=\"\",\"\",VLOOKUP(A32,OFFSET([0]!_xlnm.Print_Area,3,0),5,FALSE))","v":{"$error":"#REF!"}},{"$f":"IF(J32=\"\",\"\",VLOOKUP(A32,OFFSET([0]!_xlnm.Print_Area,3,0),6,FALSE))","v":{"$error":"#REF!"}},{"$f":"IF(J32=\"\",\"\",VLOOKUP(A32,OFFSET([0]!_xlnm.Print_Area,3,0,,7),7,FALSE))","v":{"$error":"#REF!"}}," ",{"$f":"INDEX(#REF!,SMALL(IF(#REF!<>\"\",ROW(#REF!)),ROWS(I$1:I32)-1))","v":{"$error":"#REF!"}},{"$f":"INDEX(#REF!,SMALL(IF(#REF!<>\"\",ROW(#REF!)),ROWS(J$1:J32)-1))","v":{"$error":"#REF!"}},{"$f":"INDEX(#REF!,SMALL(IF(#REF!<>\"\",ROW(#REF!)),ROWS(K$1:K32)-1))","v":{"$error":"#REF!"}}]
[{"$error":"#REF!"},{"$error":"#REF!"},{"$error":"#REF!"},{"$f":"IF(J33=\"\",VLOOKUP(C33,OFFSET([0]!_xlnm.Print_Area,3,2),2,FALSE),VLOOKUP(A33,OFFSET([0]!_xlnm.Print_Area,3,0),4,FALSE))","v":{"$error":"#REF!"}},{"$f":"IF(J33=\"\",\"\",VLOOKUP(A33,OFFSET([0]!_xlnm.Print_Area,3,0),5,FALSE))","v":{"$error":"#REF!"}},{"$f":"IF(J33=\"\",\"\",VLOOKUP(A33,OFFSET([0]!_xlnm.Print_Area,3,0),6,FALSE))","v":{"$error":"#REF!"}},{"$f":"IF(J33=\"\",\"\",VLOOKUP(A33,OFFSET([0]!_xlnm.Print_Area,3,0,,7),7,FALSE))","v":{"$error":"#REF!"}}," ",{"$f":"INDEX(#REF!,SMALL(IF(#REF!<>\"\",ROW(#REF!)),ROWS(I$1:I33)-1))","v":{"$error":"#REF!"}},{"$f":"INDEX(#REF!,SMALL(IF(#REF!<>\"\",ROW(#REF!)),ROWS(J$1:J33)-1))","v":{"$error":"#REF!"}},{"$f":"INDEX(#REF!,SMALL(IF(#REF!<>\"\",ROW(#REF!)),ROWS(K$1:K33)-1))","v":{"$error":"#REF!"}}]
[{"$error":"#REF!"},{"$error":"#REF!"},{"$error":"#REF!"},{"$f":"IF(J34=\"\",VLOOKUP(C34,OFFSET([0]!_xlnm.Print_Area,3,2),2,FALSE),VLOOKUP(A34,OFFSET([0]!_xlnm.Print_Area,3,0),4,FALSE))","v":{"$error":"#REF!"}},{"$f":"IF(J34=\"\",\"\",VLOOKUP(A34,OFFSET([0]!_xlnm.Print_Area,3,0),5,FALSE))","v":{"$error":"#REF!"}},{"$f":"IF(J34=\"\",\"\",VLOOKUP(A34,OFFSET([0]!_xlnm.Print_Area,3,0),6,FALSE))","v":{"$error":"#REF!"}},{"$f":"IF(J34=\"\",\"\",VLOOKUP(A34,OFFSET([0]!_xlnm.Print_Area,3,0,,7),7,FALSE))","v":{"$error":"#REF!"}}," ",{"$f":"INDEX(#REF!,SMALL(IF(#REF!<>\"\",ROW(#REF!)),ROWS(I$1:I34)-1))","v":{"$error":"#REF!"}},{"$f":"INDEX(#REF!,SMALL(IF(#REF!<>\"\",ROW(#REF!)),ROWS(J$1:J34)-1))","v":{"$error":"#REF!"}},{"$f":"INDEX(#REF!,SMALL(IF(#REF!<>\"\",ROW(#REF!)),ROWS(K$1:K34)-1))","v":{"$error":"#REF!"}}]
[{"$error":"#REF!"},{"$error":"#REF!"},{"$error":"#REF!"},{"$f":"IF(J35=\"\",VLOOKUP(C35,OFFSET([0]!_xlnm.Print_Area,3,2),2,FALSE),VLOOKUP(A35,OFFSET([0]!_xlnm.Print_Area,3,0),4,FALSE))","v":{"$error":"#REF!"}},{"$f":"IF(J35=\"\",\"\",VLOOKUP(A35,OFFSET([0]!_xlnm.Print_Area,3,0),5,FALSE))","v":{"$error":"#REF!"}},{"$f":"IF(J35=\"\",\"\",VLOOKUP(A35,OFFSET([0]!_xlnm.Print_Area,3,0),6,FALSE))","v":{"$error":"#REF!"}},{"$f":"IF(J35=\"\",\"\",VLOOKUP(A35,OFFSET([0]!_xlnm.Print_Area,3,0,,7),7,FALSE))","v":{"$error":"#REF!"}}," ",{"$f":"INDEX(#REF!,SMALL(IF(#REF!<>\"\",ROW(#REF!)),ROWS(I$1:I35)-1))","v":{"$error":"#REF!"}},{"$f":"INDEX(#REF!,SMALL(IF(#REF!<>\"\",ROW(#REF!)),ROWS(J$1:J35)-1))","v":{"$error":"#REF!"}},{"$f":"INDEX(#REF!,SMALL(IF(#REF!<>\"\",ROW(#REF!)),ROWS(K$1:K35)-1))","v":{"$error":"#REF!"}}]
[{"$error":"#REF!"},{"$error":"#REF!"},{"$error":"#REF!"},{"$f":"IF(J36=\"\",VLOOKUP(C36,OFFSET([0]!_xlnm.Print_Area,3,2),2,FALSE),VLOOKUP(A36,OFFSET([0]!_xlnm.Print_Area,3,0),4,FALSE))","v":{"$error":"#REF!"}},{"$f":"IF(J36=\"\",\"\",VLOOKUP(A36,OFFSET([0]!_xlnm.Print_Area,3,0),5,FALSE))","v":{"$error":"#REF!"}},{"$f":"IF(J36=\"\",\"\",VLOOKUP(A36,OFFSET([0]!_xlnm.Print_Area,3,0),6,FALSE))","v":{"$error":"#REF!"}},{"$f":"IF(J36=\"\",\"\",VLOOKUP(A36,OFFSET([0]!_xlnm.Print_Area,3,0,,7),7,FALSE))","v":{"$error":"#REF!"}}," ",{"$f":"INDEX(#REF!,SMALL(IF(#REF!<>\"\",ROW(#REF!)),ROWS(I$1:I36)-1))","v":{"$error":"#REF!"}},{"$f":"INDEX(#REF!,SMALL(IF(#REF!<>\"\",ROW(#REF!)),ROWS(J$1:J36)-1))","v":{"$error":"#REF!"}},{"$f":"INDEX(#REF!,SMALL(IF(#REF!<>\"\",ROW(#REF!)),ROWS(K$1:K36)-1))","v":{"$error":"#REF!"}}]
[{"$error":"#REF!"},{"$error":"#REF!"},{"$error":"#REF!"},{"$f":"IF(J37=\"\",VLOOKUP(C37,OFFSET([0]!_xlnm.Print_Area,3,2),2,FALSE),VLOOKUP(A37,OFFSET([0]!_xlnm.Print_Area,3,0),4,FALSE))","v":{"$error":"#REF!"}},{"$f":"IF(J37=\"\",\"\",VLOOKUP(A37,OFFSET([0]!_xlnm.Print_Area,3,0),5,FALSE))","v":{"$error":"#REF!"}},{"$f":"IF(J37=\"\",\"\",VLOOKUP(A37,OFFSET([0]!_xlnm.Print_Area,3,0),6,FALSE))","v":{"$error":"#REF!"}},{"$f":"IF(J37=\"\",\"\",VLOOKUP(A37,OFFSET([0]!_xlnm.Print_Area,3,0,,7),7,FALSE))","v":{"$error":"#REF!"}}," ",{"$f":"INDEX(#REF!,SMALL(IF(#REF!<>\"\",ROW(#REF!)),ROWS(I$1:I37)-1))","v":{"$error":"#REF!"}},{"$f":"INDEX(#REF!,SMALL(IF(#REF!<>\"\",ROW(#REF!)),ROWS(J$1:J37)-1))","v":{"$error":"#REF!"}},{"$f":"INDEX(#REF!,SMALL(IF(#REF!<>\"\",ROW(#REF!)),ROWS(K$1:K37)-1))","v":{"$error":"#REF!"}}]
[{"$error":"#REF!"},{"$error":"#REF!"},{"$error":"#REF!"},{"$f":"IF(J38=\"\",VLOOKUP(C38,OFFSET([0]!_xlnm.Print_Area,3,2),2,FALSE),VLOOKUP(A38,OFFSET([0]!_xlnm.Print_Area,3,0),4,FALSE))","v":{"$error":"#REF!"}},{"$f":"IF(J38=\"\",\"\",VLOOKUP(A38,OFFSET([0]!_xlnm.Print_Area,3,0),5,FALSE))","v":{"$error":"#REF!"}},{"$f":"IF(J38=\"\",\"\",VLOOKUP(A38,OFFSET([0]!_xlnm.Print_Area,3,0),6,FALSE))","v":{"$error":"#REF!"}},{"$f":"IF(J38=\"\",\"\",VLOOKUP(A38,OFFSET([0]!_xlnm.Print_Area,3,0,,7),7,FALSE))","v":{"$error":"#REF!"}}," ",{"$f":"INDEX(#REF!,SMALL(IF(#REF!<>\"\",ROW(#REF!)),ROWS(I$1:I38)-1))","v":{"$error":"#REF!"}},{"$f":"INDEX(#REF!,SMALL(IF(#REF!<>\"\",ROW(#REF!)),ROWS(J$1:J38)-1))","v":{"$error":"#REF!"}},{"$f":"INDEX(#REF!,SMALL(IF(#REF!<>\"\",ROW(#REF!)),ROWS(K$1:K38)-1))","v":{"$error":"#REF!"}}]
[{"$error":"#REF!"},{"$error":"#REF!"},{"$error":"#REF!"},{"$f":"IF(J39=\"\",VLOOKUP(C39,OFFSET([0]!_xlnm.Print_Area,3,2),2,FALSE),VLOOKUP(A39,OFFSET([0]!_xlnm.Print_Area,3,0),4,FALSE))","v":{"$error":"#REF!"}},{"$f":"IF(J39=\"\",\"\",VLOOKUP(A39,OFFSET([0]!_xlnm.Print_Area,3,0),5,FALSE))","v":{"$error":"#REF!"}},{"$f":"IF(J39=\"\",\"\",VLOOKUP(A39,OFFSET([0]!_xlnm.Print_Area,3,0),6,FALSE))","v":{"$error":"#REF!"}},{"$f":"IF(J39=\"\",\"\",VLOOKUP(A39,OFFSET([0]!_xlnm.Print_Area,3,0,,7),7,FALSE))","v":{"$error":"#REF!"}}," ",{"$f":"INDEX(#REF!,SMALL(IF(#REF!<>\"\",ROW(#REF!)),ROWS(I$1:I39)-1))","v":{"$error":"#REF!"}},{"$f":"INDEX(#REF!,SMALL(IF(#REF!<>\"\",ROW(#REF!)),ROWS(J$1:J39)-1))","v":{"$error":"#REF!"}},{"$f":"INDEX(#REF!,SMALL(IF(#REF!<>\"\",ROW(#REF!)),ROWS(K$1:K39)-1))","v":{"$error":"#REF!"}}]
[{"$error":"#REF!"},{"$error":"#REF!"},{"$error":"#REF!"},{"$f":"IF(J40=\"\",VLOOKUP(C40,OFFSET([0]!_xlnm.Print_Area,3,2),2,FALSE),VLOOKUP(A40,OFFSET([0]!_xlnm.Print_Area,3,0),4,FALSE))","v":{"$error":"#REF!"}},{"$f":"IF(J40=\"\",\"\",VLOOKUP(A40,OFFSET([0]!_xlnm.Print_Area,3,0),5,FALSE))","v":{"$error":"#REF!"}},{"$f":"IF(J40=\"\",\"\",VLOOKUP(A40,OFFSET([0]!_xlnm.Print_Area,3,0),6,FALSE))","v":{"$error":"#REF!"}},{"$f":"IF(J40=\"\",\"\",VLOOKUP(A40,OFFSET([0]!_xlnm.Print_Area,3,0,,7),7,FALSE))","v":{"$error":"#REF!"}}," ",{"$f":"INDEX(#REF!,SMALL(IF(#REF!<>\"\",ROW(#REF!)),ROWS(I$1:I40)-1))","v":{"$error":"#REF!"}},{"$f":"INDEX(#REF!,SMALL(IF(#REF!<>\"\",ROW(#REF!)),ROWS(J$1:J40)-1))","v":{"$error":"#REF!"}},{"$f":"INDEX(#REF!,SMALL(IF(#REF!<>\"\",ROW(#REF!)),ROWS(K$1:K40)-1))","v":{"$error":"#REF!"}}]
[{"$error":"#REF!"},{"$error":"#REF!"},{"$error":"#REF!"},{"$f":"IF(J41=\"\",VLOOKUP(C41,OFFSET([0]!_xlnm.Print_Area,3,2),2,FALSE),VLOOKUP(A41,OFFSET([0]!_xlnm.Print_Area,3,0),4,FALSE))","v":{"$error":"#REF!"}},{"$f":"IF(J41=\"\",\"\",VLOOKUP(A41,OFFSET([0]!_xlnm.Print_Area,3,0),5,FALSE))","v":{"$error":"#REF!"}},{"$f":"IF(J41=\"\",\"\",VLOOKUP(A41,OFFSET([0]!_xlnm.Print_Area,3,0),6,FALSE))","v":{"$error":"#REF!"}},{"$f":"IF(J41=\"\",\"\",VLOOKUP(A41,OFFSET([0]!_xlnm.Print_Area,3,0,,7),7,FALSE))","v":{"$error":"#REF!"}}," ",{"$f":"INDEX(#REF!,SMALL(IF(#REF!<>\"\",ROW(#REF!)),ROWS(I$1:I41)-1))","v":{"$error":"#REF!"}},{"$f":"INDEX(#REF!,SMALL(IF(#REF!<>\"\",ROW(#REF!)),ROWS(J$1:J41)-1))","v":{"$error":"#REF!"}},{"$f":"INDEX(#REF!,SMALL(IF(#REF!<>\"\",ROW(#REF!)),ROWS(K$1:K41)-1))","v":{"$error":"#REF!"}}]
[{"$error":"#REF!"},{"$error":"#REF!"},{"$error":"#REF!"},{"$f":"IF(J42=\"\",VLOOKUP(C42,OFFSET([0]!_xlnm.Print_Area,3,2),2,FALSE),VLOOKUP(A42,OFFSET([0]!_xlnm.Print_Area,3,0),4,FALSE))","v":{"$error":"#REF!"}},{"$f":"IF(J42=\"\",\"\",VLOOKUP(A42,OFFSET([0]!_xlnm.Print_Area,3,0),5,FALSE))","v":{"$error":"#REF!"}},{"$f":"IF(J42=\"\",\"\",VLOOKUP(A42,OFFSET([0]!_xlnm.Print_Area,3,0),6,FALSE))","v":{"$error":"#REF!"}},{"$f":"IF(J42=\"\",\"\",VLOOKUP(A42,OFFSET([0]!_xlnm.Print_Area,3,0,,7),7,FALSE))","v":{"$error":"#REF!"}}," ",{"$f":"INDEX(#REF!,SMALL(IF(#REF!<>\"\",ROW(#REF!)),ROWS(I$1:I42)-1))","v":{"$error":"#REF!"}},{"$f":"INDEX(#REF!,SMALL(IF(#REF!<>\"\",ROW(#REF!)),ROWS(J$1:J42)-1))","v":{"$error":"#REF!"}},{"$f":"INDEX(#REF!,SMALL(IF(#REF!<>\"\",ROW(#REF!)),ROWS(K$1:K42)-1))","v":{"$error":"#REF!"}}]
[{"$error":"#REF!"},{"$error":"#REF!"},{"$error":"#REF!"},{"$f":"IF(J43=\"\",VLOOKUP(C43,OFFSET([0]!_xlnm.Print_Area,3,2),2,FALSE),VLOOKUP(A43,OFFSET([0]!_xlnm.Print_Area,3,0),4,FALSE))","v":{"$error":"#REF!"}},{"$f":"IF(J43=\"\",\"\",VLOOKUP(A43,OFFSET([0]!_xlnm.Print_Area,3,0),5,FALSE))","v":{"$error":"#REF!"}},{"$f":"IF(J43=\"\",\"\",VLOOKUP(A43,OFFSET([0]!_xlnm.Print_Area,3,0),6,FALSE))","v":{"$error":"#REF!"}},{"$f":"IF(J43=\"\",\"\",VLOOKUP(A43,OFFSET([0]!_xlnm.Print_Area,3,0,,7),7,FALSE))","v":{"$error":"#REF!"}}," ",{"$f":"INDEX(#REF!,SMALL(IF(#REF!<>\"\",ROW(#REF!)),ROWS(I$1:I43)-1))","v":{"$error":"#REF!"}},{"$f":"INDEX(#REF!,SMALL(IF(#REF!<>\"\",ROW(#REF!)),ROWS(J$1:J43)-1))","v":{"$error":"#REF!"}},{"$f":"INDEX(#REF!,SMALL(IF(#REF!<>\"\",ROW(#REF!)),ROWS(K$1:K43)-1))","v":{"$error":"#REF!"}}]
[{"$error":"#REF!"},{"$error":"#REF!"},{"$error":"#REF!"},{"$f":"IF(J44=\"\",VLOOKUP(C44,OFFSET([0]!_xlnm.Print_Area,3,2),2,FALSE),VLOOKUP(A44,OFFSET([0]!_xlnm.Print_Area,3,0),4,FALSE))","v":{"$error":"#REF!"}},{"$f":"IF(J44=\"\",\"\",VLOOKUP(A44,OFFSET([0]!_xlnm.Print_Area,3,0),5,FALSE))","v":{"$error":"#REF!"}},{"$f":"IF(J44=\"\",\"\",VLOOKUP(A44,OFFSET([0]!_xlnm.Print_Area,3,0),6,FALSE))","v":{"$error":"#REF!"}},{"$f":"IF(J44=\"\",\"\",VLOOKUP(A44,OFFSET([0]!_xlnm.Print_Area,3,0,,7),7,FALSE))","v":{"$error":"#REF!"}}," ",{"$f":"INDEX(#REF!,SMALL(IF(#REF!<>\"\",ROW(#REF!)),ROWS(I$1:I44)-1))","v":{"$error":"#REF!"}},{"$f":"INDEX(#REF!,SMALL(IF(#REF!<>\"\",ROW(#REF!)),ROWS(J$1:J44)-1))","v":{"$error":"#REF!"}},{"$f":"INDEX(#REF!,SMALL(IF(#REF!<>\"\",ROW(#REF!)),ROWS(K$1:K44)-1))","v":{"$error":"#REF!"}}]
[{"$error":"#REF!"},{"$error":"#REF!"},{"$error":"#REF!"},{"$f":"IF(J45=\"\",VLOOKUP(C45,OFFSET([0]!_xlnm.Print_Area,3,2),2,FALSE),VLOOKUP(A45,OFFSET([0]!_xlnm.Print_Area,3,0),4,FALSE))","v":{"$error":"#REF!"}},{"$f":"IF(J45=\"\",\"\",VLOOKUP(A45,OFFSET([0]!_xlnm.Print_Area,3,0),5,FALSE))","v":{"$error":"#REF!"}},{"$f":"IF(J45=\"\",\"\",VLOOKUP(A45,OFFSET([0]!_xlnm.Print_Area,3,0),6,FALSE))","v":{"$error":"#REF!"}},{"$f":"IF(J45=\"\",\"\",VLOOKUP(A45,OFFSET([0]!_xlnm.Print_Area,3,0,,7),7,FALSE))","v":{"$error":"#REF!"}}," ",{"$f":"INDEX(#REF!,SMALL(IF(#REF!<>\"\",ROW(#REF!)),ROWS(I$1:I45)-1))","v":{"$error":"#REF!"}},{"$f":"INDEX(#REF!,SMALL(IF(#REF!<>\"\",ROW(#REF!)),ROWS(J$1:J45)-1))","v":{"$error":"#REF!"}},{"$f":"INDEX(#REF!,SMALL(IF(#REF!<>\"\",ROW(#REF!)),ROWS(K$1:K45)-1))","v":{"$error":"#REF!"}}]
[{"$error":"#REF!"},{"$error":"#REF!"},{"$error":"#REF!"},{"$f":"IF(J46=\"\",VLOOKUP(C46,OFFSET([0]!_xlnm.Print_Area,3,2),2,FALSE),VLOOKUP(A46,OFFSET([0]!_xlnm.Print_Area,3,0),4,FALSE))","v":{"$error":"#REF!"}},{"$f":"IF(J46=\"\",\"\",VLOOKUP(A46,OFFSET([0]!_xlnm.Print_Area,3,0),5,FALSE))","v":{"$error":"#REF!"}},{"$f":"IF(J46=\"\",\"\",VLOOKUP(A46,OFFSET([0]!_xlnm.Print_Area,3,0),6,FALSE))","v":{"$error":"#REF!"}},{"$f":"IF(J46=\"\",\"\",VLOOKUP(A46,OFFSET([0]!_xlnm.Print_Area,3,0,,7),7,FALSE))","v":{"$error":"#REF!"}}," ",{"$f":"INDEX(#REF!,SMALL(IF(#REF!<>\"\",ROW(#REF!)),ROWS(I$1:I46)-1))","v":{"$error":"#REF!"}},{"$f":"INDEX(#REF!,SMALL(IF(#REF!<>\"\",ROW(#REF!)),ROWS(J$1:J46)-1))","v":{"$error":"#REF!"}},{"$f":"INDEX(#REF!,SMALL(IF(#REF!<>\"\",ROW(#REF!)),ROWS(K$1:K46)-1))","v":{"$error":"#REF!"}}]
[{"$error":"#REF!"},{"$error":"#REF!"},{"$error":"#REF!"},{"$f":"IF(J47=\"\",VLOOKUP(C47,OFFSET([0]!_xlnm.Print_Area,3,2),2,FALSE),VLOOKUP(A47,OFFSET([0]!_xlnm.Print_Area,3,0),4,FALSE))","v":{"$error":"#REF!"}},{"$f":"IF(J47=\"\",\"\",VLOOKUP(A47,OFFSET([0]!_xlnm.Print_Area,3,0),5,FALSE))","v":{"$error":"#REF!"}},{"$f":"IF(J47=\"\",\"\",VLOOKUP(A47,OFFSET([0]!_xlnm.Print_Area,3,0),6,FALSE))","v":{"$error":"#REF!"}},{"$f":"IF(J47=\"\",\"\",VLOOKUP(A47,OFFSET([0]!_xlnm.Print_Area,3,0,,7),7,FALSE))","v":{"$error":"#REF!"}}," ",{"$f":"INDEX(#REF!,SMALL(IF(#REF!<>\"\",ROW(#REF!)),ROWS(I$1:I47)-1))","v":{"$error":"#REF!"}},{"$f":"INDEX(#REF!,SMALL(IF(#REF!<>\"\",ROW(#REF!)),ROWS(J$1:J47)-1))","v":{"$error":"#REF!"}},{"$f":"INDEX(#REF!,SMALL(IF(#REF!<>\"\",ROW(#REF!)),ROWS(K$1:K47)-1))","v":{"$error":"#REF!"}}]
[{"$error":"#REF!"},{"$error":"#REF!"},{"$error":"#REF!"},{"$f":"IF(J48=\"\",VLOOKUP(C48,OFFSET([0]!_xlnm.Print_Area,3,2),2,FALSE),VLOOKUP(A48,OFFSET([0]!_xlnm.Print_Area,3,0),4,FALSE))","v":{"$error":"#REF!"}},{"$f":"IF(J48=\"\",\"\",VLOOKUP(A48,OFFSET([0]!_xlnm.Print_Area,3,0),5,FALSE))","v":{"$error":"#REF!"}},{"$f":"IF(J48=\"\",\"\",VLOOKUP(A48,OFFSET([0]!_xlnm.Print_Area,3,0),6,FALSE))","v":{"$error":"#REF!"}},{"$f":"IF(J48=\"\",\"\",VLOOKUP(A48,OFFSET([0]!_xlnm.Print_Area,3,0,,7),7,FALSE))","v":{"$error":"#REF!"}}," ",{"$f":"INDEX(#REF!,SMALL(IF(#REF!<>\"\",ROW(#REF!)),ROWS(I$1:I48)-1))","v":{"$error":"#REF!"}},{"$f":"INDEX(#REF!,SMALL(IF(#REF!<>\"\",ROW(#REF!)),ROWS(J$1:J48)-1))","v":{"$error":"#REF!"}},{"$f":"INDEX(#REF!,SMALL(IF(#REF!<>\"\",ROW(#REF!)),ROWS(K$1:K48)-1))","v":{"$error":"#REF!"}}]
[{"$error":"#REF!"},{"$error":"#REF!"},{"$error":"#REF!"},{"$f":"IF(J49=\"\",VLOOKUP(C49,OFFSET([0]!_xlnm.Print_Area,3,2),2,FALSE),VLOOKUP(A49,OFFSET([0]!_xlnm.Print_Area,3,0),4,FALSE))","v":{"$error":"#REF!"}},{"$f":"IF(J49=\"\",\"\",VLOOKUP(A49,OFFSET([0]!_xlnm.Print_Area,3,0),5,FALSE))","v":{"$error":"#REF!"}},{"$f":"IF(J49=\"\",\"\",VLOOKUP(A49,OFFSET([0]!_xlnm.Print_Area,3,0),6,FALSE))","v":{"$error":"#REF!"}},{"$f":"IF(J49=\"\",\"\",VLOOKUP(A49,OFFSET([0]!_xlnm.Print_Area,3,0,,7),7,FALSE))","v":{"$error":"#REF!"}}," ",{"$f":"INDEX(#REF!,SMALL(IF(#REF!<>\"\",ROW(#REF!)),ROWS(I$1:I49)-1))","v":{"$error":"#REF!"}},{"$f":"INDEX(#REF!,SMALL(IF(#REF!<>\"\",ROW(#REF!)),ROWS(J$1:J49)-1))","v":{"$error":"#REF!"}},{"$f":"INDEX(#REF!,SMALL(IF(#REF!<>\"\",ROW(#REF!)),ROWS(K$1:K49)-1))","v":{"$error":"#REF!"}}]
[{"$error":"#REF!"},{"$error":"#REF!"},{"$error":"#REF!"},{"$f":"IF(J50=\"\",VLOOKUP(C50,OFFSET([0]!_xlnm.Print_Area,3,2),2,FALSE),VLOOKUP(A50,OFFSET([0]!_xlnm.Print_Area,3,0),4,FALSE))","v":{"$error":"#REF!"}},{"$f":"IF(J50=\"\",\"\",VLOOKUP(A50,OFFSET([0]!_xlnm.Print_Area,3,0),5,FALSE))","v":{"$error":"#REF!"}},{"$f":"IF(J50=\"\",\"\",VLOOKUP(A50,OFFSET([0]!_xlnm.Print_Area,3,0),6,FALSE))","v":{"$error":"#REF!"}},{"$f":"IF(J50=\"\",\"\",VLOOKUP(A50,OFFSET([0]!_xlnm.Print_Area,3,0,,7),7,FALSE))","v":{"$error":"#REF!"}}," ",{"$f":"INDEX(#REF!,SMALL(IF(#REF!<>\"\",ROW(#REF!)),ROWS(I$1:I50)-1))","v":{"$error":"#REF!"}},{"$f":"INDEX(#REF!,SMALL(IF(#REF!<>\"\",ROW(#REF!)),ROWS(J$1:J50)-1))","v":{"$error":"#REF!"}},{"$f":"INDEX(#REF!,SMALL(IF(#REF!<>\"\",ROW(#REF!)),ROWS(K$1:K50)-1))","v":{"$error":"#REF!"}}]
[{"$error":"#REF!"},{"$error":"#REF!"},{"$error":"#REF!"},{"$f":"IF(J51=\"\",VLOOKUP(C51,OFFSET([0]!_xlnm.Print_Area,3,2),2,FALSE),VLOOKUP(A51,OFFSET([0]!_xlnm.Print_Area,3,0),4,FALSE))","v":{"$error":"#REF!"}},{"$f":"IF(J51=\"\",\"\",VLOOKUP(A51,OFFSET([0]!_xlnm.Print_Area,3,0),5,FALSE))","v":{"$error":"#REF!"}},{"$f":"IF(J51=\"\",\"\",VLOOKUP(A51,OFFSET([0]!_xlnm.Print_Area,3,0),6,FALSE))","v":{"$error":"#REF!"}},{"$f":"IF(J51=\"\",\"\",VLOOKUP(A51,OFFSET([0]!_xlnm.Print_Area,3,0,,7),7,FALSE))","v":{"$error":"#REF!"}}," ",{"$f":"INDEX(#REF!,SMALL(IF(#REF!<>\"\",ROW(#REF!)),ROWS(I$1:I51)-1))","v":{"$error":"#REF!"}},{"$f":"INDEX(#REF!,SMALL(IF(#REF!<>\"\",ROW(#REF!)),ROWS(J$1:J51)-1))","v":{"$error":"#REF!"}},{"$f":"INDEX(#REF!,SMALL(IF(#REF!<>\"\",ROW(#REF!)),ROWS(K$1:K51)-1))","v":{"$error":"#REF!"}}]
[{"$error":"#REF!"},{"$error":"#REF!"},{"$error":"#REF!"},{"$f":"IF(J52=\"\",VLOOKUP(C52,OFFSET([0]!_xlnm.Print_Area,3,2),2,FALSE),VLOOKUP(A52,OFFSET([0]!_xlnm.Print_Area,3,0),4,FALSE))","v":{"$error":"#REF!"}},{"$f":"IF(J52=\"\",\"\",VLOOKUP(A52,OFFSET([0]!_xlnm.Print_Area,3,0),5,FALSE))","v":{"$error":"#REF!"}},{"$f":"IF(J52=\"\",\"\",VLOOKUP(A52,OFFSET([0]!_xlnm.Print_Area,3,0),6,FALSE))","v":{"$error":"#REF!"}},{"$f":"IF(J52=\"\",\"\",VLOOKUP(A52,OFFSET([0]!_xlnm.Print_Area,3,0,,7),7,FALSE))","v":{"$error":"#REF!"}}," ",{"$f":"INDEX(#REF!,SMALL(IF(#REF!<>\"\",ROW(#REF!)),ROWS(I$1:I52)-1))","v":{"$error":"#REF!"}},{"$f":"INDEX(#REF!,SMALL(IF(#REF!<>\"\",ROW(#REF!)),ROWS(J$1:J52)-1))","v":{"$error":"#REF!"}},{"$f":"INDEX(#REF!,SMALL(IF(#REF!<>\"\",ROW(#REF!)),ROWS(K$1:K52)-1))","v":{"$error":"#REF!"}}]
[{"$error":"#REF!"},{"$error":"#REF!"},{"$error":"#REF!"},{"$f":"IF(J53=\"\",VLOOKUP(C53,OFFSET([0]!_xlnm.Print_Area,3,2),2,FALSE),VLOOKUP(A53,OFFSET([0]!_xlnm.Print_Area,3,0),4,FALSE))","v":{"$error":"#REF!"}},{"$f":"IF(J53=\"\",\"\",VLOOKUP(A53,OFFSET([0]!_xlnm.Print_Area,3,0),5,FALSE))","v":{"$error":"#REF!"}},{"$f":"IF(J53=\"\",\"\",VLOOKUP(A53,OFFSET([0]!_xlnm.Print_Area,3,0),6,FALSE))","v":{"$error":"#REF!"}},{"$f":"IF(J53=\"\",\"\",VLOOKUP(A53,OFFSET([0]!_xlnm.Print_Area,3,0,,7),7,FALSE))","v":{"$error":"#REF!"}}," ",{"$f":"INDEX(#REF!,SMALL(IF(#REF!<>\"\",ROW(#REF!)),ROWS(I$1:I53)-1))","v":{"$error":"#REF!"}},{"$f":"INDEX(#REF!,SMALL(IF(#REF!<>\"\",ROW(#REF!)),ROWS(J$1:J53)-1))","v":{"$error":"#REF!"}},{"$f":"INDEX(#REF!,SMALL(IF(#REF!<>\"\",ROW(#REF!)),ROWS(K$1:K53)-1))","v":{"$error":"#REF!"}}]
[{"$error":"#REF!"},{"$error":"#REF!"},{"$error":"#REF!"},{"$f":"IF(J54=\"\",VLOOKUP(C54,OFFSET([0]!_xlnm.Print_Area,3,2),2,FALSE),VLOOKUP(A54,OFFSET([0]!_xlnm.Print_Area,3,0),4,FALSE))","v":{"$error":"#REF!"}},{"$f":"IF(J54=\"\",\"\",VLOOKUP(A54,OFFSET([0]!_xlnm.Print_Area,3,0),5,FALSE))","v":{"$error":"#REF!"}},{"$f":"IF(J54=\"\",\"\",VLOOKUP(A54,OFFSET([0]!_xlnm.Print_Area,3,0),6,FALSE))","v":{"$error":"#REF!"}},{"$f":"IF(J54=\"\",\"\",VLOOKUP(A54,OFFSET([0]!_xlnm.Print_Area,3,0,,7),7,FALSE))","v":{"$error":"#REF!"}}," ",{"$f":"INDEX(#REF!,SMALL(IF(#REF!<>\"\",ROW(#REF!)),ROWS(I$1:I54)-1))","v":{"$error":"#REF!"}},{"$f":"INDEX(#REF!,SMALL(IF(#REF!<>\"\",ROW(#REF!)),ROWS(J$1:J54)-1))","v":{"$error":"#REF!"}},{"$f":"INDEX(#REF!,SMALL(IF(#REF!<>\"\",ROW(#REF!)),ROWS(K$1:K54)-1))","v":{"$error":"#REF!"}}]
[{"$error":"#REF!"},{"$error":"#REF!"},{"$error":"#REF!"},{"$f":"IF(J55=\"\",VLOOKUP(C55,OFFSET([0]!_xlnm.Print_Area,3,2),2,FALSE),VLOOKUP(A55,OFFSET([0]!_xlnm.Print_Area,3,0),4,FALSE))","v":{"$error":"#REF!"}},{"$f":"IF(J55=\"\",\"\",VLOOKUP(A55,OFFSET([0]!_xlnm.Print_Area,3,0),5,FALSE))","v":{"$error":"#REF!"}},{"$f":"IF(J55=\"\",\"\",VLOOKUP(A55,OFFSET([0]!_xlnm.Print_Area,3,0),6,FALSE))","v":{"$error":"#REF!"}},{"$f":"IF(J55=\"\",\"\",VLOOKUP(A55,OFFSET([0]!_xlnm.Print_Area,3,0,,7),7,FALSE))","v":{"$error":"#REF!"}}," ",{"$f":"INDEX(#REF!,SMALL(IF(#REF!<>\"\",ROW(#REF!)),ROWS(I$1:I55)-1))","v":{"$error":"#REF!"}},{"$f":"INDEX(#REF!,SMALL(IF(#REF!<>\"\",ROW(#REF!)),ROWS(J$1:J55)-1))","v":{"$error":"#REF!"}},{"$f":"INDEX(#REF!,SMALL(IF(#REF!<>\"\",ROW(#REF!)),ROWS(K$1:K55)-1))","v":{"$error":"#REF!"}}]
[{"$error":"#REF!"},{"$error":"#REF!"},{"$error":"#REF!"},{"$f":"IF(J56=\"\",VLOOKUP(C56,OFFSET([0]!_xlnm.Print_Area,3,2),2,FALSE),VLOOKUP(A56,OFFSET([0]!_xlnm.Print_Area,3,0),4,FALSE))","v":{"$error":"#REF!"}},{"$f":"IF(J56=\"\",\"\",VLOOKUP(A56,OFFSET([0]!_xlnm.Print_Area,3,0),5,FALSE))","v":{"$error":"#REF!"}},{"$f":"IF(J56=\"\",\"\",VLOOKUP(A56,OFFSET([0]!_xlnm.Print_Area,3,0),6,FALSE))","v":{"$error":"#REF!"}},{"$f":"IF(J56=\"\",\"\",VLOOKUP(A56,OFFSET([0]!_xlnm.Print_Area,3,0,,7),7,FALSE))","v":{"$error":"#REF!"}}," ",{"$f":"INDEX(#REF!,SMALL(IF(#REF!<>\"\",ROW(#REF!)),ROWS(I$1:I56)-1))","v":{"$error":"#REF!"}},{"$f":"INDEX(#REF!,SMALL(IF(#REF!<>\"\",ROW(#REF!)),ROWS(J$1:J56)-1))","v":{"$error":"#REF!"}},{"$f":"INDEX(#REF!,SMALL(IF(#REF!<>\"\",ROW(#REF!)),ROWS(K$1:K56)-1))","v":{"$error":"#REF!"}}]
[{"$error":"#REF!"},{"$error":"#REF!"},{"$error":"#REF!"},{"$f":"IF(J57=\"\",VLOOKUP(C57,OFFSET([0]!_xlnm.Print_Area,3,2),2,FALSE),VLOOKUP(A57,OFFSET([0]!_xlnm.Print_Area,3,0),4,FALSE))","v":{"$error":"#REF!"}},{"$f":"IF(J57=\"\",\"\",VLOOKUP(A57,OFFSET([0]!_xlnm.Print_Area,3,0),5,FALSE))","v":{"$error":"#REF!"}},{"$f":"IF(J57=\"\",\"\",VLOOKUP(A57,OFFSET([0]!_xlnm.Print_Area,3,0),6,FALSE))","v":{"$error":"#REF!"}},{"$f":"IF(J57=\"\",\"\",VLOOKUP(A57,OFFSET([0]!_xlnm.Print_Area,3,0,,7),7,FALSE))","v":{"$error":"#REF!"}}," ",{"$f":"INDEX(#REF!,SMALL(IF(#REF!<>\"\",ROW(#REF!)),ROWS(I$1:I57)-1))","v":{"$error":"#REF!"}},{"$f":"INDEX(#REF!,SMALL(IF(#REF!<>\"\",ROW(#REF!)),ROWS(J$1:J57)-1))","v":{"$error":"#REF!"}},{"$f":"INDEX(#REF!,SMALL(IF(#REF!<>\"\",ROW(#REF!)),ROWS(K$1:K57)-1))","v":{"$error":"#REF!"}}]
[{"$error":"#REF!"},{"$error":"#REF!"},{"$error":"#REF!"},{"$f":"IF(J58=\"\",VLOOKUP(C58,OFFSET([0]!_xlnm.Print_Area,3,2),2,FALSE),VLOOKUP(A58,OFFSET([0]!_xlnm.Print_Area,3,0),4,FALSE))","v":{"$error":"#REF!"}},{"$f":"IF(J58=\"\",\"\",VLOOKUP(A58,OFFSET([0]!_xlnm.Print_Area,3,0),5,FALSE))","v":{"$error":"#REF!"}},{"$f":"IF(J58=\"\",\"\",VLOOKUP(A58,OFFSET([0]!_xlnm.Print_Area,3,0),6,FALSE))","v":{"$error":"#REF!"}},{"$f":"IF(J58=\"\",\"\",VLOOKUP(A58,OFFSET([0]!_xlnm.Print_Area,3,0,,7),7,FALSE))","v":{"$error":"#REF!"}}," ",{"$f":"INDEX(#REF!,SMALL(IF(#REF!<>\"\",ROW(#REF!)),ROWS(I$1:I58)-1))","v":{"$error":"#REF!"}},{"$f":"INDEX(#REF!,SMALL(IF(#REF!<>\"\",ROW(#REF!)),ROWS(J$1:J58)-1))","v":{"$error":"#REF!"}},{"$f":"INDEX(#REF!,SMALL(IF(#REF!<>\"\",ROW(#REF!)),ROWS(K$1:K58)-1))","v":{"$error":"#REF!"}}]
[{"$error":"#REF!"},{"$error":"#REF!"},{"$error":"#REF!"},{"$f":"IF(J59=\"\",VLOOKUP(C59,OFFSET([0]!_xlnm.Print_Area,3,2),2,FALSE),VLOOKUP(A59,OFFSET([0]!_xlnm.Print_Area,3,0),4,FALSE))","v":{"$error":"#REF!"}},{"$f":"IF(J59=\"\",\"\",VLOOKUP(A59,OFFSET([0]!_xlnm.Print_Area,3,0),5,FALSE))","v":{"$error":"#REF!"}},{"$f":"IF(J59=\"\",\"\",VLOOKUP(A59,OFFSET([0]!_xlnm.Print_Area,3,0),6,FALSE))","v":{"$error":"#REF!"}},{"$f":"IF(J59=\"\",\"\",VLOOKUP(A59,OFFSET([0]!_xlnm.Print_Area,3,0,,7),7,FALSE))","v":{"$error":"#REF!"}}," ",{"$f":"INDEX(#REF!,SMALL(IF(#REF!<>\"\",ROW(#REF!)),ROWS(I$1:I59)-1))","v":{"$error":"#REF!"}},{"$f":"INDEX(#REF!,SMALL(IF(#REF!<>\"\",ROW(#REF!)),ROWS(J$1:J59)-1))","v":{"$error":"#REF!"}},{"$f":"INDEX(#REF!,SMALL(IF(#REF!<>\"\",ROW(#REF!)),ROWS(K$1:K59)-1))","v":{"$error":"#REF!"}}]
[{"$error":"#REF!"},{"$error":"#REF!"},{"$error":"#REF!"},{"$f":"IF(J60=\"\",VLOOKUP(C60,OFFSET([0]!_xlnm.Print_Area,3,2),2,FALSE),VLOOKUP(A60,OFFSET([0]!_xlnm.Print_Area,3,0),4,FALSE))","v":{"$error":"#REF!"}},{"$f":"IF(J60=\"\",\"\",VLOOKUP(A60,OFFSET([0]!_xlnm.Print_Area,3,0),5,FALSE))","v":{"$error":"#REF!"}},{"$f":"IF(J60=\"\",\"\",VLOOKUP(A60,OFFSET([0]!_xlnm.Print_Area,3,0),6,FALSE))","v":{"$error":"#REF!"}},{"$f":"IF(J60=\"\",\"\",VLOOKUP(A60,OFFSET([0]!_xlnm.Print_Area,3,0,,7),7,FALSE))","v":{"$error":"#REF!"}}," ",{"$f":"INDEX(#REF!,SMALL(IF(#REF!<>\"\",ROW(#REF!)),ROWS(I$1:I60)-1))","v":{"$error":"#REF!"}},{"$f":"INDEX(#REF!,SMALL(IF(#REF!<>\"\",ROW(#REF!)),ROWS(J$1:J60)-1))","v":{"$error":"#REF!"}},{"$f":"INDEX(#REF!,SMALL(IF(#REF!<>\"\",ROW(#REF!)),ROWS(K$1:K60)-1))","v":{"$error":"#REF!"}}]
[{"$error":"#REF!"},{"$error":"#REF!"},{"$error":"#REF!"},{"$f":"IF(J61=\"\",VLOOKUP(C61,OFFSET([0]!_xlnm.Print_Area,3,2),2,FALSE),VLOOKUP(A61,OFFSET([0]!_xlnm.Print_Area,3,0),4,FALSE))","v":{"$error":"#REF!"}},{"$f":"IF(J61=\"\",\"\",VLOOKUP(A61,OFFSET([0]!_xlnm.Print_Area,3,0),5,FALSE))","v":{"$error":"#REF!"}},{"$f":"IF(J61=\"\",\"\",VLOOKUP(A61,OFFSET([0]!_xlnm.Print_Area,3,0),6,FALSE))","v":{"$error":"#REF!"}},{"$f":"IF(J61=\"\",\"\",VLOOKUP(A61,OFFSET([0]!_xlnm.Print_Area,3,0,,7),7,FALSE))","v":{"$error":"#REF!"}}," ",{"$f":"INDEX(#REF!,SMALL(IF(#REF!<>\"\",ROW(#REF!)),ROWS(I$1:I61)-1))","v":{"$error":"#REF!"}},{"$f":"INDEX(#REF!,SMALL(IF(#REF!<>\"\",ROW(#REF!)),ROWS(J$1:J61)-1))","v":{"$error":"#REF!"}},{"$f":"INDEX(#REF!,SMALL(IF(#REF!<>\"\",ROW(#REF!)),ROWS(K$1:K61)-1))","v":{"$error":"#REF!"}}]
[{"$error":"#REF!"},{"$error":"#REF!"},{"$error":"#REF!"},{"$f":"IF(J62=\"\",VLOOKUP(C62,OFFSET([0]!_xlnm.Print_Area,3,2),2,FALSE),VLOOKUP(A62,OFFSET([0]!_xlnm.Print_Area,3,0),4,FALSE))","v":{"$error":"#REF!"}},{"$f":"IF(J62=\"\",\"\",VLOOKUP(A62,OFFSET([0]!_xlnm.Print_Area,3,0),5,FALSE))","v":{"$error":"#REF!"}},{"$f":"IF(J62=\"\",\"\",VLOOKUP(A62,OFFSET([0]!_xlnm.Print_Area,3,0),6,FALSE))","v":{"$error":"#REF!"}},{"$f":"IF(J62=\"\",\"\",VLOOKUP(A62,OFFSET([0]!_xlnm.Print_Area,3,0,,7),7,FALSE))","v":{"$error":"#REF!"}}," ",{"$f":"INDEX(#REF!,SMALL(IF(#REF!<>\"\",ROW(#REF!)),ROWS(I$1:I62)-1))","v":{"$error":"#REF!"}},{"$f":"INDEX(#REF!,SMALL(IF(#REF!<>\"\",ROW(#REF!)),ROWS(J$1:J62)-1))","v":{"$error":"#REF!"}},{"$f":"INDEX(#REF!,SMALL(IF(#REF!<>\"\",ROW(#REF!)),ROWS(K$1:K62)-1))","v":{"$error":"#REF!"}}]
[{"$error":"#REF!"},{"$error":"#REF!"},{"$error":"#REF!"},{"$f":"IF(J63=\"\",VLOOKUP(C63,OFFSET([0]!_xlnm.Print_Area,3,2),2,FALSE),VLOOKUP(A63,OFFSET([0]!_xlnm.Print_Area,3,0),4,FALSE))","v":{"$error":"#REF!"}},{"$f":"IF(J63=\"\",\"\",VLOOKUP(A63,OFFSET([0]!_xlnm.Print_Area,3,0),5,FALSE))","v":{"$error":"#REF!"}},{"$f":"IF(J63=\"\",\"\",VLOOKUP(A63,OFFSET([0]!_xlnm.Print_Area,3,0),6,FALSE))","v":{"$error":"#REF!"}},{"$f":"IF(J63=\"\",\"\",VLOOKUP(A63,OFFSET([0]!_xlnm.Print_Area,3,0,,7),7,FALSE))","v":{"$error":"#REF!"}}," ",{"$f":"INDEX(#REF!,SMALL(IF(#REF!<>\"\",ROW(#REF!)),ROWS(I$1:I63)-1))","v":{"$error":"#REF!"}},{"$f":"INDEX(#REF!,SMALL(IF(#REF!<>\"\",ROW(#REF!)),ROWS(J$1:J63)-1))","v":{"$error":"#REF!"}},{"$f":"INDEX(#REF!,SMALL(IF(#REF!<>\"\",ROW(#REF!)),ROWS(K$1:K63)-1))","v":{"$error":"#REF!"}}]
[{"$error":"#REF!"},{"$error":"#REF!"},{"$error":"#REF!"},{"$f":"IF(J64=\"\",VLOOKUP(C64,OFFSET([0]!_xlnm.Print_Area,3,2),2,FALSE),VLOOKUP(A64,OFFSET([0]!_xlnm.Print_Area,3,0),4,FALSE))","v":{"$error":"#REF!"}},{"$f":"IF(J64=\"\",\"\",VLOOKUP(A64,OFFSET([0]!_xlnm.Print_Area,3,0),5,FALSE))","v":{"$error":"#REF!"}},{"$f":"IF(J64=\"\",\"\",VLOOKUP(A64,OFFSET([0]!_xlnm.Print_Area,3,0),6,FALSE))","v":{"$error":"#REF!"}},{"$f":"IF(J64=\"\",\"\",VLOOKUP(A64,OFFSET([0]!_xlnm.Print_Area,3,0,,7),7,FALSE))","v":{"$error":"#REF!"}}," ",{"$f":"INDEX(#REF!,SMALL(IF(#REF!<>\"\",ROW(#REF!)),ROWS(I$1:I64)-1))","v":{"$error":"#REF!"}},{"$f":"INDEX(#REF!,SMALL(IF(#REF!<>\"\",ROW(#REF!)),ROWS(J$1:J64)-1))","v":{"$error":"#REF!"}},{"$f":"INDEX(#REF!,SMALL(IF(#REF!<>\"\",ROW(#REF!)),ROWS(K$1:K64)-1))","v":{"$error":"#REF!"}}]
[{"$error":"#REF!"},{"$error":"#REF!"},{"$error":"#REF!"},{"$f":"IF(J65=\"\",VLOOKUP(C65,OFFSET([0]!_xlnm.Print_Area,3,2),2,FALSE),VLOOKUP(A65,OFFSET([0]!_xlnm.Print_Area,3,0),4,FALSE))","v":{"$error":"#REF!"}},{"$f":"IF(J65=\"\",\"\",VLOOKUP(A65,OFFSET([0]!_xlnm.Print_Area,3,0),5,FALSE))","v":{"$error":"#REF!"}},{"$f":"IF(J65=\"\",\"\",VLOOKUP(A65,OFFSET([0]!_xlnm.Print_Area,3,0),6,FALSE))","v":{"$error":"#REF!"}},{"$f":"IF(J65=\"\",\"\",VLOOKUP(A65,OFFSET([0]!_xlnm.Print_Area,3,0,,7),7,FALSE))","v":{"$error":"#REF!"}}," ",{"$f":"INDEX(#REF!,SMALL(IF(#REF!<>\"\",ROW(#REF!)),ROWS(I$1:I65)-1))","v":{"$error":"#REF!"}},{"$f":"INDEX(#REF!,SMALL(IF(#REF!<>\"\",ROW(#REF!)),ROWS(J$1:J65)-1))","v":{"$error":"#REF!"}},{"$f":"INDEX(#REF!,SMALL(IF(#REF!<>\"\",ROW(#REF!)),ROWS(K$1:K65)-1))","v":{"$error":"#REF!"}}]
[{"$error":"#REF!"},{"$error":"#REF!"},{"$error":"#REF!"},{"$f":"IF(J66=\"\",VLOOKUP(C66,OFFSET([0]!_xlnm.Print_Area,3,2),2,FALSE),VLOOKUP(A66,OFFSET([0]!_xlnm.Print_Area,3,0),4,FALSE))","v":{"$error":"#REF!"}},{"$f":"IF(J66=\"\",\"\",VLOOKUP(A66,OFFSET([0]!_xlnm.Print_Area,3,0),5,FALSE))","v":{"$error":"#REF!"}},{"$f":"IF(J66=\"\",\"\",VLOOKUP(A66,OFFSET([0]!_xlnm.Print_Area,3,0),6,FALSE))","v":{"$error":"#REF!"}},{"$f":"IF(J66=\"\",\"\",VLOOKUP(A66,OFFSET([0]!_xlnm.Print_Area,3,0,,7),7,FALSE))","v":{"$error":"#REF!"}}," ",{"$f":"INDEX(#REF!,SMALL(IF(#REF!<>\"\",ROW(#REF!)),ROWS(I$1:I66)-1))","v":{"$error":"#REF!"}},{"$f":"INDEX(#REF!,SMALL(IF(#REF!<>\"\",ROW(#REF!)),ROWS(J$1:J66)-1))","v":{"$error":"#REF!"}},{"$f":"INDEX(#REF!,SMALL(IF(#REF!<>\"\",ROW(#REF!)),ROWS(K$1:K66)-1))","v":{"$error":"#REF!"}}]
[{"$error":"#REF!"},{"$error":"#REF!"},{"$error":"#REF!"},{"$f":"IF(J67=\"\",VLOOKUP(C67,OFFSET([0]!_xlnm.Print_Area,3,2),2,FALSE),VLOOKUP(A67,OFFSET([0]!_xlnm.Print_Area,3,0),4,FALSE))","v":{"$error":"#REF!"}},{"$f":"IF(J67=\"\",\"\",VLOOKUP(A67,OFFSET([0]!_xlnm.Print_Area,3,0),5,FALSE))","v":{"$error":"#REF!"}},{"$f":"IF(J67=\"\",\"\",VLOOKUP(A67,OFFSET([0]!_xlnm.Print_Area,3,0),6,FALSE))","v":{"$error":"#REF!"}},{"$f":"IF(J67=\"\",\"\",VLOOKUP(A67,OFFSET([0]!_xlnm.Print_Area,3,0,,7),7,FALSE))","v":{"$error":"#REF!"}}," ",{"$f":"INDEX(#REF!,SMALL(IF(#REF!<>\"\",ROW(#REF!)),ROWS(I$1:I67)-1))","v":{"$error":"#REF!"}},{"$f":"INDEX(#REF!,SMALL(IF(#REF!<>\"\",ROW(#REF!)),ROWS(J$1:J67)-1))","v":{"$error":"#REF!"}},{"$f":"INDEX(#REF!,SMALL(IF(#REF!<>\"\",ROW(#REF!)),ROWS(K$1:K67)-1))","v":{"$error":"#REF!"}}]
[{"$error":"#REF!"},{"$error":"#REF!"},{"$error":"#REF!"},{"$f":"IF(J68=\"\",VLOOKUP(C68,OFFSET([0]!_xlnm.Print_Area,3,2),2,FALSE),VLOOKUP(A68,OFFSET([0]!_xlnm.Print_Area,3,0),4,FALSE))","v":{"$error":"#REF!"}},{"$f":"IF(J68=\"\",\"\",VLOOKUP(A68,OFFSET([0]!_xlnm.Print_Area,3,0),5,FALSE))","v":{"$error":"#REF!"}},{"$f":"IF(J68=\"\",\"\",VLOOKUP(A68,OFFSET([0]!_xlnm.Print_Area,3,0),6,FALSE))","v":{"$error":"#REF!"}},{"$f":"IF(J68=\"\",\"\",VLOOKUP(A68,OFFSET([0]!_xlnm.Print_Area,3,0,,7),7,FALSE))","v":{"$error":"#REF!"}}," ",{"$f":"INDEX(#REF!,SMALL(IF(#REF!<>\"\",ROW(#REF!)),ROWS(I$1:I68)-1))","v":{"$error":"#REF!"}},{"$f":"INDEX(#REF!,SMALL(IF(#REF!<>\"\",ROW(#REF!)),ROWS(J$1:J68)-1))","v":{"$error":"#REF!"}},{"$f":"INDEX(#REF!,SMALL(IF(#REF!<>\"\",ROW(#REF!)),ROWS(K$1:K68)-1))","v":{"$error":"#REF!"}}]
[{"$f":"IF(J69=0,\"\",J69)","v":{"$error":"#REF!"}},{"$f":"IF(K69=0,\"\",K69)","v":{"$error":"#REF!"}},{"$f":"I69","v":{"$error":"#REF!"}},{"$f":"IF(J69=\"\",VLOOKUP(C69,OFFSET([0]!_xlnm.Print_Area,3,2),2,FALSE),VLOOKUP(A69,OFFSET([0]!_xlnm.Print_Area,3,0),4,FALSE))","v":{"$error":"#REF!"}},{"$f":"IF(J69=\"\",\"\",VLOOKUP(A69,OFFSET([0]!_xlnm.Print_Area,3,0),5,FALSE))","v":{"$error":"#REF!"}},{"$f":"IF(J69=\"\",\"\",VLOOKUP(A69,OFFSET([0]!_xlnm.Print_Area,3,0),6,FALSE))","v":{"$error":"#REF!"}},{"$f":"IF(J69=\"\",\"\",VLOOKUP(A69,OFFSET([0]!_xlnm.Print_Area,3,0,,7),7,FALSE))","v":{"$error":"#REF!"}},{"$f":"IFERROR(ROUND(F69*G69,2),\" \")","v":" "},{"$f":"INDEX(#REF!,SMALL(IF(#REF!<>\"\",ROW(#REF!)),ROWS(I$1:I69)-1))","v":{"$error":"#REF!"}},{"$f":"INDEX(#REF!,SMALL(IF(#REF!<>\"\",ROW(#REF!)),ROWS(J$1:J69)-1))","v":{"$error":"#REF!"}},{"$f":"INDEX(#REF!,SMALL(IF(#REF!<>\"\",ROW(#REF!)),ROWS(K$1:K69)-1))","v":{"$error":"#REF!"}}]
[{"$error":"#REF!"},{"$error":"#REF!"},{"$error":"#REF!"},{"$f":"IF(J70=\"\",VLOOKUP(C70,OFFSET([0]!_xlnm.Print_Area,3,2),2,FALSE),VLOOKUP(A70,OFFSET([0]!_xlnm.Print_Area,3,0),4,FALSE))","v":{"$error":"#REF!"}},{"$f":"IF(J70=\"\",\"\",VLOOKUP(A70,OFFSET([0]!_xlnm.Print_Area,3,0),5,FALSE))","v":{"$error":"#REF!"}},{"$f":"IF(J70=\"\",\"\",VLOOKUP(A70,OFFSET([0]!_xlnm.Print_Area,3,0),6,FALSE))","v":{"$error":"#REF!"}},{"$f":"IF(J70=\"\",\"\",VLOOKUP(A70,OFFSET([0]!_xlnm.Print_Area,3,0,,7),7,FALSE))","v":{"$error":"#REF!"}}," ",{"$f":"INDEX(#REF!,SMALL(IF(#REF!<>\"\",ROW(#REF!)),ROWS(I$1:I70)-1))","v":{"$error":"#REF!"}},{"$f":"INDEX(#REF!,SMALL(IF(#REF!<>\"\",ROW(#REF!)),ROWS(J$1:J70)-1))","v":{"$error":"#REF!"}},{"$f":"INDEX(#REF!,SMALL(IF(#REF!<>\"\",ROW(#REF!)),ROWS(K$1:K70)-1))","v":{"$error":"#REF!"}}]
[{"$error":"#REF!"},{"$error":"#REF!"},{"$error":"#REF!"},{"$f":"IF(J71=\"\",VLOOKUP(C71,OFFSET([0]!_xlnm.Print_Area,3,2),2,FALSE),VLOOKUP(A71,OFFSET([0]!_xlnm.Print_Area,3,0),4,FALSE))","v":{"$error":"#REF!"}},{"$f":"IF(J71=\"\",\"\",VLOOKUP(A71,OFFSET([0]!_xlnm.Print_Area,3,0),5,FALSE))","v":{"$error":"#REF!"}},{"$f":"IF(J71=\"\",\"\",VLOOKUP(A71,OFFSET([0]!_xlnm.Print_Area,3,0),6,FALSE))","v":{"$error":"#REF!"}},{"$f":"IF(J71=\"\",\"\",VLOOKUP(A71,OFFSET([0]!_xlnm.Print_Area,3,0,,7),7,FALSE))","v":{"$error":"#REF!"}}," ",{"$f":"INDEX(#REF!,SMALL(IF(#REF!<>\"\",ROW(#REF!)),ROWS(I$1:I71)-1))","v":{"$error":"#REF!"}},{"$f":"INDEX(#REF!,SMALL(IF(#REF!<>\"\",ROW(#REF!)),ROWS(J$1:J71)-1))","v":{"$error":"#REF!"}},{"$f":"INDEX(#REF!,SMALL(IF(#REF!<>\"\",ROW(#REF!)),ROWS(K$1:K71)-1))","v":{"$error":"#REF!"}}]
[{"$error":"#REF!"},{"$error":"#REF!"},{"$error":"#REF!"},{"$f":"IF(J72=\"\",VLOOKUP(C72,OFFSET([0]!_xlnm.Print_Area,3,2),2,FALSE),VLOOKUP(A72,OFFSET([0]!_xlnm.Print_Area,3,0),4,FALSE))","v":{"$error":"#REF!"}},{"$f":"IF(J72=\"\",\"\",VLOOKUP(A72,OFFSET([0]!_xlnm.Print_Area,3,0),5,FALSE))","v":{"$error":"#REF!"}},{"$f":"IF(J72=\"\",\"\",VLOOKUP(A72,OFFSET([0]!_xlnm.Print_Area,3,0),6,FALSE))","v":{"$error":"#REF!"}},{"$f":"IF(J72=\"\",\"\",VLOOKUP(A72,OFFSET([0]!_xlnm.Print_Area,3,0,,7),7,FALSE))","v":{"$error":"#REF!"}}," ",{"$f":"INDEX(#REF!,SMALL(IF(#REF!<>\"\",ROW(#REF!)),ROWS(I$1:I72)-1))","v":{"$error":"#REF!"}},{"$f":"INDEX(#REF!,SMALL(IF(#REF!<>\"\",ROW(#REF!)),ROWS(J$1:J72)-1))","v":{"$error":"#REF!"}},{"$f":"INDEX(#REF!,SMALL(IF(#REF!<>\"\",ROW(#REF!)),ROWS(K$1:K72)-1))","v":{"$error":"#REF!"}}]
[{"$error":"#REF!"},{"$error":"#REF!"},{"$error":"#REF!"},{"$f":"IF(J73=\"\",VLOOKUP(C73,OFFSET([0]!_xlnm.Print_Area,3,2),2,FALSE),VLOOKUP(A73,OFFSET([0]!_xlnm.Print_Area,3,0),4,FALSE))","v":{"$error":"#REF!"}},{"$f":"IF(J73=\"\",\"\",VLOOKUP(A73,OFFSET([0]!_xlnm.Print_Area,3,0),5,FALSE))","v":{"$error":"#REF!"}},{"$f":"IF(J73=\"\",\"\",VLOOKUP(A73,OFFSET([0]!_xlnm.Print_Area,3,0),6,FALSE))","v":{"$error":"#REF!"}},{"$f":"IF(J73=\"\",\"\",VLOOKUP(A73,OFFSET([0]!_xlnm.Print_Area,3,0,,7),7,FALSE))","v":{"$error":"#REF!"}}," ",{"$f":"INDEX(#REF!,SMALL(IF(#REF!<>\"\",ROW(#REF!)),ROWS(I$1:I73)-1))","v":{"$error":"#REF!"}},{"$f":"INDEX(#REF!,SMALL(IF(#REF!<>\"\",ROW(#REF!)),ROWS(J$1:J73)-1))","v":{"$error":"#REF!"}},{"$f":"INDEX(#REF!,SMALL(IF(#REF!<>\"\",ROW(#REF!)),ROWS(K$1:K73)-1))","v":{"$error":"#REF!"}}]
[{"$error":"#REF!"},{"$error":"#REF!"},{"$error":"#REF!"},{"$f":"IF(J74=\"\",VLOOKUP(C74,OFFSET([0]!_xlnm.Print_Area,3,2),2,FALSE),VLOOKUP(A74,OFFSET([0]!_xlnm.Print_Area,3,0),4,FALSE))","v":{"$error":"#REF!"}},{"$f":"IF(J74=\"\",\"\",VLOOKUP(A74,OFFSET([0]!_xlnm.Print_Area,3,0),5,FALSE))","v":{"$error":"#REF!"}},{"$f":"IF(J74=\"\",\"\",VLOOKUP(A74,OFFSET([0]!_xlnm.Print_Area,3,0),6,FALSE))","v":{"$error":"#REF!"}},{"$f":"IF(J74=\"\",\"\",VLOOKUP(A74,OFFSET([0]!_xlnm.Print_Area,3,0,,7),7,FALSE))","v":{"$error":"#REF!"}}," ",{"$f":"INDEX(#REF!,SMALL(IF(#REF!<>\"\",ROW(#REF!)),ROWS(I$1:I74)-1))","v":{"$error":"#REF!"}},{"$f":"INDEX(#REF!,SMALL(IF(#REF!<>\"\",ROW(#REF!)),ROWS(J$1:J74)-1))","v":{"$error":"#REF!"}},{"$f":"INDEX(#REF!,SMALL(IF(#REF!<>\"\",ROW(#REF!)),ROWS(K$1:K74)-1))","v":{"$error":"#REF!"}}]
[{"$error":"#REF!"},{"$error":"#REF!"},{"$error":"#REF!"},{"$f":"IF(J75=\"\",VLOOKUP(C75,OFFSET([0]!_xlnm.Print_Area,3,2),2,FALSE),VLOOKUP(A75,OFFSET([0]!_xlnm.Print_Area,3,0),4,FALSE))","v":{"$error":"#REF!"}},{"$f":"IF(J75=\"\",\"\",VLOOKUP(A75,OFFSET([0]!_xlnm.Print_Area,3,0),5,FALSE))","v":{"$error":"#REF!"}},{"$f":"IF(J75=\"\",\"\",VLOOKUP(A75,OFFSET([0]!_xlnm.Print_Area,3,0),6,FALSE))","v":{"$error":"#REF!"}},{"$f":"IF(J75=\"\",\"\",VLOOKUP(A75,OFFSET([0]!_xlnm.Print_Area,3,0,,7),7,FALSE))","v":{"$error":"#REF!"}}," ",{"$f":"INDEX(#REF!,SMALL(IF(#REF!<>\"\",ROW(#REF!)),ROWS(I$1:I75)-1))","v":{"$error":"#REF!"}},{"$f":"INDEX(#REF!,SMALL(IF(#REF!<>\"\",ROW(#REF!)),ROWS(J$1:J75)-1))","v":{"$error":"#REF!"}},{"$f":"INDEX(#REF!,SMALL(IF(#REF!<>\"\",ROW(#REF!)),ROWS(K$1:K75)-1))","v":{"$error":"#REF!"}}]
[{"$error":"#REF!"},{"$error":"#REF!"},{"$error":"#REF!"},{"$f":"IF(J76=\"\",VLOOKUP(C76,OFFSET([0]!_xlnm.Print_Area,3,2),2,FALSE),VLOOKUP(A76,OFFSET([0]!_xlnm.Print_Area,3,0),4,FALSE))","v":{"$error":"#REF!"}},{"$f":"IF(J76=\"\",\"\",VLOOKUP(A76,OFFSET([0]!_xlnm.Print_Area,3,0),5,FALSE))","v":{"$error":"#REF!"}},{"$f":"IF(J76=\"\",\"\",VLOOKUP(A76,OFFSET([0]!_xlnm.Print_Area,3,0),6,FALSE))","v":{"$error":"#REF!"}},{"$f":"IF(J76=\"\",\"\",VLOOKUP(A76,OFFSET([0]!_xlnm.Print_Area,3,0,,7),7,FALSE))","v":{"$error":"#REF!"}}," ",{"$f":"INDEX(#REF!,SMALL(IF(#REF!<>\"\",ROW(#REF!)),ROWS(I$1:I76)-1))","v":{"$error":"#REF!"}},{"$f":"INDEX(#REF!,SMALL(IF(#REF!<>\"\",ROW(#REF!)),ROWS(J$1:J76)-1))","v":{"$error":"#REF!"}},{"$f":"INDEX(#REF!,SMALL(IF(#REF!<>\"\",ROW(#REF!)),ROWS(K$1:K76)-1))","v":{"$error":"#REF!"}}]
[{"$error":"#REF!"},{"$error":"#REF!"},{"$error":"#REF!"},{"$f":"IF(J77=\"\",VLOOKUP(C77,OFFSET([0]!_xlnm.Print_Area,3,2),2,FALSE),VLOOKUP(A77,OFFSET([0]!_xlnm.Print_Area,3,0),4,FALSE))","v":{"$error":"#REF!"}},{"$f":"IF(J77=\"\",\"\",VLOOKUP(A77,OFFSET([0]!_xlnm.Print_Area,3,0),5,FALSE))","v":{"$error":"#REF!"}},{"$f":"IF(J77=\"\",\"\",VLOOKUP(A77,OFFSET([0]!_xlnm.Print_Area,3,0),6,FALSE))","v":{"$error":"#REF!"}},{"$f":"IF(J77=\"\",\"\",VLOOKUP(A77,OFFSET([0]!_xlnm.Print_Area,3,0,,7),7,FALSE))","v":{"$error":"#REF!"}}," ",{"$f":"INDEX(#REF!,SMALL(IF(#REF!<>\"\",ROW(#REF!)),ROWS(I$1:I77)-1))","v":{"$error":"#REF!"}},{"$f":"INDEX(#REF!,SMALL(IF(#REF!<>\"\",ROW(#REF!)),ROWS(J$1:J77)-1))","v":{"$error":"#REF!"}},{"$f":"INDEX(#REF!,SMALL(IF(#REF!<>\"\",ROW(#REF!)),ROWS(K$1:K77)-1))","v":{"$error":"#REF!"}}]
[{"$error":"#REF!"},{"$error":"#REF!"},{"$error":"#REF!"},{"$f":"IF(J78=\"\",VLOOKUP(C78,OFFSET([0]!_xlnm.Print_Area,3,2),2,FALSE),VLOOKUP(A78,OFFSET([0]!_xlnm.Print_Area,3,0),4,FALSE))","v":{"$error":"#REF!"}},{"$f":"IF(J78=\"\",\"\",VLOOKUP(A78,OFFSET([0]!_xlnm.Print_Area,3,0),5,FALSE))","v":{"$error":"#REF!"}},{"$f":"IF(J78=\"\",\"\",VLOOKUP(A78,OFFSET([0]!_xlnm.Print_Area,3,0),6,FALSE))","v":{"$error":"#REF!"}},{"$f":"IF(J78=\"\",\"\",VLOOKUP(A78,OFFSET([0]!_xlnm.Print_Area,3,0,,7),7,FALSE))","v":{"$error":"#REF!"}}," ",{"$f":"INDEX(#REF!,SMALL(IF(#REF!<>\"\",ROW(#REF!)),ROWS(I$1:I78)-1))","v":{"$error":"#REF!"}},{"$f":"INDEX(#REF!,SMALL(IF(#REF!<>\"\",ROW(#REF!)),ROWS(J$1:J78)-1))","v":{"$error":"#REF!"}},{"$f":"INDEX(#REF!,SMALL(IF(#REF!<>\"\",ROW(#REF!)),ROWS(K$1:K78)-1))","v":{"$error":"#REF!"}}]
[{"$error":"#REF!"},{"$error":"#REF!"},{"$error":"#REF!"},{"$f":"IF(J79=\"\",VLOOKUP(C79,OFFSET([0]!_xlnm.Print_Area,3,2),2,FALSE),VLOOKUP(A79,OFFSET([0]!_xlnm.Print_Area,3,0),4,FALSE))","v":{"$error":"#REF!"}},{"$f":"IF(J79=\"\",\"\",VLOOKUP(A79,OFFSET([0]!_xlnm.Print_Area,3,0),5,FALSE))","v":{"$error":"#REF!"}},{"$f":"IF(J79=\"\",\"\",VLOOKUP(A79,OFFSET([0]!_xlnm.Print_Area,3,0),6,FALSE))","v":{"$error":"#REF!"}},{"$f":"IF(J79=\"\",\"\",VLOOKUP(A79,OFFSET([0]!_xlnm.Print_Area,3,0,,7),7,FALSE))","v":{"$error":"#REF!"}}," ",{"$f":"INDEX(#REF!,SMALL(IF(#REF!<>\"\",ROW(#REF!)),ROWS(I$1:I79)-1))","v":{"$error":"#REF!"}},{"$f":"INDEX(#REF!,SMALL(IF(#REF!<>\"\",ROW(#REF!)),ROWS(J$1:J79)-1))","v":{"$error":"#REF!"}},{"$f":"INDEX(#REF!,SMALL(IF(#REF!<>\"\",ROW(#REF!)),ROWS(K$1:K79)-1))","v":{"$error":"#REF!"}}]
[{"$error":"#REF!"},{"$error":"#REF!"},{"$error":"#REF!"},{"$f":"IF(J80=\"\",VLOOKUP(C80,OFFSET([0]!_xlnm.Print_Area,3,2),2,FALSE),VLOOKUP(A80,OFFSET([0]!_xlnm.Print_Area,3,0),4,FALSE))","v":{"$error":"#REF!"}},{"$f":"IF(J80=\"\",\"\",VLOOKUP(A80,OFFSET([0]!_xlnm.Print_Area,3,0),5,FALSE))","v":{"$error":"#REF!"}},{"$f":"IF(J80=\"\",\"\",VLOOKUP(A80,OFFSET([0]!_xlnm.Print_Area,3,0),6,FALSE))","v":{"$error":"#REF!"}},{"$f":"IF(J80=\"\",\"\",VLOOKUP(A80,OFFSET([0]!_xlnm.Print_Area,3,0,,7),7,FALSE))","v":{"$error":"#REF!"}}," ",{"$f":"INDEX(#REF!,SMALL(IF(#REF!<>\"\",ROW(#REF!)),ROWS(I$1:I80)-1))","v":{"$error":"#REF!"}},{"$f":"INDEX(#REF!,SMALL(IF(#REF!<>\"\",ROW(#REF!)),ROWS(J$1:J80)-1))","v":{"$error":"#REF!"}},{"$f":"INDEX(#REF!,SMALL(IF(#REF!<>\"\",ROW(#REF!)),ROWS(K$1:K80)-1))","v":{"$error":"#REF!"}}]
[{"$error":"#REF!"},{"$error":"#REF!"},{"$error":"#REF!"},{"$f":"IF(J81=\"\",VLOOKUP(C81,OFFSET([0]!_xlnm.Print_Area,3,2),2,FALSE),VLOOKUP(A81,OFFSET([0]!_xlnm.Print_Area,3,0),4,FALSE))","v":{"$error":"#REF!"}},{"$f":"IF(J81=\"\",\"\",VLOOKUP(A81,OFFSET([0]!_xlnm.Print_Area,3,0),5,FALSE))","v":{"$error":"#REF!"}},{"$f":"IF(J81=\"\",\"\",VLOOKUP(A81,OFFSET([0]!_xlnm.Print_Area,3,0),6,FALSE))","v":{"$error":"#REF!"}},{"$f":"IF(J81=\"\",\"\",VLOOKUP(A81,OFFSET([0]!_xlnm.Print_Area,3,0,,7),7,FALSE))","v":{"$error":"#REF!"}}," ",{"$f":"INDEX(#REF!,SMALL(IF(#REF!<>\"\",ROW(#REF!)),ROWS(I$1:I81)-1))","v":{"$error":"#REF!"}},{"$f":"INDEX(#REF!,SMALL(IF(#REF!<>\"\",ROW(#REF!)),ROWS(J$1:J81)-1))","v":{"$error":"#REF!"}},{"$f":"INDEX(#REF!,SMALL(IF(#REF!<>\"\",ROW(#REF!)),ROWS(K$1:K81)-1))","v":{"$error":"#REF!"}}]
[{"$error":"#REF!"},{"$error":"#REF!"},{"$error":"#REF!"},{"$f":"IF(J82=\"\",VLOOKUP(C82,OFFSET([0]!_xlnm.Print_Area,3,2),2,FALSE),VLOOKUP(A82,OFFSET([0]!_xlnm.Print_Area,3,0),4,FALSE))","v":{"$error":"#REF!"}},{"$f":"IF(J82=\"\",\"\",VLOOKUP(A82,OFFSET([0]!_xlnm.Print_Area,3,0),5,FALSE))","v":{"$error":"#REF!"}},{"$f":"IF(J82=\"\",\"\",VLOOKUP(A82,OFFSET([0]!_xlnm.Print_Area,3,0),6,FALSE))","v":{"$error":"#REF!"}},{"$f":"IF(J82=\"\",\"\",VLOOKUP(A82,OFFSET([0]!_xlnm.Print_Area,3,0,,7),7,FALSE))","v":{"$error":"#REF!"}}," ",{"$f":"INDEX(#REF!,SMALL(IF(#REF!<>\"\",ROW(#REF!)),ROWS(I$1:I82)-1))","v":{"$error":"#REF!"}},{"$f":"INDEX(#REF!,SMALL(IF(#REF!<>\"\",ROW(#REF!)),ROWS(J$1:J82)-1))","v":{"$error":"#REF!"}},{"$f":"INDEX(#REF!,SMALL(IF(#REF!<>\"\",ROW(#REF!)),ROWS(K$1:K82)-1))","v":{"$error":"#REF!"}}]
[{"$error":"#REF!"},{"$error":"#REF!"},{"$error":"#REF!"},{"$f":"IF(J83=\"\",VLOOKUP(C83,OFFSET([0]!_xlnm.Print_Area,3,2),2,FALSE),VLOOKUP(A83,OFFSET([0]!_xlnm.Print_Area,3,0),4,FALSE))","v":{"$error":"#REF!"}},{"$f":"IF(J83=\"\",\"\",VLOOKUP(A83,OFFSET([0]!_xlnm.Print_Area,3,0),5,FALSE))","v":{"$error":"#REF!"}},{"$f":"IF(J83=\"\",\"\",VLOOKUP(A83,OFFSET([0]!_xlnm.Print_Area,3,0),6,FALSE))","v":{"$error":"#REF!"}},{"$f":"IF(J83=\"\",\"\",VLOOKUP(A83,OFFSET([0]!_xlnm.Print_Area,3,0,,7),7,FALSE))","v":{"$error":"#REF!"}}," ",{"$f":"INDEX(#REF!,SMALL(IF(#REF!<>\"\",ROW(#REF!)),ROWS(I$1:I83)-1))","v":{"$error":"#REF!"}},{"$f":"INDEX(#REF!,SMALL(IF(#REF!<>\"\",ROW(#REF!)),ROWS(J$1:J83)-1))","v":{"$error":"#REF!"}},{"$f":"INDEX(#REF!,SMALL(IF(#REF!<>\"\",ROW(#REF!)),ROWS(K$1:K83)-1))","v":{"$error":"#REF!"}}]
[{"$error":"#REF!"},{"$error":"#REF!"},{"$error":"#REF!"},{"$f":"IF(J84=\"\",VLOOKUP(C84,OFFSET([0]!_xlnm.Print_Area,3,2),2,FALSE),VLOOKUP(A84,OFFSET([0]!_xlnm.Print_Area,3,0),4,FALSE))","v":{"$error":"#REF!"}},{"$f":"IF(J84=\"\",\"\",VLOOKUP(A84,OFFSET([0]!_xlnm.Print_Area,3,0),5,FALSE))","v":{"$error":"#REF!"}},{"$f":"IF(J84=\"\",\"\",VLOOKUP(A84,OFFSET([0]!_xlnm.Print_Area,3,0),6,FALSE))","v":{"$error":"#REF!"}},{"$f":"IF(J84=\"\",\"\",VLOOKUP(A84,OFFSET([0]!_xlnm.Print_Area,3,0,,7),7,FALSE))","v":{"$error":"#REF!"}}," ",{"$f":"INDEX(#REF!,SMALL(IF(#REF!<>\"\",ROW(#REF!)),ROWS(I$1:I84)-1))","v":{"$error":"#REF!"}},{"$f":"INDEX(#REF!,SMALL(IF(#REF!<>\"\",ROW(#REF!)),ROWS(J$1:J84)-1))","v":{"$error":"#REF!"}},{"$f":"INDEX(#REF!,SMALL(IF(#REF!<>\"\",ROW(#REF!)),ROWS(K$1:K84)-1))","v":{"$error":"#REF!"}}]
[{"$error":"#REF!"},{"$error":"#REF!"},{"$error":"#REF!"},{"$f":"IF(J85=\"\",VLOOKUP(C85,OFFSET([0]!_xlnm.Print_Area,3,2),2,FALSE),VLOOKUP(A85,OFFSET([0]!_xlnm.Print_Area,3,0),4,FALSE))","v":{"$error":"#REF!"}},{"$f":"IF(J85=\"\",\"\",VLOOKUP(A85,OFFSET([0]!_xlnm.Print_Area,3,0),5,FALSE))","v":{"$error":"#REF!"}},{"$f":"IF(J85=\"\",\"\",VLOOKUP(A85,OFFSET([0]!_xlnm.Print_Area,3,0),6,FALSE))","v":{"$error":"#REF!"}},{"$f":"IF(J85=\"\",\"\",VLOOKUP(A85,OFFSET([0]!_xlnm.Print_Area,3,0,,7),7,FALSE))","v":{"$error":"#REF!"}}," ",{"$f":"INDEX(#REF!,SMALL(IF(#REF!<>\"\",ROW(#REF!)),ROWS(I$1:I85)-1))","v":{"$error":"#REF!"}},{"$f":"INDEX(#REF!,SMALL(IF(#REF!<>\"\",ROW(#REF!)),ROWS(J$1:J85)-1))","v":{"$error":"#REF!"}},{"$f":"INDEX(#REF!,SMALL(IF(#REF!<>\"\",ROW(#REF!)),ROWS(K$1:K85)-1))","v":{"$error":"#REF!"}}]
[{"$error":"#REF!"},{"$error":"#REF!"},{"$error":"#REF!"},{"$f":"IF(J86=\"\",VLOOKUP(C86,OFFSET([0]!_xlnm.Print_Area,3,2),2,FALSE),VLOOKUP(A86,OFFSET([0]!_xlnm.Print_Area,3,0),4,FALSE))","v":{"$error":"#REF!"}},{"$f":"IF(J86=\"\",\"\",VLOOKUP(A86,OFFSET([0]!_xlnm.Print_Area,3,0),5,FALSE))","v":{"$error":"#REF!"}},{"$f":"IF(J86=\"\",\"\",VLOOKUP(A86,OFFSET([0]!_xlnm.Print_Area,3,0),6,FALSE))","v":{"$error":"#REF!"}},{"$f":"IF(J86=\"\",\"\",VLOOKUP(A86,OFFSET([0]!_xlnm.Print_Area,3,0,,7),7,FALSE))","v":{"$error":"#REF!"}}," ",{"$f":"INDEX(#REF!,SMALL(IF(#REF!<>\"\",ROW(#REF!)),ROWS(I$1:I86)-1))","v":{"$error":"#REF!"}},{"$f":"INDEX(#REF!,SMALL(IF(#REF!<>\"\",ROW(#REF!)),ROWS(J$1:J86)-1))","v":{"$error":"#REF!"}},{"$f":"INDEX(#REF!,SMALL(IF(#REF!<>\"\",ROW(#REF!)),ROWS(K$1:K86)-1))","v":{"$error":"#REF!"}}]
[{"$error":"#REF!"},{"$error":"#REF!"},{"$error":"#REF!"},{"$f":"IF(J87=\"\",VLOOKUP(C87,OFFSET([0]!_xlnm.Print_Area,3,2),2,FALSE),VLOOKUP(A87,OFFSET([0]!_xlnm.Print_Area,3,0),4,FALSE))","v":{"$error":"#REF!"}},{"$f":"IF(J87=\"\",\"\",VLOOKUP(A87,OFFSET([0]!_xlnm.Print_Area,3,0),5,FALSE))","v":{"$error":"#REF!"}},{"$f":"IF(J87=\"\",\"\",VLOOKUP(A87,OFFSET([0]!_xlnm.Print_Area,3,0),6,FALSE))","v":{"$error":"#REF!"}},{"$f":"IF(J87=\"\",\"\",VLOOKUP(A87,OFFSET([0]!_xlnm.Print_Area,3,0,,7),7,FALSE))","v":{"$error":"#REF!"}}," ",{"$f":"INDEX(#REF!,SMALL(IF(#REF!<>\"\",ROW(#REF!)),ROWS(I$1:I87)-1))","v":{"$error":"#REF!"}},{"$f":"INDEX(#REF!,SMALL(IF(#REF!<>\"\",ROW(#REF!)),ROWS(J$1:J87)-1))","v":{"$error":"#REF!"}},{"$f":"INDEX(#REF!,SMALL(IF(#REF!<>\"\",ROW(#REF!)),ROWS(K$1:K87)-1))","v":{"$error":"#REF!"}}]
[{"$error":"#REF!"},{"$error":"#REF!"},{"$error":"#REF!"},{"$f":"IF(J88=\"\",VLOOKUP(C88,OFFSET([0]!_xlnm.Print_Area,3,2),2,FALSE),VLOOKUP(A88,OFFSET([0]!_xlnm.Print_Area,3,0),4,FALSE))","v":{"$error":"#REF!"}},{"$f":"IF(J88=\"\",\"\",VLOOKUP(A88,OFFSET([0]!_xlnm.Print_Area,3,0),5,FALSE))","v":{"$error":"#REF!"}},{"$f":"IF(J88=\"\",\"\",VLOOKUP(A88,OFFSET([0]!_xlnm.Print_Area,3,0),6,FALSE))","v":{"$error":"#REF!"}},{"$f":"IF(J88=\"\",\"\",VLOOKUP(A88,OFFSET([0]!_xlnm.Print_Area,3,0,,7),7,FALSE))","v":{"$error":"#REF!"}}," ",{"$f":"INDEX(#REF!,SMALL(IF(#REF!<>\"\",ROW(#REF!)),ROWS(I$1:I88)-1))","v":{"$error":"#REF!"}},{"$f":"INDEX(#REF!,SMALL(IF(#REF!<>\"\",ROW(#REF!)),ROWS(J$1:J88)-1))","v":{"$error":"#REF!"}},{"$f":"INDEX(#REF!,SMALL(IF(#REF!<>\"\",ROW(#REF!)),ROWS(K$1:K88)-1))","v":{"$error":"#REF!"}}]
[{"$error":"#REF!"},{"$error":"#REF!"},{"$error":"#REF!"},{"$f":"IF(J89=\"\",VLOOKUP(C89,OFFSET([0]!_xlnm.Print_Area,3,2),2,FALSE),VLOOKUP(A89,OFFSET([0]!_xlnm.Print_Area,3,0),4,FALSE))","v":{"$error":"#REF!"}},{"$f":"IF(J89=\"\",\"\",VLOOKUP(A89,OFFSET([0]!_xlnm.Print_Area,3,0),5,FALSE))","v":{"$error":"#REF!"}},{"$f":"IF(J89=\"\",\"\",VLOOKUP(A89,OFFSET([0]!_xlnm.Print_Area,3,0),6,FALSE))","v":{"$error":"#REF!"}},{"$f":"IF(J89=\"\",\"\",VLOOKUP(A89,OFFSET([0]!_xlnm.Print_Area,3,0,,7),7,FALSE))","v":{"$error":"#REF!"}}," ",{"$f":"INDEX(#REF!,SMALL(IF(#REF!<>\"\",ROW(#REF!)),ROWS(I$1:I89)-1))","v":{"$error":"#REF!"}},{"$f":"INDEX(#REF!,SMALL(IF(#REF!<>\"\",ROW(#REF!)),ROWS(J$1:J89)-1))","v":{"$error":"#REF!"}},{"$f":"INDEX(#REF!,SMALL(IF(#REF!<>\"\",ROW(#REF!)),ROWS(K$1:K89)-1))","v":{"$error":"#REF!"}}]
[{"$error":"#REF!"},{"$error":"#REF!"},{"$error":"#REF!"},{"$f":"IF(J90=\"\",VLOOKUP(C90,OFFSET([0]!_xlnm.Print_Area,3,2),2,FALSE),VLOOKUP(A90,OFFSET([0]!_xlnm.Print_Area,3,0),4,FALSE))","v":{"$error":"#REF!"}},{"$f":"IF(J90=\"\",\"\",VLOOKUP(A90,OFFSET([0]!_xlnm.Print_Area,3,0),5,FALSE))","v":{"$error":"#REF!"}},{"$f":"IF(J90=\"\",\"\",VLOOKUP(A90,OFFSET([0]!_xlnm.Print_Area,3,0),6,FALSE))","v":{"$error":"#REF!"}},{"$f":"IF(J90=\"\",\"\",VLOOKUP(A90,OFFSET([0]!_xlnm.Print_Area,3,0,,7),7,FALSE))","v":{"$error":"#REF!"}}," ",{"$f":"INDEX(#REF!,SMALL(IF(#REF!<>\"\",ROW(#REF!)),ROWS(I$1:I90)-1))","v":{"$error":"#REF!"}},{"$f":"INDEX(#REF!,SMALL(IF(#REF!<>\"\",ROW(#REF!)),ROWS(J$1:J90)-1))","v":{"$error":"#REF!"}},{"$f":"INDEX(#REF!,SMALL(IF(#REF!<>\"\",ROW(#REF!)),ROWS(K$1:K90)-1))","v":{"$error":"#REF!"}}]
[{"$error":"#REF!"},{"$error":"#REF!"},{"$error":"#REF!"},{"$f":"IF(J91=\"\",VLOOKUP(C91,OFFSET([0]!_xlnm.Print_Area,3,2),2,FALSE),VLOOKUP(A91,OFFSET([0]!_xlnm.Print_Area,3,0),4,FALSE))","v":{"$error":"#REF!"}},{"$f":"IF(J91=\"\",\"\",VLOOKUP(A91,OFFSET([0]!_xlnm.Print_Area,3,0),5,FALSE))","v":{"$error":"#REF!"}},{"$f":"IF(J91=\"\",\"\",VLOOKUP(A91,OFFSET([0]!_xlnm.Print_Area,3,0),6,FALSE))","v":{"$error":"#REF!"}},{"$f":"IF(J91=\"\",\"\",VLOOKUP(A91,OFFSET([0]!_xlnm.Print_Area,3,0,,7),7,FALSE))","v":{"$error":"#REF!"}}," ",{"$f":"INDEX(#REF!,SMALL(IF(#REF!<>\"\",ROW(#REF!)),ROWS(I$1:I91)-1))","v":{"$error":"#REF!"}},{"$f":"INDEX(#REF!,SMALL(IF(#REF!<>\"\",ROW(#REF!)),ROWS(J$1:J91)-1))","v":{"$error":"#REF!"}},{"$f":"INDEX(#REF!,SMALL(IF(#REF!<>\"\",ROW(#REF!)),ROWS(K$1:K91)-1))","v":{"$error":"#REF!"}}]
[{"$error":"#REF!"},{"$error":"#REF!"},{"$error":"#REF!"},{"$f":"IF(J92=\"\",VLOOKUP(C92,OFFSET([0]!_xlnm.Print_Area,3,2),2,FALSE),VLOOKUP(A92,OFFSET([0]!_xlnm.Print_Area,3,0),4,FALSE))","v":{"$error":"#REF!"}},{"$f":"IF(J92=\"\",\"\",VLOOKUP(A92,OFFSET([0]!_xlnm.Print_Area,3,0),5,FALSE))","v":{"$error":"#REF!"}},{"$f":"IF(J92=\"\",\"\",VLOOKUP(A92,OFFSET([0]!_xlnm.Print_Area,3,0),6,FALSE))","v":{"$error":"#REF!"}},{"$f":"IF(J92=\"\",\"\",VLOOKUP(A92,OFFSET([0]!_xlnm.Print_Area,3,0,,7),7,FALSE))","v":{"$error":"#REF!"}}," ",{"$f":"INDEX(#REF!,SMALL(IF(#REF!<>\"\",ROW(#REF!)),ROWS(I$1:I92)-1))","v":{"$error":"#REF!"}},{"$f":"INDEX(#REF!,SMALL(IF(#REF!<>\"\",ROW(#REF!)),ROWS(J$1:J92)-1))","v":{"$error":"#REF!"}},{"$f":"INDEX(#REF!,SMALL(IF(#REF!<>\"\",ROW(#REF!)),ROWS(K$1:K92)-1))","v":{"$error":"#REF!"}}]
[{"$error":"#REF!"},{"$error":"#REF!"},{"$error":"#REF!"},{"$f":"IF(J93=\"\",VLOOKUP(C93,OFFSET([0]!_xlnm.Print_Area,3,2),2,FALSE),VLOOKUP(A93,OFFSET([0]!_xlnm.Print_Area,3,0),4,FALSE))","v":{"$error":"#REF!"}},{"$f":"IF(J93=\"\",\"\",VLOOKUP(A93,OFFSET([0]!_xlnm.Print_Area,3,0),5,FALSE))","v":{"$error":"#REF!"}},{"$f":"IF(J93=\"\",\"\",VLOOKUP(A93,OFFSET([0]!_xlnm.Print_Area,3,0),6,FALSE))","v":{"$error":"#REF!"}},{"$f":"IF(J93=\"\",\"\",VLOOKUP(A93,OFFSET([0]!_xlnm.Print_Area,3,0,,7),7,FALSE))","v":{"$error":"#REF!"}}," ",{"$f":"INDEX(#REF!,SMALL(IF(#REF!<>\"\",ROW(#REF!)),ROWS(I$1:I93)-1))","v":{"$error":"#REF!"}},{"$f":"INDEX(#REF!,SMALL(IF(#REF!<>\"\",ROW(#REF!)),ROWS(J$1:J93)-1))","v":{"$error":"#REF!"}},{"$f":"INDEX(#REF!,SMALL(IF(#REF!<>\"\",ROW(#REF!)),ROWS(K$1:K93)-1))","v":{"$error":"#REF!"}}]
[{"$error":"#REF!"},{"$error":"#REF!"},{"$error":"#REF!"},{"$f":"IF(J94=\"\",VLOOKUP(C94,OFFSET([0]!_xlnm.Print_Area,3,2),2,FALSE),VLOOKUP(A94,OFFSET([0]!_xlnm.Print_Area,3,0),4,FALSE))","v":{"$error":"#REF!"}},{"$f":"IF(J94=\"\",\"\",VLOOKUP(A94,OFFSET([0]!_xlnm.Print_Area,3,0),5,FALSE))","v":{"$error":"#REF!"}},{"$f":"IF(J94=\"\",\"\",VLOOKUP(A94,OFFSET([0]!_xlnm.Print_Area,3,0),6,FALSE))","v":{"$error":"#REF!"}},{"$f":"IF(J94=\"\",\"\",VLOOKUP(A94,OFFSET([0]!_xlnm.Print_Area,3,0,,7),7,FALSE))","v":{"$error":"#REF!"}}," ",{"$f":"INDEX(#REF!,SMALL(IF(#REF!<>\"\",ROW(#REF!)),ROWS(I$1:I94)-1))","v":{"$error":"#REF!"}},{"$f":"INDEX(#REF!,SMALL(IF(#REF!<>\"\",ROW(#REF!)),ROWS(J$1:J94)-1))","v":{"$error":"#REF!"}},{"$f":"INDEX(#REF!,SMALL(IF(#REF!<>\"\",ROW(#REF!)),ROWS(K$1:K94)-1))","v":{"$error":"#REF!"}}]
[{"$error":"#REF!"},{"$error":"#REF!"},{"$error":"#REF!"},{"$f":"IF(J95=\"\",VLOOKUP(C95,OFFSET([0]!_xlnm.Print_Area,3,2),2,FALSE),VLOOKUP(A95,OFFSET([0]!_xlnm.Print_Area,3,0),4,FALSE))","v":{"$error":"#REF!"}},{"$f":"IF(J95=\"\",\"\",VLOOKUP(A95,OFFSET([0]!_xlnm.Print_Area,3,0),5,FALSE))","v":{"$error":"#REF!"}},{"$f":"IF(J95=\"\",\"\",VLOOKUP(A95,OFFSET([0]!_xlnm.Print_Area,3,0),6,FALSE))","v":{"$error":"#REF!"}},{"$f":"IF(J95=\"\",\"\",VLOOKUP(A95,OFFSET([0]!_xlnm.Print_Area,3,0,,7),7,FALSE))","v":{"$error":"#REF!"}}," ",{"$f":"INDEX(#REF!,SMALL(IF(#REF!<>\"\",ROW(#REF!)),ROWS(I$1:I95)-1))","v":{"$error":"#REF!"}},{"$f":"INDEX(#REF!,SMALL(IF(#REF!<>\"\",ROW(#REF!)),ROWS(J$1:J95)-1))","v":{"$error":"#REF!"}},{"$f":"INDEX(#REF!,SMALL(IF(#REF!<>\"\",ROW(#REF!)),ROWS(K$1:K95)-1))","v":{"$error":"#REF!"}}]
[{"$error":"#REF!"},{"$error":"#REF!"},{"$error":"#REF!"},{"$f":"IF(J96=\"\",VLOOKUP(C96,OFFSET([0]!_xlnm.Print_Area,3,2),2,FALSE),VLOOKUP(A96,OFFSET([0]!_xlnm.Print_Area,3,0),4,FALSE))","v":{"$error":"#REF!"}},{"$f":"IF(J96=\"\",\"\",VLOOKUP(A96,OFFSET([0]!_xlnm.Print_Area,3,0),5,FALSE))","v":{"$error":"#REF!"}},{"$f":"IF(J96=\"\",\"\",VLOOKUP(A96,OFFSET([0]!_xlnm.Print_Area,3,0),6,FALSE))","v":{"$error":"#REF!"}},{"$f":"IF(J96=\"\",\"\",VLOOKUP(A96,OFFSET([0]!_xlnm.Print_Area,3,0,,7),7,FALSE))","v":{"$error":"#REF!"}}," ",{"$f":"INDEX(#REF!,SMALL(IF(#REF!<>\"\",ROW(#REF!)),ROWS(I$1:I96)-1))","v":{"$error":"#REF!"}},{"$f":"INDEX(#REF!,SMALL(IF(#REF!<>\"\",ROW(#REF!)),ROWS(J$1:J96)-1))","v":{"$error":"#REF!"}},{"$f":"INDEX(#REF!,SMALL(IF(#REF!<>\"\",ROW(#REF!)),ROWS(K$1:K96)-1))","v":{"$error":"#REF!"}}]
[{"$error":"#REF!"},{"$error":"#REF!"},{"$error":"#REF!"},{"$f":"IF(J97=\"\",VLOOKUP(C97,OFFSET([0]!_xlnm.Print_Area,3,2),2,FALSE),VLOOKUP(A97,OFFSET([0]!_xlnm.Print_Area,3,0),4,FALSE))","v":{"$error":"#REF!"}},{"$f":"IF(J97=\"\",\"\",VLOOKUP(A97,OFFSET([0]!_xlnm.Print_Area,3,0),5,FALSE))","v":{"$error":"#REF!"}},{"$f":"IF(J97=\"\",\"\",VLOOKUP(A97,OFFSET([0]!_xlnm.Print_Area,3,0),6,FALSE))","v":{"$error":"#REF!"}},{"$f":"IF(J97=\"\",\"\",VLOOKUP(A97,OFFSET([0]!_xlnm.Print_Area,3,0,,7),7,FALSE))","v":{"$error":"#REF!"}}," ",{"$f":"INDEX(#REF!,SMALL(IF(#REF!<>\"\",ROW(#REF!)),ROWS(I$1:I97)-1))","v":{"$error":"#REF!"}},{"$f":"INDEX(#REF!,SMALL(IF(#REF!<>\"\",ROW(#REF!)),ROWS(J$1:J97)-1))","v":{"$error":"#REF!"}},{"$f":"INDEX(#REF!,SMALL(IF(#REF!<>\"\",ROW(#REF!)),ROWS(K$1:K97)-1))","v":{"$error":"#REF!"}}]
[{"$error":"#REF!"},{"$error":"#REF!"},{"$error":"#REF!"},{"$f":"IF(J98=\"\",VLOOKUP(C98,OFFSET([0]!_xlnm.Print_Area,3,2),2,FALSE),VLOOKUP(A98,OFFSET([0]!_xlnm.Print_Area,3,0),4,FALSE))","v":{"$error":"#REF!"}},{"$f":"IF(J98=\"\",\"\",VLOOKUP(A98,OFFSET([0]!_xlnm.Print_Area,3,0),5,FALSE))","v":{"$error":"#REF!"}},{"$f":"IF(J98=\"\",\"\",VLOOKUP(A98,OFFSET([0]!_xlnm.Print_Area,3,0),6,FALSE))","v":{"$error":"#REF!"}},{"$f":"IF(J98=\"\",\"\",VLOOKUP(A98,OFFSET([0]!_xlnm.Print_Area,3,0,,7),7,FALSE))","v":{"$error":"#REF!"}}," ",{"$f":"INDEX(#REF!,SMALL(IF(#REF!<>\"\",ROW(#REF!)),ROWS(I$1:I98)-1))","v":{"$error":"#REF!"}},{"$f":"INDEX(#REF!,SMALL(IF(#REF!<>\"\",ROW(#REF!)),ROWS(J$1:J98)-1))","v":{"$error":"#REF!"}},{"$f":"INDEX(#REF!,SMALL(IF(#REF!<>\"\",ROW(#REF!)),ROWS(K$1:K98)-1))","v":{"$error":"#REF!"}}]
[{"$error":"#REF!"},{"$error":"#REF!"},{"$error":"#REF!"},{"$f":"IF(J99=\"\",VLOOKUP(C99,OFFSET([0]!_xlnm.Print_Area,3,2),2,FALSE),VLOOKUP(A99,OFFSET([0]!_xlnm.Print_Area,3,0),4,FALSE))","v":{"$error":"#REF!"}},{"$f":"IF(J99=\"\",\"\",VLOOKUP(A99,OFFSET([0]!_xlnm.Print_Area,3,0),5,FALSE))","v":{"$error":"#REF!"}},{"$f":"IF(J99=\"\",\"\",VLOOKUP(A99,OFFSET([0]!_xlnm.Print_Area,3,0),6,FALSE))","v":{"$error":"#REF!"}},{"$f":"IF(J99=\"\",\"\",VLOOKUP(A99,OFFSET([0]!_xlnm.Print_Area,3,0,,7),7,FALSE))","v":{"$error":"#REF!"}}," ",{"$f":"INDEX(#REF!,SMALL(IF(#REF!<>\"\",ROW(#REF!)),ROWS(I$1:I99)-1))","v":{"$error":"#REF!"}},{"$f":"INDEX(#REF!,SMALL(IF(#REF!<>\"\",ROW(#REF!)),ROWS(J$1:J99)-1))","v":{"$error":"#REF!"}},{"$f":"INDEX(#REF!,SMALL(IF(#REF!<>\"\",ROW(#REF!)),ROWS(K$1:K99)-1))","v":{"$error":"#REF!"}}]
[{"$error":"#REF!"},{"$error":"#REF!"},{"$error":"#REF!"},{"$f":"IF(J100=\"\",VLOOKUP(C100,OFFSET([0]!_xlnm.Print_Area,3,2),2,FALSE),VLOOKUP(A100,OFFSET([0]!_xlnm.Print_Area,3,0),4,FALSE))","v":{"$error":"#REF!"}},{"$f":"IF(J100=\"\",\"\",VLOOKUP(A100,OFFSET([0]!_xlnm.Print_Area,3,0),5,FALSE))","v":{"$error":"#REF!"}},{"$f":"IF(J100=\"\",\"\",VLOOKUP(A100,OFFSET([0]!_xlnm.Print_Area,3,0),6,FALSE))","v":{"$error":"#REF!"}},{"$f":"IF(J100=\"\",\"\",VLOOKUP(A100,OFFSET([0]!_xlnm.Print_Area,3,0,,7),7,FALSE))","v":{"$error":"#REF!"}}," ",{"$f":"INDEX(#REF!,SMALL(IF(#REF!<>\"\",ROW(#REF!)),ROWS(I$1:I100)-1))","v":{"$error":"#REF!"}},{"$f":"INDEX(#REF!,SMALL(IF(#REF!<>\"\",ROW(#REF!)),ROWS(J$1:J100)-1))","v":{"$error":"#REF!"}},{"$f":"INDEX(#REF!,SMALL(IF(#REF!<>\"\",ROW(#REF!)),ROWS(K$1:K100)-1))","v":{"$error":"#REF!"}}]
[{"$error":"#REF!"},{"$error":"#REF!"},{"$error":"#REF!"},{"$f":"IF(J101=\"\",VLOOKUP(C101,OFFSET([0]!_xlnm.Print_Area,3,2),2,FALSE),VLOOKUP(A101,OFFSET([0]!_xlnm.Print_Area,3,0),4,FALSE))","v":{"$error":"#REF!"}},{"$f":"IF(J101=\"\",\"\",VLOOKUP(A101,OFFSET([0]!_xlnm.Print_Area,3,0),5,FALSE))","v":{"$error":"#REF!"}},{"$f":"IF(J101=\"\",\"\",VLOOKUP(A101,OFFSET([0]!_xlnm.Print_Area,3,0),6,FALSE))","v":{"$error":"#REF!"}},{"$f":"IF(J101=\"\",\"\",VLOOKUP(A101,OFFSET([0]!_xlnm.Print_Area,3,0,,7),7,FALSE))","v":{"$error":"#REF!"}}," ",{"$f":"INDEX(#REF!,SMALL(IF(#REF!<>\"\",ROW(#REF!)),ROWS(I$1:I101)-1))","v":{"$error":"#REF!"}},{"$f":"INDEX(#REF!,SMALL(IF(#REF!<>\"\",ROW(#REF!)),ROWS(J$1:J101)-1))","v":{"$error":"#REF!"}},{"$f":"INDEX(#REF!,SMALL(IF(#REF!<>\"\",ROW(#REF!)),ROWS(K$1:K101)-1))","v":{"$error":"#REF!"}}]
[{"$error":"#REF!"},{"$error":"#REF!"},{"$error":"#REF!"},{"$f":"IF(J102=\"\",VLOOKUP(C102,OFFSET([0]!_xlnm.Print_Area,3,2),2,FALSE),VLOOKUP(A102,OFFSET([0]!_xlnm.Print_Area,3,0),4,FALSE))","v":{"$error":"#REF!"}},{"$f":"IF(J102=\"\",\"\",VLOOKUP(A102,OFFSET([0]!_xlnm.Print_Area,3,0),5,FALSE))","v":{"$error":"#REF!"}},{"$f":"IF(J102=\"\",\"\",VLOOKUP(A102,OFFSET([0]!_xlnm.Print_Area,3,0),6,FALSE))","v":{"$error":"#REF!"}},{"$f":"IF(J102=\"\",\"\",VLOOKUP(A102,OFFSET([0]!_xlnm.Print_Area,3,0,,7),7,FALSE))","v":{"$error":"#REF!"}}," ",{"$f":"INDEX(#REF!,SMALL(IF(#REF!<>\"\",ROW(#REF!)),ROWS(I$1:I102)-1))","v":{"$error":"#REF!"}},{"$f":"INDEX(#REF!,SMALL(IF(#REF!<>\"\",ROW(#REF!)),ROWS(J$1:J102)-1))","v":{"$error":"#REF!"}},{"$f":"INDEX(#REF!,SMALL(IF(#REF!<>\"\",ROW(#REF!)),ROWS(K$1:K102)-1))","v":{"$error":"#REF!"}}]
[{"$error":"#REF!"},{"$error":"#REF!"},{"$error":"#REF!"},{"$f":"IF(J103=\"\",VLOOKUP(C103,OFFSET([0]!_xlnm.Print_Area,3,2),2,FALSE),VLOOKUP(A103,OFFSET([0]!_xlnm.Print_Area,3,0),4,FALSE))","v":{"$error":"#REF!"}},{"$f":"IF(J103=\"\",\"\",VLOOKUP(A103,OFFSET([0]!_xlnm.Print_Area,3,0),5,FALSE))","v":{"$error":"#REF!"}},{"$f":"IF(J103=\"\",\"\",VLOOKUP(A103,OFFSET([0]!_xlnm.Print_Area,3,0),6,FALSE))","v":{"$error":"#REF!"}},{"$f":"IF(J103=\"\",\"\",VLOOKUP(A103,OFFSET([0]!_xlnm.Print_Area,3,0,,7),7,FALSE))","v":{"$error":"#REF!"}}," ",{"$f":"INDEX(#REF!,SMALL(IF(#REF!<>\"\",ROW(#REF!)),ROWS(I$1:I103)-1))","v":{"$error":"#REF!"}},{"$f":"INDEX(#REF!,SMALL(IF(#REF!<>\"\",ROW(#REF!)),ROWS(J$1:J103)-1))","v":{"$error":"#REF!"}},{"$f":"INDEX(#REF!,SMALL(IF(#REF!<>\"\",ROW(#REF!)),ROWS(K$1:K103)-1))","v":{"$error":"#REF!"}}]
[{"$error":"#REF!"},{"$error":"#REF!"},{"$error":"#REF!"},{"$f":"IF(J104=\"\",VLOOKUP(C104,OFFSET([0]!_xlnm.Print_Area,3,2),2,FALSE),VLOOKUP(A104,OFFSET([0]!_xlnm.Print_Area,3,0),4,FALSE))","v":{"$error":"#REF!"}},{"$f":"IF(J104=\"\",\"\",VLOOKUP(A104,OFFSET([0]!_xlnm.Print_Area,3,0),5,FALSE))","v":{"$error":"#REF!"}},{"$f":"IF(J104=\"\",\"\",VLOOKUP(A104,OFFSET([0]!_xlnm.Print_Area,3,0),6,FALSE))","v":{"$error":"#REF!"}},{"$f":"IF(J104=\"\",\"\",VLOOKUP(A104,OFFSET([0]!_xlnm.Print_Area,3,0,,7),7,FALSE))","v":{"$error":"#REF!"}}," ",{"$f":"INDEX(#REF!,SMALL(IF(#REF!<>\"\",ROW(#REF!)),ROWS(I$1:I104)-1))","v":{"$error":"#REF!"}},{"$f":"INDEX(#REF!,SMALL(IF(#REF!<>\"\",ROW(#REF!)),ROWS(J$1:J104)-1))","v":{"$error":"#REF!"}},{"$f":"INDEX(#REF!,SMALL(IF(#REF!<>\"\",ROW(#REF!)),ROWS(K$1:K104)-1))","v":{"$error":"#REF!"}}]
[{"$error":"#REF!"},{"$error":"#REF!"},{"$error":"#REF!"},{"$f":"IF(J105=\"\",VLOOKUP(C105,OFFSET([0]!_xlnm.Print_Area,3,2),2,FALSE),VLOOKUP(A105,OFFSET([0]!_xlnm.Print_Area,3,0),4,FALSE))","v":{"$error":"#REF!"}},{"$f":"IF(J105=\"\",\"\",VLOOKUP(A105,OFFSET([0]!_xlnm.Print_Area,3,0),5,FALSE))","v":{"$error":"#REF!"}},{"$f":"IF(J105=\"\",\"\",VLOOKUP(A105,OFFSET([0]!_xlnm.Print_Area,3,0),6,FALSE))","v":{"$error":"#REF!"}},{"$f":"IF(J105=\"\",\"\",VLOOKUP(A105,OFFSET([0]!_xlnm.Print_Area,3,0,,7),7,FALSE))","v":{"$error":"#REF!"}}," ",{"$f":"INDEX(#REF!,SMALL(IF(#REF!<>\"\",ROW(#REF!)),ROWS(I$1:I105)-1))","v":{"$error":"#REF!"}},{"$f":"INDEX(#REF!,SMALL(IF(#REF!<>\"\",ROW(#REF!)),ROWS(J$1:J105)-1))","v":{"$error":"#REF!"}},{"$f":"INDEX(#REF!,SMALL(IF(#REF!<>\"\",ROW(#REF!)),ROWS(K$1:K105)-1))","v":{"$error":"#REF!"}}]
[{"$error":"#REF!"},{"$error":"#REF!"},{"$error":"#REF!"},{"$f":"IF(J106=\"\",VLOOKUP(C106,OFFSET([0]!_xlnm.Print_Area,3,2),2,FALSE),VLOOKUP(A106,OFFSET([0]!_xlnm.Print_Area,3,0),4,FALSE))","v":{"$error":"#REF!"}},{"$f":"IF(J106=\"\",\"\",VLOOKUP(A106,OFFSET([0]!_xlnm.Print_Area,3,0),5,FALSE))","v":{"$error":"#REF!"}},{"$f":"IF(J106=\"\",\"\",VLOOKUP(A106,OFFSET([0]!_xlnm.Print_Area,3,0),6,FALSE))","v":{"$error":"#REF!"}},{"$f":"IF(J106=\"\",\"\",VLOOKUP(A106,OFFSET([0]!_xlnm.Print_Area,3,0,,7),7,FALSE))","v":{"$error":"#REF!"}}," ",{"$f":"INDEX(#REF!,SMALL(IF(#REF!<>\"\",ROW(#REF!)),ROWS(I$1:I106)-1))","v":{"$error":"#REF!"}},{"$f":"INDEX(#REF!,SMALL(IF(#REF!<>\"\",ROW(#REF!)),ROWS(J$1:J106)-1))","v":{"$error":"#REF!"}},{"$f":"INDEX(#REF!,SMALL(IF(#REF!<>\"\",ROW(#REF!)),ROWS(K$1:K106)-1))","v":{"$error":"#REF!"}}]
[{"$error":"#REF!"},{"$error":"#REF!"},{"$error":"#REF!"},{"$f":"IF(J107=\"\",VLOOKUP(C107,OFFSET([0]!_xlnm.Print_Area,3,2),2,FALSE),VLOOKUP(A107,OFFSET([0]!_xlnm.Print_Area,3,0),4,FALSE))","v":{"$error":"#REF!"}},{"$f":"IF(J107=\"\",\"\",VLOOKUP(A107,OFFSET([0]!_xlnm.Print_Area,3,0),5,FALSE))","v":{"$error":"#REF!"}},{"$f":"IF(J107=\"\",\"\",VLOOKUP(A107,OFFSET([0]!_xlnm.Print_Area,3,0),6,FALSE))","v":{"$error":"#REF!"}},{"$f":"IF(J107=\"\",\"\",VLOOKUP(A107,OFFSET([0]!_xlnm.Print_Area,3,0,,7),7,FALSE))","v":{"$error":"#REF!"}}," ",{"$f":"INDEX(#REF!,SMALL(IF(#REF!<>\"\",ROW(#REF!)),ROWS(I$1:I107)-1))","v":{"$error":"#REF!"}},{"$f":"INDEX(#REF!,SMALL(IF(#REF!<>\"\",ROW(#REF!)),ROWS(J$1:J107)-1))","v":{"$error":"#REF!"}},{"$f":"INDEX(#REF!,SMALL(IF(#REF!<>\"\",ROW(#REF!)),ROWS(K$1:K107)-1))","v":{"$error":"#REF!"}}]
[{"$error":"#REF!"},{"$error":"#REF!"},{"$error":"#REF!"},{"$f":"IF(J108=\"\",VLOOKUP(C108,OFFSET([0]!_xlnm.Print_Area,3,2),2,FALSE),VLOOKUP(A108,OFFSET([0]!_xlnm.Print_Area,3,0),4,FALSE))","v":{"$error":"#REF!"}},{"$f":"IF(J108=\"\",\"\",VLOOKUP(A108,OFFSET([0]!_xlnm.Print_Area,3,0),5,FALSE))","v":{"$error":"#REF!"}},{"$f":"IF(J108=\"\",\"\",VLOOKUP(A108,OFFSET([0]!_xlnm.Print_Area,3,0),6,FALSE))","v":{"$error":"#REF!"}},{"$f":"IF(J108=\"\",\"\",VLOOKUP(A108,OFFSET([0]!_xlnm.Print_Area,3,0,,7),7,FALSE))","v":{"$error":"#REF!"}}," ",{"$f":"INDEX(#REF!,SMALL(IF(#REF!<>\"\",ROW(#REF!)),ROWS(I$1:I108)-1))","v":{"$error":"#REF!"}},{"$f":"INDEX(#REF!,SMALL(IF(#REF!<>\"\",ROW(#REF!)),ROWS(J$1:J108)-1))","v":{"$error":"#REF!"}},{"$f":"INDEX(#REF!,SMALL(IF(#REF!<>\"\",ROW(#REF!)),ROWS(K$1:K108)-1))","v":{"$error":"#REF!"}}]
[{"$error":"#REF!"},{"$error":"#REF!"},{"$error":"#REF!"},{"$f":"IF(J109=\"\",VLOOKUP(C109,OFFSET([0]!_xlnm.Print_Area,3,2),2,FALSE),VLOOKUP(A109,OFFSET([0]!_xlnm.Print_Area,3,0),4,FALSE))","v":{"$error":"#REF!"}},{"$f":"IF(J109=\"\",\"\",VLOOKUP(A109,OFFSET([0]!_xlnm.Print_Area,3,0),5,FALSE))","v":{"$error":"#REF!"}},{"$f":"IF(J109=\"\",\"\",VLOOKUP(A109,OFFSET([0]!_xlnm.Print_Area,3,0),6,FALSE))","v":{"$error":"#REF!"}},{"$f":"IF(J109=\"\",\"\",VLOOKUP(A109,OFFSET([0]!_xlnm.Print_Area,3,0,,7),7,FALSE))","v":{"$error":"#REF!"}}," ",{"$f":"INDEX(#REF!,SMALL(IF(#REF!<>\"\",ROW(#REF!)),ROWS(I$1:I109)-1))","v":{"$error":"#REF!"}},{"$f":"INDEX(#REF!,SMALL(IF(#REF!<>\"\",ROW(#REF!)),ROWS(J$1:J109)-1))","v":{"$error":"#REF!"}},{"$f":"INDEX(#REF!,SMALL(IF(#REF!<>\"\",ROW(#REF!)),ROWS(K$1:K109)-1))","v":{"$error":"#REF!"}}]
[{"$error":"#REF!"},{"$error":"#REF!"},{"$error":"#REF!"},{"$f":"IF(J110=\"\",VLOOKUP(C110,OFFSET([0]!_xlnm.Print_Area,3,2),2,FALSE),VLOOKUP(A110,OFFSET([0]!_xlnm.Print_Area,3,0),4,FALSE))","v":{"$error":"#REF!"}},{"$f":"IF(J110=\"\",\"\",VLOOKUP(A110,OFFSET([0]!_xlnm.Print_Area,3,0),5,FALSE))","v":{"$error":"#REF!"}},{"$f":"IF(J110=\"\",\"\",VLOOKUP(A110,OFFSET([0]!_xlnm.Print_Area,3,0),6,FALSE))","v":{"$error":"#REF!"}},{"$f":"IF(J110=\"\",\"\",VLOOKUP(A110,OFFSET([0]!_xlnm.Print_Area,3,0,,7),7,FALSE))","v":{"$error":"#REF!"}}," ",{"$f":"INDEX(#REF!,SMALL(IF(#REF!<>\"\",ROW(#REF!)),ROWS(I$1:I110)-1))","v":{"$error":"#REF!"}},{"$f":"INDEX(#REF!,SMALL(IF(#REF!<>\"\",ROW(#REF!)),ROWS(J$1:J110)-1))","v":{"$error":"#REF!"}},{"$f":"INDEX(#REF!,SMALL(IF(#REF!<>\"\",ROW(#REF!)),ROWS(K$1:K110)-1))","v":{"$error":"#REF!"}}]
[{"$error":"#REF!"},{"$error":"#REF!"},{"$error":"#REF!"},{"$f":"IF(J111=\"\",VLOOKUP(C111,OFFSET([0]!_xlnm.Print_Area,3,2),2,FALSE),VLOOKUP(A111,OFFSET([0]!_xlnm.Print_Area,3,0),4,FALSE))","v":{"$error":"#REF!"}},{"$f":"IF(J111=\"\",\"\",VLOOKUP(A111,OFFSET([0]!_xlnm.Print_Area,3,0),5,FALSE))","v":{"$error":"#REF!"}},{"$f":"IF(J111=\"\",\"\",VLOOKUP(A111,OFFSET([0]!_xlnm.Print_Area,3,0),6,FALSE))","v":{"$error":"#REF!"}},{"$f":"IF(J111=\"\",\"\",VLOOKUP(A111,OFFSET([0]!_xlnm.Print_Area,3,0,,7),7,FALSE))","v":{"$error":"#REF!"}}," ",{"$f":"INDEX(#REF!,SMALL(IF(#REF!<>\"\",ROW(#REF!)),ROWS(I$1:I111)-1))","v":{"$error":"#REF!"}},{"$f":"INDEX(#REF!,SMALL(IF(#REF!<>\"\",ROW(#REF!)),ROWS(J$1:J111)-1))","v":{"$error":"#REF!"}},{"$f":"INDEX(#REF!,SMALL(IF(#REF!<>\"\",ROW(#REF!)),ROWS(K$1:K111)-1))","v":{"$error":"#REF!"}}]
[{"$error":"#REF!"},{"$error":"#REF!"},{"$error":"#REF!"},{"$f":"IF(J112=\"\",VLOOKUP(C112,OFFSET([0]!_xlnm.Print_Area,3,2),2,FALSE),VLOOKUP(A112,OFFSET([0]!_xlnm.Print_Area,3,0),4,FALSE))","v":{"$error":"#REF!"}},{"$f":"IF(J112=\"\",\"\",VLOOKUP(A112,OFFSET([0]!_xlnm.Print_Area,3,0),5,FALSE))","v":{"$error":"#REF!"}},{"$f":"IF(J112=\"\",\"\",VLOOKUP(A112,OFFSET([0]!_xlnm.Print_Area,3,0),6,FALSE))","v":{"$error":"#REF!"}},{"$f":"IF(J112=\"\",\"\",VLOOKUP(A112,OFFSET([0]!_xlnm.Print_Area,3,0,,7),7,FALSE))","v":{"$error":"#REF!"}}," ",{"$f":"INDEX(#REF!,SMALL(IF(#REF!<>\"\",ROW(#REF!)),ROWS(I$1:I112)-1))","v":{"$error":"#REF!"}},{"$f":"INDEX(#REF!,SMALL(IF(#REF!<>\"\",ROW(#REF!)),ROWS(J$1:J112)-1))","v":{"$error":"#REF!"}},{"$f":"INDEX(#REF!,SMALL(IF(#REF!<>\"\",ROW(#REF!)),ROWS(K$1:K112)-1))","v":{"$error":"#REF!"}}]
[{"$error":"#REF!"},{"$error":"#REF!"},{"$error":"#REF!"},{"$f":"IF(J113=\"\",VLOOKUP(C113,OFFSET([0]!_xlnm.Print_Area,3,2),2,FALSE),VLOOKUP(A113,OFFSET([0]!_xlnm.Print_Area,3,0),4,FALSE))","v":{"$error":"#REF!"}},{"$f":"IF(J113=\"\",\"\",VLOOKUP(A113,OFFSET([0]!_xlnm.Print_Area,3,0),5,FALSE))","v":{"$error":"#REF!"}},{"$f":"IF(J113=\"\",\"\",VLOOKUP(A113,OFFSET([0]!_xlnm.Print_Area,3,0),6,FALSE))","v":{"$error":"#REF!"}},{"$f":"IF(J113=\"\",\"\",VLOOKUP(A113,OFFSET([0]!_xlnm.Print_Area,3,0,,7),7,FALSE))","v":{"$error":"#REF!"}}," ",{"$f":"INDEX(#REF!,SMALL(IF(#REF!<>\"\",ROW(#REF!)),ROWS(I$1:I113)-1))","v":{"$error":"#REF!"}},{"$f":"INDEX(#REF!,SMALL(IF(#REF!<>\"\",ROW(#REF!)),ROWS(J$1:J113)-1))","v":{"$error":"#REF!"}},{"$f":"INDEX(#REF!,SMALL(IF(#REF!<>\"\",ROW(#REF!)),ROWS(K$1:K113)-1))","v":{"$error":"#REF!"}}]
[{"$error":"#REF!"},{"$error":"#REF!"},{"$error":"#REF!"},{"$f":"IF(J114=\"\",VLOOKUP(C114,OFFSET([0]!_xlnm.Print_Area,3,2),2,FALSE),VLOOKUP(A114,OFFSET([0]!_xlnm.Print_Area,3,0),4,FALSE))","v":{"$error":"#REF!"}},{"$f":"IF(J114=\"\",\"\",VLOOKUP(A114,OFFSET([0]!_xlnm.Print_Area,3,0),5,FALSE))","v":{"$error":"#REF!"}},{"$f":"IF(J114=\"\",\"\",VLOOKUP(A114,OFFSET([0]!_xlnm.Print_Area,3,0),6,FALSE))","v":{"$error":"#REF!"}},{"$f":"IF(J114=\"\",\"\",VLOOKUP(A114,OFFSET([0]!_xlnm.Print_Area,3,0,,7),7,FALSE))","v":{"$error":"#REF!"}}," ",{"$f":"INDEX(#REF!,SMALL(IF(#REF!<>\"\",ROW(#REF!)),ROWS(I$1:I114)-1))","v":{"$error":"#REF!"}},{"$f":"INDEX(#REF!,SMALL(IF(#REF!<>\"\",ROW(#REF!)),ROWS(J$1:J114)-1))","v":{"$error":"#REF!"}},{"$f":"INDEX(#REF!,SMALL(IF(#REF!<>\"\",ROW(#REF!)),ROWS(K$1:K114)-1))","v":{"$error":"#REF!"}}]
[{"$error":"#REF!"},{"$error":"#REF!"},{"$error":"#REF!"},{"$f":"IF(J115=\"\",VLOOKUP(C115,OFFSET([0]!_xlnm.Print_Area,3,2),2,FALSE),VLOOKUP(A115,OFFSET([0]!_xlnm.Print_Area,3,0),4,FALSE))","v":{"$error":"#REF!"}},{"$f":"IF(J115=\"\",\"\",VLOOKUP(A115,OFFSET([0]!_xlnm.Print_Area,3,0),5,FALSE))","v":{"$error":"#REF!"}},{"$f":"IF(J115=\"\",\"\",VLOOKUP(A115,OFFSET([0]!_xlnm.Print_Area,3,0),6,FALSE))","v":{"$error":"#REF!"}},{"$f":"IF(J115=\"\",\"\",VLOOKUP(A115,OFFSET([0]!_xlnm.Print_Area,3,0,,7),7,FALSE))","v":{"$error":"#REF!"}}," ",{"$f":"INDEX(#REF!,SMALL(IF(#REF!<>\"\",ROW(#REF!)),ROWS(I$1:I115)-1))","v":{"$error":"#REF!"}},{"$f":"INDEX(#REF!,SMALL(IF(#REF!<>\"\",ROW(#REF!)),ROWS(J$1:J115)-1))","v":{"$error":"#REF!"}},{"$f":"INDEX(#REF!,SMALL(IF(#REF!<>\"\",ROW(#REF!)),ROWS(K$1:K115)-1))","v":{"$error":"#REF!"}}]
[{"$error":"#REF!"},{"$error":"#REF!"},{"$error":"#REF!"},{"$f":"IF(J116=\"\",VLOOKUP(C116,OFFSET([0]!_xlnm.Print_Area,3,2),2,FALSE),VLOOKUP(A116,OFFSET([0]!_xlnm.Print_Area,3,0),4,FALSE))","v":{"$error":"#REF!"}},{"$f":"IF(J116=\"\",\"\",VLOOKUP(A116,OFFSET([0]!_xlnm.Print_Area,3,0),5,FALSE))","v":{"$error":"#REF!"}},{"$f":"IF(J116=\"\",\"\",VLOOKUP(A116,OFFSET([0]!_xlnm.Print_Area,3,0),6,FALSE))","v":{"$error":"#REF!"}},{"$f":"IF(J116=\"\",\"\",VLOOKUP(A116,OFFSET([0]!_xlnm.Print_Area,3,0,,7),7,FALSE))","v":{"$error":"#REF!"}}," ",{"$f":"INDEX(#REF!,SMALL(IF(#REF!<>\"\",ROW(#REF!)),ROWS(I$1:I116)-1))","v":{"$error":"#REF!"}},{"$f":"INDEX(#REF!,SMALL(IF(#REF!<>\"\",ROW(#REF!)),ROWS(J$1:J116)-1))","v":{"$error":"#REF!"}},{"$f":"INDEX(#REF!,SMALL(IF(#REF!<>\"\",ROW(#REF!)),ROWS(K$1:K116)-1))","v":{"$error":"#REF!"}}]
[{"$error":"#REF!"},{"$error":"#REF!"},{"$error":"#REF!"},{"$f":"IF(J117=\"\",VLOOKUP(C117,OFFSET([0]!_xlnm.Print_Area,3,2),2,FALSE),VLOOKUP(A117,OFFSET([0]!_xlnm.Print_Area,3,0),4,FALSE))","v":{"$error":"#REF!"}},{"$f":"IF(J117=\"\",\"\",VLOOKUP(A117,OFFSET([0]!_xlnm.Print_Area,3,0),5,FALSE))","v":{"$error":"#REF!"}},{"$f":"IF(J117=\"\",\"\",VLOOKUP(A117,OFFSET([0]!_xlnm.Print_Area,3,0),6,FALSE))","v":{"$error":"#REF!"}},{"$f":"IF(J117=\"\",\"\",VLOOKUP(A117,OFFSET([0]!_xlnm.Print_Area,3,0,,7),7,FALSE))","v":{"$error":"#REF!"}}," ",{"$f":"INDEX(#REF!,SMALL(IF(#REF!<>\"\",ROW(#REF!)),ROWS(I$1:I117)-1))","v":{"$error":"#REF!"}},{"$f":"INDEX(#REF!,SMALL(IF(#REF!<>\"\",ROW(#REF!)),ROWS(J$1:J117)-1))","v":{"$error":"#REF!"}},{"$f":"INDEX(#REF!,SMALL(IF(#REF!<>\"\",ROW(#REF!)),ROWS(K$1:K117)-1))","v":{"$error":"#REF!"}}]
[{"$error":"#REF!"},{"$error":"#REF!"},{"$error":"#REF!"},{"$f":"IF(J118=\"\",VLOOKUP(C118,OFFSET([0]!_xlnm.Print_Area,3,2),2,FALSE),VLOOKUP(A118,OFFSET([0]!_xlnm.Print_Area,3,0),4,FALSE))","v":{"$error":"#REF!"}},{"$f":"IF(J118=\"\",\"\",VLOOKUP(A118,OFFSET([0]!_xlnm.Print_Area,3,0),5,FALSE))","v":{"$error":"#REF!"}},{"$f":"IF(J118=\"\",\"\",VLOOKUP(A118,OFFSET([0]!_xlnm.Print_Area,3,0),6,FALSE))","v":{"$error":"#REF!"}},{"$f":"IF(J118=\"\",\"\",VLOOKUP(A118,OFFSET([0]!_xlnm.Print_Area,3,0,,7),7,FALSE))","v":{"$error":"#REF!"}}," ",{"$f":"INDEX(#REF!,SMALL(IF(#REF!<>\"\",ROW(#REF!)),ROWS(I$1:I118)-1))","v":{"$error":"#REF!"}},{"$f":"INDEX(#REF!,SMALL(IF(#REF!<>\"\",ROW(#REF!)),ROWS(J$1:J118)-1))","v":{"$error":"#REF!"}},{"$f":"INDEX(#REF!,SMALL(IF(#REF!<>\"\",ROW(#REF!)),ROWS(K$1:K118)-1))","v":{"$error":"#REF!"}}]
[{"$error":"#REF!"},{"$error":"#REF!"},{"$error":"#REF!"},{"$f":"IF(J119=\"\",VLOOKUP(C119,OFFSET([0]!_xlnm.Print_Area,3,2),2,FALSE),VLOOKUP(A119,OFFSET([0]!_xlnm.Print_Area,3,0),4,FALSE))","v":{"$error":"#REF!"}},{"$f":"IF(J119=\"\",\"\",VLOOKUP(A119,OFFSET([0]!_xlnm.Print_Area,3,0),5,FALSE))","v":{"$error":"#REF!"}},{"$f":"IF(J119=\"\",\"\",VLOOKUP(A119,OFFSET([0]!_xlnm.Print_Area,3,0),6,FALSE))","v":{"$error":"#REF!"}},{"$f":"IF(J119=\"\",\"\",VLOOKUP(A119,OFFSET([0]!_xlnm.Print_Area,3,0,,7),7,FALSE))","v":{"$error":"#REF!"}}," ",{"$f":"INDEX(#REF!,SMALL(IF(#REF!<>\"\",ROW(#REF!)),ROWS(I$1:I119)-1))","v":{"$error":"#REF!"}},{"$f":"INDEX(#REF!,SMALL(IF(#REF!<>\"\",ROW(#REF!)),ROWS(J$1:J119)-1))","v":{"$error":"#REF!"}},{"$f":"INDEX(#REF!,SMALL(IF(#REF!<>\"\",ROW(#REF!)),ROWS(K$1:K119)-1))","v":{"$error":"#REF!"}}]
[{"$error":"#REF!"},{"$error":"#REF!"},{"$error":"#REF!"},{"$f":"IF(J120=\"\",VLOOKUP(C120,OFFSET([0]!_xlnm.Print_Area,3,2),2,FALSE),VLOOKUP(A120,OFFSET([0]!_xlnm.Print_Area,3,0),4,FALSE))","v":{"$error":"#REF!"}},{"$f":"IF(J120=\"\",\"\",VLOOKUP(A120,OFFSET([0]!_xlnm.Print_Area,3,0),5,FALSE))","v":{"$error":"#REF!"}},{"$f":"IF(J120=\"\",\"\",VLOOKUP(A120,OFFSET([0]!_xlnm.Print_Area,3,0),6,FALSE))","v":{"$error":"#REF!"}},{"$f":"IF(J120=\"\",\"\",VLOOKUP(A120,OFFSET([0]!_xlnm.Print_Area,3,0,,7),7,FALSE))","v":{"$error":"#REF!"}}," ",{"$f":"INDEX(#REF!,SMALL(IF(#REF!<>\"\",ROW(#REF!)),ROWS(I$1:I120)-1))","v":{"$error":"#REF!"}},{"$f":"INDEX(#REF!,SMALL(IF(#REF!<>\"\",ROW(#REF!)),ROWS(J$1:J120)-1))","v":{"$error":"#REF!"}},{"$f":"INDEX(#REF!,SMALL(IF(#REF!<>\"\",ROW(#REF!)),ROWS(K$1:K120)-1))","v":{"$error":"#REF!"}}]
[{"$error":"#REF!"},{"$error":"#REF!"},{"$error":"#REF!"},{"$f":"IF(J121=\"\",VLOOKUP(C121,OFFSET([0]!_xlnm.Print_Area,3,2),2,FALSE),VLOOKUP(A121,OFFSET([0]!_xlnm.Print_Area,3,0),4,FALSE))","v":{"$error":"#REF!"}},{"$f":"IF(J121=\"\",\"\",VLOOKUP(A121,OFFSET([0]!_xlnm.Print_Area,3,0),5,FALSE))","v":{"$error":"#REF!"}},{"$f":"IF(J121=\"\",\"\",VLOOKUP(A121,OFFSET([0]!_xlnm.Print_Area,3,0),6,FALSE))","v":{"$error":"#REF!"}},{"$f":"IF(J121=\"\",\"\",VLOOKUP(A121,OFFSET([0]!_xlnm.Print_Area,3,0,,7),7,FALSE))","v":{"$error":"#REF!"}}," ",{"$f":"INDEX(#REF!,SMALL(IF(#REF!<>\"\",ROW(#REF!)),ROWS(I$1:I121)-1))","v":{"$error":"#REF!"}},{"$f":"INDEX(#REF!,SMALL(IF(#REF!<>\"\",ROW(#REF!)),ROWS(J$1:J121)-1))","v":{"$error":"#REF!"}},{"$f":"INDEX(#REF!,SMALL(IF(#REF!<>\"\",ROW(#REF!)),ROWS(K$1:K121)-1))","v":{"$error":"#REF!"}}]
[{"$error":"#REF!"},{"$error":"#REF!"},{"$error":"#REF!"},{"$f":"IF(J122=\"\",VLOOKUP(C122,OFFSET([0]!_xlnm.Print_Area,3,2),2,FALSE),VLOOKUP(A122,OFFSET([0]!_xlnm.Print_Area,3,0),4,FALSE))","v":{"$error":"#REF!"}},{"$f":"IF(J122=\"\",\"\",VLOOKUP(A122,OFFSET([0]!_xlnm.Print_Area,3,0),5,FALSE))","v":{"$error":"#REF!"}},{"$f":"IF(J122=\"\",\"\",VLOOKUP(A122,OFFSET([0]!_xlnm.Print_Area,3,0),6,FALSE))","v":{"$error":"#REF!"}},{"$f":"IF(J122=\"\",\"\",VLOOKUP(A122,OFFSET([0]!_xlnm.Print_Area,3,0,,7),7,FALSE))","v":{"$error":"#REF!"}}," ",{"$f":"INDEX(#REF!,SMALL(IF(#REF!<>\"\",ROW(#REF!)),ROWS(I$1:I122)-1))","v":{"$error":"#REF!"}},{"$f":"INDEX(#REF!,SMALL(IF(#REF!<>\"\",ROW(#REF!)),ROWS(J$1:J122)-1))","v":{"$error":"#REF!"}},{"$f":"INDEX(#REF!,SMALL(IF(#REF!<>\"\",ROW(#REF!)),ROWS(K$1:K122)-1))","v":{"$error":"#REF!"}}]
[{"$error":"#REF!"},{"$error":"#REF!"},{"$error":"#REF!"},{"$f":"IF(J123=\"\",VLOOKUP(C123,OFFSET([0]!_xlnm.Print_Area,3,2),2,FALSE),VLOOKUP(A123,OFFSET([0]!_xlnm.Print_Area,3,0),4,FALSE))","v":{"$error":"#REF!"}},{"$f":"IF(J123=\"\",\"\",VLOOKUP(A123,OFFSET([0]!_xlnm.Print_Area,3,0),5,FALSE))","v":{"$error":"#REF!"}},{"$f":"IF(J123=\"\",\"\",VLOOKUP(A123,OFFSET([0]!_xlnm.Print_Area,3,0),6,FALSE))","v":{"$error":"#REF!"}},{"$f":"IF(J123=\"\",\"\",VLOOKUP(A123,OFFSET([0]!_xlnm.Print_Area,3,0,,7),7,FALSE))","v":{"$error":"#REF!"}}," ",{"$f":"INDEX(#REF!,SMALL(IF(#REF!<>\"\",ROW(#REF!)),ROWS(I$1:I123)-1))","v":{"$error":"#REF!"}},{"$f":"INDEX(#REF!,SMALL(IF(#REF!<>\"\",ROW(#REF!)),ROWS(J$1:J123)-1))","v":{"$error":"#REF!"}},{"$f":"INDEX(#REF!,SMALL(IF(#REF!<>\"\",ROW(#REF!)),ROWS(K$1:K123)-1))","v":{"$error":"#REF!"}}]
[{"$error":"#REF!"},{"$error":"#REF!"},{"$error":"#REF!"},{"$f":"IF(J124=\"\",VLOOKUP(C124,OFFSET([0]!_xlnm.Print_Area,3,2),2,FALSE),VLOOKUP(A124,OFFSET([0]!_xlnm.Print_Area,3,0),4,FALSE))","v":{"$error":"#REF!"}},{"$f":"IF(J124=\"\",\"\",VLOOKUP(A124,OFFSET([0]!_xlnm.Print_Area,3,0),5,FALSE))","v":{"$error":"#REF!"}},{"$f":"IF(J124=\"\",\"\",VLOOKUP(A124,OFFSET([0]!_xlnm.Print_Area,3,0),6,FALSE))","v":{"$error":"#REF!"}},{"$f":"IF(J124=\"\",\"\",VLOOKUP(A124,OFFSET([0]!_xlnm.Print_Area,3,0,,7),7,FALSE))","v":{"$error":"#REF!"}}," ",{"$f":"INDEX(#REF!,SMALL(IF(#REF!<>\"\",ROW(#REF!)),ROWS(I$1:I124)-1))","v":{"$error":"#REF!"}},{"$f":"INDEX(#REF!,SMALL(IF(#REF!<>\"\",ROW(#REF!)),ROWS(J$1:J124)-1))","v":{"$error":"#REF!"}},{"$f":"INDEX(#REF!,SMALL(IF(#REF!<>\"\",ROW(#REF!)),ROWS(K$1:K124)-1))","v":{"$error":"#REF!"}}]
[{"$error":"#REF!"},{"$error":"#REF!"},{"$error":"#REF!"},{"$f":"IF(J125=\"\",VLOOKUP(C125,OFFSET([0]!_xlnm.Print_Area,3,2),2,FALSE),VLOOKUP(A125,OFFSET([0]!_xlnm.Print_Area,3,0),4,FALSE))","v":{"$error":"#REF!"}},{"$f":"IF(J125=\"\",\"\",VLOOKUP(A125,OFFSET([0]!_xlnm.Print_Area,3,0),5,FALSE))","v":{"$error":"#REF!"}},{"$f":"IF(J125=\"\",\"\",VLOOKUP(A125,OFFSET([0]!_xlnm.Print_Area,3,0),6,FALSE))","v":{"$error":"#REF!"}},{"$f":"IF(J125=\"\",\"\",VLOOKUP(A125,OFFSET([0]!_xlnm.Print_Area,3,0,,7),7,FALSE))","v":{"$error":"#REF!"}}," ",{"$f":"INDEX(#REF!,SMALL(IF(#REF!<>\"\",ROW(#REF!)),ROWS(I$1:I125)-1))","v":{"$error":"#REF!"}},{"$f":"INDEX(#REF!,SMALL(IF(#REF!<>\"\",ROW(#REF!)),ROWS(J$1:J125)-1))","v":{"$error":"#REF!"}},{"$f":"INDEX(#REF!,SMALL(IF(#REF!<>\"\",ROW(#REF!)),ROWS(K$1:K125)-1))","v":{"$error":"#REF!"}}]
[{"$error":"#REF!"},{"$error":"#REF!"},{"$error":"#REF!"},{"$f":"IF(J126=\"\",VLOOKUP(C126,OFFSET([0]!_xlnm.Print_Area,3,2),2,FALSE),VLOOKUP(A126,OFFSET([0]!_xlnm.Print_Area,3,0),4,FALSE))","v":{"$error":"#REF!"}},{"$f":"IF(J126=\"\",\"\",VLOOKUP(A126,OFFSET([0]!_xlnm.Print_Area,3,0),5,FALSE))","v":{"$error":"#REF!"}},{"$f":"IF(J126=\"\",\"\",VLOOKUP(A126,OFFSET([0]!_xlnm.Print_Area,3,0),6,FALSE))","v":{"$error":"#REF!"}},{"$f":"IF(J126=\"\",\"\",VLOOKUP(A126,OFFSET([0]!_xlnm.Print_Area,3,0,,7),7,FALSE))","v":{"$error":"#REF!"}}," ",{"$f":"INDEX(#REF!,SMALL(IF(#REF!<>\"\",ROW(#REF!)),ROWS(I$1:I126)-1))","v":{"$error":"#REF!"}},{"$f":"INDEX(#REF!,SMALL(IF(#REF!<>\"\",ROW(#REF!)),ROWS(J$1:J126)-1))","v":{"$error":"#REF!"}},{"$f":"INDEX(#REF!,SMALL(IF(#REF!<>\"\",ROW(#REF!)),ROWS(K$1:K126)-1))","v":{"$error":"#REF!"}}]
[{"$error":"#REF!"},{"$error":"#REF!"},{"$error":"#REF!"},{"$f":"IF(J127=\"\",VLOOKUP(C127,OFFSET([0]!_xlnm.Print_Area,3,2),2,FALSE),VLOOKUP(A127,OFFSET([0]!_xlnm.Print_Area,3,0),4,FALSE))","v":{"$error":"#REF!"}},{"$f":"IF(J127=\"\",\"\",VLOOKUP(A127,OFFSET([0]!_xlnm.Print_Area,3,0),5,FALSE))","v":{"$error":"#REF!"}},{"$f":"IF(J127=\"\",\"\",VLOOKUP(A127,OFFSET([0]!_xlnm.Print_Area,3,0),6,FALSE))","v":{"$error":"#REF!"}},{"$f":"IF(J127=\"\",\"\",VLOOKUP(A127,OFFSET([0]!_xlnm.Print_Area,3,0,,7),7,FALSE))","v":{"$error":"#REF!"}}," ",{"$f":"INDEX(#REF!,SMALL(IF(#REF!<>\"\",ROW(#REF!)),ROWS(I$1:I127)-1))","v":{"$error":"#REF!"}},{"$f":"INDEX(#REF!,SMALL(IF(#REF!<>\"\",ROW(#REF!)),ROWS(J$1:J127)-1))","v":{"$error":"#REF!"}},{"$f":"INDEX(#REF!,SMALL(IF(#REF!<>\"\",ROW(#REF!)),ROWS(K$1:K127)-1))","v":{"$error":"#REF!"}}]
[{"$error":"#REF!"},{"$error":"#REF!"},{"$error":"#REF!"},{"$f":"IF(J128=\"\",VLOOKUP(C128,OFFSET([0]!_xlnm.Print_Area,3,2),2,FALSE),VLOOKUP(A128,OFFSET([0]!_xlnm.Print_Area,3,0),4,FALSE))","v":{"$error":"#REF!"}},{"$f":"IF(J128=\"\",\"\",VLOOKUP(A128,OFFSET([0]!_xlnm.Print_Area,3,0),5,FALSE))","v":{"$error":"#REF!"}},{"$f":"IF(J128=\"\",\"\",VLOOKUP(A128,OFFSET([0]!_xlnm.Print_Area,3,0),6,FALSE))","v":{"$error":"#REF!"}},{"$f":"IF(J128=\"\",\"\",VLOOKUP(A128,OFFSET([0]!_xlnm.Print_Area,3,0,,7),7,FALSE))","v":{"$error":"#REF!"}}," ",{"$f":"INDEX(#REF!,SMALL(IF(#REF!<>\"\",ROW(#REF!)),ROWS(I$1:I128)-1))","v":{"$error":"#REF!"}},{"$f":"INDEX(#REF!,SMALL(IF(#REF!<>\"\",ROW(#REF!)),ROWS(J$1:J128)-1))","v":{"$error":"#REF!"}},{"$f":"INDEX(#REF!,SMALL(IF(#REF!<>\"\",ROW(#REF!)),ROWS(K$1:K128)-1))","v":{"$error":"#REF!"}}]
[{"$error":"#REF!"},{"$error":"#REF!"},{"$error":"#REF!"},{"$f":"IF(J129=\"\",VLOOKUP(C129,OFFSET([0]!_xlnm.Print_Area,3,2),2,FALSE),VLOOKUP(A129,OFFSET([0]!_xlnm.Print_Area,3,0),4,FALSE))","v":{"$error":"#REF!"}},{"$f":"IF(J129=\"\",\"\",VLOOKUP(A129,OFFSET([0]!_xlnm.Print_Area,3,0),5,FALSE))","v":{"$error":"#REF!"}},{"$f":"IF(J129=\"\",\"\",VLOOKUP(A129,OFFSET([0]!_xlnm.Print_Area,3,0),6,FALSE))","v":{"$error":"#REF!"}},{"$f":"IF(J129=\"\",\"\",VLOOKUP(A129,OFFSET([0]!_xlnm.Print_Area,3,0,,7),7,FALSE))","v":{"$error":"#REF!"}}," ",{"$f":"INDEX(#REF!,SMALL(IF(#REF!<>\"\",ROW(#REF!)),ROWS(I$1:I129)-1))","v":{"$error":"#REF!"}},{"$f":"INDEX(#REF!,SMALL(IF(#REF!<>\"\",ROW(#REF!)),ROWS(J$1:J129)-1))","v":{"$error":"#REF!"}},{"$f":"INDEX(#REF!,SMALL(IF(#REF!<>\"\",ROW(#REF!)),ROWS(K$1:K129)-1))","v":{"$error":"#REF!"}}]
[{"$error":"#REF!"},{"$error":"#REF!"},{"$error":"#REF!"},{"$f":"IF(J130=\"\",VLOOKUP(C130,OFFSET([0]!_xlnm.Print_Area,3,2),2,FALSE),VLOOKUP(A130,OFFSET([0]!_xlnm.Print_Area,3,0),4,FALSE))","v":{"$error":"#REF!"}},{"$f":"IF(J130=\"\",\"\",VLOOKUP(A130,OFFSET([0]!_xlnm.Print_Area,3,0),5,FALSE))","v":{"$error":"#REF!"}},{"$f":"IF(J130=\"\",\"\",VLOOKUP(A130,OFFSET([0]!_xlnm.Print_Area,3,0),6,FALSE))","v":{"$error":"#REF!"}},{"$f":"IF(J130=\"\",\"\",VLOOKUP(A130,OFFSET([0]!_xlnm.Print_Area,3,0,,7),7,FALSE))","v":{"$error":"#REF!"}}," ",{"$f":"INDEX(#REF!,SMALL(IF(#REF!<>\"\",ROW(#REF!)),ROWS(I$1:I130)-1))","v":{"$error":"#REF!"}},{"$f":"INDEX(#REF!,SMALL(IF(#REF!<>\"\",ROW(#REF!)),ROWS(J$1:J130)-1))","v":{"$error":"#REF!"}},{"$f":"INDEX(#REF!,SMALL(IF(#REF!<>\"\",ROW(#REF!)),ROWS(K$1:K130)-1))","v":{"$error":"#REF!"}}]
[{"$error":"#REF!"},{"$error":"#REF!"},{"$error":"#REF!"},{"$f":"IF(J131=\"\",VLOOKUP(C131,OFFSET([0]!_xlnm.Print_Area,3,2),2,FALSE),VLOOKUP(A131,OFFSET([0]!_xlnm.Print_Area,3,0),4,FALSE))","v":{"$error":"#REF!"}},{"$f":"IF(J131=\"\",\"\",VLOOKUP(A131,OFFSET([0]!_xlnm.Print_Area,3,0),5,FALSE))","v":{"$error":"#REF!"}},{"$f":"IF(J131=\"\",\"\",VLOOKUP(A131,OFFSET([0]!_xlnm.Print_Area,3,0),6,FALSE))","v":{"$error":"#REF!"}},{"$f":"IF(J131=\"\",\"\",VLOOKUP(A131,OFFSET([0]!_xlnm.Print_Area,3,0,,7),7,FALSE))","v":{"$error":"#REF!"}}," ",{"$f":"INDEX(#REF!,SMALL(IF(#REF!<>\"\",ROW(#REF!)),ROWS(I$1:I131)-1))","v":{"$error":"#REF!"}},{"$f":"INDEX(#REF!,SMALL(IF(#REF!<>\"\",ROW(#REF!)),ROWS(J$1:J131)-1))","v":{"$error":"#REF!"}},{"$f":"INDEX(#REF!,SMALL(IF(#REF!<>\"\",ROW(#REF!)),ROWS(K$1:K131)-1))","v":{"$error":"#REF!"}}]
[{"$error":"#REF!"},{"$error":"#REF!"},{"$error":"#REF!"},{"$f":"IF(J132=\"\",VLOOKUP(C132,OFFSET([0]!_xlnm.Print_Area,3,2),2,FALSE),VLOOKUP(A132,OFFSET([0]!_xlnm.Print_Area,3,0),4,FALSE))","v":{"$error":"#REF!"}},{"$f":"IF(J132=\"\",\"\",VLOOKUP(A132,OFFSET([0]!_xlnm.Print_Area,3,0),5,FALSE))","v":{"$error":"#REF!"}},{"$f":"IF(J132=\"\",\"\",VLOOKUP(A132,OFFSET([0]!_xlnm.Print_Area,3,0),6,FALSE))","v":{"$error":"#REF!"}},{"$f":"IF(J132=\"\",\"\",VLOOKUP(A132,OFFSET([0]!_xlnm.Print_Area,3,0,,7),7,FALSE))","v":{"$error":"#REF!"}}," ",{"$f":"INDEX(#REF!,SMALL(IF(#REF!<>\"\",ROW(#REF!)),ROWS(I$1:I132)-1))","v":{"$error":"#REF!"}},{"$f":"INDEX(#REF!,SMALL(IF(#REF!<>\"\",ROW(#REF!)),ROWS(J$1:J132)-1))","v":{"$error":"#REF!"}},{"$f":"INDEX(#REF!,SMALL(IF(#REF!<>\"\",ROW(#REF!)),ROWS(K$1:K132)-1))","v":{"$error":"#REF!"}}]
[{"$f":"IF(J133=0,\"\",J133)","v":{"$error":"#REF!"}},{"$f":"IF(K133=0,\"\",K133)","v":{"$error":"#REF!"}},{"$f":"I133","v":{"$error":"#REF!"}},{"$f":"IF(J133=\"\",VLOOKUP(C133,OFFSET([0]!_xlnm.Print_Area,3,2),2,FALSE),VLOOKUP(A133,OFFSET([0]!_xlnm.Print_Area,3,0),4,FALSE))","v":{"$error":"#REF!"}},{"$f":"IF(J133=\"\",\"\",VLOOKUP(A133,OFFSET([0]!_xlnm.Print_Area,3,0),5,FALSE))","v":{"$error":"#REF!"}},{"$f":"IF(J133=\"\",\"\",VLOOKUP(A133,OFFSET([0]!_xlnm.Print_Area,3,0),6,FALSE))","v":{"$error":"#REF!"}},{"$f":"IF(J133=\"\",\"\",VLOOKUP(A133,OFFSET([0]!_xlnm.Print_Area,3,0,,7),7,FALSE))","v":{"$error":"#REF!"}},{"$f":"IFERROR(ROUND(F133*G133,2),\" \")","v":" "},{"$f":"INDEX(#REF!,SMALL(IF(#REF!<>\"\",ROW(#REF!)),ROWS(I$1:I133)-1))","v":{"$error":"#REF!"}},{"$f":"INDEX(#REF!,SMALL(IF(#REF!<>\"\",ROW(#REF!)),ROWS(J$1:J133)-1))","v":{"$error":"#REF!"}},{"$f":"INDEX(#REF!,SMALL(IF(#REF!<>\"\",ROW(#REF!)),ROWS(K$1:K133)-1))","v":{"$error":"#REF!"}}]
[{"$error":"#REF!"},{"$error":"#REF!"},{"$error":"#REF!"},{"$f":"IF(J134=\"\",VLOOKUP(C134,OFFSET([0]!_xlnm.Print_Area,3,2),2,FALSE),VLOOKUP(A134,OFFSET([0]!_xlnm.Print_Area,3,0),4,FALSE))","v":{"$error":"#REF!"}},{"$f":"IF(J134=\"\",\"\",VLOOKUP(A134,OFFSET([0]!_xlnm.Print_Area,3,0),5,FALSE))","v":{"$error":"#REF!"}},{"$f":"IF(J134=\"\",\"\",VLOOKUP(A134,OFFSET([0]!_xlnm.Print_Area,3,0),6,FALSE))","v":{"$error":"#REF!"}},{"$f":"IF(J134=\"\",\"\",VLOOKUP(A134,OFFSET([0]!_xlnm.Print_Area,3,0,,7),7,FALSE))","v":{"$error":"#REF!"}}," ",{"$f":"INDEX(#REF!,SMALL(IF(#REF!<>\"\",ROW(#REF!)),ROWS(I$1:I134)-1))","v":{"$error":"#REF!"}},{"$f":"INDEX(#REF!,SMALL(IF(#REF!<>\"\",ROW(#REF!)),ROWS(J$1:J134)-1))","v":{"$error":"#REF!"}},{"$f":"INDEX(#REF!,SMALL(IF(#REF!<>\"\",ROW(#REF!)),ROWS(K$1:K134)-1))","v":{"$error":"#REF!"}}]
[{"$error":"#REF!"},{"$error":"#REF!"},{"$error":"#REF!"},{"$f":"IF(J135=\"\",VLOOKUP(C135,OFFSET([0]!_xlnm.Print_Area,3,2),2,FALSE),VLOOKUP(A135,OFFSET([0]!_xlnm.Print_Area,3,0),4,FALSE))","v":{"$error":"#REF!"}},{"$f":"IF(J135=\"\",\"\",VLOOKUP(A135,OFFSET([0]!_xlnm.Print_Area,3,0),5,FALSE))","v":{"$error":"#REF!"}},{"$f":"IF(J135=\"\",\"\",VLOOKUP(A135,OFFSET([0]!_xlnm.Print_Area,3,0),6,FALSE))","v":{"$error":"#REF!"}},{"$f":"IF(J135=\"\",\"\",VLOOKUP(A135,OFFSET([0]!_xlnm.Print_Area,3,0,,7),7,FALSE))","v":{"$error":"#REF!"}}," ",{"$f":"INDEX(#REF!,SMALL(IF(#REF!<>\"\",ROW(#REF!)),ROWS(I$1:I135)-1))","v":{"$error":"#REF!"}},{"$f":"INDEX(#REF!,SMALL(IF(#REF!<>\"\",ROW(#REF!)),ROWS(J$1:J135)-1))","v":{"$error":"#REF!"}},{"$f":"INDEX(#REF!,SMALL(IF(#REF!<>\"\",ROW(#REF!)),ROWS(K$1:K135)-1))","v":{"$error":"#REF!"}}]
[{"$error":"#REF!"},{"$error":"#REF!"},{"$error":"#REF!"},{"$f":"IF(J136=\"\",VLOOKUP(C136,OFFSET([0]!_xlnm.Print_Area,3,2),2,FALSE),VLOOKUP(A136,OFFSET([0]!_xlnm.Print_Area,3,0),4,FALSE))","v":{"$error":"#REF!"}},{"$f":"IF(J136=\"\",\"\",VLOOKUP(A136,OFFSET([0]!_xlnm.Print_Area,3,0),5,FALSE))","v":{"$error":"#REF!"}},{"$f":"IF(J136=\"\",\"\",VLOOKUP(A136,OFFSET([0]!_xlnm.Print_Area,3,0),6,FALSE))","v":{"$error":"#REF!"}},{"$f":"IF(J136=\"\",\"\",VLOOKUP(A136,OFFSET([0]!_xlnm.Print_Area,3,0,,7),7,FALSE))","v":{"$error":"#REF!"}}," ",{"$f":"INDEX(#REF!,SMALL(IF(#REF!<>\"\",ROW(#REF!)),ROWS(I$1:I136)-1))","v":{"$error":"#REF!"}},{"$f":"INDEX(#REF!,SMALL(IF(#REF!<>\"\",ROW(#REF!)),ROWS(J$1:J136)-1))","v":{"$error":"#REF!"}},{"$f":"INDEX(#REF!,SMALL(IF(#REF!<>\"\",ROW(#REF!)),ROWS(K$1:K136)-1))","v":{"$error":"#REF!"}}]
[{"$error":"#REF!"},{"$error":"#REF!"},{"$error":"#REF!"},{"$f":"IF(J137=\"\",VLOOKUP(C137,OFFSET([0]!_xlnm.Print_Area,3,2),2,FALSE),VLOOKUP(A137,OFFSET([0]!_xlnm.Print_Area,3,0),4,FALSE))","v":{"$error":"#REF!"}},{"$f":"IF(J137=\"\",\"\",VLOOKUP(A137,OFFSET([0]!_xlnm.Print_Area,3,0),5,FALSE))","v":{"$error":"#REF!"}},{"$f":"IF(J137=\"\",\"\",VLOOKUP(A137,OFFSET([0]!_xlnm.Print_Area,3,0),6,FALSE))","v":{"$error":"#REF!"}},{"$f":"IF(J137=\"\",\"\",VLOOKUP(A137,OFFSET([0]!_xlnm.Print_Area,3,0,,7),7,FALSE))","v":{"$error":"#REF!"}}," ",{"$f":"INDEX(#REF!,SMALL(IF(#REF!<>\"\",ROW(#REF!)),ROWS(I$1:I137)-1))","v":{"$error":"#REF!"}},{"$f":"INDEX(#REF!,SMALL(IF(#REF!<>\"\",ROW(#REF!)),ROWS(J$1:J137)-1))","v":{"$error":"#REF!"}},{"$f":"INDEX(#REF!,SMALL(IF(#REF!<>\"\",ROW(#REF!)),ROWS(K$1:K137)-1))","v":{"$error":"#REF!"}}]
[{"$error":"#REF!"},{"$error":"#REF!"},{"$error":"#REF!"},{"$f":"IF(J138=\"\",VLOOKUP(C138,OFFSET([0]!_xlnm.Print_Area,3,2),2,FALSE),VLOOKUP(A138,OFFSET([0]!_xlnm.Print_Area,3,0),4,FALSE))","v":{"$error":"#REF!"}},{"$f":"IF(J138=\"\",\"\",VLOOKUP(A138,OFFSET([0]!_xlnm.Print_Area,3,0),5,FALSE))","v":{"$error":"#REF!"}},{"$f":"IF(J138=\"\",\"\",VLOOKUP(A138,OFFSET([0]!_xlnm.Print_Area,3,0),6,FALSE))","v":{"$error":"#REF!"}},{"$f":"IF(J138=\"\",\"\",VLOOKUP(A138,OFFSET([0]!_xlnm.Print_Area,3,0,,7),7,FALSE))","v":{"$error":"#REF!"}}," ",{"$f":"INDEX(#REF!,SMALL(IF(#REF!<>\"\",ROW(#REF!)),ROWS(I$1:I138)-1))","v":{"$error":"#REF!"}},{"$f":"INDEX(#REF!,SMALL(IF(#REF!<>\"\",ROW(#REF!)),ROWS(J$1:J138)-1))","v":{"$error":"#REF!"}},{"$f":"INDEX(#REF!,SMALL(IF(#REF!<>\"\",ROW(#REF!)),ROWS(K$1:K138)-1))","v":{"$error":"#REF!"}}]
[{"$error":"#REF!"},{"$error":"#REF!"},{"$error":"#REF!"},{"$f":"IF(J139=\"\",VLOOKUP(C139,OFFSET([0]!_xlnm.Print_Area,3,2),2,FALSE),VLOOKUP(A139,OFFSET([0]!_xlnm.Print_Area,3,0),4,FALSE))","v":{"$error":"#REF!"}},{"$f":"IF(J139=\"\",\"\",VLOOKUP(A139,OFFSET([0]!_xlnm.Print_Area,3,0),5,FALSE))","v":{"$error":"#REF!"}},{"$f":"IF(J139=\"\",\"\",VLOOKUP(A139,OFFSET([0]!_xlnm.Print_Area,3,0),6,FALSE))","v":{"$error":"#REF!"}},{"$f":"IF(J139=\"\",\"\",VLOOKUP(A139,OFFSET([0]!_xlnm.Print_Area,3,0,,7),7,FALSE))","v":{"$error":"#REF!"}}," ",{"$f":"INDEX(#REF!,SMALL(IF(#REF!<>\"\",ROW(#REF!)),ROWS(I$1:I139)-1))","v":{"$error":"#REF!"}},{"$f":"INDEX(#REF!,SMALL(IF(#REF!<>\"\",ROW(#REF!)),ROWS(J$1:J139)-1))","v":{"$error":"#REF!"}},{"$f":"INDEX(#REF!,SMALL(IF(#REF!<>\"\",ROW(#REF!)),ROWS(K$1:K139)-1))","v":{"$error":"#REF!"}}]
[{"$error":"#REF!"},{"$error":"#REF!"},{"$error":"#REF!"},{"$f":"IF(J140=\"\",VLOOKUP(C140,OFFSET([0]!_xlnm.Print_Area,3,2),2,FALSE),VLOOKUP(A140,OFFSET([0]!_xlnm.Print_Area,3,0),4,FALSE))","v":{"$error":"#REF!"}},{"$f":"IF(J140=\"\",\"\",VLOOKUP(A140,OFFSET([0]!_xlnm.Print_Area,3,0),5,FALSE))","v":{"$error":"#REF!"}},{"$f":"IF(J140=\"\",\"\",VLOOKUP(A140,OFFSET([0]!_xlnm.Print_Area,3,0),6,FALSE))","v":{"$error":"#REF!"}},{"$f":"IF(J140=\"\",\"\",VLOOKUP(A140,OFFSET([0]!_xlnm.Print_Area,3,0,,7),7,FALSE))","v":{"$error":"#REF!"}}," ",{"$f":"INDEX(#REF!,SMALL(IF(#REF!<>\"\",ROW(#REF!)),ROWS(I$1:I140)-1))","v":{"$error":"#REF!"}},{"$f":"INDEX(#REF!,SMALL(IF(#REF!<>\"\",ROW(#REF!)),ROWS(J$1:J140)-1))","v":{"$error":"#REF!"}},{"$f":"INDEX(#REF!,SMALL(IF(#REF!<>\"\",ROW(#REF!)),ROWS(K$1:K140)-1))","v":{"$error":"#REF!"}}]
[{"$error":"#REF!"},{"$error":"#REF!"},{"$error":"#REF!"},{"$f":"IF(J141=\"\",VLOOKUP(C141,OFFSET([0]!_xlnm.Print_Area,3,2),2,FALSE),VLOOKUP(A141,OFFSET([0]!_xlnm.Print_Area,3,0),4,FALSE))","v":{"$error":"#REF!"}},{"$f":"IF(J141=\"\",\"\",VLOOKUP(A141,OFFSET([0]!_xlnm.Print_Area,3,0),5,FALSE))","v":{"$error":"#REF!"}},{"$f":"IF(J141=\"\",\"\",VLOOKUP(A141,OFFSET([0]!_xlnm.Print_Area,3,0),6,FALSE))","v":{"$error":"#REF!"}},{"$f":"IF(J141=\"\",\"\",VLOOKUP(A141,OFFSET([0]!_xlnm.Print_Area,3,0,,7),7,FALSE))","v":{"$error":"#REF!"}}," ",{"$f":"INDEX(#REF!,SMALL(IF(#REF!<>\"\",ROW(#REF!)),ROWS(I$1:I141)-1))","v":{"$error":"#REF!"}},{"$f":"INDEX(#REF!,SMALL(IF(#REF!<>\"\",ROW(#REF!)),ROWS(J$1:J141)-1))","v":{"$error":"#REF!"}},{"$f":"INDEX(#REF!,SMALL(IF(#REF!<>\"\",ROW(#REF!)),ROWS(K$1:K141)-1))","v":{"$error":"#REF!"}}]
[{"$error":"#REF!"},{"$error":"#REF!"},{"$error":"#REF!"},{"$f":"IF(J142=\"\",VLOOKUP(C142,OFFSET([0]!_xlnm.Print_Area,3,2),2,FALSE),VLOOKUP(A142,OFFSET([0]!_xlnm.Print_Area,3,0),4,FALSE))","v":{"$error":"#REF!"}},{"$f":"IF(J142=\"\",\"\",VLOOKUP(A142,OFFSET([0]!_xlnm.Print_Area,3,0),5,FALSE))","v":{"$error":"#REF!"}},{"$f":"IF(J142=\"\",\"\",VLOOKUP(A142,OFFSET([0]!_xlnm.Print_Area,3,0),6,FALSE))","v":{"$error":"#REF!"}},{"$f":"IF(J142=\"\",\"\",VLOOKUP(A142,OFFSET([0]!_xlnm.Print_Area,3,0,,7),7,FALSE))","v":{"$error":"#REF!"}}," ",{"$f":"INDEX(#REF!,SMALL(IF(#REF!<>\"\",ROW(#REF!)),ROWS(I$1:I142)-1))","v":{"$error":"#REF!"}},{"$f":"INDEX(#REF!,SMALL(IF(#REF!<>\"\",ROW(#REF!)),ROWS(J$1:J142)-1))","v":{"$error":"#REF!"}},{"$f":"INDEX(#REF!,SMALL(IF(#REF!<>\"\",ROW(#REF!)),ROWS(K$1:K142)-1))","v":{"$error":"#REF!"}}]
[{"$error":"#REF!"},{"$error":"#REF!"},{"$error":"#REF!"},{"$f":"IF(J143=\"\",VLOOKUP(C143,OFFSET([0]!_xlnm.Print_Area,3,2),2,FALSE),VLOOKUP(A143,OFFSET([0]!_xlnm.Print_Area,3,0),4,FALSE))","v":{"$error":"#REF!"}},{"$f":"IF(J143=\"\",\"\",VLOOKUP(A143,OFFSET([0]!_xlnm.Print_Area,3,0),5,FALSE))","v":{"$error":"#REF!"}},{"$f":"IF(J143=\"\",\"\",VLOOKUP(A143,OFFSET([0]!_xlnm.Print_Area,3,0),6,FALSE))","v":{"$error":"#REF!"}},{"$f":"IF(J143=\"\",\"\",VLOOKUP(A143,OFFSET([0]!_xlnm.Print_Area,3,0,,7),7,FALSE))","v":{"$error":"#REF!"}}," ",{"$f":"INDEX(#REF!,SMALL(IF(#REF!<>\"\",ROW(#REF!)),ROWS(I$1:I143)-1))","v":{"$error":"#REF!"}},{"$f":"INDEX(#REF!,SMALL(IF(#REF!<>\"\",ROW(#REF!)),ROWS(J$1:J143)-1))","v":{"$error":"#REF!"}},{"$f":"INDEX(#REF!,SMALL(IF(#REF!<>\"\",ROW(#REF!)),ROWS(K$1:K143)-1))","v":{"$error":"#REF!"}}]
[{"$error":"#REF!"},{"$error":"#REF!"},{"$error":"#REF!"},{"$f":"IF(J144=\"\",VLOOKUP(C144,OFFSET([0]!_xlnm.Print_Area,3,2),2,FALSE),VLOOKUP(A144,OFFSET([0]!_xlnm.Print_Area,3,0),4,FALSE))","v":{"$error":"#REF!"}},{"$f":"IF(J144=\"\",\"\",VLOOKUP(A144,OFFSET([0]!_xlnm.Print_Area,3,0),5,FALSE))","v":{"$error":"#REF!"}},{"$f":"IF(J144=\"\",\"\",VLOOKUP(A144,OFFSET([0]!_xlnm.Print_Area,3,0),6,FALSE))","v":{"$error":"#REF!"}},{"$f":"IF(J144=\"\",\"\",VLOOKUP(A144,OFFSET([0]!_xlnm.Print_Area,3,0,,7),7,FALSE))","v":{"$error":"#REF!"}}," ",{"$f":"INDEX(#REF!,SMALL(IF(#REF!<>\"\",ROW(#REF!)),ROWS(I$1:I144)-1))","v":{"$error":"#REF!"}},{"$f":"INDEX(#REF!,SMALL(IF(#REF!<>\"\",ROW(#REF!)),ROWS(J$1:J144)-1))","v":{"$error":"#REF!"}},{"$f":"INDEX(#REF!,SMALL(IF(#REF!<>\"\",ROW(#REF!)),ROWS(K$1:K144)-1))","v":{"$error":"#REF!"}}]
[{"$error":"#REF!"},{"$error":"#REF!"},{"$error":"#REF!"},{"$f":"IF(J145=\"\",VLOOKUP(C145,OFFSET([0]!_xlnm.Print_Area,3,2),2,FALSE),VLOOKUP(A145,OFFSET([0]!_xlnm.Print_Area,3,0),4,FALSE))","v":{"$error":"#REF!"}},{"$f":"IF(J145=\"\",\"\",VLOOKUP(A145,OFFSET([0]!_xlnm.Print_Area,3,0),5,FALSE))","v":{"$error":"#REF!"}},{"$f":"IF(J145=\"\",\"\",VLOOKUP(A145,OFFSET([0]!_xlnm.Print_Area,3,0),6,FALSE))","v":{"$error":"#REF!"}},{"$f":"IF(J145=\"\",\"\",VLOOKUP(A145,OFFSET([0]!_xlnm.Print_Area,3,0,,7),7,FALSE))","v":{"$error":"#REF!"}}," ",{"$f":"INDEX(#REF!,SMALL(IF(#REF!<>\"\",ROW(#REF!)),ROWS(I$1:I145)-1))","v":{"$error":"#REF!"}},{"$f":"INDEX(#REF!,SMALL(IF(#REF!<>\"\",ROW(#REF!)),ROWS(J$1:J145)-1))","v":{"$error":"#REF!"}},{"$f":"INDEX(#REF!,SMALL(IF(#REF!<>\"\",ROW(#REF!)),ROWS(K$1:K145)-1))","v":{"$error":"#REF!"}}]
[{"$error":"#REF!"},{"$error":"#REF!"},{"$error":"#REF!"},{"$f":"IF(J146=\"\",VLOOKUP(C146,OFFSET([0]!_xlnm.Print_Area,3,2),2,FALSE),VLOOKUP(A146,OFFSET([0]!_xlnm.Print_Area,3,0),4,FALSE))","v":{"$error":"#REF!"}},{"$f":"IF(J146=\"\",\"\",VLOOKUP(A146,OFFSET([0]!_xlnm.Print_Area,3,0),5,FALSE))","v":{"$error":"#REF!"}},{"$f":"IF(J146=\"\",\"\",VLOOKUP(A146,OFFSET([0]!_xlnm.Print_Area,3,0),6,FALSE))","v":{"$error":"#REF!"}},{"$f":"IF(J146=\"\",\"\",VLOOKUP(A146,OFFSET([0]!_xlnm.Print_Area,3,0,,7),7,FALSE))","v":{"$error":"#REF!"}}," ",{"$f":"INDEX(#REF!,SMALL(IF(#REF!<>\"\",ROW(#REF!)),ROWS(I$1:I146)-1))","v":{"$error":"#REF!"}},{"$f":"INDEX(#REF!,SMALL(IF(#REF!<>\"\",ROW(#REF!)),ROWS(J$1:J146)-1))","v":{"$error":"#REF!"}},{"$f":"INDEX(#REF!,SMALL(IF(#REF!<>\"\",ROW(#REF!)),ROWS(K$1:K146)-1))","v":{"$error":"#REF!"}}]
[{"$error":"#REF!"},{"$error":"#REF!"},{"$error":"#REF!"},{"$f":"IF(J147=\"\",VLOOKUP(C147,OFFSET([0]!_xlnm.Print_Area,3,2),2,FALSE),VLOOKUP(A147,OFFSET([0]!_xlnm.Print_Area,3,0),4,FALSE))","v":{"$error":"#REF!"}},{"$f":"IF(J147=\"\",\"\",VLOOKUP(A147,OFFSET([0]!_xlnm.Print_Area,3,0),5,FALSE))","v":{"$error":"#REF!"}},{"$f":"IF(J147=\"\",\"\",VLOOKUP(A147,OFFSET([0]!_xlnm.Print_Area,3,0),6,FALSE))","v":{"$error":"#REF!"}},{"$f":"IF(J147=\"\",\"\",VLOOKUP(A147,OFFSET([0]!_xlnm.Print_Area,3,0,,7),7,FALSE))","v":{"$error":"#REF!"}}," ",{"$f":"INDEX(#REF!,SMALL(IF(#REF!<>\"\",ROW(#REF!)),ROWS(I$1:I147)-1))","v":{"$error":"#REF!"}},{"$f":"INDEX(#REF!,SMALL(IF(#REF!<>\"\",ROW(#REF!)),ROWS(J$1:J147)-1))","v":{"$error":"#REF!"}},{"$f":"INDEX(#REF!,SMALL(IF(#REF!<>\"\",ROW(#REF!)),ROWS(K$1:K147)-1))","v":{"$error":"#REF!"}}]
[{"$error":"#REF!"},{"$error":"#REF!"},{"$error":"#REF!"},{"$f":"IF(J148=\"\",VLOOKUP(C148,OFFSET([0]!_xlnm.Print_Area,3,2),2,FALSE),VLOOKUP(A148,OFFSET([0]!_xlnm.Print_Area,3,0),4,FALSE))","v":{"$error":"#REF!"}},{"$f":"IF(J148=\"\",\"\",VLOOKUP(A148,OFFSET([0]!_xlnm.Print_Area,3,0),5,FALSE))","v":{"$error":"#REF!"}},{"$f":"IF(J148=\"\",\"\",VLOOKUP(A148,OFFSET([0]!_xlnm.Print_Area,3,0),6,FALSE))","v":{"$error":"#REF!"}},{"$f":"IF(J148=\"\",\"\",VLOOKUP(A148,OFFSET([0]!_xlnm.Print_Area,3,0,,7),7,FALSE))","v":{"$error":"#REF!"}}," ",{"$f":"INDEX(#REF!,SMALL(IF(#REF!<>\"\",ROW(#REF!)),ROWS(I$1:I148)-1))","v":{"$error":"#REF!"}},{"$f":"INDEX(#REF!,SMALL(IF(#REF!<>\"\",ROW(#REF!)),ROWS(J$1:J148)-1))","v":{"$error":"#REF!"}},{"$f":"INDEX(#REF!,SMALL(IF(#REF!<>\"\",ROW(#REF!)),ROWS(K$1:K148)-1))","v":{"$error":"#REF!"}}]
[{"$error":"#REF!"},{"$error":"#REF!"},{"$error":"#REF!"},{"$f":"IF(J149=\"\",VLOOKUP(C149,OFFSET([0]!_xlnm.Print_Area,3,2),2,FALSE),VLOOKUP(A149,OFFSET([0]!_xlnm.Print_Area,3,0),4,FALSE))","v":{"$error":"#REF!"}},{"$f":"IF(J149=\"\",\"\",VLOOKUP(A149,OFFSET([0]!_xlnm.Print_Area,3,0),5,FALSE))","v":{"$error":"#REF!"}},{"$f":"IF(J149=\"\",\"\",VLOOKUP(A149,OFFSET([0]!_xlnm.Print_Area,3,0),6,FALSE))","v":{"$error":"#REF!"}},{"$f":"IF(J149=\"\",\"\",VLOOKUP(A149,OFFSET([0]!_xlnm.Print_Area,3,0,,7),7,FALSE))","v":{"$error":"#REF!"}}," ",{"$f":"INDEX(#REF!,SMALL(IF(#REF!<>\"\",ROW(#REF!)),ROWS(I$1:I149)-1))","v":{"$error":"#REF!"}},{"$f":"INDEX(#REF!,SMALL(IF(#REF!<>\"\",ROW(#REF!)),ROWS(J$1:J149)-1))","v":{"$error":"#REF!"}},{"$f":"INDEX(#REF!,SMALL(IF(#REF!<>\"\",ROW(#REF!)),ROWS(K$1:K149)-1))","v":{"$error":"#REF!"}}]
[{"$error":"#REF!"},{"$error":"#REF!"},{"$error":"#REF!"},{"$f":"IF(J150=\"\",VLOOKUP(C150,OFFSET([0]!_xlnm.Print_Area,3,2),2,FALSE),VLOOKUP(A150,OFFSET([0]!_xlnm.Print_Area,3,0),4,FALSE))","v":{"$error":"#REF!"}},{"$f":"IF(J150=\"\",\"\",VLOOKUP(A150,OFFSET([0]!_xlnm.Print_Area,3,0),5,FALSE))","v":{"$error":"#REF!"}},{"$f":"IF(J150=\"\",\"\",VLOOKUP(A150,OFFSET([0]!_xlnm.Print_Area,3,0),6,FALSE))","v":{"$error":"#REF!"}},{"$f":"IF(J150=\"\",\"\",VLOOKUP(A150,OFFSET([0]!_xlnm.Print_Area,3,0,,7),7,FALSE))","v":{"$error":"#REF!"}}," ",{"$f":"INDEX(#REF!,SMALL(IF(#REF!<>\"\",ROW(#REF!)),ROWS(I$1:I150)-1))","v":{"$error":"#REF!"}},{"$f":"INDEX(#REF!,SMALL(IF(#REF!<>\"\",ROW(#REF!)),ROWS(J$1:J150)-1))","v":{"$error":"#REF!"}},{"$f":"INDEX(#REF!,SMALL(IF(#REF!<>\"\",ROW(#REF!)),ROWS(K$1:K150)-1))","v":{"$error":"#REF!"}}]
[{"$error":"#REF!"},{"$error":"#REF!"},{"$error":"#REF!"},{"$f":"IF(J151=\"\",VLOOKUP(C151,OFFSET([0]!_xlnm.Print_Area,3,2),2,FALSE),VLOOKUP(A151,OFFSET([0]!_xlnm.Print_Area,3,0),4,FALSE))","v":{"$error":"#REF!"}},{"$f":"IF(J151=\"\",\"\",VLOOKUP(A151,OFFSET([0]!_xlnm.Print_Area,3,0),5,FALSE))","v":{"$error":"#REF!"}},{"$f":"IF(J151=\"\",\"\",VLOOKUP(A151,OFFSET([0]!_xlnm.Print_Area,3,0),6,FALSE))","v":{"$error":"#REF!"}},{"$f":"IF(J151=\"\",\"\",VLOOKUP(A151,OFFSET([0]!_xlnm.Print_Area,3,0,,7),7,FALSE))","v":{"$error":"#REF!"}}," ",{"$f":"INDEX(#REF!,SMALL(IF(#REF!<>\"\",ROW(#REF!)),ROWS(I$1:I151)-1))","v":{"$error":"#REF!"}},{"$f":"INDEX(#REF!,SMALL(IF(#REF!<>\"\",ROW(#REF!)),ROWS(J$1:J151)-1))","v":{"$error":"#REF!"}},{"$f":"INDEX(#REF!,SMALL(IF(#REF!<>\"\",ROW(#REF!)),ROWS(K$1:K151)-1))","v":{"$error":"#REF!"}}]
[{"$error":"#REF!"},{"$error":"#REF!"},{"$error":"#REF!"},{"$f":"IF(J152=\"\",VLOOKUP(C152,OFFSET([0]!_xlnm.Print_Area,3,2),2,FALSE),VLOOKUP(A152,OFFSET([0]!_xlnm.Print_Area,3,0),4,FALSE))","v":{"$error":"#REF!"}},{"$f":"IF(J152=\"\",\"\",VLOOKUP(A152,OFFSET([0]!_xlnm.Print_Area,3,0),5,FALSE))","v":{"$error":"#REF!"}},{"$f":"IF(J152=\"\",\"\",VLOOKUP(A152,OFFSET([0]!_xlnm.Print_Area,3,0),6,FALSE))","v":{"$error":"#REF!"}},{"$f":"IF(J152=\"\",\"\",VLOOKUP(A152,OFFSET([0]!_xlnm.Print_Area,3,0,,7),7,FALSE))","v":{"$error":"#REF!"}}," ",{"$f":"INDEX(#REF!,SMALL(IF(#REF!<>\"\",ROW(#REF!)),ROWS(I$1:I152)-1))","v":{"$error":"#REF!"}},{"$f":"INDEX(#REF!,SMALL(IF(#REF!<>\"\",ROW(#REF!)),ROWS(J$1:J152)-1))","v":{"$error":"#REF!"}},{"$f":"INDEX(#REF!,SMALL(IF(#REF!<>\"\",ROW(#REF!)),ROWS(K$1:K152)-1))","v":{"$error":"#REF!"}}]
[{"$error":"#REF!"},{"$error":"#REF!"},{"$error":"#REF!"},{"$f":"IF(J153=\"\",VLOOKUP(C153,OFFSET([0]!_xlnm.Print_Area,3,2),2,FALSE),VLOOKUP(A153,OFFSET([0]!_xlnm.Print_Area,3,0),4,FALSE))","v":{"$error":"#REF!"}},{"$f":"IF(J153=\"\",\"\",VLOOKUP(A153,OFFSET([0]!_xlnm.Print_Area,3,0),5,FALSE))","v":{"$error":"#REF!"}},{"$f":"IF(J153=\"\",\"\",VLOOKUP(A153,OFFSET([0]!_xlnm.Print_Area,3,0),6,FALSE))","v":{"$error":"#REF!"}},{"$f":"IF(J153=\"\",\"\",VLOOKUP(A153,OFFSET([0]!_xlnm.Print_Area,3,0,,7),7,FALSE))","v":{"$error":"#REF!"}}," ",{"$f":"INDEX(#REF!,SMALL(IF(#REF!<>\"\",ROW(#REF!)),ROWS(I$1:I153)-1))","v":{"$error":"#REF!"}},{"$f":"INDEX(#REF!,SMALL(IF(#REF!<>\"\",ROW(#REF!)),ROWS(J$1:J153)-1))","v":{"$error":"#REF!"}},{"$f":"INDEX(#REF!,SMALL(IF(#REF!<>\"\",ROW(#REF!)),ROWS(K$1:K153)-1))","v":{"$error":"#REF!"}}]
[{"$error":"#REF!"},{"$error":"#REF!"},{"$error":"#REF!"},{"$f":"IF(J154=\"\",VLOOKUP(C154,OFFSET([0]!_xlnm.Print_Area,3,2),2,FALSE),VLOOKUP(A154,OFFSET([0]!_xlnm.Print_Area,3,0),4,FALSE))","v":{"$error":"#REF!"}},{"$f":"IF(J154=\"\",\"\",VLOOKUP(A154,OFFSET([0]!_xlnm.Print_Area,3,0),5,FALSE))","v":{"$error":"#REF!"}},{"$f":"IF(J154=\"\",\"\",VLOOKUP(A154,OFFSET([0]!_xlnm.Print_Area,3,0),6,FALSE))","v":{"$error":"#REF!"}},{"$f":"IF(J154=\"\",\"\",VLOOKUP(A154,OFFSET([0]!_xlnm.Print_Area,3,0,,7),7,FALSE))","v":{"$error":"#REF!"}}," ",{"$f":"INDEX(#REF!,SMALL(IF(#REF!<>\"\",ROW(#REF!)),ROWS(I$1:I154)-1))","v":{"$error":"#REF!"}},{"$f":"INDEX(#REF!,SMALL(IF(#REF!<>\"\",ROW(#REF!)),ROWS(J$1:J154)-1))","v":{"$error":"#REF!"}},{"$f":"INDEX(#REF!,SMALL(IF(#REF!<>\"\",ROW(#REF!)),ROWS(K$1:K154)-1))","v":{"$error":"#REF!"}}]
[{"$error":"#REF!"},{"$error":"#REF!"},{"$error":"#REF!"},{"$f":"IF(J155=\"\",VLOOKUP(C155,OFFSET([0]!_xlnm.Print_Area,3,2),2,FALSE),VLOOKUP(A155,OFFSET([0]!_xlnm.Print_Area,3,0),4,FALSE))","v":{"$error":"#REF!"}},{"$f":"IF(J155=\"\",\"\",VLOOKUP(A155,OFFSET([0]!_xlnm.Print_Area,3,0),5,FALSE))","v":{"$error":"#REF!"}},{"$f":"IF(J155=\"\",\"\",VLOOKUP(A155,OFFSET([0]!_xlnm.Print_Area,3,0),6,FALSE))","v":{"$error":"#REF!"}},{"$f":"IF(J155=\"\",\"\",VLOOKUP(A155,OFFSET([0]!_xlnm.Print_Area,3,0,,7),7,FALSE))","v":{"$error":"#REF!"}}," ",{"$f":"INDEX(#REF!,SMALL(IF(#REF!<>\"\",ROW(#REF!)),ROWS(I$1:I155)-1))","v":{"$error":"#REF!"}},{"$f":"INDEX(#REF!,SMALL(IF(#REF!<>\"\",ROW(#REF!)),ROWS(J$1:J155)-1))","v":{"$error":"#REF!"}},{"$f":"INDEX(#REF!,SMALL(IF(#REF!<>\"\",ROW(#REF!)),ROWS(K$1:K155)-1))","v":{"$error":"#REF!"}}]
[{"$error":"#REF!"},{"$error":"#REF!"},{"$error":"#REF!"},{"$f":"IF(J156=\"\",VLOOKUP(C156,OFFSET([0]!_xlnm.Print_Area,3,2),2,FALSE),VLOOKUP(A156,OFFSET([0]!_xlnm.Print_Area,3,0),4,FALSE))","v":{"$error":"#REF!"}},{"$f":"IF(J156=\"\",\"\",VLOOKUP(A156,OFFSET([0]!_xlnm.Print_Area,3,0),5,FALSE))","v":{"$error":"#REF!"}},{"$f":"IF(J156=\"\",\"\",VLOOKUP(A156,OFFSET([0]!_xlnm.Print_Area,3,0),6,FALSE))","v":{"$error":"#REF!"}},{"$f":"IF(J156=\"\",\"\",VLOOKUP(A156,OFFSET([0]!_xlnm.Print_Area,3,0,,7),7,FALSE))","v":{"$error":"#REF!"}}," ",{"$f":"INDEX(#REF!,SMALL(IF(#REF!<>\"\",ROW(#REF!)),ROWS(I$1:I156)-1))","v":{"$error":"#REF!"}},{"$f":"INDEX(#REF!,SMALL(IF(#REF!<>\"\",ROW(#REF!)),ROWS(J$1:J156)-1))","v":{"$error":"#REF!"}},{"$f":"INDEX(#REF!,SMALL(IF(#REF!<>\"\",ROW(#REF!)),ROWS(K$1:K156)-1))","v":{"$error":"#REF!"}}]
[{"$error":"#REF!"},{"$error":"#REF!"},{"$error":"#REF!"},{"$f":"IF(J157=\"\",VLOOKUP(C157,OFFSET([0]!_xlnm.Print_Area,3,2),2,FALSE),VLOOKUP(A157,OFFSET([0]!_xlnm.Print_Area,3,0),4,FALSE))","v":{"$error":"#REF!"}},{"$f":"IF(J157=\"\",\"\",VLOOKUP(A157,OFFSET([0]!_xlnm.Print_Area,3,0),5,FALSE))","v":{"$error":"#REF!"}},{"$f":"IF(J157=\"\",\"\",VLOOKUP(A157,OFFSET([0]!_xlnm.Print_Area,3,0),6,FALSE))","v":{"$error":"#REF!"}},{"$f":"IF(J157=\"\",\"\",VLOOKUP(A157,OFFSET([0]!_xlnm.Print_Area,3,0,,7),7,FALSE))","v":{"$error":"#REF!"}}," ",{"$f":"INDEX(#REF!,SMALL(IF(#REF!<>\"\",ROW(#REF!)),ROWS(I$1:I157)-1))","v":{"$error":"#REF!"}},{"$f":"INDEX(#REF!,SMALL(IF(#REF!<>\"\",ROW(#REF!)),ROWS(J$1:J157)-1))","v":{"$error":"#REF!"}},{"$f":"INDEX(#REF!,SMALL(IF(#REF!<>\"\",ROW(#REF!)),ROWS(K$1:K157)-1))","v":{"$error":"#REF!"}}]
[{"$error":"#REF!"},{"$error":"#REF!"},{"$error":"#REF!"},{"$f":"IF(J158=\"\",VLOOKUP(C158,OFFSET([0]!_xlnm.Print_Area,3,2),2,FALSE),VLOOKUP(A158,OFFSET([0]!_xlnm.Print_Area,3,0),4,FALSE))","v":{"$error":"#REF!"}},{"$f":"IF(J158=\"\",\"\",VLOOKUP(A158,OFFSET([0]!_xlnm.Print_Area,3,0),5,FALSE))","v":{"$error":"#REF!"}},{"$f":"IF(J158=\"\",\"\",VLOOKUP(A158,OFFSET([0]!_xlnm.Print_Area,3,0),6,FALSE))","v":{"$error":"#REF!"}},{"$f":"IF(J158=\"\",\"\",VLOOKUP(A158,OFFSET([0]!_xlnm.Print_Area,3,0,,7),7,FALSE))","v":{"$error":"#REF!"}}," ",{"$f":"INDEX(#REF!,SMALL(IF(#REF!<>\"\",ROW(#REF!)),ROWS(I$1:I158)-1))","v":{"$error":"#REF!"}},{"$f":"INDEX(#REF!,SMALL(IF(#REF!<>\"\",ROW(#REF!)),ROWS(J$1:J158)-1))","v":{"$error":"#REF!"}},{"$f":"INDEX(#REF!,SMALL(IF(#REF!<>\"\",ROW(#REF!)),ROWS(K$1:K158)-1))","v":{"$error":"#REF!"}}]
[{"$error":"#REF!"},{"$error":"#REF!"},{"$error":"#REF!"},{"$f":"IF(J159=\"\",VLOOKUP(C159,OFFSET([0]!_xlnm.Print_Area,3,2),2,FALSE),VLOOKUP(A159,OFFSET([0]!_xlnm.Print_Area,3,0),4,FALSE))","v":{"$error":"#REF!"}},{"$f":"IF(J159=\"\",\"\",VLOOKUP(A159,OFFSET([0]!_xlnm.Print_Area,3,0),5,FALSE))","v":{"$error":"#REF!"}},{"$f":"IF(J159=\"\",\"\",VLOOKUP(A159,OFFSET([0]!_xlnm.Print_Area,3,0),6,FALSE))","v":{"$error":"#REF!"}},{"$f":"IF(J159=\"\",\"\",VLOOKUP(A159,OFFSET([0]!_xlnm.Print_Area,3,0,,7),7,FALSE))","v":{"$error":"#REF!"}}," ",{"$f":"INDEX(#REF!,SMALL(IF(#REF!<>\"\",ROW(#REF!)),ROWS(I$1:I159)-1))","v":{"$error":"#REF!"}},{"$f":"INDEX(#REF!,SMALL(IF(#REF!<>\"\",ROW(#REF!)),ROWS(J$1:J159)-1))","v":{"$error":"#REF!"}},{"$f":"INDEX(#REF!,SMALL(IF(#REF!<>\"\",ROW(#REF!)),ROWS(K$1:K159)-1))","v":{"$error":"#REF!"}}]
[{"$error":"#REF!"},{"$error":"#REF!"},{"$error":"#REF!"},{"$f":"IF(J160=\"\",VLOOKUP(C160,OFFSET([0]!_xlnm.Print_Area,3,2),2,FALSE),VLOOKUP(A160,OFFSET([0]!_xlnm.Print_Area,3,0),4,FALSE))","v":{"$error":"#REF!"}},{"$f":"IF(J160=\"\",\"\",VLOOKUP(A160,OFFSET([0]!_xlnm.Print_Area,3,0),5,FALSE))","v":{"$error":"#REF!"}},{"$f":"IF(J160=\"\",\"\",VLOOKUP(A160,OFFSET([0]!_xlnm.Print_Area,3,0),6,FALSE))","v":{"$error":"#REF!"}},{"$f":"IF(J160=\"\",\"\",VLOOKUP(A160,OFFSET([0]!_xlnm.Print_Area,3,0,,7),7,FALSE))","v":{"$error":"#REF!"}}," ",{"$f":"INDEX(#REF!,SMALL(IF(#REF!<>\"\",ROW(#REF!)),ROWS(I$1:I160)-1))","v":{"$error":"#REF!"}},{"$f":"INDEX(#REF!,SMALL(IF(#REF!<>\"\",ROW(#REF!)),ROWS(J$1:J160)-1))","v":{"$error":"#REF!"}},{"$f":"INDEX(#REF!,SMALL(IF(#REF!<>\"\",ROW(#REF!)),ROWS(K$1:K160)-1))","v":{"$error":"#REF!"}}]
[{"$error":"#REF!"},{"$error":"#REF!"},{"$error":"#REF!"},{"$f":"IF(J161=\"\",VLOOKUP(C161,OFFSET([0]!_xlnm.Print_Area,3,2),2,FALSE),VLOOKUP(A161,OFFSET([0]!_xlnm.Print_Area,3,0),4,FALSE))","v":{"$error":"#REF!"}},{"$f":"IF(J161=\"\",\"\",VLOOKUP(A161,OFFSET([0]!_xlnm.Print_Area,3,0),5,FALSE))","v":{"$error":"#REF!"}},{"$f":"IF(J161=\"\",\"\",VLOOKUP(A161,OFFSET([0]!_xlnm.Print_Area,3,0),6,FALSE))","v":{"$error":"#REF!"}},{"$f":"IF(J161=\"\",\"\",VLOOKUP(A161,OFFSET([0]!_xlnm.Print_Area,3,0,,7),7,FALSE))","v":{"$error":"#REF!"}}," ",{"$f":"INDEX(#REF!,SMALL(IF(#REF!<>\"\",ROW(#REF!)),ROWS(I$1:I161)-1))","v":{"$error":"#REF!"}},{"$f":"INDEX(#REF!,SMALL(IF(#REF!<>\"\",ROW(#REF!)),ROWS(J$1:J161)-1))","v":{"$error":"#REF!"}},{"$f":"INDEX(#REF!,SMALL(IF(#REF!<>\"\",ROW(#REF!)),ROWS(K$1:K161)-1))","v":{"$error":"#REF!"}}]
[{"$error":"#REF!"},{"$error":"#REF!"},{"$error":"#REF!"},{"$f":"IF(J162=\"\",VLOOKUP(C162,OFFSET([0]!_xlnm.Print_Area,3,2),2,FALSE),VLOOKUP(A162,OFFSET([0]!_xlnm.Print_Area,3,0),4,FALSE))","v":{"$error":"#REF!"}},{"$f":"IF(J162=\"\",\"\",VLOOKUP(A162,OFFSET([0]!_xlnm.Print_Area,3,0),5,FALSE))","v":{"$error":"#REF!"}},{"$f":"IF(J162=\"\",\"\",VLOOKUP(A162,OFFSET([0]!_xlnm.Print_Area,3,0),6,FALSE))","v":{"$error":"#REF!"}},{"$f":"IF(J162=\"\",\"\",VLOOKUP(A162,OFFSET([0]!_xlnm.Print_Area,3,0,,7),7,FALSE))","v":{"$error":"#REF!"}}," ",{"$f":"INDEX(#REF!,SMALL(IF(#REF!<>\"\",ROW(#REF!)),ROWS(I$1:I162)-1))","v":{"$error":"#REF!"}},{"$f":"INDEX(#REF!,SMALL(IF(#REF!<>\"\",ROW(#REF!)),ROWS(J$1:J162)-1))","v":{"$error":"#REF!"}},{"$f":"INDEX(#REF!,SMALL(IF(#REF!<>\"\",ROW(#REF!)),ROWS(K$1:K162)-1))","v":{"$error":"#REF!"}}]
[{"$error":"#REF!"},{"$error":"#REF!"},{"$error":"#REF!"},{"$f":"IF(J163=\"\",VLOOKUP(C163,OFFSET([0]!_xlnm.Print_Area,3,2),2,FALSE),VLOOKUP(A163,OFFSET([0]!_xlnm.Print_Area,3,0),4,FALSE))","v":{"$error":"#REF!"}},{"$f":"IF(J163=\"\",\"\",VLOOKUP(A163,OFFSET([0]!_xlnm.Print_Area,3,0),5,FALSE))","v":{"$error":"#REF!"}},{"$f":"IF(J163=\"\",\"\",VLOOKUP(A163,OFFSET([0]!_xlnm.Print_Area,3,0),6,FALSE))","v":{"$error":"#REF!"}},{"$f":"IF(J163=\"\",\"\",VLOOKUP(A163,OFFSET([0]!_xlnm.Print_Area,3,0,,7),7,FALSE))","v":{"$error":"#REF!"}}," ",{"$f":"INDEX(#REF!,SMALL(IF(#REF!<>\"\",ROW(#REF!)),ROWS(I$1:I163)-1))","v":{"$error":"#REF!"}},{"$f":"INDEX(#REF!,SMALL(IF(#REF!<>\"\",ROW(#REF!)),ROWS(J$1:J163)-1))","v":{"$error":"#REF!"}},{"$f":"INDEX(#REF!,SMALL(IF(#REF!<>\"\",ROW(#REF!)),ROWS(K$1:K163)-1))","v":{"$error":"#REF!"}}]
[{"$error":"#REF!"},{"$error":"#REF!"},{"$error":"#REF!"},{"$f":"IF(J164=\"\",VLOOKUP(C164,OFFSET([0]!_xlnm.Print_Area,3,2),2,FALSE),VLOOKUP(A164,OFFSET([0]!_xlnm.Print_Area,3,0),4,FALSE))","v":{"$error":"#REF!"}},{"$f":"IF(J164=\"\",\"\",VLOOKUP(A164,OFFSET([0]!_xlnm.Print_Area,3,0),5,FALSE))","v":{"$error":"#REF!"}},{"$f":"IF(J164=\"\",\"\",VLOOKUP(A164,OFFSET([0]!_xlnm.Print_Area,3,0),6,FALSE))","v":{"$error":"#REF!"}},{"$f":"IF(J164=\"\",\"\",VLOOKUP(A164,OFFSET([0]!_xlnm.Print_Area,3,0,,7),7,FALSE))","v":{"$error":"#REF!"}}," ",{"$f":"INDEX(#REF!,SMALL(IF(#REF!<>\"\",ROW(#REF!)),ROWS(I$1:I164)-1))","v":{"$error":"#REF!"}},{"$f":"INDEX(#REF!,SMALL(IF(#REF!<>\"\",ROW(#REF!)),ROWS(J$1:J164)-1))","v":{"$error":"#REF!"}},{"$f":"INDEX(#REF!,SMALL(IF(#REF!<>\"\",ROW(#REF!)),ROWS(K$1:K164)-1))","v":{"$error":"#REF!"}}]
[{"$error":"#REF!"},{"$error":"#REF!"},{"$error":"#REF!"},{"$f":"IF(J165=\"\",VLOOKUP(C165,OFFSET([0]!_xlnm.Print_Area,3,2),2,FALSE),VLOOKUP(A165,OFFSET([0]!_xlnm.Print_Area,3,0),4,FALSE))","v":{"$error":"#REF!"}},{"$f":"IF(J165=\"\",\"\",VLOOKUP(A165,OFFSET([0]!_xlnm.Print_Area,3,0),5,FALSE))","v":{"$error":"#REF!"}},{"$f":"IF(J165=\"\",\"\",VLOOKUP(A165,OFFSET([0]!_xlnm.Print_Area,3,0),6,FALSE))","v":{"$error":"#REF!"}},{"$f":"IF(J165=\"\",\"\",VLOOKUP(A165,OFFSET([0]!_xlnm.Print_Area,3,0,,7),7,FALSE))","v":{"$error":"#REF!"}}," ",{"$f":"INDEX(#REF!,SMALL(IF(#REF!<>\"\",ROW(#REF!)),ROWS(I$1:I165)-1))","v":{"$error":"#REF!"}},{"$f":"INDEX(#REF!,SMALL(IF(#REF!<>\"\",ROW(#REF!)),ROWS(J$1:J165)-1))","v":{"$error":"#REF!"}},{"$f":"INDEX(#REF!,SMALL(IF(#REF!<>\"\",ROW(#REF!)),ROWS(K$1:K165)-1))","v":{"$error":"#REF!"}}]
[{"$error":"#REF!"},{"$error":"#REF!"},{"$error":"#REF!"},{"$f":"IF(J166=\"\",VLOOKUP(C166,OFFSET([0]!_xlnm.Print_Area,3,2),2,FALSE),VLOOKUP(A166,OFFSET([0]!_xlnm.Print_Area,3,0),4,FALSE))","v":{"$error":"#REF!"}},{"$f":"IF(J166=\"\",\"\",VLOOKUP(A166,OFFSET([0]!_xlnm.Print_Area,3,0),5,FALSE))","v":{"$error":"#REF!"}},{"$f":"IF(J166=\"\",\"\",VLOOKUP(A166,OFFSET([0]!_xlnm.Print_Area,3,0),6,FALSE))","v":{"$error":"#REF!"}},{"$f":"IF(J166=\"\",\"\",VLOOKUP(A166,OFFSET([0]!_xlnm.Print_Area,3,0,,7),7,FALSE))","v":{"$error":"#REF!"}}," ",{"$f":"INDEX(#REF!,SMALL(IF(#REF!<>\"\",ROW(#REF!)),ROWS(I$1:I166)-1))","v":{"$error":"#REF!"}},{"$f":"INDEX(#REF!,SMALL(IF(#REF!<>\"\",ROW(#REF!)),ROWS(J$1:J166)-1))","v":{"$error":"#REF!"}},{"$f":"INDEX(#REF!,SMALL(IF(#REF!<>\"\",ROW(#REF!)),ROWS(K$1:K166)-1))","v":{"$error":"#REF!"}}]
[{"$error":"#REF!"},{"$error":"#REF!"},{"$error":"#REF!"},{"$f":"IF(J167=\"\",VLOOKUP(C167,OFFSET([0]!_xlnm.Print_Area,3,2),2,FALSE),VLOOKUP(A167,OFFSET([0]!_xlnm.Print_Area,3,0),4,FALSE))","v":{"$error":"#REF!"}},{"$f":"IF(J167=\"\",\"\",VLOOKUP(A167,OFFSET([0]!_xlnm.Print_Area,3,0),5,FALSE))","v":{"$error":"#REF!"}},{"$f":"IF(J167=\"\",\"\",VLOOKUP(A167,OFFSET([0]!_xlnm.Print_Area,3,0),6,FALSE))","v":{"$error":"#REF!"}},{"$f":"IF(J167=\"\",\"\",VLOOKUP(A167,OFFSET([0]!_xlnm.Print_Area,3,0,,7),7,FALSE))","v":{"$error":"#REF!"}}," ",{"$f":"INDEX(#REF!,SMALL(IF(#REF!<>\"\",ROW(#REF!)),ROWS(I$1:I167)-1))","v":{"$error":"#REF!"}},{"$f":"INDEX(#REF!,SMALL(IF(#REF!<>\"\",ROW(#REF!)),ROWS(J$1:J167)-1))","v":{"$error":"#REF!"}},{"$f":"INDEX(#REF!,SMALL(IF(#REF!<>\"\",ROW(#REF!)),ROWS(K$1:K167)-1))","v":{"$error":"#REF!"}}]
[{"$error":"#REF!"},{"$error":"#REF!"},{"$error":"#REF!"},{"$f":"IF(J168=\"\",VLOOKUP(C168,OFFSET([0]!_xlnm.Print_Area,3,2),2,FALSE),VLOOKUP(A168,OFFSET([0]!_xlnm.Print_Area,3,0),4,FALSE))","v":{"$error":"#REF!"}},{"$f":"IF(J168=\"\",\"\",VLOOKUP(A168,OFFSET([0]!_xlnm.Print_Area,3,0),5,FALSE))","v":{"$error":"#REF!"}},{"$f":"IF(J168=\"\",\"\",VLOOKUP(A168,OFFSET([0]!_xlnm.Print_Area,3,0),6,FALSE))","v":{"$error":"#REF!"}},{"$f":"IF(J168=\"\",\"\",VLOOKUP(A168,OFFSET([0]!_xlnm.Print_Area,3,0,,7),7,FALSE))","v":{"$error":"#REF!"}}," ",{"$f":"INDEX(#REF!,SMALL(IF(#REF!<>\"\",ROW(#REF!)),ROWS(I$1:I168)-1))","v":{"$error":"#REF!"}},{"$f":"INDEX(#REF!,SMALL(IF(#REF!<>\"\",ROW(#REF!)),ROWS(J$1:J168)-1))","v":{"$error":"#REF!"}},{"$f":"INDEX(#REF!,SMALL(IF(#REF!<>\"\",ROW(#REF!)),ROWS(K$1:K168)-1))","v":{"$error":"#REF!"}}]
[{"$error":"#REF!"},{"$error":"#REF!"},{"$error":"#REF!"},{"$f":"IF(J169=\"\",VLOOKUP(C169,OFFSET([0]!_xlnm.Print_Area,3,2),2,FALSE),VLOOKUP(A169,OFFSET([0]!_xlnm.Print_Area,3,0),4,FALSE))","v":{"$error":"#REF!"}},{"$f":"IF(J169=\"\",\"\",VLOOKUP(A169,OFFSET([0]!_xlnm.Print_Area,3,0),5,FALSE))","v":{"$error":"#REF!"}},{"$f":"IF(J169=\"\",\"\",VLOOKUP(A169,OFFSET([0]!_xlnm.Print_Area,3,0),6,FALSE))","v":{"$error":"#REF!"}},{"$f":"IF(J169=\"\",\"\",VLOOKUP(A169,OFFSET([0]!_xlnm.Print_Area,3,0,,7),7,FALSE))","v":{"$error":"#REF!"}}," ",{"$f":"INDEX(#REF!,SMALL(IF(#REF!<>\"\",ROW(#REF!)),ROWS(I$1:I169)-1))","v":{"$error":"#REF!"}},{"$f":"INDEX(#REF!,SMALL(IF(#REF!<>\"\",ROW(#REF!)),ROWS(J$1:J169)-1))","v":{"$error":"#REF!"}},{"$f":"INDEX(#REF!,SMALL(IF(#REF!<>\"\",ROW(#REF!)),ROWS(K$1:K169)-1))","v":{"$error":"#REF!"}}]
[{"$error":"#REF!"},{"$error":"#REF!"},{"$error":"#REF!"},{"$f":"IF(J170=\"\",VLOOKUP(C170,OFFSET([0]!_xlnm.Print_Area,3,2),2,FALSE),VLOOKUP(A170,OFFSET([0]!_xlnm.Print_Area,3,0),4,FALSE))","v":{"$error":"#REF!"}},{"$f":"IF(J170=\"\",\"\",VLOOKUP(A170,OFFSET([0]!_xlnm.Print_Area,3,0),5,FALSE))","v":{"$error":"#REF!"}},{"$f":"IF(J170=\"\",\"\",VLOOKUP(A170,OFFSET([0]!_xlnm.Print_Area,3,0),6,FALSE))","v":{"$error":"#REF!"}},{"$f":"IF(J170=\"\",\"\",VLOOKUP(A170,OFFSET([0]!_xlnm.Print_Area,3,0,,7),7,FALSE))","v":{"$error":"#REF!"}}," ",{"$f":"INDEX(#REF!,SMALL(IF(#REF!<>\"\",ROW(#REF!)),ROWS(I$1:I170)-1))","v":{"$error":"#REF!"}},{"$f":"INDEX(#REF!,SMALL(IF(#REF!<>\"\",ROW(#REF!)),ROWS(J$1:J170)-1))","v":{"$error":"#REF!"}},{"$f":"INDEX(#REF!,SMALL(IF(#REF!<>\"\",ROW(#REF!)),ROWS(K$1:K170)-1))","v":{"$error":"#REF!"}}]
[{"$error":"#REF!"},{"$error":"#REF!"},{"$error":"#REF!"},{"$f":"IF(J171=\"\",VLOOKUP(C171,OFFSET([0]!_xlnm.Print_Area,3,2),2,FALSE),VLOOKUP(A171,OFFSET([0]!_xlnm.Print_Area,3,0),4,FALSE))","v":{"$error":"#REF!"}},{"$f":"IF(J171=\"\",\"\",VLOOKUP(A171,OFFSET([0]!_xlnm.Print_Area,3,0),5,FALSE))","v":{"$error":"#REF!"}},{"$f":"IF(J171=\"\",\"\",VLOOKUP(A171,OFFSET([0]!_xlnm.Print_Area,3,0),6,FALSE))","v":{"$error":"#REF!"}},{"$f":"IF(J171=\"\",\"\",VLOOKUP(A171,OFFSET([0]!_xlnm.Print_Area,3,0,,7),7,FALSE))","v":{"$error":"#REF!"}}," ",{"$f":"INDEX(#REF!,SMALL(IF(#REF!<>\"\",ROW(#REF!)),ROWS(I$1:I171)-1))","v":{"$error":"#REF!"}},{"$f":"INDEX(#REF!,SMALL(IF(#REF!<>\"\",ROW(#REF!)),ROWS(J$1:J171)-1))","v":{"$error":"#REF!"}},{"$f":"INDEX(#REF!,SMALL(IF(#REF!<>\"\",ROW(#REF!)),ROWS(K$1:K171)-1))","v":{"$error":"#REF!"}}]
[{"$error":"#REF!"},{"$error":"#REF!"},{"$error":"#REF!"},{"$f":"IF(J172=\"\",VLOOKUP(C172,OFFSET([0]!_xlnm.Print_Area,3,2),2,FALSE),VLOOKUP(A172,OFFSET([0]!_xlnm.Print_Area,3,0),4,FALSE))","v":{"$error":"#REF!"}},{"$f":"IF(J172=\"\",\"\",VLOOKUP(A172,OFFSET([0]!_xlnm.Print_Area,3,0),5,FALSE))","v":{"$error":"#REF!"}},{"$f":"IF(J172=\"\",\"\",VLOOKUP(A172,OFFSET([0]!_xlnm.Print_Area,3,0),6,FALSE))","v":{"$error":"#REF!"}},{"$f":"IF(J172=\"\",\"\",VLOOKUP(A172,OFFSET([0]!_xlnm.Print_Area,3,0,,7),7,FALSE))","v":{"$error":"#REF!"}}," ",{"$f":"INDEX(#REF!,SMALL(IF(#REF!<>\"\",ROW(#REF!)),ROWS(I$1:I172)-1))","v":{"$error":"#REF!"}},{"$f":"INDEX(#REF!,SMALL(IF(#REF!<>\"\",ROW(#REF!)),ROWS(J$1:J172)-1))","v":{"$error":"#REF!"}},{"$f":"INDEX(#REF!,SMALL(IF(#REF!<>\"\",ROW(#REF!)),ROWS(K$1:K172)-1))","v":{"$error":"#REF!"}}]
[{"$error":"#REF!"},{"$error":"#REF!"},{"$error":"#REF!"},{"$f":"IF(J173=\"\",VLOOKUP(C173,OFFSET([0]!_xlnm.Print_Area,3,2),2,FALSE),VLOOKUP(A173,OFFSET([0]!_xlnm.Print_Area,3,0),4,FALSE))","v":{"$error":"#REF!"}},{"$f":"IF(J173=\"\",\"\",VLOOKUP(A173,OFFSET([0]!_xlnm.Print_Area,3,0),5,FALSE))","v":{"$error":"#REF!"}},{"$f":"IF(J173=\"\",\"\",VLOOKUP(A173,OFFSET([0]!_xlnm.Print_Area,3,0),6,FALSE))","v":{"$error":"#REF!"}},{"$f":"IF(J173=\"\",\"\",VLOOKUP(A173,OFFSET([0]!_xlnm.Print_Area,3,0,,7),7,FALSE))","v":{"$error":"#REF!"}}," ",{"$f":"INDEX(#REF!,SMALL(IF(#REF!<>\"\",ROW(#REF!)),ROWS(I$1:I173)-1))","v":{"$error":"#REF!"}},{"$f":"INDEX(#REF!,SMALL(IF(#REF!<>\"\",ROW(#REF!)),ROWS(J$1:J173)-1))","v":{"$error":"#REF!"}},{"$f":"INDEX(#REF!,SMALL(IF(#REF!<>\"\",ROW(#REF!)),ROWS(K$1:K173)-1))","v":{"$error":"#REF!"}}]
[{"$error":"#REF!"},{"$error":"#REF!"},{"$error":"#REF!"},{"$f":"IF(J174=\"\",VLOOKUP(C174,OFFSET([0]!_xlnm.Print_Area,3,2),2,FALSE),VLOOKUP(A174,OFFSET([0]!_xlnm.Print_Area,3,0),4,FALSE))","v":{"$error":"#REF!"}},{"$f":"IF(J174=\"\",\"\",VLOOKUP(A174,OFFSET([0]!_xlnm.Print_Area,3,0),5,FALSE))","v":{"$error":"#REF!"}},{"$f":"IF(J174=\"\",\"\",VLOOKUP(A174,OFFSET([0]!_xlnm.Print_Area,3,0),6,FALSE))","v":{"$error":"#REF!"}},{"$f":"IF(J174=\"\",\"\",VLOOKUP(A174,OFFSET([0]!_xlnm.Print_Area,3,0,,7),7,FALSE))","v":{"$error":"#REF!"}}," ",{"$f":"INDEX(#REF!,SMALL(IF(#REF!<>\"\",ROW(#REF!)),ROWS(I$1:I174)-1))","v":{"$error":"#REF!"}},{"$f":"INDEX(#REF!,SMALL(IF(#REF!<>\"\",ROW(#REF!)),ROWS(J$1:J174)-1))","v":{"$error":"#REF!"}},{"$f":"INDEX(#REF!,SMALL(IF(#REF!<>\"\",ROW(#REF!)),ROWS(K$1:K174)-1))","v":{"$error":"#REF!"}}]
[{"$error":"#REF!"},{"$error":"#REF!"},{"$error":"#REF!"},{"$f":"IF(J175=\"\",VLOOKUP(C175,OFFSET([0]!_xlnm.Print_Area,3,2),2,FALSE),VLOOKUP(A175,OFFSET([0]!_xlnm.Print_Area,3,0),4,FALSE))","v":{"$error":"#REF!"}},{"$f":"IF(J175=\"\",\"\",VLOOKUP(A175,OFFSET([0]!_xlnm.Print_Area,3,0),5,FALSE))","v":{"$error":"#REF!"}},{"$f":"IF(J175=\"\",\"\",VLOOKUP(A175,OFFSET([0]!_xlnm.Print_Area,3,0),6,FALSE))","v":{"$error":"#REF!"}},{"$f":"IF(J175=\"\",\"\",VLOOKUP(A175,OFFSET([0]!_xlnm.Print_Area,3,0,,7),7,FALSE))","v":{"$error":"#REF!"}}," ",{"$f":"INDEX(#REF!,SMALL(IF(#REF!<>\"\",ROW(#REF!)),ROWS(I$1:I175)-1))","v":{"$error":"#REF!"}},{"$f":"INDEX(#REF!,SMALL(IF(#REF!<>\"\",ROW(#REF!)),ROWS(J$1:J175)-1))","v":{"$error":"#REF!"}},{"$f":"INDEX(#REF!,SMALL(IF(#REF!<>\"\",ROW(#REF!)),ROWS(K$1:K175)-1))","v":{"$error":"#REF!"}}]
[{"$error":"#REF!"},{"$error":"#REF!"},{"$error":"#REF!"},{"$f":"IF(J176=\"\",VLOOKUP(C176,OFFSET([0]!_xlnm.Print_Area,3,2),2,FALSE),VLOOKUP(A176,OFFSET([0]!_xlnm.Print_Area,3,0),4,FALSE))","v":{"$error":"#REF!"}},{"$f":"IF(J176=\"\",\"\",VLOOKUP(A176,OFFSET([0]!_xlnm.Print_Area,3,0),5,FALSE))","v":{"$error":"#REF!"}},{"$f":"IF(J176=\"\",\"\",VLOOKUP(A176,OFFSET([0]!_xlnm.Print_Area,3,0),6,FALSE))","v":{"$error":"#REF!"}},{"$f":"IF(J176=\"\",\"\",VLOOKUP(A176,OFFSET([0]!_xlnm.Print_Area,3,0,,7),7,FALSE))","v":{"$error":"#REF!"}}," ",{"$f":"INDEX(#REF!,SMALL(IF(#REF!<>\"\",ROW(#REF!)),ROWS(I$1:I176)-1))","v":{"$error":"#REF!"}},{"$f":"INDEX(#REF!,SMALL(IF(#REF!<>\"\",ROW(#REF!)),ROWS(J$1:J176)-1))","v":{"$error":"#REF!"}},{"$f":"INDEX(#REF!,SMALL(IF(#REF!<>\"\",ROW(#REF!)),ROWS(K$1:K176)-1))","v":{"$error":"#REF!"}}]
[{"$error":"#REF!"},{"$error":"#REF!"},{"$error":"#REF!"},{"$f":"IF(J177=\"\",VLOOKUP(C177,OFFSET([0]!_xlnm.Print_Area,3,2),2,FALSE),VLOOKUP(A177,OFFSET([0]!_xlnm.Print_Area,3,0),4,FALSE))","v":{"$error":"#REF!"}},{"$f":"IF(J177=\"\",\"\",VLOOKUP(A177,OFFSET([0]!_xlnm.Print_Area,3,0),5,FALSE))","v":{"$error":"#REF!"}},{"$f":"IF(J177=\"\",\"\",VLOOKUP(A177,OFFSET([0]!_xlnm.Print_Area,3,0),6,FALSE))","v":{"$error":"#REF!"}},{"$f":"IF(J177=\"\",\"\",VLOOKUP(A177,OFFSET([0]!_xlnm.Print_Area,3,0,,7),7,FALSE))","v":{"$error":"#REF!"}}," ",{"$f":"INDEX(#REF!,SMALL(IF(#REF!<>\"\",ROW(#REF!)),ROWS(I$1:I177)-1))","v":{"$error":"#REF!"}},{"$f":"INDEX(#REF!,SMALL(IF(#REF!<>\"\",ROW(#REF!)),ROWS(J$1:J177)-1))","v":{"$error":"#REF!"}},{"$f":"INDEX(#REF!,SMALL(IF(#REF!<>\"\",ROW(#REF!)),ROWS(K$1:K177)-1))","v":{"$error":"#REF!"}}]
[{"$error":"#REF!"},{"$error":"#REF!"},{"$error":"#REF!"},{"$f":"IF(J178=\"\",VLOOKUP(C178,OFFSET([0]!_xlnm.Print_Area,3,2),2,FALSE),VLOOKUP(A178,OFFSET([0]!_xlnm.Print_Area,3,0),4,FALSE))","v":{"$error":"#REF!"}},{"$f":"IF(J178=\"\",\"\",VLOOKUP(A178,OFFSET([0]!_xlnm.Print_Area,3,0),5,FALSE))","v":{"$error":"#REF!"}},{"$f":"IF(J178=\"\",\"\",VLOOKUP(A178,OFFSET([0]!_xlnm.Print_Area,3,0),6,FALSE))","v":{"$error":"#REF!"}},{"$f":"IF(J178=\"\",\"\",VLOOKUP(A178,OFFSET([0]!_xlnm.Print_Area,3,0,,7),7,FALSE))","v":{"$error":"#REF!"}}," ",{"$f":"INDEX(#REF!,SMALL(IF(#REF!<>\"\",ROW(#REF!)),ROWS(I$1:I178)-1))","v":{"$error":"#REF!"}},{"$f":"INDEX(#REF!,SMALL(IF(#REF!<>\"\",ROW(#REF!)),ROWS(J$1:J178)-1))","v":{"$error":"#REF!"}},{"$f":"INDEX(#REF!,SMALL(IF(#REF!<>\"\",ROW(#REF!)),ROWS(K$1:K178)-1))","v":{"$error":"#REF!"}}]
[{"$error":"#REF!"},{"$error":"#REF!"},{"$error":"#REF!"},{"$f":"IF(J179=\"\",VLOOKUP(C179,OFFSET([0]!_xlnm.Print_Area,3,2),2,FALSE),VLOOKUP(A179,OFFSET([0]!_xlnm.Print_Area,3,0),4,FALSE))","v":{"$error":"#REF!"}},{"$f":"IF(J179=\"\",\"\",VLOOKUP(A179,OFFSET([0]!_xlnm.Print_Area,3,0),5,FALSE))","v":{"$error":"#REF!"}},{"$f":"IF(J179=\"\",\"\",VLOOKUP(A179,OFFSET([0]!_xlnm.Print_Area,3,0),6,FALSE))","v":{"$error":"#REF!"}},{"$f":"IF(J179=\"\",\"\",VLOOKUP(A179,OFFSET([0]!_xlnm.Print_Area,3,0,,7),7,FALSE))","v":{"$error":"#REF!"}}," ",{"$f":"INDEX(#REF!,SMALL(IF(#REF!<>\"\",ROW(#REF!)),ROWS(I$1:I179)-1))","v":{"$error":"#REF!"}},{"$f":"INDEX(#REF!,SMALL(IF(#REF!<>\"\",ROW(#REF!)),ROWS(J$1:J179)-1))","v":{"$error":"#REF!"}},{"$f":"INDEX(#REF!,SMALL(IF(#REF!<>\"\",ROW(#REF!)),ROWS(K$1:K179)-1))","v":{"$error":"#REF!"}}]
[{"$error":"#REF!"},{"$error":"#REF!"},{"$error":"#REF!"},{"$f":"IF(J180=\"\",VLOOKUP(C180,OFFSET([0]!_xlnm.Print_Area,3,2),2,FALSE),VLOOKUP(A180,OFFSET([0]!_xlnm.Print_Area,3,0),4,FALSE))","v":{"$error":"#REF!"}},{"$f":"IF(J180=\"\",\"\",VLOOKUP(A180,OFFSET([0]!_xlnm.Print_Area,3,0),5,FALSE))","v":{"$error":"#REF!"}},{"$f":"IF(J180=\"\",\"\",VLOOKUP(A180,OFFSET([0]!_xlnm.Print_Area,3,0),6,FALSE))","v":{"$error":"#REF!"}},{"$f":"IF(J180=\"\",\"\",VLOOKUP(A180,OFFSET([0]!_xlnm.Print_Area,3,0,,7),7,FALSE))","v":{"$error":"#REF!"}}," ",{"$f":"INDEX(#REF!,SMALL(IF(#REF!<>\"\",ROW(#REF!)),ROWS(I$1:I180)-1))","v":{"$error":"#REF!"}},{"$f":"INDEX(#REF!,SMALL(IF(#REF!<>\"\",ROW(#REF!)),ROWS(J$1:J180)-1))","v":{"$error":"#REF!"}},{"$f":"INDEX(#REF!,SMALL(IF(#REF!<>\"\",ROW(#REF!)),ROWS(K$1:K180)-1))","v":{"$error":"#REF!"}}]
[{"$error":"#REF!"},{"$error":"#REF!"},{"$error":"#REF!"},{"$f":"IF(J181=\"\",VLOOKUP(C181,OFFSET([0]!_xlnm.Print_Area,3,2),2,FALSE),VLOOKUP(A181,OFFSET([0]!_xlnm.Print_Area,3,0),4,FALSE))","v":{"$error":"#REF!"}},{"$f":"IF(J181=\"\",\"\",VLOOKUP(A181,OFFSET([0]!_xlnm.Print_Area,3,0),5,FALSE))","v":{"$error":"#REF!"}},{"$f":"IF(J181=\"\",\"\",VLOOKUP(A181,OFFSET([0]!_xlnm.Print_Area,3,0),6,FALSE))","v":{"$error":"#REF!"}},{"$f":"IF(J181=\"\",\"\",VLOOKUP(A181,OFFSET([0]!_xlnm.Print_Area,3,0,,7),7,FALSE))","v":{"$error":"#REF!"}}," ",{"$f":"INDEX(#REF!,SMALL(IF(#REF!<>\"\",ROW(#REF!)),ROWS(I$1:I181)-1))","v":{"$error":"#REF!"}},{"$f":"INDEX(#REF!,SMALL(IF(#REF!<>\"\",ROW(#REF!)),ROWS(J$1:J181)-1))","v":{"$error":"#REF!"}},{"$f":"INDEX(#REF!,SMALL(IF(#REF!<>\"\",ROW(#REF!)),ROWS(K$1:K181)-1))","v":{"$error":"#REF!"}}]
[{"$error":"#REF!"},{"$error":"#REF!"},{"$error":"#REF!"},{"$f":"IF(J182=\"\",VLOOKUP(C182,OFFSET([0]!_xlnm.Print_Area,3,2),2,FALSE),VLOOKUP(A182,OFFSET([0]!_xlnm.Print_Area,3,0),4,FALSE))","v":{"$error":"#REF!"}},{"$f":"IF(J182=\"\",\"\",VLOOKUP(A182,OFFSET([0]!_xlnm.Print_Area,3,0),5,FALSE))","v":{"$error":"#REF!"}},{"$f":"IF(J182=\"\",\"\",VLOOKUP(A182,OFFSET([0]!_xlnm.Print_Area,3,0),6,FALSE))","v":{"$error":"#REF!"}},{"$f":"IF(J182=\"\",\"\",VLOOKUP(A182,OFFSET([0]!_xlnm.Print_Area,3,0,,7),7,FALSE))","v":{"$error":"#REF!"}}," ",{"$f":"INDEX(#REF!,SMALL(IF(#REF!<>\"\",ROW(#REF!)),ROWS(I$1:I182)-1))","v":{"$error":"#REF!"}},{"$f":"INDEX(#REF!,SMALL(IF(#REF!<>\"\",ROW(#REF!)),ROWS(J$1:J182)-1))","v":{"$error":"#REF!"}},{"$f":"INDEX(#REF!,SMALL(IF(#REF!<>\"\",ROW(#REF!)),ROWS(K$1:K182)-1))","v":{"$error":"#REF!"}}]
[{"$error":"#REF!"},{"$error":"#REF!"},{"$error":"#REF!"},{"$f":"IF(J183=\"\",VLOOKUP(C183,OFFSET([0]!_xlnm.Print_Area,3,2),2,FALSE),VLOOKUP(A183,OFFSET([0]!_xlnm.Print_Area,3,0),4,FALSE))","v":{"$error":"#REF!"}},{"$f":"IF(J183=\"\",\"\",VLOOKUP(A183,OFFSET([0]!_xlnm.Print_Area,3,0),5,FALSE))","v":{"$error":"#REF!"}},{"$f":"IF(J183=\"\",\"\",VLOOKUP(A183,OFFSET([0]!_xlnm.Print_Area,3,0),6,FALSE))","v":{"$error":"#REF!"}},{"$f":"IF(J183=\"\",\"\",VLOOKUP(A183,OFFSET([0]!_xlnm.Print_Area,3,0,,7),7,FALSE))","v":{"$error":"#REF!"}}," ",{"$f":"INDEX(#REF!,SMALL(IF(#REF!<>\"\",ROW(#REF!)),ROWS(I$1:I183)-1))","v":{"$error":"#REF!"}},{"$f":"INDEX(#REF!,SMALL(IF(#REF!<>\"\",ROW(#REF!)),ROWS(J$1:J183)-1))","v":{"$error":"#REF!"}},{"$f":"INDEX(#REF!,SMALL(IF(#REF!<>\"\",ROW(#REF!)),ROWS(K$1:K183)-1))","v":{"$error":"#REF!"}}]
[{"$error":"#REF!"},{"$error":"#REF!"},{"$error":"#REF!"},{"$f":"IF(J184=\"\",VLOOKUP(C184,OFFSET([0]!_xlnm.Print_Area,3,2),2,FALSE),VLOOKUP(A184,OFFSET([0]!_xlnm.Print_Area,3,0),4,FALSE))","v":{"$error":"#REF!"}},{"$f":"IF(J184=\"\",\"\",VLOOKUP(A184,OFFSET([0]!_xlnm.Print_Area,3,0),5,FALSE))","v":{"$error":"#REF!"}},{"$f":"IF(J184=\"\",\"\",VLOOKUP(A184,OFFSET([0]!_xlnm.Print_Area,3,0),6,FALSE))","v":{"$error":"#REF!"}},{"$f":"IF(J184=\"\",\"\",VLOOKUP(A184,OFFSET([0]!_xlnm.Print_Area,3,0,,7),7,FALSE))","v":{"$error":"#REF!"}}," ",{"$f":"INDEX(#REF!,SMALL(IF(#REF!<>\"\",ROW(#REF!)),ROWS(I$1:I184)-1))","v":{"$error":"#REF!"}},{"$f":"INDEX(#REF!,SMALL(IF(#REF!<>\"\",ROW(#REF!)),ROWS(J$1:J184)-1))","v":{"$error":"#REF!"}},{"$f":"INDEX(#REF!,SMALL(IF(#REF!<>\"\",ROW(#REF!)),ROWS(K$1:K184)-1))","v":{"$error":"#REF!"}}]
[{"$error":"#REF!"},{"$error":"#REF!"},{"$error":"#REF!"},{"$f":"IF(J185=\"\",VLOOKUP(C185,OFFSET([0]!_xlnm.Print_Area,3,2),2,FALSE),VLOOKUP(A185,OFFSET([0]!_xlnm.Print_Area,3,0),4,FALSE))","v":{"$error":"#REF!"}},{"$f":"IF(J185=\"\",\"\",VLOOKUP(A185,OFFSET([0]!_xlnm.Print_Area,3,0),5,FALSE))","v":{"$error":"#REF!"}},{"$f":"IF(J185=\"\",\"\",VLOOKUP(A185,OFFSET([0]!_xlnm.Print_Area,3,0),6,FALSE))","v":{"$error":"#REF!"}},{"$f":"IF(J185=\"\",\"\",VLOOKUP(A185,OFFSET([0]!_xlnm.Print_Area,3,0,,7),7,FALSE))","v":{"$error":"#REF!"}}," ",{"$f":"INDEX(#REF!,SMALL(IF(#REF!<>\"\",ROW(#REF!)),ROWS(I$1:I185)-1))","v":{"$error":"#REF!"}},{"$f":"INDEX(#REF!,SMALL(IF(#REF!<>\"\",ROW(#REF!)),ROWS(J$1:J185)-1))","v":{"$error":"#REF!"}},{"$f":"INDEX(#REF!,SMALL(IF(#REF!<>\"\",ROW(#REF!)),ROWS(K$1:K185)-1))","v":{"$error":"#REF!"}}]
[{"$error":"#REF!"},{"$error":"#REF!"},{"$error":"#REF!"},{"$f":"IF(J186=\"\",VLOOKUP(C186,OFFSET([0]!_xlnm.Print_Area,3,2),2,FALSE),VLOOKUP(A186,OFFSET([0]!_xlnm.Print_Area,3,0),4,FALSE))","v":{"$error":"#REF!"}},{"$f":"IF(J186=\"\",\"\",VLOOKUP(A186,OFFSET([0]!_xlnm.Print_Area,3,0),5,FALSE))","v":{"$error":"#REF!"}},{"$f":"IF(J186=\"\",\"\",VLOOKUP(A186,OFFSET([0]!_xlnm.Print_Area,3,0),6,FALSE))","v":{"$error":"#REF!"}},{"$f":"IF(J186=\"\",\"\",VLOOKUP(A186,OFFSET([0]!_xlnm.Print_Area,3,0,,7),7,FALSE))","v":{"$error":"#REF!"}}," ",{"$f":"INDEX(#REF!,SMALL(IF(#REF!<>\"\",ROW(#REF!)),ROWS(I$1:I186)-1))","v":{"$error":"#REF!"}},{"$f":"INDEX(#REF!,SMALL(IF(#REF!<>\"\",ROW(#REF!)),ROWS(J$1:J186)-1))","v":{"$error":"#REF!"}},{"$f":"INDEX(#REF!,SMALL(IF(#REF!<>\"\",ROW(#REF!)),ROWS(K$1:K186)-1))","v":{"$error":"#REF!"}}]
[{"$error":"#REF!"},{"$error":"#REF!"},{"$error":"#REF!"},{"$f":"IF(J187=\"\",VLOOKUP(C187,OFFSET([0]!_xlnm.Print_Area,3,2),2,FALSE),VLOOKUP(A187,OFFSET([0]!_xlnm.Print_Area,3,0),4,FALSE))","v":{"$error":"#REF!"}},{"$f":"IF(J187=\"\",\"\",VLOOKUP(A187,OFFSET([0]!_xlnm.Print_Area,3,0),5,FALSE))","v":{"$error":"#REF!"}},{"$f":"IF(J187=\"\",\"\",VLOOKUP(A187,OFFSET([0]!_xlnm.Print_Area,3,0),6,FALSE))","v":{"$error":"#REF!"}},{"$f":"IF(J187=\"\",\"\",VLOOKUP(A187,OFFSET([0]!_xlnm.Print_Area,3,0,,7),7,FALSE))","v":{"$error":"#REF!"}}," ",{"$f":"INDEX(#REF!,SMALL(IF(#REF!<>\"\",ROW(#REF!)),ROWS(I$1:I187)-1))","v":{"$error":"#REF!"}},{"$f":"INDEX(#REF!,SMALL(IF(#REF!<>\"\",ROW(#REF!)),ROWS(J$1:J187)-1))","v":{"$error":"#REF!"}},{"$f":"INDEX(#REF!,SMALL(IF(#REF!<>\"\",ROW(#REF!)),ROWS(K$1:K187)-1))","v":{"$error":"#REF!"}}]
[{"$error":"#REF!"},{"$error":"#REF!"},{"$error":"#REF!"},{"$f":"IF(J188=\"\",VLOOKUP(C188,OFFSET([0]!_xlnm.Print_Area,3,2),2,FALSE),VLOOKUP(A188,OFFSET([0]!_xlnm.Print_Area,3,0),4,FALSE))","v":{"$error":"#REF!"}},{"$f":"IF(J188=\"\",\"\",VLOOKUP(A188,OFFSET([0]!_xlnm.Print_Area,3,0),5,FALSE))","v":{"$error":"#REF!"}},{"$f":"IF(J188=\"\",\"\",VLOOKUP(A188,OFFSET([0]!_xlnm.Print_Area,3,0),6,FALSE))","v":{"$error":"#REF!"}},{"$f":"IF(J188=\"\",\"\",VLOOKUP(A188,OFFSET([0]!_xlnm.Print_Area,3,0,,7),7,FALSE))","v":{"$error":"#REF!"}}," ",{"$f":"INDEX(#REF!,SMALL(IF(#REF!<>\"\",ROW(#REF!)),ROWS(I$1:I188)-1))","v":{"$error":"#REF!"}},{"$f":"INDEX(#REF!,SMALL(IF(#REF!<>\"\",ROW(#REF!)),ROWS(J$1:J188)-1))","v":{"$error":"#REF!"}},{"$f":"INDEX(#REF!,SMALL(IF(#REF!<>\"\",ROW(#REF!)),ROWS(K$1:K188)-1))","v":{"$error":"#REF!"}}]
[{"$error":"#REF!"},{"$error":"#REF!"},{"$error":"#REF!"},{"$f":"IF(J189=\"\",VLOOKUP(C189,OFFSET([0]!_xlnm.Print_Area,3,2),2,FALSE),VLOOKUP(A189,OFFSET([0]!_xlnm.Print_Area,3,0),4,FALSE))","v":{"$error":"#REF!"}},{"$f":"IF(J189=\"\",\"\",VLOOKUP(A189,OFFSET([0]!_xlnm.Print_Area,3,0),5,FALSE))","v":{"$error":"#REF!"}},{"$f":"IF(J189=\"\",\"\",VLOOKUP(A189,OFFSET([0]!_xlnm.Print_Area,3,0),6,FALSE))","v":{"$error":"#REF!"}},{"$f":"IF(J189=\"\",\"\",VLOOKUP(A189,OFFSET([0]!_xlnm.Print_Area,3,0,,7),7,FALSE))","v":{"$error":"#REF!"}}," ",{"$f":"INDEX(#REF!,SMALL(IF(#REF!<>\"\",ROW(#REF!)),ROWS(I$1:I189)-1))","v":{"$error":"#REF!"}},{"$f":"INDEX(#REF!,SMALL(IF(#REF!<>\"\",ROW(#REF!)),ROWS(J$1:J189)-1))","v":{"$error":"#REF!"}},{"$f":"INDEX(#REF!,SMALL(IF(#REF!<>\"\",ROW(#REF!)),ROWS(K$1:K189)-1))","v":{"$error":"#REF!"}}]
[{"$error":"#REF!"},{"$error":"#REF!"},{"$error":"#REF!"},{"$f":"IF(J190=\"\",VLOOKUP(C190,OFFSET([0]!_xlnm.Print_Area,3,2),2,FALSE),VLOOKUP(A190,OFFSET([0]!_xlnm.Print_Area,3,0),4,FALSE))","v":{"$error":"#REF!"}},{"$f":"IF(J190=\"\",\"\",VLOOKUP(A190,OFFSET([0]!_xlnm.Print_Area,3,0),5,FALSE))","v":{"$error":"#REF!"}},{"$f":"IF(J190=\"\",\"\",VLOOKUP(A190,OFFSET([0]!_xlnm.Print_Area,3,0),6,FALSE))","v":{"$error":"#REF!"}},{"$f":"IF(J190=\"\",\"\",VLOOKUP(A190,OFFSET([0]!_xlnm.Print_Area,3,0,,7),7,FALSE))","v":{"$error":"#REF!"}}," ",{"$f":"INDEX(#REF!,SMALL(IF(#REF!<>\"\",ROW(#REF!)),ROWS(I$1:I190)-1))","v":{"$error":"#REF!"}},{"$f":"INDEX(#REF!,SMALL(IF(#REF!<>\"\",ROW(#REF!)),ROWS(J$1:J190)-1))","v":{"$error":"#REF!"}},{"$f":"INDEX(#REF!,SMALL(IF(#REF!<>\"\",ROW(#REF!)),ROWS(K$1:K190)-1))","v":{"$error":"#REF!"}}]
[{"$error":"#REF!"},{"$error":"#REF!"},{"$error":"#REF!"},{"$f":"IF(J191=\"\",VLOOKUP(C191,OFFSET([0]!_xlnm.Print_Area,3,2),2,FALSE),VLOOKUP(A191,OFFSET([0]!_xlnm.Print_Area,3,0),4,FALSE))","v":{"$error":"#REF!"}},{"$f":"IF(J191=\"\",\"\",VLOOKUP(A191,OFFSET([0]!_xlnm.Print_Area,3,0),5,FALSE))","v":{"$error":"#REF!"}},{"$f":"IF(J191=\"\",\"\",VLOOKUP(A191,OFFSET([0]!_xlnm.Print_Area,3,0),6,FALSE))","v":{"$error":"#REF!"}},{"$f":"IF(J191=\"\",\"\",VLOOKUP(A191,OFFSET([0]!_xlnm.Print_Area,3,0,,7),7,FALSE))","v":{"$error":"#REF!"}}," ",{"$f":"INDEX(#REF!,SMALL(IF(#REF!<>\"\",ROW(#REF!)),ROWS(I$1:I191)-1))","v":{"$error":"#REF!"}},{"$f":"INDEX(#REF!,SMALL(IF(#REF!<>\"\",ROW(#REF!)),ROWS(J$1:J191)-1))","v":{"$error":"#REF!"}},{"$f":"INDEX(#REF!,SMALL(IF(#REF!<>\"\",ROW(#REF!)),ROWS(K$1:K191)-1))","v":{"$error":"#REF!"}}]
[{"$error":"#REF!"},{"$error":"#REF!"},{"$error":"#REF!"},{"$f":"IF(J192=\"\",VLOOKUP(C192,OFFSET([0]!_xlnm.Print_Area,3,2),2,FALSE),VLOOKUP(A192,OFFSET([0]!_xlnm.Print_Area,3,0),4,FALSE))","v":{"$error":"#REF!"}},{"$f":"IF(J192=\"\",\"\",VLOOKUP(A192,OFFSET([0]!_xlnm.Print_Area,3,0),5,FALSE))","v":{"$error":"#REF!"}},{"$f":"IF(J192=\"\",\"\",VLOOKUP(A192,OFFSET([0]!_xlnm.Print_Area,3,0),6,FALSE))","v":{"$error":"#REF!"}},{"$f":"IF(J192=\"\",\"\",VLOOKUP(A192,OFFSET([0]!_xlnm.Print_Area,3,0,,7),7,FALSE))","v":{"$error":"#REF!"}}," ",{"$f":"INDEX(#REF!,SMALL(IF(#REF!<>\"\",ROW(#REF!)),ROWS(I$1:I192)-1))","v":{"$error":"#REF!"}},{"$f":"INDEX(#REF!,SMALL(IF(#REF!<>\"\",ROW(#REF!)),ROWS(J$1:J192)-1))","v":{"$error":"#REF!"}},{"$f":"INDEX(#REF!,SMALL(IF(#REF!<>\"\",ROW(#REF!)),ROWS(K$1:K192)-1))","v":{"$error":"#REF!"}}]
[{"$error":"#REF!"},{"$error":"#REF!"},{"$error":"#REF!"},{"$f":"IF(J193=\"\",VLOOKUP(C193,OFFSET([0]!_xlnm.Print_Area,3,2),2,FALSE),VLOOKUP(A193,OFFSET([0]!_xlnm.Print_Area,3,0),4,FALSE))","v":{"$error":"#REF!"}},{"$f":"IF(J193=\"\",\"\",VLOOKUP(A193,OFFSET([0]!_xlnm.Print_Area,3,0),5,FALSE))","v":{"$error":"#REF!"}},{"$f":"IF(J193=\"\",\"\",VLOOKUP(A193,OFFSET([0]!_xlnm.Print_Area,3,0),6,FALSE))","v":{"$error":"#REF!"}},{"$f":"IF(J193=\"\",\"\",VLOOKUP(A193,OFFSET([0]!_xlnm.Print_Area,3,0,,7),7,FALSE))","v":{"$error":"#REF!"}}," ",{"$f":"INDEX(#REF!,SMALL(IF(#REF!<>\"\",ROW(#REF!)),ROWS(I$1:I193)-1))","v":{"$error":"#REF!"}},{"$f":"INDEX(#REF!,SMALL(IF(#REF!<>\"\",ROW(#REF!)),ROWS(J$1:J193)-1))","v":{"$error":"#REF!"}},{"$f":"INDEX(#REF!,SMALL(IF(#REF!<>\"\",ROW(#REF!)),ROWS(K$1:K193)-1))","v":{"$error":"#REF!"}}]
[{"$error":"#REF!"},{"$error":"#REF!"},{"$error":"#REF!"},{"$f":"IF(J194=\"\",VLOOKUP(C194,OFFSET([0]!_xlnm.Print_Area,3,2),2,FALSE),VLOOKUP(A194,OFFSET([0]!_xlnm.Print_Area,3,0),4,FALSE))","v":{"$error":"#REF!"}},{"$f":"IF(J194=\"\",\"\",VLOOKUP(A194,OFFSET([0]!_xlnm.Print_Area,3,0),5,FALSE))","v":{"$error":"#REF!"}},{"$f":"IF(J194=\"\",\"\",VLOOKUP(A194,OFFSET([0]!_xlnm.Print_Area,3,0),6,FALSE))","v":{"$error":"#REF!"}},{"$f":"IF(J194=\"\",\"\",VLOOKUP(A194,OFFSET([0]!_xlnm.Print_Area,3,0,,7),7,FALSE))","v":{"$error":"#REF!"}}," ",{"$f":"INDEX(#REF!,SMALL(IF(#REF!<>\"\",ROW(#REF!)),ROWS(I$1:I194)-1))","v":{"$error":"#REF!"}},{"$f":"INDEX(#REF!,SMALL(IF(#REF!<>\"\",ROW(#REF!)),ROWS(J$1:J194)-1))","v":{"$error":"#REF!"}},{"$f":"INDEX(#REF!,SMALL(IF(#REF!<>\"\",ROW(#REF!)),ROWS(K$1:K194)-1))","v":{"$error":"#REF!"}}]
[{"$error":"#REF!"},{"$error":"#REF!"},{"$error":"#REF!"},{"$f":"IF(J195=\"\",VLOOKUP(C195,OFFSET([0]!_xlnm.Print_Area,3,2),2,FALSE),VLOOKUP(A195,OFFSET([0]!_xlnm.Print_Area,3,0),4,FALSE))","v":{"$error":"#REF!"}},{"$f":"IF(J195=\"\",\"\",VLOOKUP(A195,OFFSET([0]!_xlnm.Print_Area,3,0),5,FALSE))","v":{"$error":"#REF!"}},{"$f":"IF(J195=\"\",\"\",VLOOKUP(A195,OFFSET([0]!_xlnm.Print_Area,3,0),6,FALSE))","v":{"$error":"#REF!"}},{"$f":"IF(J195=\"\",\"\",VLOOKUP(A195,OFFSET([0]!_xlnm.Print_Area,3,0,,7),7,FALSE))","v":{"$error":"#REF!"}}," ",{"$f":"INDEX(#REF!,SMALL(IF(#REF!<>\"\",ROW(#REF!)),ROWS(I$1:I195)-1))","v":{"$error":"#REF!"}},{"$f":"INDEX(#REF!,SMALL(IF(#REF!<>\"\",ROW(#REF!)),ROWS(J$1:J195)-1))","v":{"$error":"#REF!"}},{"$f":"INDEX(#REF!,SMALL(IF(#REF!<>\"\",ROW(#REF!)),ROWS(K$1:K195)-1))","v":{"$error":"#REF!"}}]
[{"$error":"#REF!"},{"$error":"#REF!"},{"$error":"#REF!"},{"$f":"IF(J196=\"\",VLOOKUP(C196,OFFSET([0]!_xlnm.Print_Area,3,2),2,FALSE),VLOOKUP(A196,OFFSET([0]!_xlnm.Print_Area,3,0),4,FALSE))","v":{"$error":"#REF!"}},{"$f":"IF(J196=\"\",\"\",VLOOKUP(A196,OFFSET([0]!_xlnm.Print_Area,3,0),5,FALSE))","v":{"$error":"#REF!"}},{"$f":"IF(J196=\"\",\"\",VLOOKUP(A196,OFFSET([0]!_xlnm.Print_Area,3,0),6,FALSE))","v":{"$error":"#REF!"}},{"$f":"IF(J196=\"\",\"\",VLOOKUP(A196,OFFSET([0]!_xlnm.Print_Area,3,0,,7),7,FALSE))","v":{"$error":"#REF!"}}," ",{"$f":"INDEX(#REF!,SMALL(IF(#REF!<>\"\",ROW(#REF!)),ROWS(I$1:I196)-1))","v":{"$error":"#REF!"}},{"$f":"INDEX(#REF!,SMALL(IF(#REF!<>\"\",ROW(#REF!)),ROWS(J$1:J196)-1))","v":{"$error":"#REF!"}},{"$f":"INDEX(#REF!,SMALL(IF(#REF!<>\"\",ROW(#REF!)),ROWS(K$1:K196)-1))","v":{"$error":"#REF!"}}]
[{"$f":"IF(J197=0,\"\",J197)","v":{"$error":"#REF!"}},{"$f":"IF(K197=0,\"\",K197)","v":{"$error":"#REF!"}},{"$f":"I197","v":{"$error":"#REF!"}},{"$f":"IF(J197=\"\",VLOOKUP(C197,OFFSET([0]!_xlnm.Print_Area,3,2),2,FALSE),VLOOKUP(A197,OFFSET([0]!_xlnm.Print_Area,3,0),4,FALSE))","v":{"$error":"#REF!"}},{"$f":"IF(J197=\"\",\"\",VLOOKUP(A197,OFFSET([0]!_xlnm.Print_Area,3,0),5,FALSE))","v":{"$error":"#REF!"}},{"$f":"IF(J197=\"\",\"\",VLOOKUP(A197,OFFSET([0]!_xlnm.Print_Area,3,0),6,FALSE))","v":{"$error":"#REF!"}},{"$f":"IF(J197=\"\",\"\",VLOOKUP(A197,OFFSET([0]!_xlnm.Print_Area,3,0,,7),7,FALSE))","v":{"$error":"#REF!"}},{"$f":"IFERROR(ROUND(F197*G197,2),\" \")","v":" "},{"$f":"INDEX(#REF!,SMALL(IF(#REF!<>\"\",ROW(#REF!)),ROWS(I$1:I197)-1))","v":{"$error":"#REF!"}},{"$f":"INDEX(#REF!,SMALL(IF(#REF!<>\"\",ROW(#REF!)),ROWS(J$1:J197)-1))","v":{"$error":"#REF!"}},{"$f":"INDEX(#REF!,SMALL(IF(#REF!<>\"\",ROW(#REF!)),ROWS(K$1:K197)-1))","v":{"$error":"#REF!"}}]
[{"$error":"#REF!"},{"$error":"#REF!"},{"$error":"#REF!"},{"$f":"IF(J198=\"\",VLOOKUP(C198,OFFSET([0]!_xlnm.Print_Area,3,2),2,FALSE),VLOOKUP(A198,OFFSET([0]!_xlnm.Print_Area,3,0),4,FALSE))","v":{"$error":"#REF!"}},{"$f":"IF(J198=\"\",\"\",VLOOKUP(A198,OFFSET([0]!_xlnm.Print_Area,3,0),5,FALSE))","v":{"$error":"#REF!"}},{"$f":"IF(J198=\"\",\"\",VLOOKUP(A198,OFFSET([0]!_xlnm.Print_Area,3,0),6,FALSE))","v":{"$error":"#REF!"}},{"$f":"IF(J198=\"\",\"\",VLOOKUP(A198,OFFSET([0]!_xlnm.Print_Area,3,0,,7),7,FALSE))","v":{"$error":"#REF!"}}," ",{"$f":"INDEX(#REF!,SMALL(IF(#REF!<>\"\",ROW(#REF!)),ROWS(I$1:I198)-1))","v":{"$error":"#REF!"}},{"$f":"INDEX(#REF!,SMALL(IF(#REF!<>\"\",ROW(#REF!)),ROWS(J$1:J198)-1))","v":{"$error":"#REF!"}},{"$f":"INDEX(#REF!,SMALL(IF(#REF!<>\"\",ROW(#REF!)),ROWS(K$1:K198)-1))","v":{"$error":"#REF!"}}]
[{"$error":"#REF!"},{"$error":"#REF!"},{"$error":"#REF!"},{"$f":"IF(J199=\"\",VLOOKUP(C199,OFFSET([0]!_xlnm.Print_Area,3,2),2,FALSE),VLOOKUP(A199,OFFSET([0]!_xlnm.Print_Area,3,0),4,FALSE))","v":{"$error":"#REF!"}},{"$f":"IF(J199=\"\",\"\",VLOOKUP(A199,OFFSET([0]!_xlnm.Print_Area,3,0),5,FALSE))","v":{"$error":"#REF!"}},{"$f":"IF(J199=\"\",\"\",VLOOKUP(A199,OFFSET([0]!_xlnm.Print_Area,3,0),6,FALSE))","v":{"$error":"#REF!"}},{"$f":"IF(J199=\"\",\"\",VLOOKUP(A199,OFFSET([0]!_xlnm.Print_Area,3,0,,7),7,FALSE))","v":{"$error":"#REF!"}}," ",{"$f":"INDEX(#REF!,SMALL(IF(#REF!<>\"\",ROW(#REF!)),ROWS(I$1:I199)-1))","v":{"$error":"#REF!"}},{"$f":"INDEX(#REF!,SMALL(IF(#REF!<>\"\",ROW(#REF!)),ROWS(J$1:J199)-1))","v":{"$error":"#REF!"}},{"$f":"INDEX(#REF!,SMALL(IF(#REF!<>\"\",ROW(#REF!)),ROWS(K$1:K199)-1))","v":{"$error":"#REF!"}}]
[{"$error":"#REF!"},{"$error":"#REF!"},{"$error":"#REF!"},{"$f":"IF(J200=\"\",VLOOKUP(C200,OFFSET([0]!_xlnm.Print_Area,3,2),2,FALSE),VLOOKUP(A200,OFFSET([0]!_xlnm.Print_Area,3,0),4,FALSE))","v":{"$error":"#REF!"}},{"$f":"IF(J200=\"\",\"\",VLOOKUP(A200,OFFSET([0]!_xlnm.Print_Area,3,0),5,FALSE))","v":{"$error":"#REF!"}},{"$f":"IF(J200=\"\",\"\",VLOOKUP(A200,OFFSET([0]!_xlnm.Print_Area,3,0),6,FALSE))","v":{"$error":"#REF!"}},{"$f":"IF(J200=\"\",\"\",VLOOKUP(A200,OFFSET([0]!_xlnm.Print_Area,3,0,,7),7,FALSE))","v":{"$error":"#REF!"}}," ",{"$f":"INDEX(#REF!,SMALL(IF(#REF!<>\"\",ROW(#REF!)),ROWS(I$1:I200)-1))","v":{"$error":"#REF!"}},{"$f":"INDEX(#REF!,SMALL(IF(#REF!<>\"\",ROW(#REF!)),ROWS(J$1:J200)-1))","v":{"$error":"#REF!"}},{"$f":"INDEX(#REF!,SMALL(IF(#REF!<>\"\",ROW(#REF!)),ROWS(K$1:K200)-1))","v":{"$error":"#REF!"}}]
[{"$error":"#REF!"},{"$error":"#REF!"},{"$error":"#REF!"},{"$f":"IF(J201=\"\",VLOOKUP(C201,OFFSET([0]!_xlnm.Print_Area,3,2),2,FALSE),VLOOKUP(A201,OFFSET([0]!_xlnm.Print_Area,3,0),4,FALSE))","v":{"$error":"#REF!"}},{"$f":"IF(J201=\"\",\"\",VLOOKUP(A201,OFFSET([0]!_xlnm.Print_Area,3,0),5,FALSE))","v":{"$error":"#REF!"}},{"$f":"IF(J201=\"\",\"\",VLOOKUP(A201,OFFSET([0]!_xlnm.Print_Area,3,0),6,FALSE))","v":{"$error":"#REF!"}},{"$f":"IF(J201=\"\",\"\",VLOOKUP(A201,OFFSET([0]!_xlnm.Print_Area,3,0,,7),7,FALSE))","v":{"$error":"#REF!"}}," ",{"$f":"INDEX(#REF!,SMALL(IF(#REF!<>\"\",ROW(#REF!)),ROWS(I$1:I201)-1))","v":{"$error":"#REF!"}},{"$f":"INDEX(#REF!,SMALL(IF(#REF!<>\"\",ROW(#REF!)),ROWS(J$1:J201)-1))","v":{"$error":"#REF!"}},{"$f":"INDEX(#REF!,SMALL(IF(#REF!<>\"\",ROW(#REF!)),ROWS(K$1:K201)-1))","v":{"$error":"#REF!"}}]
[{"$error":"#REF!"},{"$error":"#REF!"},{"$error":"#REF!"},{"$f":"IF(J202=\"\",VLOOKUP(C202,OFFSET([0]!_xlnm.Print_Area,3,2),2,FALSE),VLOOKUP(A202,OFFSET([0]!_xlnm.Print_Area,3,0),4,FALSE))","v":{"$error":"#REF!"}},{"$f":"IF(J202=\"\",\"\",VLOOKUP(A202,OFFSET([0]!_xlnm.Print_Area,3,0),5,FALSE))","v":{"$error":"#REF!"}},{"$f":"IF(J202=\"\",\"\",VLOOKUP(A202,OFFSET([0]!_xlnm.Print_Area,3,0),6,FALSE))","v":{"$error":"#REF!"}},{"$f":"IF(J202=\"\",\"\",VLOOKUP(A202,OFFSET([0]!_xlnm.Print_Area,3,0,,7),7,FALSE))","v":{"$error":"#REF!"}}," ",{"$f":"INDEX(#REF!,SMALL(IF(#REF!<>\"\",ROW(#REF!)),ROWS(I$1:I202)-1))","v":{"$error":"#REF!"}},{"$f":"INDEX(#REF!,SMALL(IF(#REF!<>\"\",ROW(#REF!)),ROWS(J$1:J202)-1))","v":{"$error":"#REF!"}},{"$f":"INDEX(#REF!,SMALL(IF(#REF!<>\"\",ROW(#REF!)),ROWS(K$1:K202)-1))","v":{"$error":"#REF!"}}]
[{"$error":"#REF!"},{"$error":"#REF!"},{"$error":"#REF!"},{"$f":"IF(J203=\"\",VLOOKUP(C203,OFFSET([0]!_xlnm.Print_Area,3,2),2,FALSE),VLOOKUP(A203,OFFSET([0]!_xlnm.Print_Area,3,0),4,FALSE))","v":{"$error":"#REF!"}},{"$f":"IF(J203=\"\",\"\",VLOOKUP(A203,OFFSET([0]!_xlnm.Print_Area,3,0),5,FALSE))","v":{"$error":"#REF!"}},{"$f":"IF(J203=\"\",\"\",VLOOKUP(A203,OFFSET([0]!_xlnm.Print_Area,3,0),6,FALSE))","v":{"$error":"#REF!"}},{"$f":"IF(J203=\"\",\"\",VLOOKUP(A203,OFFSET([0]!_xlnm.Print_Area,3,0,,7),7,FALSE))","v":{"$error":"#REF!"}}," ",{"$f":"INDEX(#REF!,SMALL(IF(#REF!<>\"\",ROW(#REF!)),ROWS(I$1:I203)-1))","v":{"$error":"#REF!"}},{"$f":"INDEX(#REF!,SMALL(IF(#REF!<>\"\",ROW(#REF!)),ROWS(J$1:J203)-1))","v":{"$error":"#REF!"}},{"$f":"INDEX(#REF!,SMALL(IF(#REF!<>\"\",ROW(#REF!)),ROWS(K$1:K203)-1))","v":{"$error":"#REF!"}}]
[{"$error":"#REF!"},{"$error":"#REF!"},{"$error":"#REF!"},{"$f":"IF(J204=\"\",VLOOKUP(C204,OFFSET([0]!_xlnm.Print_Area,3,2),2,FALSE),VLOOKUP(A204,OFFSET([0]!_xlnm.Print_Area,3,0),4,FALSE))","v":{"$error":"#REF!"}},{"$f":"IF(J204=\"\",\"\",VLOOKUP(A204,OFFSET([0]!_xlnm.Print_Area,3,0),5,FALSE))","v":{"$error":"#REF!"}},{"$f":"IF(J204=\"\",\"\",VLOOKUP(A204,OFFSET([0]!_xlnm.Print_Area,3,0),6,FALSE))","v":{"$error":"#REF!"}},{"$f":"IF(J204=\"\",\"\",VLOOKUP(A204,OFFSET([0]!_xlnm.Print_Area,3,0,,7),7,FALSE))","v":{"$error":"#REF!"}}," ",{"$f":"INDEX(#REF!,SMALL(IF(#REF!<>\"\",ROW(#REF!)),ROWS(I$1:I204)-1))","v":{"$error":"#REF!"}},{"$f":"INDEX(#REF!,SMALL(IF(#REF!<>\"\",ROW(#REF!)),ROWS(J$1:J204)-1))","v":{"$error":"#REF!"}},{"$f":"INDEX(#REF!,SMALL(IF(#REF!<>\"\",ROW(#REF!)),ROWS(K$1:K204)-1))","v":{"$error":"#REF!"}}]
[{"$error":"#REF!"},{"$error":"#REF!"},{"$error":"#REF!"},{"$f":"IF(J205=\"\",VLOOKUP(C205,OFFSET([0]!_xlnm.Print_Area,3,2),2,FALSE),VLOOKUP(A205,OFFSET([0]!_xlnm.Print_Area,3,0),4,FALSE))","v":{"$error":"#REF!"}},{"$f":"IF(J205=\"\",\"\",VLOOKUP(A205,OFFSET([0]!_xlnm.Print_Area,3,0),5,FALSE))","v":{"$error":"#REF!"}},{"$f":"IF(J205=\"\",\"\",VLOOKUP(A205,OFFSET([0]!_xlnm.Print_Area,3,0),6,FALSE))","v":{"$error":"#REF!"}},{"$f":"IF(J205=\"\",\"\",VLOOKUP(A205,OFFSET([0]!_xlnm.Print_Area,3,0,,7),7,FALSE))","v":{"$error":"#REF!"}}," ",{"$f":"INDEX(#REF!,SMALL(IF(#REF!<>\"\",ROW(#REF!)),ROWS(I$1:I205)-1))","v":{"$error":"#REF!"}},{"$f":"INDEX(#REF!,SMALL(IF(#REF!<>\"\",ROW(#REF!)),ROWS(J$1:J205)-1))","v":{"$error":"#REF!"}},{"$f":"INDEX(#REF!,SMALL(IF(#REF!<>\"\",ROW(#REF!)),ROWS(K$1:K205)-1))","v":{"$error":"#REF!"}}]
[{"$error":"#REF!"},{"$error":"#REF!"},{"$error":"#REF!"},{"$f":"IF(J206=\"\",VLOOKUP(C206,OFFSET([0]!_xlnm.Print_Area,3,2),2,FALSE),VLOOKUP(A206,OFFSET([0]!_xlnm.Print_Area,3,0),4,FALSE))","v":{"$error":"#REF!"}},{"$f":"IF(J206=\"\",\"\",VLOOKUP(A206,OFFSET([0]!_xlnm.Print_Area,3,0),5,FALSE))","v":{"$error":"#REF!"}},{"$f":"IF(J206=\"\",\"\",VLOOKUP(A206,OFFSET([0]!_xlnm.Print_Area,3,0),6,FALSE))","v":{"$error":"#REF!"}},{"$f":"IF(J206=\"\",\"\",VLOOKUP(A206,OFFSET([0]!_xlnm.Print_Area,3,0,,7),7,FALSE))","v":{"$error":"#REF!"}}," ",{"$f":"INDEX(#REF!,SMALL(IF(#REF!<>\"\",ROW(#REF!)),ROWS(I$1:I206)-1))","v":{"$error":"#REF!"}},{"$f":"INDEX(#REF!,SMALL(IF(#REF!<>\"\",ROW(#REF!)),ROWS(J$1:J206)-1))","v":{"$error":"#REF!"}},{"$f":"INDEX(#REF!,SMALL(IF(#REF!<>\"\",ROW(#REF!)),ROWS(K$1:K206)-1))","v":{"$error":"#REF!"}}]
[{"$error":"#REF!"},{"$error":"#REF!"},{"$error":"#REF!"},{"$f":"IF(J207=\"\",VLOOKUP(C207,OFFSET([0]!_xlnm.Print_Area,3,2),2,FALSE),VLOOKUP(A207,OFFSET([0]!_xlnm.Print_Area,3,0),4,FALSE))","v":{"$error":"#REF!"}},{"$f":"IF(J207=\"\",\"\",VLOOKUP(A207,OFFSET([0]!_xlnm.Print_Area,3,0),5,FALSE))","v":{"$error":"#REF!"}},{"$f":"IF(J207=\"\",\"\",VLOOKUP(A207,OFFSET([0]!_xlnm.Print_Area,3,0),6,FALSE))","v":{"$error":"#REF!"}},{"$f":"IF(J207=\"\",\"\",VLOOKUP(A207,OFFSET([0]!_xlnm.Print_Area,3,0,,7),7,FALSE))","v":{"$error":"#REF!"}}," ",{"$f":"INDEX(#REF!,SMALL(IF(#REF!<>\"\",ROW(#REF!)),ROWS(I$1:I207)-1))","v":{"$error":"#REF!"}},{"$f":"INDEX(#REF!,SMALL(IF(#REF!<>\"\",ROW(#REF!)),ROWS(J$1:J207)-1))","v":{"$error":"#REF!"}},{"$f":"INDEX(#REF!,SMALL(IF(#REF!<>\"\",ROW(#REF!)),ROWS(K$1:K207)-1))","v":{"$error":"#REF!"}}]
[{"$error":"#REF!"},{"$error":"#REF!"},{"$error":"#REF!"},{"$f":"IF(J208=\"\",VLOOKUP(C208,OFFSET([0]!_xlnm.Print_Area,3,2),2,FALSE),VLOOKUP(A208,OFFSET([0]!_xlnm.Print_Area,3,0),4,FALSE))","v":{"$error":"#REF!"}},{"$f":"IF(J208=\"\",\"\",VLOOKUP(A208,OFFSET([0]!_xlnm.Print_Area,3,0),5,FALSE))","v":{"$error":"#REF!"}},{"$f":"IF(J208=\"\",\"\",VLOOKUP(A208,OFFSET([0]!_xlnm.Print_Area,3,0),6,FALSE))","v":{"$error":"#REF!"}},{"$f":"IF(J208=\"\",\"\",VLOOKUP(A208,OFFSET([0]!_xlnm.Print_Area,3,0,,7),7,FALSE))","v":{"$error":"#REF!"}}," ",{"$f":"INDEX(#REF!,SMALL(IF(#REF!<>\"\",ROW(#REF!)),ROWS(I$1:I208)-1))","v":{"$error":"#REF!"}},{"$f":"INDEX(#REF!,SMALL(IF(#REF!<>\"\",ROW(#REF!)),ROWS(J$1:J208)-1))","v":{"$error":"#REF!"}},{"$f":"INDEX(#REF!,SMALL(IF(#REF!<>\"\",ROW(#REF!)),ROWS(K$1:K208)-1))","v":{"$error":"#REF!"}}]
[{"$error":"#REF!"},{"$error":"#REF!"},{"$error":"#REF!"},{"$f":"IF(J209=\"\",VLOOKUP(C209,OFFSET([0]!_xlnm.Print_Area,3,2),2,FALSE),VLOOKUP(A209,OFFSET([0]!_xlnm.Print_Area,3,0),4,FALSE))","v":{"$error":"#REF!"}},{"$f":"IF(J209=\"\",\"\",VLOOKUP(A209,OFFSET([0]!_xlnm.Print_Area,3,0),5,FALSE))","v":{"$error":"#REF!"}},{"$f":"IF(J209=\"\",\"\",VLOOKUP(A209,OFFSET([0]!_xlnm.Print_Area,3,0),6,FALSE))","v":{"$error":"#REF!"}},{"$f":"IF(J209=\"\",\"\",VLOOKUP(A209,OFFSET([0]!_xlnm.Print_Area,3,0,,7),7,FALSE))","v":{"$error":"#REF!"}}," ",{"$f":"INDEX(#REF!,SMALL(IF(#REF!<>\"\",ROW(#REF!)),ROWS(I$1:I209)-1))","v":{"$error":"#REF!"}},{"$f":"INDEX(#REF!,SMALL(IF(#REF!<>\"\",ROW(#REF!)),ROWS(J$1:J209)-1))","v":{"$error":"#REF!"}},{"$f":"INDEX(#REF!,SMALL(IF(#REF!<>\"\",ROW(#REF!)),ROWS(K$1:K209)-1))","v":{"$error":"#REF!"}}]
[{"$error":"#REF!"},{"$error":"#REF!"},{"$error":"#REF!"},{"$f":"IF(J210=\"\",VLOOKUP(C210,OFFSET([0]!_xlnm.Print_Area,3,2),2,FALSE),VLOOKUP(A210,OFFSET([0]!_xlnm.Print_Area,3,0),4,FALSE))","v":{"$error":"#REF!"}},{"$f":"IF(J210=\"\",\"\",VLOOKUP(A210,OFFSET([0]!_xlnm.Print_Area,3,0),5,FALSE))","v":{"$error":"#REF!"}},{"$f":"IF(J210=\"\",\"\",VLOOKUP(A210,OFFSET([0]!_xlnm.Print_Area,3,0),6,FALSE))","v":{"$error":"#REF!"}},{"$f":"IF(J210=\"\",\"\",VLOOKUP(A210,OFFSET([0]!_xlnm.Print_Area,3,0,,7),7,FALSE))","v":{"$error":"#REF!"}}," ",{"$f":"INDEX(#REF!,SMALL(IF(#REF!<>\"\",ROW(#REF!)),ROWS(I$1:I210)-1))","v":{"$error":"#REF!"}},{"$f":"INDEX(#REF!,SMALL(IF(#REF!<>\"\",ROW(#REF!)),ROWS(J$1:J210)-1))","v":{"$error":"#REF!"}},{"$f":"INDEX(#REF!,SMALL(IF(#REF!<>\"\",ROW(#REF!)),ROWS(K$1:K210)-1))","v":{"$error":"#REF!"}}]
[{"$error":"#REF!"},{"$error":"#REF!"},{"$error":"#REF!"},{"$f":"IF(J211=\"\",VLOOKUP(C211,OFFSET([0]!_xlnm.Print_Area,3,2),2,FALSE),VLOOKUP(A211,OFFSET([0]!_xlnm.Print_Area,3,0),4,FALSE))","v":{"$error":"#REF!"}},{"$f":"IF(J211=\"\",\"\",VLOOKUP(A211,OFFSET([0]!_xlnm.Print_Area,3,0),5,FALSE))","v":{"$error":"#REF!"}},{"$f":"IF(J211=\"\",\"\",VLOOKUP(A211,OFFSET([0]!_xlnm.Print_Area,3,0),6,FALSE))","v":{"$error":"#REF!"}},{"$f":"IF(J211=\"\",\"\",VLOOKUP(A211,OFFSET([0]!_xlnm.Print_Area,3,0,,7),7,FALSE))","v":{"$error":"#REF!"}}," ",{"$f":"INDEX(#REF!,SMALL(IF(#REF!<>\"\",ROW(#REF!)),ROWS(I$1:I211)-1))","v":{"$error":"#REF!"}},{"$f":"INDEX(#REF!,SMALL(IF(#REF!<>\"\",ROW(#REF!)),ROWS(J$1:J211)-1))","v":{"$error":"#REF!"}},{"$f":"INDEX(#REF!,SMALL(IF(#REF!<>\"\",ROW(#REF!)),ROWS(K$1:K211)-1))","v":{"$error":"#REF!"}}]
[{"$error":"#REF!"},{"$error":"#REF!"},{"$error":"#REF!"},{"$f":"IF(J212=\"\",VLOOKUP(C212,OFFSET([0]!_xlnm.Print_Area,3,2),2,FALSE),VLOOKUP(A212,OFFSET([0]!_xlnm.Print_Area,3,0),4,FALSE))","v":{"$error":"#REF!"}},{"$f":"IF(J212=\"\",\"\",VLOOKUP(A212,OFFSET([0]!_xlnm.Print_Area,3,0),5,FALSE))","v":{"$error":"#REF!"}},{"$f":"IF(J212=\"\",\"\",VLOOKUP(A212,OFFSET([0]!_xlnm.Print_Area,3,0),6,FALSE))","v":{"$error":"#REF!"}},{"$f":"IF(J212=\"\",\"\",VLOOKUP(A212,OFFSET([0]!_xlnm.Print_Area,3,0,,7),7,FALSE))","v":{"$error":"#REF!"}}," ",{"$f":"INDEX(#REF!,SMALL(IF(#REF!<>\"\",ROW(#REF!)),ROWS(I$1:I212)-1))","v":{"$error":"#REF!"}},{"$f":"INDEX(#REF!,SMALL(IF(#REF!<>\"\",ROW(#REF!)),ROWS(J$1:J212)-1))","v":{"$error":"#REF!"}},{"$f":"INDEX(#REF!,SMALL(IF(#REF!<>\"\",ROW(#REF!)),ROWS(K$1:K212)-1))","v":{"$error":"#REF!"}}]
[{"$error":"#REF!"},{"$error":"#REF!"},{"$error":"#REF!"},{"$f":"IF(J213=\"\",VLOOKUP(C213,OFFSET([0]!_xlnm.Print_Area,3,2),2,FALSE),VLOOKUP(A213,OFFSET([0]!_xlnm.Print_Area,3,0),4,FALSE))","v":{"$error":"#REF!"}},{"$f":"IF(J213=\"\",\"\",VLOOKUP(A213,OFFSET([0]!_xlnm.Print_Area,3,0),5,FALSE))","v":{"$error":"#REF!"}},{"$f":"IF(J213=\"\",\"\",VLOOKUP(A213,OFFSET([0]!_xlnm.Print_Area,3,0),6,FALSE))","v":{"$error":"#REF!"}},{"$f":"IF(J213=\"\",\"\",VLOOKUP(A213,OFFSET([0]!_xlnm.Print_Area,3,0,,7),7,FALSE))","v":{"$error":"#REF!"}}," ",{"$f":"INDEX(#REF!,SMALL(IF(#REF!<>\"\",ROW(#REF!)),ROWS(I$1:I213)-1))","v":{"$error":"#REF!"}},{"$f":"INDEX(#REF!,SMALL(IF(#REF!<>\"\",ROW(#REF!)),ROWS(J$1:J213)-1))","v":{"$error":"#REF!"}},{"$f":"INDEX(#REF!,SMALL(IF(#REF!<>\"\",ROW(#REF!)),ROWS(K$1:K213)-1))","v":{"$error":"#REF!"}}]
[{"$error":"#REF!"},{"$error":"#REF!"},{"$error":"#REF!"},{"$f":"IF(J214=\"\",VLOOKUP(C214,OFFSET([0]!_xlnm.Print_Area,3,2),2,FALSE),VLOOKUP(A214,OFFSET([0]!_xlnm.Print_Area,3,0),4,FALSE))","v":{"$error":"#REF!"}},{"$f":"IF(J214=\"\",\"\",VLOOKUP(A214,OFFSET([0]!_xlnm.Print_Area,3,0),5,FALSE))","v":{"$error":"#REF!"}},{"$f":"IF(J214=\"\",\"\",VLOOKUP(A214,OFFSET([0]!_xlnm.Print_Area,3,0),6,FALSE))","v":{"$error":"#REF!"}},{"$f":"IF(J214=\"\",\"\",VLOOKUP(A214,OFFSET([0]!_xlnm.Print_Area,3,0,,7),7,FALSE))","v":{"$error":"#REF!"}}," ",{"$f":"INDEX(#REF!,SMALL(IF(#REF!<>\"\",ROW(#REF!)),ROWS(I$1:I214)-1))","v":{"$error":"#REF!"}},{"$f":"INDEX(#REF!,SMALL(IF(#REF!<>\"\",ROW(#REF!)),ROWS(J$1:J214)-1))","v":{"$error":"#REF!"}},{"$f":"INDEX(#REF!,SMALL(IF(#REF!<>\"\",ROW(#REF!)),ROWS(K$1:K214)-1))","v":{"$error":"#REF!"}}]
[{"$error":"#REF!"},{"$error":"#REF!"},{"$error":"#REF!"},{"$f":"IF(J215=\"\",VLOOKUP(C215,OFFSET([0]!_xlnm.Print_Area,3,2),2,FALSE),VLOOKUP(A215,OFFSET([0]!_xlnm.Print_Area,3,0),4,FALSE))","v":{"$error":"#REF!"}},{"$f":"IF(J215=\"\",\"\",VLOOKUP(A215,OFFSET([0]!_xlnm.Print_Area,3,0),5,FALSE))","v":{"$error":"#REF!"}},{"$f":"IF(J215=\"\",\"\",VLOOKUP(A215,OFFSET([0]!_xlnm.Print_Area,3,0),6,FALSE))","v":{"$error":"#REF!"}},{"$f":"IF(J215=\"\",\"\",VLOOKUP(A215,OFFSET([0]!_xlnm.Print_Area,3,0,,7),7,FALSE))","v":{"$error":"#REF!"}}," ",{"$f":"INDEX(#REF!,SMALL(IF(#REF!<>\"\",ROW(#REF!)),ROWS(I$1:I215)-1))","v":{"$error":"#REF!"}},{"$f":"INDEX(#REF!,SMALL(IF(#REF!<>\"\",ROW(#REF!)),ROWS(J$1:J215)-1))","v":{"$error":"#REF!"}},{"$f":"INDEX(#REF!,SMALL(IF(#REF!<>\"\",ROW(#REF!)),ROWS(K$1:K215)-1))","v":{"$error":"#REF!"}}]
[{"$error":"#REF!"},{"$error":"#REF!"},{"$error":"#REF!"},{"$f":"IF(J216=\"\",VLOOKUP(C216,OFFSET([0]!_xlnm.Print_Area,3,2),2,FALSE),VLOOKUP(A216,OFFSET([0]!_xlnm.Print_Area,3,0),4,FALSE))","v":{"$error":"#REF!"}},{"$f":"IF(J216=\"\",\"\",VLOOKUP(A216,OFFSET([0]!_xlnm.Print_Area,3,0),5,FALSE))","v":{"$error":"#REF!"}},{"$f":"IF(J216=\"\",\"\",VLOOKUP(A216,OFFSET([0]!_xlnm.Print_Area,3,0),6,FALSE))","v":{"$error":"#REF!"}},{"$f":"IF(J216=\"\",\"\",VLOOKUP(A216,OFFSET([0]!_xlnm.Print_Area,3,0,,7),7,FALSE))","v":{"$error":"#REF!"}}," ",{"$f":"INDEX(#REF!,SMALL(IF(#REF!<>\"\",ROW(#REF!)),ROWS(I$1:I216)-1))","v":{"$error":"#REF!"}},{"$f":"INDEX(#REF!,SMALL(IF(#REF!<>\"\",ROW(#REF!)),ROWS(J$1:J216)-1))","v":{"$error":"#REF!"}},{"$f":"INDEX(#REF!,SMALL(IF(#REF!<>\"\",ROW(#REF!)),ROWS(K$1:K216)-1))","v":{"$error":"#REF!"}}]
[{"$error":"#REF!"},{"$error":"#REF!"},{"$error":"#REF!"},{"$f":"IF(J217=\"\",VLOOKUP(C217,OFFSET([0]!_xlnm.Print_Area,3,2),2,FALSE),VLOOKUP(A217,OFFSET([0]!_xlnm.Print_Area,3,0),4,FALSE))","v":{"$error":"#REF!"}},{"$f":"IF(J217=\"\",\"\",VLOOKUP(A217,OFFSET([0]!_xlnm.Print_Area,3,0),5,FALSE))","v":{"$error":"#REF!"}},{"$f":"IF(J217=\"\",\"\",VLOOKUP(A217,OFFSET([0]!_xlnm.Print_Area,3,0),6,FALSE))","v":{"$error":"#REF!"}},{"$f":"IF(J217=\"\",\"\",VLOOKUP(A217,OFFSET([0]!_xlnm.Print_Area,3,0,,7),7,FALSE))","v":{"$error":"#REF!"}}," ",{"$f":"INDEX(#REF!,SMALL(IF(#REF!<>\"\",ROW(#REF!)),ROWS(I$1:I217)-1))","v":{"$error":"#REF!"}},{"$f":"INDEX(#REF!,SMALL(IF(#REF!<>\"\",ROW(#REF!)),ROWS(J$1:J217)-1))","v":{"$error":"#REF!"}},{"$f":"INDEX(#REF!,SMALL(IF(#REF!<>\"\",ROW(#REF!)),ROWS(K$1:K217)-1))","v":{"$error":"#REF!"}}]
[{"$error":"#REF!"},{"$error":"#REF!"},{"$error":"#REF!"},{"$f":"IF(J218=\"\",VLOOKUP(C218,OFFSET([0]!_xlnm.Print_Area,3,2),2,FALSE),VLOOKUP(A218,OFFSET([0]!_xlnm.Print_Area,3,0),4,FALSE))","v":{"$error":"#REF!"}},{"$f":"IF(J218=\"\",\"\",VLOOKUP(A218,OFFSET([0]!_xlnm.Print_Area,3,0),5,FALSE))","v":{"$error":"#REF!"}},{"$f":"IF(J218=\"\",\"\",VLOOKUP(A218,OFFSET([0]!_xlnm.Print_Area,3,0),6,FALSE))","v":{"$error":"#REF!"}},{"$f":"IF(J218=\"\",\"\",VLOOKUP(A218,OFFSET([0]!_xlnm.Print_Area,3,0,,7),7,FALSE))","v":{"$error":"#REF!"}}," ",{"$f":"INDEX(#REF!,SMALL(IF(#REF!<>\"\",ROW(#REF!)),ROWS(I$1:I218)-1))","v":{"$error":"#REF!"}},{"$f":"INDEX(#REF!,SMALL(IF(#REF!<>\"\",ROW(#REF!)),ROWS(J$1:J218)-1))","v":{"$error":"#REF!"}},{"$f":"INDEX(#REF!,SMALL(IF(#REF!<>\"\",ROW(#REF!)),ROWS(K$1:K218)-1))","v":{"$error":"#REF!"}}]
[{"$error":"#REF!"},{"$error":"#REF!"},{"$error":"#REF!"},{"$f":"IF(J219=\"\",VLOOKUP(C219,OFFSET([0]!_xlnm.Print_Area,3,2),2,FALSE),VLOOKUP(A219,OFFSET([0]!_xlnm.Print_Area,3,0),4,FALSE))","v":{"$error":"#REF!"}},{"$f":"IF(J219=\"\",\"\",VLOOKUP(A219,OFFSET([0]!_xlnm.Print_Area,3,0),5,FALSE))","v":{"$error":"#REF!"}},{"$f":"IF(J219=\"\",\"\",VLOOKUP(A219,OFFSET([0]!_xlnm.Print_Area,3,0),6,FALSE))","v":{"$error":"#REF!"}},{"$f":"IF(J219=\"\",\"\",VLOOKUP(A219,OFFSET([0]!_xlnm.Print_Area,3,0,,7),7,FALSE))","v":{"$error":"#REF!"}}," ",{"$f":"INDEX(#REF!,SMALL(IF(#REF!<>\"\",ROW(#REF!)),ROWS(I$1:I219)-1))","v":{"$error":"#REF!"}},{"$f":"INDEX(#REF!,SMALL(IF(#REF!<>\"\",ROW(#REF!)),ROWS(J$1:J219)-1))","v":{"$error":"#REF!"}},{"$f":"INDEX(#REF!,SMALL(IF(#REF!<>\"\",ROW(#REF!)),ROWS(K$1:K219)-1))","v":{"$error":"#REF!"}}]
[{"$error":"#REF!"},{"$error":"#REF!"},{"$error":"#REF!"},{"$f":"IF(J220=\"\",VLOOKUP(C220,OFFSET([0]!_xlnm.Print_Area,3,2),2,FALSE),VLOOKUP(A220,OFFSET([0]!_xlnm.Print_Area,3,0),4,FALSE))","v":{"$error":"#REF!"}},{"$f":"IF(J220=\"\",\"\",VLOOKUP(A220,OFFSET([0]!_xlnm.Print_Area,3,0),5,FALSE))","v":{"$error":"#REF!"}},{"$f":"IF(J220=\"\",\"\",VLOOKUP(A220,OFFSET([0]!_xlnm.Print_Area,3,0),6,FALSE))","v":{"$error":"#REF!"}},{"$f":"IF(J220=\"\",\"\",VLOOKUP(A220,OFFSET([0]!_xlnm.Print_Area,3,0,,7),7,FALSE))","v":{"$error":"#REF!"}}," ",{"$f":"INDEX(#REF!,SMALL(IF(#REF!<>\"\",ROW(#REF!)),ROWS(I$1:I220)-1))","v":{"$error":"#REF!"}},{"$f":"INDEX(#REF!,SMALL(IF(#REF!<>\"\",ROW(#REF!)),ROWS(J$1:J220)-1))","v":{"$error":"#REF!"}},{"$f":"INDEX(#REF!,SMALL(IF(#REF!<>\"\",ROW(#REF!)),ROWS(K$1:K220)-1))","v":{"$error":"#REF!"}}]
[{"$error":"#REF!"},{"$error":"#REF!"},{"$error":"#REF!"},{"$f":"IF(J221=\"\",VLOOKUP(C221,OFFSET([0]!_xlnm.Print_Area,3,2),2,FALSE),VLOOKUP(A221,OFFSET([0]!_xlnm.Print_Area,3,0),4,FALSE))","v":{"$error":"#REF!"}},{"$f":"IF(J221=\"\",\"\",VLOOKUP(A221,OFFSET([0]!_xlnm.Print_Area,3,0),5,FALSE))","v":{"$error":"#REF!"}},{"$f":"IF(J221=\"\",\"\",VLOOKUP(A221,OFFSET([0]!_xlnm.Print_Area,3,0),6,FALSE))","v":{"$error":"#REF!"}},{"$f":"IF(J221=\"\",\"\",VLOOKUP(A221,OFFSET([0]!_xlnm.Print_Area,3,0,,7),7,FALSE))","v":{"$error":"#REF!"}}," ",{"$f":"INDEX(#REF!,SMALL(IF(#REF!<>\"\",ROW(#REF!)),ROWS(I$1:I221)-1))","v":{"$error":"#REF!"}},{"$f":"INDEX(#REF!,SMALL(IF(#REF!<>\"\",ROW(#REF!)),ROWS(J$1:J221)-1))","v":{"$error":"#REF!"}},{"$f":"INDEX(#REF!,SMALL(IF(#REF!<>\"\",ROW(#REF!)),ROWS(K$1:K221)-1))","v":{"$error":"#REF!"}}]
[{"$error":"#REF!"},{"$error":"#REF!"},{"$error":"#REF!"},{"$f":"IF(J222=\"\",VLOOKUP(C222,OFFSET([0]!_xlnm.Print_Area,3,2),2,FALSE),VLOOKUP(A222,OFFSET([0]!_xlnm.Print_Area,3,0),4,FALSE))","v":{"$error":"#REF!"}},{"$f":"IF(J222=\"\",\"\",VLOOKUP(A222,OFFSET([0]!_xlnm.Print_Area,3,0),5,FALSE))","v":{"$error":"#REF!"}},{"$f":"IF(J222=\"\",\"\",VLOOKUP(A222,OFFSET([0]!_xlnm.Print_Area,3,0),6,FALSE))","v":{"$error":"#REF!"}},{"$f":"IF(J222=\"\",\"\",VLOOKUP(A222,OFFSET([0]!_xlnm.Print_Area,3,0,,7),7,FALSE))","v":{"$error":"#REF!"}}," ",{"$f":"INDEX(#REF!,SMALL(IF(#REF!<>\"\",ROW(#REF!)),ROWS(I$1:I222)-1))","v":{"$error":"#REF!"}},{"$f":"INDEX(#REF!,SMALL(IF(#REF!<>\"\",ROW(#REF!)),ROWS(J$1:J222)-1))","v":{"$error":"#REF!"}},{"$f":"INDEX(#REF!,SMALL(IF(#REF!<>\"\",ROW(#REF!)),ROWS(K$1:K222)-1))","v":{"$error":"#REF!"}}]
[{"$error":"#REF!"},{"$error":"#REF!"},{"$error":"#REF!"},{"$f":"IF(J223=\"\",VLOOKUP(C223,OFFSET([0]!_xlnm.Print_Area,3,2),2,FALSE),VLOOKUP(A223,OFFSET([0]!_xlnm.Print_Area,3,0),4,FALSE))","v":{"$error":"#REF!"}},{"$f":"IF(J223=\"\",\"\",VLOOKUP(A223,OFFSET([0]!_xlnm.Print_Area,3,0),5,FALSE))","v":{"$error":"#REF!"}},{"$f":"IF(J223=\"\",\"\",VLOOKUP(A223,OFFSET([0]!_xlnm.Print_Area,3,0),6,FALSE))","v":{"$error":"#REF!"}},{"$f":"IF(J223=\"\",\"\",VLOOKUP(A223,OFFSET([0]!_xlnm.Print_Area,3,0,,7),7,FALSE))","v":{"$error":"#REF!"}}," ",{"$f":"INDEX(#REF!,SMALL(IF(#REF!<>\"\",ROW(#REF!)),ROWS(I$1:I223)-1))","v":{"$error":"#REF!"}},{"$f":"INDEX(#REF!,SMALL(IF(#REF!<>\"\",ROW(#REF!)),ROWS(J$1:J223)-1))","v":{"$error":"#REF!"}},{"$f":"INDEX(#REF!,SMALL(IF(#REF!<>\"\",ROW(#REF!)),ROWS(K$1:K223)-1))","v":{"$error":"#REF!"}}]
[{"$error":"#REF!"},{"$error":"#REF!"},{"$error":"#REF!"},{"$f":"IF(J224=\"\",VLOOKUP(C224,OFFSET([0]!_xlnm.Print_Area,3,2),2,FALSE),VLOOKUP(A224,OFFSET([0]!_xlnm.Print_Area,3,0),4,FALSE))","v":{"$error":"#REF!"}},{"$f":"IF(J224=\"\",\"\",VLOOKUP(A224,OFFSET([0]!_xlnm.Print_Area,3,0),5,FALSE))","v":{"$error":"#REF!"}},{"$f":"IF(J224=\"\",\"\",VLOOKUP(A224,OFFSET([0]!_xlnm.Print_Area,3,0),6,FALSE))","v":{"$error":"#REF!"}},{"$f":"IF(J224=\"\",\"\",VLOOKUP(A224,OFFSET([0]!_xlnm.Print_Area,3,0,,7),7,FALSE))","v":{"$error":"#REF!"}}," ",{"$f":"INDEX(#REF!,SMALL(IF(#REF!<>\"\",ROW(#REF!)),ROWS(I$1:I224)-1))","v":{"$error":"#REF!"}},{"$f":"INDEX(#REF!,SMALL(IF(#REF!<>\"\",ROW(#REF!)),ROWS(J$1:J224)-1))","v":{"$error":"#REF!"}},{"$f":"INDEX(#REF!,SMALL(IF(#REF!<>\"\",ROW(#REF!)),ROWS(K$1:K224)-1))","v":{"$error":"#REF!"}}]
[{"$error":"#REF!"},{"$error":"#REF!"},{"$error":"#REF!"},{"$f":"IF(J225=\"\",VLOOKUP(C225,OFFSET([0]!_xlnm.Print_Area,3,2),2,FALSE),VLOOKUP(A225,OFFSET([0]!_xlnm.Print_Area,3,0),4,FALSE))","v":{"$error":"#REF!"}},{"$f":"IF(J225=\"\",\"\",VLOOKUP(A225,OFFSET([0]!_xlnm.Print_Area,3,0),5,FALSE))","v":{"$error":"#REF!"}},{"$f":"IF(J225=\"\",\"\",VLOOKUP(A225,OFFSET([0]!_xlnm.Print_Area,3,0),6,FALSE))","v":{"$error":"#REF!"}},{"$f":"IF(J225=\"\",\"\",VLOOKUP(A225,OFFSET([0]!_xlnm.Print_Area,3,0,,7),7,FALSE))","v":{"$error":"#REF!"}}," ",{"$f":"INDEX(#REF!,SMALL(IF(#REF!<>\"\",ROW(#REF!)),ROWS(I$1:I225)-1))","v":{"$error":"#REF!"}},{"$f":"INDEX(#REF!,SMALL(IF(#REF!<>\"\",ROW(#REF!)),ROWS(J$1:J225)-1))","v":{"$error":"#REF!"}},{"$f":"INDEX(#REF!,SMALL(IF(#REF!<>\"\",ROW(#REF!)),ROWS(K$1:K225)-1))","v":{"$error":"#REF!"}}]
[{"$error":"#REF!"},{"$error":"#REF!"},{"$error":"#REF!"},{"$f":"IF(J226=\"\",VLOOKUP(C226,OFFSET([0]!_xlnm.Print_Area,3,2),2,FALSE),VLOOKUP(A226,OFFSET([0]!_xlnm.Print_Area,3,0),4,FALSE))","v":{"$error":"#REF!"}},{"$f":"IF(J226=\"\",\"\",VLOOKUP(A226,OFFSET([0]!_xlnm.Print_Area,3,0),5,FALSE))","v":{"$error":"#REF!"}},{"$f":"IF(J226=\"\",\"\",VLOOKUP(A226,OFFSET([0]!_xlnm.Print_Area,3,0),6,FALSE))","v":{"$error":"#REF!"}},{"$f":"IF(J226=\"\",\"\",VLOOKUP(A226,OFFSET([0]!_xlnm.Print_Area,3,0,,7),7,FALSE))","v":{"$error":"#REF!"}}," ",{"$f":"INDEX(#REF!,SMALL(IF(#REF!<>\"\",ROW(#REF!)),ROWS(I$1:I226)-1))","v":{"$error":"#REF!"}},{"$f":"INDEX(#REF!,SMALL(IF(#REF!<>\"\",ROW(#REF!)),ROWS(J$1:J226)-1))","v":{"$error":"#REF!"}},{"$f":"INDEX(#REF!,SMALL(IF(#REF!<>\"\",ROW(#REF!)),ROWS(K$1:K226)-1))","v":{"$error":"#REF!"}}]
[{"$error":"#REF!"},{"$error":"#REF!"},{"$error":"#REF!"},{"$f":"IF(J227=\"\",VLOOKUP(C227,OFFSET([0]!_xlnm.Print_Area,3,2),2,FALSE),VLOOKUP(A227,OFFSET([0]!_xlnm.Print_Area,3,0),4,FALSE))","v":{"$error":"#REF!"}},{"$f":"IF(J227=\"\",\"\",VLOOKUP(A227,OFFSET([0]!_xlnm.Print_Area,3,0),5,FALSE))","v":{"$error":"#REF!"}},{"$f":"IF(J227=\"\",\"\",VLOOKUP(A227,OFFSET([0]!_xlnm.Print_Area,3,0),6,FALSE))","v":{"$error":"#REF!"}},{"$f":"IF(J227=\"\",\"\",VLOOKUP(A227,OFFSET([0]!_xlnm.Print_Area,3,0,,7),7,FALSE))","v":{"$error":"#REF!"}}," ",{"$f":"INDEX(#REF!,SMALL(IF(#REF!<>\"\",ROW(#REF!)),ROWS(I$1:I227)-1))","v":{"$error":"#REF!"}},{"$f":"INDEX(#REF!,SMALL(IF(#REF!<>\"\",ROW(#REF!)),ROWS(J$1:J227)-1))","v":{"$error":"#REF!"}},{"$f":"INDEX(#REF!,SMALL(IF(#REF!<>\"\",ROW(#REF!)),ROWS(K$1:K227)-1))","v":{"$error":"#REF!"}}]
[{"$error":"#REF!"},{"$error":"#REF!"},{"$error":"#REF!"},{"$f":"IF(J228=\"\",VLOOKUP(C228,OFFSET([0]!_xlnm.Print_Area,3,2),2,FALSE),VLOOKUP(A228,OFFSET([0]!_xlnm.Print_Area,3,0),4,FALSE))","v":{"$error":"#REF!"}},{"$f":"IF(J228=\"\",\"\",VLOOKUP(A228,OFFSET([0]!_xlnm.Print_Area,3,0),5,FALSE))","v":{"$error":"#REF!"}},{"$f":"IF(J228=\"\",\"\",VLOOKUP(A228,OFFSET([0]!_xlnm.Print_Area,3,0),6,FALSE))","v":{"$error":"#REF!"}},{"$f":"IF(J228=\"\",\"\",VLOOKUP(A228,OFFSET([0]!_xlnm.Print_Area,3,0,,7),7,FALSE))","v":{"$error":"#REF!"}}," ",{"$f":"INDEX(#REF!,SMALL(IF(#REF!<>\"\",ROW(#REF!)),ROWS(I$1:I228)-1))","v":{"$error":"#REF!"}},{"$f":"INDEX(#REF!,SMALL(IF(#REF!<>\"\",ROW(#REF!)),ROWS(J$1:J228)-1))","v":{"$error":"#REF!"}},{"$f":"INDEX(#REF!,SMALL(IF(#REF!<>\"\",ROW(#REF!)),ROWS(K$1:K228)-1))","v":{"$error":"#REF!"}}]
[{"$error":"#REF!"},{"$error":"#REF!"},{"$error":"#REF!"},{"$f":"IF(J229=\"\",VLOOKUP(C229,OFFSET([0]!_xlnm.Print_Area,3,2),2,FALSE),VLOOKUP(A229,OFFSET([0]!_xlnm.Print_Area,3,0),4,FALSE))","v":{"$error":"#REF!"}},{"$f":"IF(J229=\"\",\"\",VLOOKUP(A229,OFFSET([0]!_xlnm.Print_Area,3,0),5,FALSE))","v":{"$error":"#REF!"}},{"$f":"IF(J229=\"\",\"\",VLOOKUP(A229,OFFSET([0]!_xlnm.Print_Area,3,0),6,FALSE))","v":{"$error":"#REF!"}},{"$f":"IF(J229=\"\",\"\",VLOOKUP(A229,OFFSET([0]!_xlnm.Print_Area,3,0,,7),7,FALSE))","v":{"$error":"#REF!"}}," ",{"$f":"INDEX(#REF!,SMALL(IF(#REF!<>\"\",ROW(#REF!)),ROWS(I$1:I229)-1))","v":{"$error":"#REF!"}},{"$f":"INDEX(#REF!,SMALL(IF(#REF!<>\"\",ROW(#REF!)),ROWS(J$1:J229)-1))","v":{"$error":"#REF!"}},{"$f":"INDEX(#REF!,SMALL(IF(#REF!<>\"\",ROW(#REF!)),ROWS(K$1:K229)-1))","v":{"$error":"#REF!"}}]
[{"$error":"#REF!"},{"$error":"#REF!"},{"$error":"#REF!"},{"$f":"IF(J230=\"\",VLOOKUP(C230,OFFSET([0]!_xlnm.Print_Area,3,2),2,FALSE),VLOOKUP(A230,OFFSET([0]!_xlnm.Print_Area,3,0),4,FALSE))","v":{"$error":"#REF!"}},{"$f":"IF(J230=\"\",\"\",VLOOKUP(A230,OFFSET([0]!_xlnm.Print_Area,3,0),5,FALSE))","v":{"$error":"#REF!"}},{"$f":"IF(J230=\"\",\"\",VLOOKUP(A230,OFFSET([0]!_xlnm.Print_Area,3,0),6,FALSE))","v":{"$error":"#REF!"}},{"$f":"IF(J230=\"\",\"\",VLOOKUP(A230,OFFSET([0]!_xlnm.Print_Area,3,0,,7),7,FALSE))","v":{"$error":"#REF!"}}," ",{"$f":"INDEX(#REF!,SMALL(IF(#REF!<>\"\",ROW(#REF!)),ROWS(I$1:I230)-1))","v":{"$error":"#REF!"}},{"$f":"INDEX(#REF!,SMALL(IF(#REF!<>\"\",ROW(#REF!)),ROWS(J$1:J230)-1))","v":{"$error":"#REF!"}},{"$f":"INDEX(#REF!,SMALL(IF(#REF!<>\"\",ROW(#REF!)),ROWS(K$1:K230)-1))","v":{"$error":"#REF!"}}]
[{"$error":"#REF!"},{"$error":"#REF!"},{"$error":"#REF!"},{"$f":"IF(J231=\"\",VLOOKUP(C231,OFFSET([0]!_xlnm.Print_Area,3,2),2,FALSE),VLOOKUP(A231,OFFSET([0]!_xlnm.Print_Area,3,0),4,FALSE))","v":{"$error":"#REF!"}},{"$f":"IF(J231=\"\",\"\",VLOOKUP(A231,OFFSET([0]!_xlnm.Print_Area,3,0),5,FALSE))","v":{"$error":"#REF!"}},{"$f":"IF(J231=\"\",\"\",VLOOKUP(A231,OFFSET([0]!_xlnm.Print_Area,3,0),6,FALSE))","v":{"$error":"#REF!"}},{"$f":"IF(J231=\"\",\"\",VLOOKUP(A231,OFFSET([0]!_xlnm.Print_Area,3,0,,7),7,FALSE))","v":{"$error":"#REF!"}}," ",{"$f":"INDEX(#REF!,SMALL(IF(#REF!<>\"\",ROW(#REF!)),ROWS(I$1:I231)-1))","v":{"$error":"#REF!"}},{"$f":"INDEX(#REF!,SMALL(IF(#REF!<>\"\",ROW(#REF!)),ROWS(J$1:J231)-1))","v":{"$error":"#REF!"}},{"$f":"INDEX(#REF!,SMALL(IF(#REF!<>\"\",ROW(#REF!)),ROWS(K$1:K231)-1))","v":{"$error":"#REF!"}}]
[{"$error":"#REF!"},{"$error":"#REF!"},{"$error":"#REF!"},{"$f":"IF(J232=\"\",VLOOKUP(C232,OFFSET([0]!_xlnm.Print_Area,3,2),2,FALSE),VLOOKUP(A232,OFFSET([0]!_xlnm.Print_Area,3,0),4,FALSE))","v":{"$error":"#REF!"}},{"$f":"IF(J232=\"\",\"\",VLOOKUP(A232,OFFSET([0]!_xlnm.Print_Area,3,0),5,FALSE))","v":{"$error":"#REF!"}},{"$f":"IF(J232=\"\",\"\",VLOOKUP(A232,OFFSET([0]!_xlnm.Print_Area,3,0),6,FALSE))","v":{"$error":"#REF!"}},{"$f":"IF(J232=\"\",\"\",VLOOKUP(A232,OFFSET([0]!_xlnm.Print_Area,3,0,,7),7,FALSE))","v":{"$error":"#REF!"}}," ",{"$f":"INDEX(#REF!,SMALL(IF(#REF!<>\"\",ROW(#REF!)),ROWS(I$1:I232)-1))","v":{"$error":"#REF!"}},{"$f":"INDEX(#REF!,SMALL(IF(#REF!<>\"\",ROW(#REF!)),ROWS(J$1:J232)-1))","v":{"$error":"#REF!"}},{"$f":"INDEX(#REF!,SMALL(IF(#REF!<>\"\",ROW(#REF!)),ROWS(K$1:K232)-1))","v":{"$error":"#REF!"}}]
[{"$error":"#REF!"},{"$error":"#REF!"},{"$error":"#REF!"},{"$f":"IF(J233=\"\",VLOOKUP(C233,OFFSET([0]!_xlnm.Print_Area,3,2),2,FALSE),VLOOKUP(A233,OFFSET([0]!_xlnm.Print_Area,3,0),4,FALSE))","v":{"$error":"#REF!"}},{"$f":"IF(J233=\"\",\"\",VLOOKUP(A233,OFFSET([0]!_xlnm.Print_Area,3,0),5,FALSE))","v":{"$error":"#REF!"}},{"$f":"IF(J233=\"\",\"\",VLOOKUP(A233,OFFSET([0]!_xlnm.Print_Area,3,0),6,FALSE))","v":{"$error":"#REF!"}},{"$f":"IF(J233=\"\",\"\",VLOOKUP(A233,OFFSET([0]!_xlnm.Print_Area,3,0,,7),7,FALSE))","v":{"$error":"#REF!"}}," ",{"$f":"INDEX(#REF!,SMALL(IF(#REF!<>\"\",ROW(#REF!)),ROWS(I$1:I233)-1))","v":{"$error":"#REF!"}},{"$f":"INDEX(#REF!,SMALL(IF(#REF!<>\"\",ROW(#REF!)),ROWS(J$1:J233)-1))","v":{"$error":"#REF!"}},{"$f":"INDEX(#REF!,SMALL(IF(#REF!<>\"\",ROW(#REF!)),ROWS(K$1:K233)-1))","v":{"$error":"#REF!"}}]
[{"$error":"#REF!"},{"$error":"#REF!"},{"$error":"#REF!"},{"$f":"IF(J234=\"\",VLOOKUP(C234,OFFSET([0]!_xlnm.Print_Area,3,2),2,FALSE),VLOOKUP(A234,OFFSET([0]!_xlnm.Print_Area,3,0),4,FALSE))","v":{"$error":"#REF!"}},{"$f":"IF(J234=\"\",\"\",VLOOKUP(A234,OFFSET([0]!_xlnm.Print_Area,3,0),5,FALSE))","v":{"$error":"#REF!"}},{"$f":"IF(J234=\"\",\"\",VLOOKUP(A234,OFFSET([0]!_xlnm.Print_Area,3,0),6,FALSE))","v":{"$error":"#REF!"}},{"$f":"IF(J234=\"\",\"\",VLOOKUP(A234,OFFSET([0]!_xlnm.Print_Area,3,0,,7),7,FALSE))","v":{"$error":"#REF!"}}," ",{"$f":"INDEX(#REF!,SMALL(IF(#REF!<>\"\",ROW(#REF!)),ROWS(I$1:I234)-1))","v":{"$error":"#REF!"}},{"$f":"INDEX(#REF!,SMALL(IF(#REF!<>\"\",ROW(#REF!)),ROWS(J$1:J234)-1))","v":{"$error":"#REF!"}},{"$f":"INDEX(#REF!,SMALL(IF(#REF!<>\"\",ROW(#REF!)),ROWS(K$1:K234)-1))","v":{"$error":"#REF!"}}]
[{"$error":"#REF!"},{"$error":"#REF!"},{"$error":"#REF!"},{"$f":"IF(J235=\"\",VLOOKUP(C235,OFFSET([0]!_xlnm.Print_Area,3,2),2,FALSE),VLOOKUP(A235,OFFSET([0]!_xlnm.Print_Area,3,0),4,FALSE))","v":{"$error":"#REF!"}},{"$f":"IF(J235=\"\",\"\",VLOOKUP(A235,OFFSET([0]!_xlnm.Print_Area,3,0),5,FALSE))","v":{"$error":"#REF!"}},{"$f":"IF(J235=\"\",\"\",VLOOKUP(A235,OFFSET([0]!_xlnm.Print_Area,3,0),6,FALSE))","v":{"$error":"#REF!"}},{"$f":"IF(J235=\"\",\"\",VLOOKUP(A235,OFFSET([0]!_xlnm.Print_Area,3,0,,7),7,FALSE))","v":{"$error":"#REF!"}}," ",{"$f":"INDEX(#REF!,SMALL(IF(#REF!<>\"\",ROW(#REF!)),ROWS(I$1:I235)-1))","v":{"$error":"#REF!"}},{"$f":"INDEX(#REF!,SMALL(IF(#REF!<>\"\",ROW(#REF!)),ROWS(J$1:J235)-1))","v":{"$error":"#REF!"}},{"$f":"INDEX(#REF!,SMALL(IF(#REF!<>\"\",ROW(#REF!)),ROWS(K$1:K235)-1))","v":{"$error":"#REF!"}}]
[{"$error":"#REF!"},{"$error":"#REF!"},{"$error":"#REF!"},{"$f":"IF(J236=\"\",VLOOKUP(C236,OFFSET([0]!_xlnm.Print_Area,3,2),2,FALSE),VLOOKUP(A236,OFFSET([0]!_xlnm.Print_Area,3,0),4,FALSE))","v":{"$error":"#REF!"}},{"$f":"IF(J236=\"\",\"\",VLOOKUP(A236,OFFSET([0]!_xlnm.Print_Area,3,0),5,FALSE))","v":{"$error":"#REF!"}},{"$f":"IF(J236=\"\",\"\",VLOOKUP(A236,OFFSET([0]!_xlnm.Print_Area,3,0),6,FALSE))","v":{"$error":"#REF!"}},{"$f":"IF(J236=\"\",\"\",VLOOKUP(A236,OFFSET([0]!_xlnm.Print_Area,3,0,,7),7,FALSE))","v":{"$error":"#REF!"}}," ",{"$f":"INDEX(#REF!,SMALL(IF(#REF!<>\"\",ROW(#REF!)),ROWS(I$1:I236)-1))","v":{"$error":"#REF!"}},{"$f":"INDEX(#REF!,SMALL(IF(#REF!<>\"\",ROW(#REF!)),ROWS(J$1:J236)-1))","v":{"$error":"#REF!"}},{"$f":"INDEX(#REF!,SMALL(IF(#REF!<>\"\",ROW(#REF!)),ROWS(K$1:K236)-1))","v":{"$error":"#REF!"}}]
[{"$error":"#REF!"},{"$error":"#REF!"},{"$error":"#REF!"},{"$f":"IF(J237=\"\",VLOOKUP(C237,OFFSET([0]!_xlnm.Print_Area,3,2),2,FALSE),VLOOKUP(A237,OFFSET([0]!_xlnm.Print_Area,3,0),4,FALSE))","v":{"$error":"#REF!"}},{"$f":"IF(J237=\"\",\"\",VLOOKUP(A237,OFFSET([0]!_xlnm.Print_Area,3,0),5,FALSE))","v":{"$error":"#REF!"}},{"$f":"IF(J237=\"\",\"\",VLOOKUP(A237,OFFSET([0]!_xlnm.Print_Area,3,0),6,FALSE))","v":{"$error":"#REF!"}},{"$f":"IF(J237=\"\",\"\",VLOOKUP(A237,OFFSET([0]!_xlnm.Print_Area,3,0,,7),7,FALSE))","v":{"$error":"#REF!"}}," ",{"$f":"INDEX(#REF!,SMALL(IF(#REF!<>\"\",ROW(#REF!)),ROWS(I$1:I237)-1))","v":{"$error":"#REF!"}},{"$f":"INDEX(#REF!,SMALL(IF(#REF!<>\"\",ROW(#REF!)),ROWS(J$1:J237)-1))","v":{"$error":"#REF!"}},{"$f":"INDEX(#REF!,SMALL(IF(#REF!<>\"\",ROW(#REF!)),ROWS(K$1:K237)-1))","v":{"$error":"#REF!"}}]
[{"$error":"#REF!"},{"$error":"#REF!"},{"$error":"#REF!"},{"$f":"IF(J238=\"\",VLOOKUP(C238,OFFSET([0]!_xlnm.Print_Area,3,2),2,FALSE),VLOOKUP(A238,OFFSET([0]!_xlnm.Print_Area,3,0),4,FALSE))","v":{"$error":"#REF!"}},{"$f":"IF(J238=\"\",\"\",VLOOKUP(A238,OFFSET([0]!_xlnm.Print_Area,3,0),5,FALSE))","v":{"$error":"#REF!"}},{"$f":"IF(J238=\"\",\"\",VLOOKUP(A238,OFFSET([0]!_xlnm.Print_Area,3,0),6,FALSE))","v":{"$error":"#REF!"}},{"$f":"IF(J238=\"\",\"\",VLOOKUP(A238,OFFSET([0]!_xlnm.Print_Area,3,0,,7),7,FALSE))","v":{"$error":"#REF!"}}," ",{"$f":"INDEX(#REF!,SMALL(IF(#REF!<>\"\",ROW(#REF!)),ROWS(I$1:I238)-1))","v":{"$error":"#REF!"}},{"$f":"INDEX(#REF!,SMALL(IF(#REF!<>\"\",ROW(#REF!)),ROWS(J$1:J238)-1))","v":{"$error":"#REF!"}},{"$f":"INDEX(#REF!,SMALL(IF(#REF!<>\"\",ROW(#REF!)),ROWS(K$1:K238)-1))","v":{"$error":"#REF!"}}]
[{"$error":"#REF!"},{"$error":"#REF!"},{"$error":"#REF!"},{"$f":"IF(J239=\"\",VLOOKUP(C239,OFFSET([0]!_xlnm.Print_Area,3,2),2,FALSE),VLOOKUP(A239,OFFSET([0]!_xlnm.Print_Area,3,0),4,FALSE))","v":{"$error":"#REF!"}},{"$f":"IF(J239=\"\",\"\",VLOOKUP(A239,OFFSET([0]!_xlnm.Print_Area,3,0),5,FALSE))","v":{"$error":"#REF!"}},{"$f":"IF(J239=\"\",\"\",VLOOKUP(A239,OFFSET([0]!_xlnm.Print_Area,3,0),6,FALSE))","v":{"$error":"#REF!"}},{"$f":"IF(J239=\"\",\"\",VLOOKUP(A239,OFFSET([0]!_xlnm.Print_Area,3,0,,7),7,FALSE))","v":{"$error":"#REF!"}}," ",{"$f":"INDEX(#REF!,SMALL(IF(#REF!<>\"\",ROW(#REF!)),ROWS(I$1:I239)-1))","v":{"$error":"#REF!"}},{"$f":"INDEX(#REF!,SMALL(IF(#REF!<>\"\",ROW(#REF!)),ROWS(J$1:J239)-1))","v":{"$error":"#REF!"}},{"$f":"INDEX(#REF!,SMALL(IF(#REF!<>\"\",ROW(#REF!)),ROWS(K$1:K239)-1))","v":{"$error":"#REF!"}}]
[{"$error":"#REF!"},{"$error":"#REF!"},{"$error":"#REF!"},{"$f":"IF(J240=\"\",VLOOKUP(C240,OFFSET([0]!_xlnm.Print_Area,3,2),2,FALSE),VLOOKUP(A240,OFFSET([0]!_xlnm.Print_Area,3,0),4,FALSE))","v":{"$error":"#REF!"}},{"$f":"IF(J240=\"\",\"\",VLOOKUP(A240,OFFSET([0]!_xlnm.Print_Area,3,0),5,FALSE))","v":{"$error":"#REF!"}},{"$f":"IF(J240=\"\",\"\",VLOOKUP(A240,OFFSET([0]!_xlnm.Print_Area,3,0),6,FALSE))","v":{"$error":"#REF!"}},{"$f":"IF(J240=\"\",\"\",VLOOKUP(A240,OFFSET([0]!_xlnm.Print_Area,3,0,,7),7,FALSE))","v":{"$error":"#REF!"}}," ",{"$f":"INDEX(#REF!,SMALL(IF(#REF!<>\"\",ROW(#REF!)),ROWS(I$1:I240)-1))","v":{"$error":"#REF!"}},{"$f":"INDEX(#REF!,SMALL(IF(#REF!<>\"\",ROW(#REF!)),ROWS(J$1:J240)-1))","v":{"$error":"#REF!"}},{"$f":"INDEX(#REF!,SMALL(IF(#REF!<>\"\",ROW(#REF!)),ROWS(K$1:K240)-1))","v":{"$error":"#REF!"}}]
[{"$error":"#REF!"},{"$error":"#REF!"},{"$error":"#REF!"},{"$f":"IF(J241=\"\",VLOOKUP(C241,OFFSET([0]!_xlnm.Print_Area,3,2),2,FALSE),VLOOKUP(A241,OFFSET([0]!_xlnm.Print_Area,3,0),4,FALSE))","v":{"$error":"#REF!"}},{"$f":"IF(J241=\"\",\"\",VLOOKUP(A241,OFFSET([0]!_xlnm.Print_Area,3,0),5,FALSE))","v":{"$error":"#REF!"}},{"$f":"IF(J241=\"\",\"\",VLOOKUP(A241,OFFSET([0]!_xlnm.Print_Area,3,0),6,FALSE))","v":{"$error":"#REF!"}},{"$f":"IF(J241=\"\",\"\",VLOOKUP(A241,OFFSET([0]!_xlnm.Print_Area,3,0,,7),7,FALSE))","v":{"$error":"#REF!"}}," ",{"$f":"INDEX(#REF!,SMALL(IF(#REF!<>\"\",ROW(#REF!)),ROWS(I$1:I241)-1))","v":{"$error":"#REF!"}},{"$f":"INDEX(#REF!,SMALL(IF(#REF!<>\"\",ROW(#REF!)),ROWS(J$1:J241)-1))","v":{"$error":"#REF!"}},{"$f":"INDEX(#REF!,SMALL(IF(#REF!<>\"\",ROW(#REF!)),ROWS(K$1:K241)-1))","v":{"$error":"#REF!"}}]
[{"$error":"#REF!"},{"$error":"#REF!"},{"$error":"#REF!"},{"$f":"IF(J242=\"\",VLOOKUP(C242,OFFSET([0]!_xlnm.Print_Area,3,2),2,FALSE),VLOOKUP(A242,OFFSET([0]!_xlnm.Print_Area,3,0),4,FALSE))","v":{"$error":"#REF!"}},{"$f":"IF(J242=\"\",\"\",VLOOKUP(A242,OFFSET([0]!_xlnm.Print_Area,3,0),5,FALSE))","v":{"$error":"#REF!"}},{"$f":"IF(J242=\"\",\"\",VLOOKUP(A242,OFFSET([0]!_xlnm.Print_Area,3,0),6,FALSE))","v":{"$error":"#REF!"}},{"$f":"IF(J242=\"\",\"\",VLOOKUP(A242,OFFSET([0]!_xlnm.Print_Area,3,0,,7),7,FALSE))","v":{"$error":"#REF!"}}," ",{"$f":"INDEX(#REF!,SMALL(IF(#REF!<>\"\",ROW(#REF!)),ROWS(I$1:I242)-1))","v":{"$error":"#REF!"}},{"$f":"INDEX(#REF!,SMALL(IF(#REF!<>\"\",ROW(#REF!)),ROWS(J$1:J242)-1))","v":{"$error":"#REF!"}},{"$f":"INDEX(#REF!,SMALL(IF(#REF!<>\"\",ROW(#REF!)),ROWS(K$1:K242)-1))","v":{"$error":"#REF!"}}]
[{"$error":"#REF!"},{"$error":"#REF!"},{"$error":"#REF!"},{"$f":"IF(J243=\"\",VLOOKUP(C243,OFFSET([0]!_xlnm.Print_Area,3,2),2,FALSE),VLOOKUP(A243,OFFSET([0]!_xlnm.Print_Area,3,0),4,FALSE))","v":{"$error":"#REF!"}},{"$f":"IF(J243=\"\",\"\",VLOOKUP(A243,OFFSET([0]!_xlnm.Print_Area,3,0),5,FALSE))","v":{"$error":"#REF!"}},{"$f":"IF(J243=\"\",\"\",VLOOKUP(A243,OFFSET([0]!_xlnm.Print_Area,3,0),6,FALSE))","v":{"$error":"#REF!"}},{"$f":"IF(J243=\"\",\"\",VLOOKUP(A243,OFFSET([0]!_xlnm.Print_Area,3,0,,7),7,FALSE))","v":{"$error":"#REF!"}}," ",{"$f":"INDEX(#REF!,SMALL(IF(#REF!<>\"\",ROW(#REF!)),ROWS(I$1:I243)-1))","v":{"$error":"#REF!"}},{"$f":"INDEX(#REF!,SMALL(IF(#REF!<>\"\",ROW(#REF!)),ROWS(J$1:J243)-1))","v":{"$error":"#REF!"}},{"$f":"INDEX(#REF!,SMALL(IF(#REF!<>\"\",ROW(#REF!)),ROWS(K$1:K243)-1))","v":{"$error":"#REF!"}}]
[{"$error":"#REF!"},{"$error":"#REF!"},{"$error":"#REF!"},{"$f":"IF(J244=\"\",VLOOKUP(C244,OFFSET([0]!_xlnm.Print_Area,3,2),2,FALSE),VLOOKUP(A244,OFFSET([0]!_xlnm.Print_Area,3,0),4,FALSE))","v":{"$error":"#REF!"}},{"$f":"IF(J244=\"\",\"\",VLOOKUP(A244,OFFSET([0]!_xlnm.Print_Area,3,0),5,FALSE))","v":{"$error":"#REF!"}},{"$f":"IF(J244=\"\",\"\",VLOOKUP(A244,OFFSET([0]!_xlnm.Print_Area,3,0),6,FALSE))","v":{"$error":"#REF!"}},{"$f":"IF(J244=\"\",\"\",VLOOKUP(A244,OFFSET([0]!_xlnm.Print_Area,3,0,,7),7,FALSE))","v":{"$error":"#REF!"}}," ",{"$f":"INDEX(#REF!,SMALL(IF(#REF!<>\"\",ROW(#REF!)),ROWS(I$1:I244)-1))","v":{"$error":"#REF!"}},{"$f":"INDEX(#REF!,SMALL(IF(#REF!<>\"\",ROW(#REF!)),ROWS(J$1:J244)-1))","v":{"$error":"#REF!"}},{"$f":"INDEX(#REF!,SMALL(IF(#REF!<>\"\",ROW(#REF!)),ROWS(K$1:K244)-1))","v":{"$error":"#REF!"}}]
[{"$error":"#REF!"},{"$error":"#REF!"},{"$error":"#REF!"},{"$f":"IF(J245=\"\",VLOOKUP(C245,OFFSET([0]!_xlnm.Print_Area,3,2),2,FALSE),VLOOKUP(A245,OFFSET([0]!_xlnm.Print_Area,3,0),4,FALSE))","v":{"$error":"#REF!"}},{"$f":"IF(J245=\"\",\"\",VLOOKUP(A245,OFFSET([0]!_xlnm.Print_Area,3,0),5,FALSE))","v":{"$error":"#REF!"}},{"$f":"IF(J245=\"\",\"\",VLOOKUP(A245,OFFSET([0]!_xlnm.Print_Area,3,0),6,FALSE))","v":{"$error":"#REF!"}},{"$f":"IF(J245=\"\",\"\",VLOOKUP(A245,OFFSET([0]!_xlnm.Print_Area,3,0,,7),7,FALSE))","v":{"$error":"#REF!"}}," ",{"$f":"INDEX(#REF!,SMALL(IF(#REF!<>\"\",ROW(#REF!)),ROWS(I$1:I245)-1))","v":{"$error":"#REF!"}},{"$f":"INDEX(#REF!,SMALL(IF(#REF!<>\"\",ROW(#REF!)),ROWS(J$1:J245)-1))","v":{"$error":"#REF!"}},{"$f":"INDEX(#REF!,SMALL(IF(#REF!<>\"\",ROW(#REF!)),ROWS(K$1:K245)-1))","v":{"$error":"#REF!"}}]
[{"$error":"#REF!"},{"$error":"#REF!"},{"$error":"#REF!"},{"$f":"IF(J246=\"\",VLOOKUP(C246,OFFSET([0]!_xlnm.Print_Area,3,2),2,FALSE),VLOOKUP(A246,OFFSET([0]!_xlnm.Print_Area,3,0),4,FALSE))","v":{"$error":"#REF!"}},{"$f":"IF(J246=\"\",\"\",VLOOKUP(A246,OFFSET([0]!_xlnm.Print_Area,3,0),5,FALSE))","v":{"$error":"#REF!"}},{"$f":"IF(J246=\"\",\"\",VLOOKUP(A246,OFFSET([0]!_xlnm.Print_Area,3,0),6,FALSE))","v":{"$error":"#REF!"}},{"$f":"IF(J246=\"\",\"\",VLOOKUP(A246,OFFSET([0]!_xlnm.Print_Area,3,0,,7),7,FALSE))","v":{"$error":"#REF!"}}," ",{"$f":"INDEX(#REF!,SMALL(IF(#REF!<>\"\",ROW(#REF!)),ROWS(I$1:I246)-1))","v":{"$error":"#REF!"}},{"$f":"INDEX(#REF!,SMALL(IF(#REF!<>\"\",ROW(#REF!)),ROWS(J$1:J246)-1))","v":{"$error":"#REF!"}},{"$f":"INDEX(#REF!,SMALL(IF(#REF!<>\"\",ROW(#REF!)),ROWS(K$1:K246)-1))","v":{"$error":"#REF!"}}]
[{"$error":"#REF!"},{"$error":"#REF!"},{"$error":"#REF!"},{"$f":"IF(J247=\"\",VLOOKUP(C247,OFFSET([0]!_xlnm.Print_Area,3,2),2,FALSE),VLOOKUP(A247,OFFSET([0]!_xlnm.Print_Area,3,0),4,FALSE))","v":{"$error":"#REF!"}},{"$f":"IF(J247=\"\",\"\",VLOOKUP(A247,OFFSET([0]!_xlnm.Print_Area,3,0),5,FALSE))","v":{"$error":"#REF!"}},{"$f":"IF(J247=\"\",\"\",VLOOKUP(A247,OFFSET([0]!_xlnm.Print_Area,3,0),6,FALSE))","v":{"$error":"#REF!"}},{"$f":"IF(J247=\"\",\"\",VLOOKUP(A247,OFFSET([0]!_xlnm.Print_Area,3,0,,7),7,FALSE))","v":{"$error":"#REF!"}}," ",{"$f":"INDEX(#REF!,SMALL(IF(#REF!<>\"\",ROW(#REF!)),ROWS(I$1:I247)-1))","v":{"$error":"#REF!"}},{"$f":"INDEX(#REF!,SMALL(IF(#REF!<>\"\",ROW(#REF!)),ROWS(J$1:J247)-1))","v":{"$error":"#REF!"}},{"$f":"INDEX(#REF!,SMALL(IF(#REF!<>\"\",ROW(#REF!)),ROWS(K$1:K247)-1))","v":{"$error":"#REF!"}}]
[{"$error":"#REF!"},{"$error":"#REF!"},{"$error":"#REF!"},{"$f":"IF(J248=\"\",VLOOKUP(C248,OFFSET([0]!_xlnm.Print_Area,3,2),2,FALSE),VLOOKUP(A248,OFFSET([0]!_xlnm.Print_Area,3,0),4,FALSE))","v":{"$error":"#REF!"}},{"$f":"IF(J248=\"\",\"\",VLOOKUP(A248,OFFSET([0]!_xlnm.Print_Area,3,0),5,FALSE))","v":{"$error":"#REF!"}},{"$f":"IF(J248=\"\",\"\",VLOOKUP(A248,OFFSET([0]!_xlnm.Print_Area,3,0),6,FALSE))","v":{"$error":"#REF!"}},{"$f":"IF(J248=\"\",\"\",VLOOKUP(A248,OFFSET([0]!_xlnm.Print_Area,3,0,,7),7,FALSE))","v":{"$error":"#REF!"}}," ",{"$f":"INDEX(#REF!,SMALL(IF(#REF!<>\"\",ROW(#REF!)),ROWS(I$1:I248)-1))","v":{"$error":"#REF!"}},{"$f":"INDEX(#REF!,SMALL(IF(#REF!<>\"\",ROW(#REF!)),ROWS(J$1:J248)-1))","v":{"$error":"#REF!"}},{"$f":"INDEX(#REF!,SMALL(IF(#REF!<>\"\",ROW(#REF!)),ROWS(K$1:K248)-1))","v":{"$error":"#REF!"}}]
[{"$error":"#REF!"},{"$error":"#REF!"},{"$error":"#REF!"},{"$f":"IF(J249=\"\",VLOOKUP(C249,OFFSET([0]!_xlnm.Print_Area,3,2),2,FALSE),VLOOKUP(A249,OFFSET([0]!_xlnm.Print_Area,3,0),4,FALSE))","v":{"$error":"#REF!"}},{"$f":"IF(J249=\"\",\"\",VLOOKUP(A249,OFFSET([0]!_xlnm.Print_Area,3,0),5,FALSE))","v":{"$error":"#REF!"}},{"$f":"IF(J249=\"\",\"\",VLOOKUP(A249,OFFSET([0]!_xlnm.Print_Area,3,0),6,FALSE))","v":{"$error":"#REF!"}},{"$f":"IF(J249=\"\",\"\",VLOOKUP(A249,OFFSET([0]!_xlnm.Print_Area,3,0,,7),7,FALSE))","v":{"$error":"#REF!"}}," ",{"$f":"INDEX(#REF!,SMALL(IF(#REF!<>\"\",ROW(#REF!)),ROWS(I$1:I249)-1))","v":{"$error":"#REF!"}},{"$f":"INDEX(#REF!,SMALL(IF(#REF!<>\"\",ROW(#REF!)),ROWS(J$1:J249)-1))","v":{"$error":"#REF!"}},{"$f":"INDEX(#REF!,SMALL(IF(#REF!<>\"\",ROW(#REF!)),ROWS(K$1:K249)-1))","v":{"$error":"#REF!"}}]
[{"$error":"#REF!"},{"$error":"#REF!"},{"$error":"#REF!"},{"$f":"IF(J250=\"\",VLOOKUP(C250,OFFSET([0]!_xlnm.Print_Area,3,2),2,FALSE),VLOOKUP(A250,OFFSET([0]!_xlnm.Print_Area,3,0),4,FALSE))","v":{"$error":"#REF!"}},{"$f":"IF(J250=\"\",\"\",VLOOKUP(A250,OFFSET([0]!_xlnm.Print_Area,3,0),5,FALSE))","v":{"$error":"#REF!"}},{"$f":"IF(J250=\"\",\"\",VLOOKUP(A250,OFFSET([0]!_xlnm.Print_Area,3,0),6,FALSE))","v":{"$error":"#REF!"}},{"$f":"IF(J250=\"\",\"\",VLOOKUP(A250,OFFSET([0]!_xlnm.Print_Area,3,0,,7),7,FALSE))","v":{"$error":"#REF!"}}," ",{"$f":"INDEX(#REF!,SMALL(IF(#REF!<>\"\",ROW(#REF!)),ROWS(I$1:I250)-1))","v":{"$error":"#REF!"}},{"$f":"INDEX(#REF!,SMALL(IF(#REF!<>\"\",ROW(#REF!)),ROWS(J$1:J250)-1))","v":{"$error":"#REF!"}},{"$f":"INDEX(#REF!,SMALL(IF(#REF!<>\"\",ROW(#REF!)),ROWS(K$1:K250)-1))","v":{"$error":"#REF!"}}]
[{"$error":"#REF!"},{"$error":"#REF!"},{"$error":"#REF!"},{"$f":"IF(J251=\"\",VLOOKUP(C251,OFFSET([0]!_xlnm.Print_Area,3,2),2,FALSE),VLOOKUP(A251,OFFSET([0]!_xlnm.Print_Area,3,0),4,FALSE))","v":{"$error":"#REF!"}},{"$f":"IF(J251=\"\",\"\",VLOOKUP(A251,OFFSET([0]!_xlnm.Print_Area,3,0),5,FALSE))","v":{"$error":"#REF!"}},{"$f":"IF(J251=\"\",\"\",VLOOKUP(A251,OFFSET([0]!_xlnm.Print_Area,3,0),6,FALSE))","v":{"$error":"#REF!"}},{"$f":"IF(J251=\"\",\"\",VLOOKUP(A251,OFFSET([0]!_xlnm.Print_Area,3,0,,7),7,FALSE))","v":{"$error":"#REF!"}}," ",{"$f":"INDEX(#REF!,SMALL(IF(#REF!<>\"\",ROW(#REF!)),ROWS(I$1:I251)-1))","v":{"$error":"#REF!"}},{"$f":"INDEX(#REF!,SMALL(IF(#REF!<>\"\",ROW(#REF!)),ROWS(J$1:J251)-1))","v":{"$error":"#REF!"}},{"$f":"INDEX(#REF!,SMALL(IF(#REF!<>\"\",ROW(#REF!)),ROWS(K$1:K251)-1))","v":{"$error":"#REF!"}}]
[{"$error":"#REF!"},{"$error":"#REF!"},{"$error":"#REF!"},{"$f":"IF(J252=\"\",VLOOKUP(C252,OFFSET([0]!_xlnm.Print_Area,3,2),2,FALSE),VLOOKUP(A252,OFFSET([0]!_xlnm.Print_Area,3,0),4,FALSE))","v":{"$error":"#REF!"}},{"$f":"IF(J252=\"\",\"\",VLOOKUP(A252,OFFSET([0]!_xlnm.Print_Area,3,0),5,FALSE))","v":{"$error":"#REF!"}},{"$f":"IF(J252=\"\",\"\",VLOOKUP(A252,OFFSET([0]!_xlnm.Print_Area,3,0),6,FALSE))","v":{"$error":"#REF!"}},{"$f":"IF(J252=\"\",\"\",VLOOKUP(A252,OFFSET([0]!_xlnm.Print_Area,3,0,,7),7,FALSE))","v":{"$error":"#REF!"}}," ",{"$f":"INDEX(#REF!,SMALL(IF(#REF!<>\"\",ROW(#REF!)),ROWS(I$1:I252)-1))","v":{"$error":"#REF!"}},{"$f":"INDEX(#REF!,SMALL(IF(#REF!<>\"\",ROW(#REF!)),ROWS(J$1:J252)-1))","v":{"$error":"#REF!"}},{"$f":"INDEX(#REF!,SMALL(IF(#REF!<>\"\",ROW(#REF!)),ROWS(K$1:K252)-1))","v":{"$error":"#REF!"}}]
[{"$error":"#REF!"},{"$error":"#REF!"},{"$error":"#REF!"},{"$f":"IF(J253=\"\",VLOOKUP(C253,OFFSET([0]!_xlnm.Print_Area,3,2),2,FALSE),VLOOKUP(A253,OFFSET([0]!_xlnm.Print_Area,3,0),4,FALSE))","v":{"$error":"#REF!"}},{"$f":"IF(J253=\"\",\"\",VLOOKUP(A253,OFFSET([0]!_xlnm.Print_Area,3,0),5,FALSE))","v":{"$error":"#REF!"}},{"$f":"IF(J253=\"\",\"\",VLOOKUP(A253,OFFSET([0]!_xlnm.Print_Area,3,0),6,FALSE))","v":{"$error":"#REF!"}},{"$f":"IF(J253=\"\",\"\",VLOOKUP(A253,OFFSET([0]!_xlnm.Print_Area,3,0,,7),7,FALSE))","v":{"$error":"#REF!"}}," ",{"$f":"INDEX(#REF!,SMALL(IF(#REF!<>\"\",ROW(#REF!)),ROWS(I$1:I253)-1))","v":{"$error":"#REF!"}},{"$f":"INDEX(#REF!,SMALL(IF(#REF!<>\"\",ROW(#REF!)),ROWS(J$1:J253)-1))","v":{"$error":"#REF!"}},{"$f":"INDEX(#REF!,SMALL(IF(#REF!<>\"\",ROW(#REF!)),ROWS(K$1:K253)-1))","v":{"$error":"#REF!"}}]
[{"$error":"#REF!"},{"$error":"#REF!"},{"$error":"#REF!"},{"$f":"IF(J254=\"\",VLOOKUP(C254,OFFSET([0]!_xlnm.Print_Area,3,2),2,FALSE),VLOOKUP(A254,OFFSET([0]!_xlnm.Print_Area,3,0),4,FALSE))","v":{"$error":"#REF!"}},{"$f":"IF(J254=\"\",\"\",VLOOKUP(A254,OFFSET([0]!_xlnm.Print_Area,3,0),5,FALSE))","v":{"$error":"#REF!"}},{"$f":"IF(J254=\"\",\"\",VLOOKUP(A254,OFFSET([0]!_xlnm.Print_Area,3,0),6,FALSE))","v":{"$error":"#REF!"}},{"$f":"IF(J254=\"\",\"\",VLOOKUP(A254,OFFSET([0]!_xlnm.Print_Area,3,0,,7),7,FALSE))","v":{"$error":"#REF!"}}," ",{"$f":"INDEX(#REF!,SMALL(IF(#REF!<>\"\",ROW(#REF!)),ROWS(I$1:I254)-1))","v":{"$error":"#REF!"}},{"$f":"INDEX(#REF!,SMALL(IF(#REF!<>\"\",ROW(#REF!)),ROWS(J$1:J254)-1))","v":{"$error":"#REF!"}},{"$f":"INDEX(#REF!,SMALL(IF(#REF!<>\"\",ROW(#REF!)),ROWS(K$1:K254)-1))","v":{"$error":"#REF!"}}]
[{"$error":"#REF!"},{"$error":"#REF!"},{"$error":"#REF!"},{"$f":"IF(J255=\"\",VLOOKUP(C255,OFFSET([0]!_xlnm.Print_Area,3,2),2,FALSE),VLOOKUP(A255,OFFSET([0]!_xlnm.Print_Area,3,0),4,FALSE))","v":{"$error":"#REF!"}},{"$f":"IF(J255=\"\",\"\",VLOOKUP(A255,OFFSET([0]!_xlnm.Print_Area,3,0),5,FALSE))","v":{"$error":"#REF!"}},{"$f":"IF(J255=\"\",\"\",VLOOKUP(A255,OFFSET([0]!_xlnm.Print_Area,3,0),6,FALSE))","v":{"$error":"#REF!"}},{"$f":"IF(J255=\"\",\"\",VLOOKUP(A255,OFFSET([0]!_xlnm.Print_Area,3,0,,7),7,FALSE))","v":{"$error":"#REF!"}}," ",{"$f":"INDEX(#REF!,SMALL(IF(#REF!<>\"\",ROW(#REF!)),ROWS(I$1:I255)-1))","v":{"$error":"#REF!"}},{"$f":"INDEX(#REF!,SMALL(IF(#REF!<>\"\",ROW(#REF!)),ROWS(J$1:J255)-1))","v":{"$error":"#REF!"}},{"$f":"INDEX(#REF!,SMALL(IF(#REF!<>\"\",ROW(#REF!)),ROWS(K$1:K255)-1))","v":{"$error":"#REF!"}}]
[{"$error":"#REF!"},{"$error":"#REF!"},{"$error":"#REF!"},{"$f":"IF(J256=\"\",VLOOKUP(C256,OFFSET([0]!_xlnm.Print_Area,3,2),2,FALSE),VLOOKUP(A256,OFFSET([0]!_xlnm.Print_Area,3,0),4,FALSE))","v":{"$error":"#REF!"}},{"$f":"IF(J256=\"\",\"\",VLOOKUP(A256,OFFSET([0]!_xlnm.Print_Area,3,0),5,FALSE))","v":{"$error":"#REF!"}},{"$f":"IF(J256=\"\",\"\",VLOOKUP(A256,OFFSET([0]!_xlnm.Print_Area,3,0),6,FALSE))","v":{"$error":"#REF!"}},{"$f":"IF(J256=\"\",\"\",VLOOKUP(A256,OFFSET([0]!_xlnm.Print_Area,3,0,,7),7,FALSE))","v":{"$error":"#REF!"}}," ",{"$f":"INDEX(#REF!,SMALL(IF(#REF!<>\"\",ROW(#REF!)),ROWS(I$1:I256)-1))","v":{"$error":"#REF!"}},{"$f":"INDEX(#REF!,SMALL(IF(#REF!<>\"\",ROW(#REF!)),ROWS(J$1:J256)-1))","v":{"$error":"#REF!"}},{"$f":"INDEX(#REF!,SMALL(IF(#REF!<>\"\",ROW(#REF!)),ROWS(K$1:K256)-1))","v":{"$error":"#REF!"}}]
[{"$error":"#REF!"},{"$error":"#REF!"},{"$error":"#REF!"},{"$f":"IF(J257=\"\",VLOOKUP(C257,OFFSET([0]!_xlnm.Print_Area,3,2),2,FALSE),VLOOKUP(A257,OFFSET([0]!_xlnm.Print_Area,3,0),4,FALSE))","v":{"$error":"#REF!"}},{"$f":"IF(J257=\"\",\"\",VLOOKUP(A257,OFFSET([0]!_xlnm.Print_Area,3,0),5,FALSE))","v":{"$error":"#REF!"}},{"$f":"IF(J257=\"\",\"\",VLOOKUP(A257,OFFSET([0]!_xlnm.Print_Area,3,0),6,FALSE))","v":{"$error":"#REF!"}},{"$f":"IF(J257=\"\",\"\",VLOOKUP(A257,OFFSET([0]!_xlnm.Print_Area,3,0,,7),7,FALSE))","v":{"$error":"#REF!"}}," ",{"$f":"INDEX(#REF!,SMALL(IF(#REF!<>\"\",ROW(#REF!)),ROWS(I$1:I257)-1))","v":{"$error":"#REF!"}},{"$f":"INDEX(#REF!,SMALL(IF(#REF!<>\"\",ROW(#REF!)),ROWS(J$1:J257)-1))","v":{"$error":"#REF!"}},{"$f":"INDEX(#REF!,SMALL(IF(#REF!<>\"\",ROW(#REF!)),ROWS(K$1:K257)-1))","v":{"$error":"#REF!"}}]
[{"$error":"#REF!"},{"$error":"#REF!"},{"$error":"#REF!"},{"$f":"IF(J258=\"\",VLOOKUP(C258,OFFSET([0]!_xlnm.Print_Area,3,2),2,FALSE),VLOOKUP(A258,OFFSET([0]!_xlnm.Print_Area,3,0),4,FALSE))","v":{"$error":"#REF!"}},{"$f":"IF(J258=\"\",\"\",VLOOKUP(A258,OFFSET([0]!_xlnm.Print_Area,3,0),5,FALSE))","v":{"$error":"#REF!"}},{"$f":"IF(J258=\"\",\"\",VLOOKUP(A258,OFFSET([0]!_xlnm.Print_Area,3,0),6,FALSE))","v":{"$error":"#REF!"}},{"$f":"IF(J258=\"\",\"\",VLOOKUP(A258,OFFSET([0]!_xlnm.Print_Area,3,0,,7),7,FALSE))","v":{"$error":"#REF!"}}," ",{"$f":"INDEX(#REF!,SMALL(IF(#REF!<>\"\",ROW(#REF!)),ROWS(I$1:I258)-1))","v":{"$error":"#REF!"}},{"$f":"INDEX(#REF!,SMALL(IF(#REF!<>\"\",ROW(#REF!)),ROWS(J$1:J258)-1))","v":{"$error":"#REF!"}},{"$f":"INDEX(#REF!,SMALL(IF(#REF!<>\"\",ROW(#REF!)),ROWS(K$1:K258)-1))","v":{"$error":"#REF!"}}]
[{"$error":"#REF!"},{"$error":"#REF!"},{"$error":"#REF!"},{"$f":"IF(J259=\"\",VLOOKUP(C259,OFFSET([0]!_xlnm.Print_Area,3,2),2,FALSE),VLOOKUP(A259,OFFSET([0]!_xlnm.Print_Area,3,0),4,FALSE))","v":{"$error":"#REF!"}},{"$f":"IF(J259=\"\",\"\",VLOOKUP(A259,OFFSET([0]!_xlnm.Print_Area,3,0),5,FALSE))","v":{"$error":"#REF!"}},{"$f":"IF(J259=\"\",\"\",VLOOKUP(A259,OFFSET([0]!_xlnm.Print_Area,3,0),6,FALSE))","v":{"$error":"#REF!"}},{"$f":"IF(J259=\"\",\"\",VLOOKUP(A259,OFFSET([0]!_xlnm.Print_Area,3,0,,7),7,FALSE))","v":{"$error":"#REF!"}}," ",{"$f":"INDEX(#REF!,SMALL(IF(#REF!<>\"\",ROW(#REF!)),ROWS(I$1:I259)-1))","v":{"$error":"#REF!"}},{"$f":"INDEX(#REF!,SMALL(IF(#REF!<>\"\",ROW(#REF!)),ROWS(J$1:J259)-1))","v":{"$error":"#REF!"}},{"$f":"INDEX(#REF!,SMALL(IF(#REF!<>\"\",ROW(#REF!)),ROWS(K$1:K259)-1))","v":{"$error":"#REF!"}}]
[{"$error":"#REF!"},{"$error":"#REF!"},{"$error":"#REF!"},{"$f":"IF(J260=\"\",VLOOKUP(C260,OFFSET([0]!_xlnm.Print_Area,3,2),2,FALSE),VLOOKUP(A260,OFFSET([0]!_xlnm.Print_Area,3,0),4,FALSE))","v":{"$error":"#REF!"}},{"$f":"IF(J260=\"\",\"\",VLOOKUP(A260,OFFSET([0]!_xlnm.Print_Area,3,0),5,FALSE))","v":{"$error":"#REF!"}},{"$f":"IF(J260=\"\",\"\",VLOOKUP(A260,OFFSET([0]!_xlnm.Print_Area,3,0),6,FALSE))","v":{"$error":"#REF!"}},{"$f":"IF(J260=\"\",\"\",VLOOKUP(A260,OFFSET([0]!_xlnm.Print_Area,3,0,,7),7,FALSE))","v":{"$error":"#REF!"}}," ",{"$f":"INDEX(#REF!,SMALL(IF(#REF!<>\"\",ROW(#REF!)),ROWS(I$1:I260)-1))","v":{"$error":"#REF!"}},{"$f":"INDEX(#REF!,SMALL(IF(#REF!<>\"\",ROW(#REF!)),ROWS(J$1:J260)-1))","v":{"$error":"#REF!"}},{"$f":"INDEX(#REF!,SMALL(IF(#REF!<>\"\",ROW(#REF!)),ROWS(K$1:K260)-1))","v":{"$error":"#REF!"}}]
[{"$f":"IF(J261=0,\"\",J261)","v":{"$error":"#REF!"}},{"$f":"IF(K261=0,\"\",K261)","v":{"$error":"#REF!"}},{"$f":"I261","v":{"$error":"#REF!"}},{"$f":"IF(J261=\"\",VLOOKUP(C261,OFFSET([0]!_xlnm.Print_Area,3,2),2,FALSE),VLOOKUP(A261,OFFSET([0]!_xlnm.Print_Area,3,0),4,FALSE))","v":{"$error":"#REF!"}},{"$f":"IF(J261=\"\",\"\",VLOOKUP(A261,OFFSET([0]!_xlnm.Print_Area,3,0),5,FALSE))","v":{"$error":"#REF!"}},{"$f":"IF(J261=\"\",\"\",VLOOKUP(A261,OFFSET([0]!_xlnm.Print_Area,3,0),6,FALSE))","v":{"$error":"#REF!"}},{"$f":"IF(J261=\"\",\"\",VLOOKUP(A261,OFFSET([0]!_xlnm.Print_Area,3,0,,7),7,FALSE))","v":{"$error":"#REF!"}},{"$f":"IFERROR(ROUND(F261*G261,2),\" \")","v":" "},{"$f":"INDEX(#REF!,SMALL(IF(#REF!<>\"\",ROW(#REF!)),ROWS(I$1:I261)-1))","v":{"$error":"#REF!"}},{"$f":"INDEX(#REF!,SMALL(IF(#REF!<>\"\",ROW(#REF!)),ROWS(J$1:J261)-1))","v":{"$error":"#REF!"}},{"$f":"INDEX(#REF!,SMALL(IF(#REF!<>\"\",ROW(#REF!)),ROWS(K$1:K261)-1))","v":{"$error":"#REF!"}}]
[{"$error":"#REF!"},{"$error":"#REF!"},{"$error":"#REF!"},{"$f":"IF(J262=\"\",VLOOKUP(C262,OFFSET([0]!_xlnm.Print_Area,3,2),2,FALSE),VLOOKUP(A262,OFFSET([0]!_xlnm.Print_Area,3,0),4,FALSE))","v":{"$error":"#REF!"}},{"$f":"IF(J262=\"\",\"\",VLOOKUP(A262,OFFSET([0]!_xlnm.Print_Area,3,0),5,FALSE))","v":{"$error":"#REF!"}},{"$f":"IF(J262=\"\",\"\",VLOOKUP(A262,OFFSET([0]!_xlnm.Print_Area,3,0),6,FALSE))","v":{"$error":"#REF!"}},{"$f":"IF(J262=\"\",\"\",VLOOKUP(A262,OFFSET([0]!_xlnm.Print_Area,3,0,,7),7,FALSE))","v":{"$error":"#REF!"}}," ",{"$f":"INDEX(#REF!,SMALL(IF(#REF!<>\"\",ROW(#REF!)),ROWS(I$1:I262)-1))","v":{"$error":"#REF!"}},{"$f":"INDEX(#REF!,SMALL(IF(#REF!<>\"\",ROW(#REF!)),ROWS(J$1:J262)-1))","v":{"$error":"#REF!"}},{"$f":"INDEX(#REF!,SMALL(IF(#REF!<>\"\",ROW(#REF!)),ROWS(K$1:K262)-1))","v":{"$error":"#REF!"}}]
[{"$error":"#REF!"},{"$error":"#REF!"},{"$error":"#REF!"},{"$f":"IF(J263=\"\",VLOOKUP(C263,OFFSET([0]!_xlnm.Print_Area,3,2),2,FALSE),VLOOKUP(A263,OFFSET([0]!_xlnm.Print_Area,3,0),4,FALSE))","v":{"$error":"#REF!"}},{"$f":"IF(J263=\"\",\"\",VLOOKUP(A263,OFFSET([0]!_xlnm.Print_Area,3,0),5,FALSE))","v":{"$error":"#REF!"}},{"$f":"IF(J263=\"\",\"\",VLOOKUP(A263,OFFSET([0]!_xlnm.Print_Area,3,0),6,FALSE))","v":{"$error":"#REF!"}},{"$f":"IF(J263=\"\",\"\",VLOOKUP(A263,OFFSET([0]!_xlnm.Print_Area,3,0,,7),7,FALSE))","v":{"$error":"#REF!"}}," ",{"$f":"INDEX(#REF!,SMALL(IF(#REF!<>\"\",ROW(#REF!)),ROWS(I$1:I263)-1))","v":{"$error":"#REF!"}},{"$f":"INDEX(#REF!,SMALL(IF(#REF!<>\"\",ROW(#REF!)),ROWS(J$1:J263)-1))","v":{"$error":"#REF!"}},{"$f":"INDEX(#REF!,SMALL(IF(#REF!<>\"\",ROW(#REF!)),ROWS(K$1:K263)-1))","v":{"$error":"#REF!"}}]
[{"$error":"#REF!"},{"$error":"#REF!"},{"$error":"#REF!"},{"$f":"IF(J264=\"\",VLOOKUP(C264,OFFSET([0]!_xlnm.Print_Area,3,2),2,FALSE),VLOOKUP(A264,OFFSET([0]!_xlnm.Print_Area,3,0),4,FALSE))","v":{"$error":"#REF!"}},{"$f":"IF(J264=\"\",\"\",VLOOKUP(A264,OFFSET([0]!_xlnm.Print_Area,3,0),5,FALSE))","v":{"$error":"#REF!"}},{"$f":"IF(J264=\"\",\"\",VLOOKUP(A264,OFFSET([0]!_xlnm.Print_Area,3,0),6,FALSE))","v":{"$error":"#REF!"}},{"$f":"IF(J264=\"\",\"\",VLOOKUP(A264,OFFSET([0]!_xlnm.Print_Area,3,0,,7),7,FALSE))","v":{"$error":"#REF!"}}," ",{"$f":"INDEX(#REF!,SMALL(IF(#REF!<>\"\",ROW(#REF!)),ROWS(I$1:I264)-1))","v":{"$error":"#REF!"}},{"$f":"INDEX(#REF!,SMALL(IF(#REF!<>\"\",ROW(#REF!)),ROWS(J$1:J264)-1))","v":{"$error":"#REF!"}},{"$f":"INDEX(#REF!,SMALL(IF(#REF!<>\"\",ROW(#REF!)),ROWS(K$1:K264)-1))","v":{"$error":"#REF!"}}]
[{"$error":"#REF!"},{"$error":"#REF!"},{"$error":"#REF!"},{"$f":"IF(J265=\"\",VLOOKUP(C265,OFFSET([0]!_xlnm.Print_Area,3,2),2,FALSE),VLOOKUP(A265,OFFSET([0]!_xlnm.Print_Area,3,0),4,FALSE))","v":{"$error":"#REF!"}},{"$f":"IF(J265=\"\",\"\",VLOOKUP(A265,OFFSET([0]!_xlnm.Print_Area,3,0),5,FALSE))","v":{"$error":"#REF!"}},{"$f":"IF(J265=\"\",\"\",VLOOKUP(A265,OFFSET([0]!_xlnm.Print_Area,3,0),6,FALSE))","v":{"$error":"#REF!"}},{"$f":"IF(J265=\"\",\"\",VLOOKUP(A265,OFFSET([0]!_xlnm.Print_Area,3,0,,7),7,FALSE))","v":{"$error":"#REF!"}}," ",{"$f":"INDEX(#REF!,SMALL(IF(#REF!<>\"\",ROW(#REF!)),ROWS(I$1:I265)-1))","v":{"$error":"#REF!"}},{"$f":"INDEX(#REF!,SMALL(IF(#REF!<>\"\",ROW(#REF!)),ROWS(J$1:J265)-1))","v":{"$error":"#REF!"}},{"$f":"INDEX(#REF!,SMALL(IF(#REF!<>\"\",ROW(#REF!)),ROWS(K$1:K265)-1))","v":{"$error":"#REF!"}}]
[{"$error":"#REF!"},{"$error":"#REF!"},{"$error":"#REF!"},{"$f":"IF(J266=\"\",VLOOKUP(C266,OFFSET([0]!_xlnm.Print_Area,3,2),2,FALSE),VLOOKUP(A266,OFFSET([0]!_xlnm.Print_Area,3,0),4,FALSE))","v":{"$error":"#REF!"}},{"$f":"IF(J266=\"\",\"\",VLOOKUP(A266,OFFSET([0]!_xlnm.Print_Area,3,0),5,FALSE))","v":{"$error":"#REF!"}},{"$f":"IF(J266=\"\",\"\",VLOOKUP(A266,OFFSET([0]!_xlnm.Print_Area,3,0),6,FALSE))","v":{"$error":"#REF!"}},{"$f":"IF(J266=\"\",\"\",VLOOKUP(A266,OFFSET([0]!_xlnm.Print_Area,3,0,,7),7,FALSE))","v":{"$error":"#REF!"}}," ",{"$f":"INDEX(#REF!,SMALL(IF(#REF!<>\"\",ROW(#REF!)),ROWS(I$1:I266)-1))","v":{"$error":"#REF!"}},{"$f":"INDEX(#REF!,SMALL(IF(#REF!<>\"\",ROW(#REF!)),ROWS(J$1:J266)-1))","v":{"$error":"#REF!"}},{"$f":"INDEX(#REF!,SMALL(IF(#REF!<>\"\",ROW(#REF!)),ROWS(K$1:K266)-1))","v":{"$error":"#REF!"}}]
[{"$error":"#REF!"},{"$error":"#REF!"},{"$error":"#REF!"},{"$f":"IF(J267=\"\",VLOOKUP(C267,OFFSET([0]!_xlnm.Print_Area,3,2),2,FALSE),VLOOKUP(A267,OFFSET([0]!_xlnm.Print_Area,3,0),4,FALSE))","v":{"$error":"#REF!"}},{"$f":"IF(J267=\"\",\"\",VLOOKUP(A267,OFFSET([0]!_xlnm.Print_Area,3,0),5,FALSE))","v":{"$error":"#REF!"}},{"$f":"IF(J267=\"\",\"\",VLOOKUP(A267,OFFSET([0]!_xlnm.Print_Area,3,0),6,FALSE))","v":{"$error":"#REF!"}},{"$f":"IF(J267=\"\",\"\",VLOOKUP(A267,OFFSET([0]!_xlnm.Print_Area,3,0,,7),7,FALSE))","v":{"$error":"#REF!"}}," ",{"$f":"INDEX(#REF!,SMALL(IF(#REF!<>\"\",ROW(#REF!)),ROWS(I$1:I267)-1))","v":{"$error":"#REF!"}},{"$f":"INDEX(#REF!,SMALL(IF(#REF!<>\"\",ROW(#REF!)),ROWS(J$1:J267)-1))","v":{"$error":"#REF!"}},{"$f":"INDEX(#REF!,SMALL(IF(#REF!<>\"\",ROW(#REF!)),ROWS(K$1:K267)-1))","v":{"$error":"#REF!"}}]
[{"$error":"#REF!"},{"$error":"#REF!"},{"$error":"#REF!"},{"$f":"IF(J268=\"\",VLOOKUP(C268,OFFSET([0]!_xlnm.Print_Area,3,2),2,FALSE),VLOOKUP(A268,OFFSET([0]!_xlnm.Print_Area,3,0),4,FALSE))","v":{"$error":"#REF!"}},{"$f":"IF(J268=\"\",\"\",VLOOKUP(A268,OFFSET([0]!_xlnm.Print_Area,3,0),5,FALSE))","v":{"$error":"#REF!"}},{"$f":"IF(J268=\"\",\"\",VLOOKUP(A268,OFFSET([0]!_xlnm.Print_Area,3,0),6,FALSE))","v":{"$error":"#REF!"}},{"$f":"IF(J268=\"\",\"\",VLOOKUP(A268,OFFSET([0]!_xlnm.Print_Area,3,0,,7),7,FALSE))","v":{"$error":"#REF!"}}," ",{"$f":"INDEX(#REF!,SMALL(IF(#REF!<>\"\",ROW(#REF!)),ROWS(I$1:I268)-1))","v":{"$error":"#REF!"}},{"$f":"INDEX(#REF!,SMALL(IF(#REF!<>\"\",ROW(#REF!)),ROWS(J$1:J268)-1))","v":{"$error":"#REF!"}},{"$f":"INDEX(#REF!,SMALL(IF(#REF!<>\"\",ROW(#REF!)),ROWS(K$1:K268)-1))","v":{"$error":"#REF!"}}]
[{"$error":"#REF!"},{"$error":"#REF!"},{"$error":"#REF!"},{"$f":"IF(J269=\"\",VLOOKUP(C269,OFFSET([0]!_xlnm.Print_Area,3,2),2,FALSE),VLOOKUP(A269,OFFSET([0]!_xlnm.Print_Area,3,0),4,FALSE))","v":{"$error":"#REF!"}},{"$f":"IF(J269=\"\",\"\",VLOOKUP(A269,OFFSET([0]!_xlnm.Print_Area,3,0),5,FALSE))","v":{"$error":"#REF!"}},{"$f":"IF(J269=\"\",\"\",VLOOKUP(A269,OFFSET([0]!_xlnm.Print_Area,3,0),6,FALSE))","v":{"$error":"#REF!"}},{"$f":"IF(J269=\"\",\"\",VLOOKUP(A269,OFFSET([0]!_xlnm.Print_Area,3,0,,7),7,FALSE))","v":{"$error":"#REF!"}}," ",{"$f":"INDEX(#REF!,SMALL(IF(#REF!<>\"\",ROW(#REF!)),ROWS(I$1:I269)-1))","v":{"$error":"#REF!"}},{"$f":"INDEX(#REF!,SMALL(IF(#REF!<>\"\",ROW(#REF!)),ROWS(J$1:J269)-1))","v":{"$error":"#REF!"}},{"$f":"INDEX(#REF!,SMALL(IF(#REF!<>\"\",ROW(#REF!)),ROWS(K$1:K269)-1))","v":{"$error":"#REF!"}}]
[{"$error":"#REF!"},{"$error":"#REF!"},{"$error":"#REF!"},{"$f":"IF(J270=\"\",VLOOKUP(C270,OFFSET([0]!_xlnm.Print_Area,3,2),2,FALSE),VLOOKUP(A270,OFFSET([0]!_xlnm.Print_Area,3,0),4,FALSE))","v":{"$error":"#REF!"}},{"$f":"IF(J270=\"\",\"\",VLOOKUP(A270,OFFSET([0]!_xlnm.Print_Area,3,0),5,FALSE))","v":{"$error":"#REF!"}},{"$f":"IF(J270=\"\",\"\",VLOOKUP(A270,OFFSET([0]!_xlnm.Print_Area,3,0),6,FALSE))","v":{"$error":"#REF!"}},{"$f":"IF(J270=\"\",\"\",VLOOKUP(A270,OFFSET([0]!_xlnm.Print_Area,3,0,,7),7,FALSE))","v":{"$error":"#REF!"}}," ",{"$f":"INDEX(#REF!,SMALL(IF(#REF!<>\"\",ROW(#REF!)),ROWS(I$1:I270)-1))","v":{"$error":"#REF!"}},{"$f":"INDEX(#REF!,SMALL(IF(#REF!<>\"\",ROW(#REF!)),ROWS(J$1:J270)-1))","v":{"$error":"#REF!"}},{"$f":"INDEX(#REF!,SMALL(IF(#REF!<>\"\",ROW(#REF!)),ROWS(K$1:K270)-1))","v":{"$error":"#REF!"}}]
[{"$error":"#REF!"},{"$error":"#REF!"},{"$error":"#REF!"},{"$f":"IF(J271=\"\",VLOOKUP(C271,OFFSET([0]!_xlnm.Print_Area,3,2),2,FALSE),VLOOKUP(A271,OFFSET([0]!_xlnm.Print_Area,3,0),4,FALSE))","v":{"$error":"#REF!"}},{"$f":"IF(J271=\"\",\"\",VLOOKUP(A271,OFFSET([0]!_xlnm.Print_Area,3,0),5,FALSE))","v":{"$error":"#REF!"}},{"$f":"IF(J271=\"\",\"\",VLOOKUP(A271,OFFSET([0]!_xlnm.Print_Area,3,0),6,FALSE))","v":{"$error":"#REF!"}},{"$f":"IF(J271=\"\",\"\",VLOOKUP(A271,OFFSET([0]!_xlnm.Print_Area,3,0,,7),7,FALSE))","v":{"$error":"#REF!"}}," ",{"$f":"INDEX(#REF!,SMALL(IF(#REF!<>\"\",ROW(#REF!)),ROWS(I$1:I271)-1))","v":{"$error":"#REF!"}},{"$f":"INDEX(#REF!,SMALL(IF(#REF!<>\"\",ROW(#REF!)),ROWS(J$1:J271)-1))","v":{"$error":"#REF!"}},{"$f":"INDEX(#REF!,SMALL(IF(#REF!<>\"\",ROW(#REF!)),ROWS(K$1:K271)-1))","v":{"$error":"#REF!"}}]
[{"$error":"#REF!"},{"$error":"#REF!"},{"$error":"#REF!"},{"$f":"IF(J272=\"\",VLOOKUP(C272,OFFSET([0]!_xlnm.Print_Area,3,2),2,FALSE),VLOOKUP(A272,OFFSET([0]!_xlnm.Print_Area,3,0),4,FALSE))","v":{"$error":"#REF!"}},{"$f":"IF(J272=\"\",\"\",VLOOKUP(A272,OFFSET([0]!_xlnm.Print_Area,3,0),5,FALSE))","v":{"$error":"#REF!"}},{"$f":"IF(J272=\"\",\"\",VLOOKUP(A272,OFFSET([0]!_xlnm.Print_Area,3,0),6,FALSE))","v":{"$error":"#REF!"}},{"$f":"IF(J272=\"\",\"\",VLOOKUP(A272,OFFSET([0]!_xlnm.Print_Area,3,0,,7),7,FALSE))","v":{"$error":"#REF!"}}," ",{"$f":"INDEX(#REF!,SMALL(IF(#REF!<>\"\",ROW(#REF!)),ROWS(I$1:I272)-1))","v":{"$error":"#REF!"}},{"$f":"INDEX(#REF!,SMALL(IF(#REF!<>\"\",ROW(#REF!)),ROWS(J$1:J272)-1))","v":{"$error":"#REF!"}},{"$f":"INDEX(#REF!,SMALL(IF(#REF!<>\"\",ROW(#REF!)),ROWS(K$1:K272)-1))","v":{"$error":"#REF!"}}]
[{"$error":"#REF!"},{"$error":"#REF!"},{"$error":"#REF!"},{"$f":"IF(J273=\"\",VLOOKUP(C273,OFFSET([0]!_xlnm.Print_Area,3,2),2,FALSE),VLOOKUP(A273,OFFSET([0]!_xlnm.Print_Area,3,0),4,FALSE))","v":{"$error":"#REF!"}},{"$f":"IF(J273=\"\",\"\",VLOOKUP(A273,OFFSET([0]!_xlnm.Print_Area,3,0),5,FALSE))","v":{"$error":"#REF!"}},{"$f":"IF(J273=\"\",\"\",VLOOKUP(A273,OFFSET([0]!_xlnm.Print_Area,3,0),6,FALSE))","v":{"$error":"#REF!"}},{"$f":"IF(J273=\"\",\"\",VLOOKUP(A273,OFFSET([0]!_xlnm.Print_Area,3,0,,7),7,FALSE))","v":{"$error":"#REF!"}}," ",{"$f":"INDEX(#REF!,SMALL(IF(#REF!<>\"\",ROW(#REF!)),ROWS(I$1:I273)-1))","v":{"$error":"#REF!"}},{"$f":"INDEX(#REF!,SMALL(IF(#REF!<>\"\",ROW(#REF!)),ROWS(J$1:J273)-1))","v":{"$error":"#REF!"}},{"$f":"INDEX(#REF!,SMALL(IF(#REF!<>\"\",ROW(#REF!)),ROWS(K$1:K273)-1))","v":{"$error":"#REF!"}}]
[{"$error":"#REF!"},{"$error":"#REF!"},{"$error":"#REF!"},{"$f":"IF(J274=\"\",VLOOKUP(C274,OFFSET([0]!_xlnm.Print_Area,3,2),2,FALSE),VLOOKUP(A274,OFFSET([0]!_xlnm.Print_Area,3,0),4,FALSE))","v":{"$error":"#REF!"}},{"$f":"IF(J274=\"\",\"\",VLOOKUP(A274,OFFSET([0]!_xlnm.Print_Area,3,0),5,FALSE))","v":{"$error":"#REF!"}},{"$f":"IF(J274=\"\",\"\",VLOOKUP(A274,OFFSET([0]!_xlnm.Print_Area,3,0),6,FALSE))","v":{"$error":"#REF!"}},{"$f":"IF(J274=\"\",\"\",VLOOKUP(A274,OFFSET([0]!_xlnm.Print_Area,3,0,,7),7,FALSE))","v":{"$error":"#REF!"}}," ",{"$f":"INDEX(#REF!,SMALL(IF(#REF!<>\"\",ROW(#REF!)),ROWS(I$1:I274)-1))","v":{"$error":"#REF!"}},{"$f":"INDEX(#REF!,SMALL(IF(#REF!<>\"\",ROW(#REF!)),ROWS(J$1:J274)-1))","v":{"$error":"#REF!"}},{"$f":"INDEX(#REF!,SMALL(IF(#REF!<>\"\",ROW(#REF!)),ROWS(K$1:K274)-1))","v":{"$error":"#REF!"}}]
[{"$error":"#REF!"},{"$error":"#REF!"},{"$error":"#REF!"},{"$f":"IF(J275=\"\",VLOOKUP(C275,OFFSET([0]!_xlnm.Print_Area,3,2),2,FALSE),VLOOKUP(A275,OFFSET([0]!_xlnm.Print_Area,3,0),4,FALSE))","v":{"$error":"#REF!"}},{"$f":"IF(J275=\"\",\"\",VLOOKUP(A275,OFFSET([0]!_xlnm.Print_Area,3,0),5,FALSE))","v":{"$error":"#REF!"}},{"$f":"IF(J275=\"\",\"\",VLOOKUP(A275,OFFSET([0]!_xlnm.Print_Area,3,0),6,FALSE))","v":{"$error":"#REF!"}},{"$f":"IF(J275=\"\",\"\",VLOOKUP(A275,OFFSET([0]!_xlnm.Print_Area,3,0,,7),7,FALSE))","v":{"$error":"#REF!"}}," ",{"$f":"INDEX(#REF!,SMALL(IF(#REF!<>\"\",ROW(#REF!)),ROWS(I$1:I275)-1))","v":{"$error":"#REF!"}},{"$f":"INDEX(#REF!,SMALL(IF(#REF!<>\"\",ROW(#REF!)),ROWS(J$1:J275)-1))","v":{"$error":"#REF!"}},{"$f":"INDEX(#REF!,SMALL(IF(#REF!<>\"\",ROW(#REF!)),ROWS(K$1:K275)-1))","v":{"$error":"#REF!"}}]
[{"$error":"#REF!"},{"$error":"#REF!"},{"$error":"#REF!"},{"$f":"IF(J276=\"\",VLOOKUP(C276,OFFSET([0]!_xlnm.Print_Area,3,2),2,FALSE),VLOOKUP(A276,OFFSET([0]!_xlnm.Print_Area,3,0),4,FALSE))","v":{"$error":"#REF!"}},{"$f":"IF(J276=\"\",\"\",VLOOKUP(A276,OFFSET([0]!_xlnm.Print_Area,3,0),5,FALSE))","v":{"$error":"#REF!"}},{"$f":"IF(J276=\"\",\"\",VLOOKUP(A276,OFFSET([0]!_xlnm.Print_Area,3,0),6,FALSE))","v":{"$error":"#REF!"}},{"$f":"IF(J276=\"\",\"\",VLOOKUP(A276,OFFSET([0]!_xlnm.Print_Area,3,0,,7),7,FALSE))","v":{"$error":"#REF!"}}," ",{"$f":"INDEX(#REF!,SMALL(IF(#REF!<>\"\",ROW(#REF!)),ROWS(I$1:I276)-1))","v":{"$error":"#REF!"}},{"$f":"INDEX(#REF!,SMALL(IF(#REF!<>\"\",ROW(#REF!)),ROWS(J$1:J276)-1))","v":{"$error":"#REF!"}},{"$f":"INDEX(#REF!,SMALL(IF(#REF!<>\"\",ROW(#REF!)),ROWS(K$1:K276)-1))","v":{"$error":"#REF!"}}]
[{"$error":"#REF!"},{"$error":"#REF!"},{"$error":"#REF!"},{"$f":"IF(J277=\"\",VLOOKUP(C277,OFFSET([0]!_xlnm.Print_Area,3,2),2,FALSE),VLOOKUP(A277,OFFSET([0]!_xlnm.Print_Area,3,0),4,FALSE))","v":{"$error":"#REF!"}},{"$f":"IF(J277=\"\",\"\",VLOOKUP(A277,OFFSET([0]!_xlnm.Print_Area,3,0),5,FALSE))","v":{"$error":"#REF!"}},{"$f":"IF(J277=\"\",\"\",VLOOKUP(A277,OFFSET([0]!_xlnm.Print_Area,3,0),6,FALSE))","v":{"$error":"#REF!"}},{"$f":"IF(J277=\"\",\"\",VLOOKUP(A277,OFFSET([0]!_xlnm.Print_Area,3,0,,7),7,FALSE))","v":{"$error":"#REF!"}}," ",{"$f":"INDEX(#REF!,SMALL(IF(#REF!<>\"\",ROW(#REF!)),ROWS(I$1:I277)-1))","v":{"$error":"#REF!"}},{"$f":"INDEX(#REF!,SMALL(IF(#REF!<>\"\",ROW(#REF!)),ROWS(J$1:J277)-1))","v":{"$error":"#REF!"}},{"$f":"INDEX(#REF!,SMALL(IF(#REF!<>\"\",ROW(#REF!)),ROWS(K$1:K277)-1))","v":{"$error":"#REF!"}}]
[{"$error":"#REF!"},{"$error":"#REF!"},{"$error":"#REF!"},{"$f":"IF(J278=\"\",VLOOKUP(C278,OFFSET([0]!_xlnm.Print_Area,3,2),2,FALSE),VLOOKUP(A278,OFFSET([0]!_xlnm.Print_Area,3,0),4,FALSE))","v":{"$error":"#REF!"}},{"$f":"IF(J278=\"\",\"\",VLOOKUP(A278,OFFSET([0]!_xlnm.Print_Area,3,0),5,FALSE))","v":{"$error":"#REF!"}},{"$f":"IF(J278=\"\",\"\",VLOOKUP(A278,OFFSET([0]!_xlnm.Print_Area,3,0),6,FALSE))","v":{"$error":"#REF!"}},{"$f":"IF(J278=\"\",\"\",VLOOKUP(A278,OFFSET([0]!_xlnm.Print_Area,3,0,,7),7,FALSE))","v":{"$error":"#REF!"}}," ",{"$f":"INDEX(#REF!,SMALL(IF(#REF!<>\"\",ROW(#REF!)),ROWS(I$1:I278)-1))","v":{"$error":"#REF!"}},{"$f":"INDEX(#REF!,SMALL(IF(#REF!<>\"\",ROW(#REF!)),ROWS(J$1:J278)-1))","v":{"$error":"#REF!"}},{"$f":"INDEX(#REF!,SMALL(IF(#REF!<>\"\",ROW(#REF!)),ROWS(K$1:K278)-1))","v":{"$error":"#REF!"}}]
[{"$error":"#REF!"},{"$error":"#REF!"},{"$error":"#REF!"},{"$f":"IF(J279=\"\",VLOOKUP(C279,OFFSET([0]!_xlnm.Print_Area,3,2),2,FALSE),VLOOKUP(A279,OFFSET([0]!_xlnm.Print_Area,3,0),4,FALSE))","v":{"$error":"#REF!"}},{"$f":"IF(J279=\"\",\"\",VLOOKUP(A279,OFFSET([0]!_xlnm.Print_Area,3,0),5,FALSE))","v":{"$error":"#REF!"}},{"$f":"IF(J279=\"\",\"\",VLOOKUP(A279,OFFSET([0]!_xlnm.Print_Area,3,0),6,FALSE))","v":{"$error":"#REF!"}},{"$f":"IF(J279=\"\",\"\",VLOOKUP(A279,OFFSET([0]!_xlnm.Print_Area,3,0,,7),7,FALSE))","v":{"$error":"#REF!"}}," ",{"$f":"INDEX(#REF!,SMALL(IF(#REF!<>\"\",ROW(#REF!)),ROWS(I$1:I279)-1))","v":{"$error":"#REF!"}},{"$f":"INDEX(#REF!,SMALL(IF(#REF!<>\"\",ROW(#REF!)),ROWS(J$1:J279)-1))","v":{"$error":"#REF!"}},{"$f":"INDEX(#REF!,SMALL(IF(#REF!<>\"\",ROW(#REF!)),ROWS(K$1:K279)-1))","v":{"$error":"#REF!"}}]
[{"$error":"#REF!"},{"$error":"#REF!"},{"$error":"#REF!"},{"$f":"IF(J280=\"\",VLOOKUP(C280,OFFSET([0]!_xlnm.Print_Area,3,2),2,FALSE),VLOOKUP(A280,OFFSET([0]!_xlnm.Print_Area,3,0),4,FALSE))","v":{"$error":"#REF!"}},{"$f":"IF(J280=\"\",\"\",VLOOKUP(A280,OFFSET([0]!_xlnm.Print_Area,3,0),5,FALSE))","v":{"$error":"#REF!"}},{"$f":"IF(J280=\"\",\"\",VLOOKUP(A280,OFFSET([0]!_xlnm.Print_Area,3,0),6,FALSE))","v":{"$error":"#REF!"}},{"$f":"IF(J280=\"\",\"\",VLOOKUP(A280,OFFSET([0]!_xlnm.Print_Area,3,0,,7),7,FALSE))","v":{"$error":"#REF!"}}," ",{"$f":"INDEX(#REF!,SMALL(IF(#REF!<>\"\",ROW(#REF!)),ROWS(I$1:I280)-1))","v":{"$error":"#REF!"}},{"$f":"INDEX(#REF!,SMALL(IF(#REF!<>\"\",ROW(#REF!)),ROWS(J$1:J280)-1))","v":{"$error":"#REF!"}},{"$f":"INDEX(#REF!,SMALL(IF(#REF!<>\"\",ROW(#REF!)),ROWS(K$1:K280)-1))","v":{"$error":"#REF!"}}]
[{"$error":"#REF!"},{"$error":"#REF!"},{"$error":"#REF!"},{"$f":"IF(J281=\"\",VLOOKUP(C281,OFFSET([0]!_xlnm.Print_Area,3,2),2,FALSE),VLOOKUP(A281,OFFSET([0]!_xlnm.Print_Area,3,0),4,FALSE))","v":{"$error":"#REF!"}},{"$f":"IF(J281=\"\",\"\",VLOOKUP(A281,OFFSET([0]!_xlnm.Print_Area,3,0),5,FALSE))","v":{"$error":"#REF!"}},{"$f":"IF(J281=\"\",\"\",VLOOKUP(A281,OFFSET([0]!_xlnm.Print_Area,3,0),6,FALSE))","v":{"$error":"#REF!"}},{"$f":"IF(J281=\"\",\"\",VLOOKUP(A281,OFFSET([0]!_xlnm.Print_Area,3,0,,7),7,FALSE))","v":{"$error":"#REF!"}}," ",{"$f":"INDEX(#REF!,SMALL(IF(#REF!<>\"\",ROW(#REF!)),ROWS(I$1:I281)-1))","v":{"$error":"#REF!"}},{"$f":"INDEX(#REF!,SMALL(IF(#REF!<>\"\",ROW(#REF!)),ROWS(J$1:J281)-1))","v":{"$error":"#REF!"}},{"$f":"INDEX(#REF!,SMALL(IF(#REF!<>\"\",ROW(#REF!)),ROWS(K$1:K281)-1))","v":{"$error":"#REF!"}}]
[{"$error":"#REF!"},{"$error":"#REF!"},{"$error":"#REF!"},{"$f":"IF(J282=\"\",VLOOKUP(C282,OFFSET([0]!_xlnm.Print_Area,3,2),2,FALSE),VLOOKUP(A282,OFFSET([0]!_xlnm.Print_Area,3,0),4,FALSE))","v":{"$error":"#REF!"}},{"$f":"IF(J282=\"\",\"\",VLOOKUP(A282,OFFSET([0]!_xlnm.Print_Area,3,0),5,FALSE))","v":{"$error":"#REF!"}},{"$f":"IF(J282=\"\",\"\",VLOOKUP(A282,OFFSET([0]!_xlnm.Print_Area,3,0),6,FALSE))","v":{"$error":"#REF!"}},{"$f":"IF(J282=\"\",\"\",VLOOKUP(A282,OFFSET([0]!_xlnm.Print_Area,3,0,,7),7,FALSE))","v":{"$error":"#REF!"}}," ",{"$f":"INDEX(#REF!,SMALL(IF(#REF!<>\"\",ROW(#REF!)),ROWS(I$1:I282)-1))","v":{"$error":"#REF!"}},{"$f":"INDEX(#REF!,SMALL(IF(#REF!<>\"\",ROW(#REF!)),ROWS(J$1:J282)-1))","v":{"$error":"#REF!"}},{"$f":"INDEX(#REF!,SMALL(IF(#REF!<>\"\",ROW(#REF!)),ROWS(K$1:K282)-1))","v":{"$error":"#REF!"}}]
[{"$error":"#REF!"},{"$error":"#REF!"},{"$error":"#REF!"},{"$f":"IF(J283=\"\",VLOOKUP(C283,OFFSET([0]!_xlnm.Print_Area,3,2),2,FALSE),VLOOKUP(A283,OFFSET([0]!_xlnm.Print_Area,3,0),4,FALSE))","v":{"$error":"#REF!"}},{"$f":"IF(J283=\"\",\"\",VLOOKUP(A283,OFFSET([0]!_xlnm.Print_Area,3,0),5,FALSE))","v":{"$error":"#REF!"}},{"$f":"IF(J283=\"\",\"\",VLOOKUP(A283,OFFSET([0]!_xlnm.Print_Area,3,0),6,FALSE))","v":{"$error":"#REF!"}},{"$f":"IF(J283=\"\",\"\",VLOOKUP(A283,OFFSET([0]!_xlnm.Print_Area,3,0,,7),7,FALSE))","v":{"$error":"#REF!"}}," ",{"$f":"INDEX(#REF!,SMALL(IF(#REF!<>\"\",ROW(#REF!)),ROWS(I$1:I283)-1))","v":{"$error":"#REF!"}},{"$f":"INDEX(#REF!,SMALL(IF(#REF!<>\"\",ROW(#REF!)),ROWS(J$1:J283)-1))","v":{"$error":"#REF!"}},{"$f":"INDEX(#REF!,SMALL(IF(#REF!<>\"\",ROW(#REF!)),ROWS(K$1:K283)-1))","v":{"$error":"#REF!"}}]
[{"$error":"#REF!"},{"$error":"#REF!"},{"$error":"#REF!"},{"$f":"IF(J284=\"\",VLOOKUP(C284,OFFSET([0]!_xlnm.Print_Area,3,2),2,FALSE),VLOOKUP(A284,OFFSET([0]!_xlnm.Print_Area,3,0),4,FALSE))","v":{"$error":"#REF!"}},{"$f":"IF(J284=\"\",\"\",VLOOKUP(A284,OFFSET([0]!_xlnm.Print_Area,3,0),5,FALSE))","v":{"$error":"#REF!"}},{"$f":"IF(J284=\"\",\"\",VLOOKUP(A284,OFFSET([0]!_xlnm.Print_Area,3,0),6,FALSE))","v":{"$error":"#REF!"}},{"$f":"IF(J284=\"\",\"\",VLOOKUP(A284,OFFSET([0]!_xlnm.Print_Area,3,0,,7),7,FALSE))","v":{"$error":"#REF!"}}," ",{"$f":"INDEX(#REF!,SMALL(IF(#REF!<>\"\",ROW(#REF!)),ROWS(I$1:I284)-1))","v":{"$error":"#REF!"}},{"$f":"INDEX(#REF!,SMALL(IF(#REF!<>\"\",ROW(#REF!)),ROWS(J$1:J284)-1))","v":{"$error":"#REF!"}},{"$f":"INDEX(#REF!,SMALL(IF(#REF!<>\"\",ROW(#REF!)),ROWS(K$1:K284)-1))","v":{"$error":"#REF!"}}]
[{"$error":"#REF!"},{"$error":"#REF!"},{"$error":"#REF!"},{"$f":"IF(J285=\"\",VLOOKUP(C285,OFFSET([0]!_xlnm.Print_Area,3,2),2,FALSE),VLOOKUP(A285,OFFSET([0]!_xlnm.Print_Area,3,0),4,FALSE))","v":{"$error":"#REF!"}},{"$f":"IF(J285=\"\",\"\",VLOOKUP(A285,OFFSET([0]!_xlnm.Print_Area,3,0),5,FALSE))","v":{"$error":"#REF!"}},{"$f":"IF(J285=\"\",\"\",VLOOKUP(A285,OFFSET([0]!_xlnm.Print_Area,3,0),6,FALSE))","v":{"$error":"#REF!"}},{"$f":"IF(J285=\"\",\"\",VLOOKUP(A285,OFFSET([0]!_xlnm.Print_Area,3,0,,7),7,FALSE))","v":{"$error":"#REF!"}}," ",{"$f":"INDEX(#REF!,SMALL(IF(#REF!<>\"\",ROW(#REF!)),ROWS(I$1:I285)-1))","v":{"$error":"#REF!"}},{"$f":"INDEX(#REF!,SMALL(IF(#REF!<>\"\",ROW(#REF!)),ROWS(J$1:J285)-1))","v":{"$error":"#REF!"}},{"$f":"INDEX(#REF!,SMALL(IF(#REF!<>\"\",ROW(#REF!)),ROWS(K$1:K285)-1))","v":{"$error":"#REF!"}}]
[{"$error":"#REF!"},{"$error":"#REF!"},{"$error":"#REF!"},{"$f":"IF(J286=\"\",VLOOKUP(C286,OFFSET([0]!_xlnm.Print_Area,3,2),2,FALSE),VLOOKUP(A286,OFFSET([0]!_xlnm.Print_Area,3,0),4,FALSE))","v":{"$error":"#REF!"}},{"$f":"IF(J286=\"\",\"\",VLOOKUP(A286,OFFSET([0]!_xlnm.Print_Area,3,0),5,FALSE))","v":{"$error":"#REF!"}},{"$f":"IF(J286=\"\",\"\",VLOOKUP(A286,OFFSET([0]!_xlnm.Print_Area,3,0),6,FALSE))","v":{"$error":"#REF!"}},{"$f":"IF(J286=\"\",\"\",VLOOKUP(A286,OFFSET([0]!_xlnm.Print_Area,3,0,,7),7,FALSE))","v":{"$error":"#REF!"}}," ",{"$f":"INDEX(#REF!,SMALL(IF(#REF!<>\"\",ROW(#REF!)),ROWS(I$1:I286)-1))","v":{"$error":"#REF!"}},{"$f":"INDEX(#REF!,SMALL(IF(#REF!<>\"\",ROW(#REF!)),ROWS(J$1:J286)-1))","v":{"$error":"#REF!"}},{"$f":"INDEX(#REF!,SMALL(IF(#REF!<>\"\",ROW(#REF!)),ROWS(K$1:K286)-1))","v":{"$error":"#REF!"}}]
[{"$error":"#REF!"},{"$error":"#REF!"},{"$error":"#REF!"},{"$f":"IF(J287=\"\",VLOOKUP(C287,OFFSET([0]!_xlnm.Print_Area,3,2),2,FALSE),VLOOKUP(A287,OFFSET([0]!_xlnm.Print_Area,3,0),4,FALSE))","v":{"$error":"#REF!"}},{"$f":"IF(J287=\"\",\"\",VLOOKUP(A287,OFFSET([0]!_xlnm.Print_Area,3,0),5,FALSE))","v":{"$error":"#REF!"}},{"$f":"IF(J287=\"\",\"\",VLOOKUP(A287,OFFSET([0]!_xlnm.Print_Area,3,0),6,FALSE))","v":{"$error":"#REF!"}},{"$f":"IF(J287=\"\",\"\",VLOOKUP(A287,OFFSET([0]!_xlnm.Print_Area,3,0,,7),7,FALSE))","v":{"$error":"#REF!"}}," ",{"$f":"INDEX(#REF!,SMALL(IF(#REF!<>\"\",ROW(#REF!)),ROWS(I$1:I287)-1))","v":{"$error":"#REF!"}},{"$f":"INDEX(#REF!,SMALL(IF(#REF!<>\"\",ROW(#REF!)),ROWS(J$1:J287)-1))","v":{"$error":"#REF!"}},{"$f":"INDEX(#REF!,SMALL(IF(#REF!<>\"\",ROW(#REF!)),ROWS(K$1:K287)-1))","v":{"$error":"#REF!"}}]
[{"$error":"#REF!"},{"$error":"#REF!"},{"$error":"#REF!"},{"$f":"IF(J288=\"\",VLOOKUP(C288,OFFSET([0]!_xlnm.Print_Area,3,2),2,FALSE),VLOOKUP(A288,OFFSET([0]!_xlnm.Print_Area,3,0),4,FALSE))","v":{"$error":"#REF!"}},{"$f":"IF(J288=\"\",\"\",VLOOKUP(A288,OFFSET([0]!_xlnm.Print_Area,3,0),5,FALSE))","v":{"$error":"#REF!"}},{"$f":"IF(J288=\"\",\"\",VLOOKUP(A288,OFFSET([0]!_xlnm.Print_Area,3,0),6,FALSE))","v":{"$error":"#REF!"}},{"$f":"IF(J288=\"\",\"\",VLOOKUP(A288,OFFSET([0]!_xlnm.Print_Area,3,0,,7),7,FALSE))","v":{"$error":"#REF!"}}," ",{"$f":"INDEX(#REF!,SMALL(IF(#REF!<>\"\",ROW(#REF!)),ROWS(I$1:I288)-1))","v":{"$error":"#REF!"}},{"$f":"INDEX(#REF!,SMALL(IF(#REF!<>\"\",ROW(#REF!)),ROWS(J$1:J288)-1))","v":{"$error":"#REF!"}},{"$f":"INDEX(#REF!,SMALL(IF(#REF!<>\"\",ROW(#REF!)),ROWS(K$1:K288)-1))","v":{"$error":"#REF!"}}]
[{"$error":"#REF!"},{"$error":"#REF!"},{"$error":"#REF!"},{"$f":"IF(J289=\"\",VLOOKUP(C289,OFFSET([0]!_xlnm.Print_Area,3,2),2,FALSE),VLOOKUP(A289,OFFSET([0]!_xlnm.Print_Area,3,0),4,FALSE))","v":{"$error":"#REF!"}},{"$f":"IF(J289=\"\",\"\",VLOOKUP(A289,OFFSET([0]!_xlnm.Print_Area,3,0),5,FALSE))","v":{"$error":"#REF!"}},{"$f":"IF(J289=\"\",\"\",VLOOKUP(A289,OFFSET([0]!_xlnm.Print_Area,3,0),6,FALSE))","v":{"$error":"#REF!"}},{"$f":"IF(J289=\"\",\"\",VLOOKUP(A289,OFFSET([0]!_xlnm.Print_Area,3,0,,7),7,FALSE))","v":{"$error":"#REF!"}}," ",{"$f":"INDEX(#REF!,SMALL(IF(#REF!<>\"\",ROW(#REF!)),ROWS(I$1:I289)-1))","v":{"$error":"#REF!"}},{"$f":"INDEX(#REF!,SMALL(IF(#REF!<>\"\",ROW(#REF!)),ROWS(J$1:J289)-1))","v":{"$error":"#REF!"}},{"$f":"INDEX(#REF!,SMALL(IF(#REF!<>\"\",ROW(#REF!)),ROWS(K$1:K289)-1))","v":{"$error":"#REF!"}}]
[{"$error":"#REF!"},{"$error":"#REF!"},{"$error":"#REF!"},{"$f":"IF(J290=\"\",VLOOKUP(C290,OFFSET([0]!_xlnm.Print_Area,3,2),2,FALSE),VLOOKUP(A290,OFFSET([0]!_xlnm.Print_Area,3,0),4,FALSE))","v":{"$error":"#REF!"}},{"$f":"IF(J290=\"\",\"\",VLOOKUP(A290,OFFSET([0]!_xlnm.Print_Area,3,0),5,FALSE))","v":{"$error":"#REF!"}},{"$f":"IF(J290=\"\",\"\",VLOOKUP(A290,OFFSET([0]!_xlnm.Print_Area,3,0),6,FALSE))","v":{"$error":"#REF!"}},{"$f":"IF(J290=\"\",\"\",VLOOKUP(A290,OFFSET([0]!_xlnm.Print_Area,3,0,,7),7,FALSE))","v":{"$error":"#REF!"}}," ",{"$f":"INDEX(#REF!,SMALL(IF(#REF!<>\"\",ROW(#REF!)),ROWS(I$1:I290)-1))","v":{"$error":"#REF!"}},{"$f":"INDEX(#REF!,SMALL(IF(#REF!<>\"\",ROW(#REF!)),ROWS(J$1:J290)-1))","v":{"$error":"#REF!"}},{"$f":"INDEX(#REF!,SMALL(IF(#REF!<>\"\",ROW(#REF!)),ROWS(K$1:K290)-1))","v":{"$error":"#REF!"}}]
[{"$error":"#REF!"},{"$error":"#REF!"},{"$error":"#REF!"},{"$f":"IF(J291=\"\",VLOOKUP(C291,OFFSET([0]!_xlnm.Print_Area,3,2),2,FALSE),VLOOKUP(A291,OFFSET([0]!_xlnm.Print_Area,3,0),4,FALSE))","v":{"$error":"#REF!"}},{"$f":"IF(J291=\"\",\"\",VLOOKUP(A291,OFFSET([0]!_xlnm.Print_Area,3,0),5,FALSE))","v":{"$error":"#REF!"}},{"$f":"IF(J291=\"\",\"\",VLOOKUP(A291,OFFSET([0]!_xlnm.Print_Area,3,0),6,FALSE))","v":{"$error":"#REF!"}},{"$f":"IF(J291=\"\",\"\",VLOOKUP(A291,OFFSET([0]!_xlnm.Print_Area,3,0,,7),7,FALSE))","v":{"$error":"#REF!"}}," ",{"$f":"INDEX(#REF!,SMALL(IF(#REF!<>\"\",ROW(#REF!)),ROWS(I$1:I291)-1))","v":{"$error":"#REF!"}},{"$f":"INDEX(#REF!,SMALL(IF(#REF!<>\"\",ROW(#REF!)),ROWS(J$1:J291)-1))","v":{"$error":"#REF!"}},{"$f":"INDEX(#REF!,SMALL(IF(#REF!<>\"\",ROW(#REF!)),ROWS(K$1:K291)-1))","v":{"$error":"#REF!"}}]
[{"$error":"#REF!"},{"$error":"#REF!"},{"$error":"#REF!"},{"$f":"IF(J292=\"\",VLOOKUP(C292,OFFSET([0]!_xlnm.Print_Area,3,2),2,FALSE),VLOOKUP(A292,OFFSET([0]!_xlnm.Print_Area,3,0),4,FALSE))","v":{"$error":"#REF!"}},{"$f":"IF(J292=\"\",\"\",VLOOKUP(A292,OFFSET([0]!_xlnm.Print_Area,3,0),5,FALSE))","v":{"$error":"#REF!"}},{"$f":"IF(J292=\"\",\"\",VLOOKUP(A292,OFFSET([0]!_xlnm.Print_Area,3,0),6,FALSE))","v":{"$error":"#REF!"}},{"$f":"IF(J292=\"\",\"\",VLOOKUP(A292,OFFSET([0]!_xlnm.Print_Area,3,0,,7),7,FALSE))","v":{"$error":"#REF!"}}," ",{"$f":"INDEX(#REF!,SMALL(IF(#REF!<>\"\",ROW(#REF!)),ROWS(I$1:I292)-1))","v":{"$error":"#REF!"}},{"$f":"INDEX(#REF!,SMALL(IF(#REF!<>\"\",ROW(#REF!)),ROWS(J$1:J292)-1))","v":{"$error":"#REF!"}},{"$f":"INDEX(#REF!,SMALL(IF(#REF!<>\"\",ROW(#REF!)),ROWS(K$1:K292)-1))","v":{"$error":"#REF!"}}]
[{"$error":"#REF!"},{"$error":"#REF!"},{"$error":"#REF!"},{"$f":"IF(J293=\"\",VLOOKUP(C293,OFFSET([0]!_xlnm.Print_Area,3,2),2,FALSE),VLOOKUP(A293,OFFSET([0]!_xlnm.Print_Area,3,0),4,FALSE))","v":{"$error":"#REF!"}},{"$f":"IF(J293=\"\",\"\",VLOOKUP(A293,OFFSET([0]!_xlnm.Print_Area,3,0),5,FALSE))","v":{"$error":"#REF!"}},{"$f":"IF(J293=\"\",\"\",VLOOKUP(A293,OFFSET([0]!_xlnm.Print_Area,3,0),6,FALSE))","v":{"$error":"#REF!"}},{"$f":"IF(J293=\"\",\"\",VLOOKUP(A293,OFFSET([0]!_xlnm.Print_Area,3,0,,7),7,FALSE))","v":{"$error":"#REF!"}}," ",{"$f":"INDEX(#REF!,SMALL(IF(#REF!<>\"\",ROW(#REF!)),ROWS(I$1:I293)-1))","v":{"$error":"#REF!"}},{"$f":"INDEX(#REF!,SMALL(IF(#REF!<>\"\",ROW(#REF!)),ROWS(J$1:J293)-1))","v":{"$error":"#REF!"}},{"$f":"INDEX(#REF!,SMALL(IF(#REF!<>\"\",ROW(#REF!)),ROWS(K$1:K293)-1))","v":{"$error":"#REF!"}}]
[{"$error":"#REF!"},{"$error":"#REF!"},{"$error":"#REF!"},{"$f":"IF(J294=\"\",VLOOKUP(C294,OFFSET([0]!_xlnm.Print_Area,3,2),2,FALSE),VLOOKUP(A294,OFFSET([0]!_xlnm.Print_Area,3,0),4,FALSE))","v":{"$error":"#REF!"}},{"$f":"IF(J294=\"\",\"\",VLOOKUP(A294,OFFSET([0]!_xlnm.Print_Area,3,0),5,FALSE))","v":{"$error":"#REF!"}},{"$f":"IF(J294=\"\",\"\",VLOOKUP(A294,OFFSET([0]!_xlnm.Print_Area,3,0),6,FALSE))","v":{"$error":"#REF!"}},{"$f":"IF(J294=\"\",\"\",VLOOKUP(A294,OFFSET([0]!_xlnm.Print_Area,3,0,,7),7,FALSE))","v":{"$error":"#REF!"}}," ",{"$f":"INDEX(#REF!,SMALL(IF(#REF!<>\"\",ROW(#REF!)),ROWS(I$1:I294)-1))","v":{"$error":"#REF!"}},{"$f":"INDEX(#REF!,SMALL(IF(#REF!<>\"\",ROW(#REF!)),ROWS(J$1:J294)-1))","v":{"$error":"#REF!"}},{"$f":"INDEX(#REF!,SMALL(IF(#REF!<>\"\",ROW(#REF!)),ROWS(K$1:K294)-1))","v":{"$error":"#REF!"}}]
[{"$error":"#REF!"},{"$error":"#REF!"},{"$error":"#REF!"},{"$f":"IF(J295=\"\",VLOOKUP(C295,OFFSET([0]!_xlnm.Print_Area,3,2),2,FALSE),VLOOKUP(A295,OFFSET([0]!_xlnm.Print_Area,3,0),4,FALSE))","v":{"$error":"#REF!"}},{"$f":"IF(J295=\"\",\"\",VLOOKUP(A295,OFFSET([0]!_xlnm.Print_Area,3,0),5,FALSE))","v":{"$error":"#REF!"}},{"$f":"IF(J295=\"\",\"\",VLOOKUP(A295,OFFSET([0]!_xlnm.Print_Area,3,0),6,FALSE))","v":{"$error":"#REF!"}},{"$f":"IF(J295=\"\",\"\",VLOOKUP(A295,OFFSET([0]!_xlnm.Print_Area,3,0,,7),7,FALSE))","v":{"$error":"#REF!"}}," ",{"$f":"INDEX(#REF!,SMALL(IF(#REF!<>\"\",ROW(#REF!)),ROWS(I$1:I295)-1))","v":{"$error":"#REF!"}},{"$f":"INDEX(#REF!,SMALL(IF(#REF!<>\"\",ROW(#REF!)),ROWS(J$1:J295)-1))","v":{"$error":"#REF!"}},{"$f":"INDEX(#REF!,SMALL(IF(#REF!<>\"\",ROW(#REF!)),ROWS(K$1:K295)-1))","v":{"$error":"#REF!"}}]
[{"$error":"#REF!"},{"$error":"#REF!"},{"$error":"#REF!"},{"$f":"IF(J296=\"\",VLOOKUP(C296,OFFSET([0]!_xlnm.Print_Area,3,2),2,FALSE),VLOOKUP(A296,OFFSET([0]!_xlnm.Print_Area,3,0),4,FALSE))","v":{"$error":"#REF!"}},{"$f":"IF(J296=\"\",\"\",VLOOKUP(A296,OFFSET([0]!_xlnm.Print_Area,3,0),5,FALSE))","v":{"$error":"#REF!"}},{"$f":"IF(J296=\"\",\"\",VLOOKUP(A296,OFFSET([0]!_xlnm.Print_Area,3,0),6,FALSE))","v":{"$error":"#REF!"}},{"$f":"IF(J296=\"\",\"\",VLOOKUP(A296,OFFSET([0]!_xlnm.Print_Area,3,0,,7),7,FALSE))","v":{"$error":"#REF!"}}," ",{"$f":"INDEX(#REF!,SMALL(IF(#REF!<>\"\",ROW(#REF!)),ROWS(I$1:I296)-1))","v":{"$error":"#REF!"}},{"$f":"INDEX(#REF!,SMALL(IF(#REF!<>\"\",ROW(#REF!)),ROWS(J$1:J296)-1))","v":{"$error":"#REF!"}},{"$f":"INDEX(#REF!,SMALL(IF(#REF!<>\"\",ROW(#REF!)),ROWS(K$1:K296)-1))","v":{"$error":"#REF!"}}]
[{"$error":"#REF!"},{"$error":"#REF!"},{"$error":"#REF!"},{"$f":"IF(J297=\"\",VLOOKUP(C297,OFFSET([0]!_xlnm.Print_Area,3,2),2,FALSE),VLOOKUP(A297,OFFSET([0]!_xlnm.Print_Area,3,0),4,FALSE))","v":{"$error":"#REF!"}},{"$f":"IF(J297=\"\",\"\",VLOOKUP(A297,OFFSET([0]!_xlnm.Print_Area,3,0),5,FALSE))","v":{"$error":"#REF!"}},{"$f":"IF(J297=\"\",\"\",VLOOKUP(A297,OFFSET([0]!_xlnm.Print_Area,3,0),6,FALSE))","v":{"$error":"#REF!"}},{"$f":"IF(J297=\"\",\"\",VLOOKUP(A297,OFFSET([0]!_xlnm.Print_Area,3,0,,7),7,FALSE))","v":{"$error":"#REF!"}}," ",{"$f":"INDEX(#REF!,SMALL(IF(#REF!<>\"\",ROW(#REF!)),ROWS(I$1:I297)-1))","v":{"$error":"#REF!"}},{"$f":"INDEX(#REF!,SMALL(IF(#REF!<>\"\",ROW(#REF!)),ROWS(J$1:J297)-1))","v":{"$error":"#REF!"}},{"$f":"INDEX(#REF!,SMALL(IF(#REF!<>\"\",ROW(#REF!)),ROWS(K$1:K297)-1))","v":{"$error":"#REF!"}}]
[{"$error":"#REF!"},{"$error":"#REF!"},{"$error":"#REF!"},{"$f":"IF(J298=\"\",VLOOKUP(C298,OFFSET([0]!_xlnm.Print_Area,3,2),2,FALSE),VLOOKUP(A298,OFFSET([0]!_xlnm.Print_Area,3,0),4,FALSE))","v":{"$error":"#REF!"}},{"$f":"IF(J298=\"\",\"\",VLOOKUP(A298,OFFSET([0]!_xlnm.Print_Area,3,0),5,FALSE))","v":{"$error":"#REF!"}},{"$f":"IF(J298=\"\",\"\",VLOOKUP(A298,OFFSET([0]!_xlnm.Print_Area,3,0),6,FALSE))","v":{"$error":"#REF!"}},{"$f":"IF(J298=\"\",\"\",VLOOKUP(A298,OFFSET([0]!_xlnm.Print_Area,3,0,,7),7,FALSE))","v":{"$error":"#REF!"}}," ",{"$f":"INDEX(#REF!,SMALL(IF(#REF!<>\"\",ROW(#REF!)),ROWS(I$1:I298)-1))","v":{"$error":"#REF!"}},{"$f":"INDEX(#REF!,SMALL(IF(#REF!<>\"\",ROW(#REF!)),ROWS(J$1:J298)-1))","v":{"$error":"#REF!"}},{"$f":"INDEX(#REF!,SMALL(IF(#REF!<>\"\",ROW(#REF!)),ROWS(K$1:K298)-1))","v":{"$error":"#REF!"}}]
[{"$error":"#REF!"},{"$error":"#REF!"},{"$error":"#REF!"},{"$f":"IF(J299=\"\",VLOOKUP(C299,OFFSET([0]!_xlnm.Print_Area,3,2),2,FALSE),VLOOKUP(A299,OFFSET([0]!_xlnm.Print_Area,3,0),4,FALSE))","v":{"$error":"#REF!"}},{"$f":"IF(J299=\"\",\"\",VLOOKUP(A299,OFFSET([0]!_xlnm.Print_Area,3,0),5,FALSE))","v":{"$error":"#REF!"}},{"$f":"IF(J299=\"\",\"\",VLOOKUP(A299,OFFSET([0]!_xlnm.Print_Area,3,0),6,FALSE))","v":{"$error":"#REF!"}},{"$f":"IF(J299=\"\",\"\",VLOOKUP(A299,OFFSET([0]!_xlnm.Print_Area,3,0,,7),7,FALSE))","v":{"$error":"#REF!"}}," ",{"$f":"INDEX(#REF!,SMALL(IF(#REF!<>\"\",ROW(#REF!)),ROWS(I$1:I299)-1))","v":{"$error":"#REF!"}},{"$f":"INDEX(#REF!,SMALL(IF(#REF!<>\"\",ROW(#REF!)),ROWS(J$1:J299)-1))","v":{"$error":"#REF!"}},{"$f":"INDEX(#REF!,SMALL(IF(#REF!<>\"\",ROW(#REF!)),ROWS(K$1:K299)-1))","v":{"$error":"#REF!"}}]
[{"$error":"#REF!"},{"$error":"#REF!"},{"$error":"#REF!"},{"$f":"IF(J300=\"\",VLOOKUP(C300,OFFSET([0]!_xlnm.Print_Area,3,2),2,FALSE),VLOOKUP(A300,OFFSET([0]!_xlnm.Print_Area,3,0),4,FALSE))","v":{"$error":"#REF!"}},{"$f":"IF(J300=\"\",\"\",VLOOKUP(A300,OFFSET([0]!_xlnm.Print_Area,3,0),5,FALSE))","v":{"$error":"#REF!"}},{"$f":"IF(J300=\"\",\"\",VLOOKUP(A300,OFFSET([0]!_xlnm.Print_Area,3,0),6,FALSE))","v":{"$error":"#REF!"}},{"$f":"IF(J300=\"\",\"\",VLOOKUP(A300,OFFSET([0]!_xlnm.Print_Area,3,0,,7),7,FALSE))","v":{"$error":"#REF!"}}," ",{"$f":"INDEX(#REF!,SMALL(IF(#REF!<>\"\",ROW(#REF!)),ROWS(I$1:I300)-1))","v":{"$error":"#REF!"}},{"$f":"INDEX(#REF!,SMALL(IF(#REF!<>\"\",ROW(#REF!)),ROWS(J$1:J300)-1))","v":{"$error":"#REF!"}},{"$f":"INDEX(#REF!,SMALL(IF(#REF!<>\"\",ROW(#REF!)),ROWS(K$1:K300)-1))","v":{"$error":"#REF!"}}]
[{"$error":"#REF!"},{"$error":"#REF!"},{"$error":"#REF!"},{"$f":"IF(J301=\"\",VLOOKUP(C301,OFFSET([0]!_xlnm.Print_Area,3,2),2,FALSE),VLOOKUP(A301,OFFSET([0]!_xlnm.Print_Area,3,0),4,FALSE))","v":{"$error":"#REF!"}},{"$f":"IF(J301=\"\",\"\",VLOOKUP(A301,OFFSET([0]!_xlnm.Print_Area,3,0),5,FALSE))","v":{"$error":"#REF!"}},{"$f":"IF(J301=\"\",\"\",VLOOKUP(A301,OFFSET([0]!_xlnm.Print_Area,3,0),6,FALSE))","v":{"$error":"#REF!"}},{"$f":"IF(J301=\"\",\"\",VLOOKUP(A301,OFFSET([0]!_xlnm.Print_Area,3,0,,7),7,FALSE))","v":{"$error":"#REF!"}}," ",{"$f":"INDEX(#REF!,SMALL(IF(#REF!<>\"\",ROW(#REF!)),ROWS(I$1:I301)-1))","v":{"$error":"#REF!"}},{"$f":"INDEX(#REF!,SMALL(IF(#REF!<>\"\",ROW(#REF!)),ROWS(J$1:J301)-1))","v":{"$error":"#REF!"}},{"$f":"INDEX(#REF!,SMALL(IF(#REF!<>\"\",ROW(#REF!)),ROWS(K$1:K301)-1))","v":{"$error":"#REF!"}}]
[{"$error":"#REF!"},{"$error":"#REF!"},{"$error":"#REF!"},{"$f":"IF(J302=\"\",VLOOKUP(C302,OFFSET([0]!_xlnm.Print_Area,3,2),2,FALSE),VLOOKUP(A302,OFFSET([0]!_xlnm.Print_Area,3,0),4,FALSE))","v":{"$error":"#REF!"}},{"$f":"IF(J302=\"\",\"\",VLOOKUP(A302,OFFSET([0]!_xlnm.Print_Area,3,0),5,FALSE))","v":{"$error":"#REF!"}},{"$f":"IF(J302=\"\",\"\",VLOOKUP(A302,OFFSET([0]!_xlnm.Print_Area,3,0),6,FALSE))","v":{"$error":"#REF!"}},{"$f":"IF(J302=\"\",\"\",VLOOKUP(A302,OFFSET([0]!_xlnm.Print_Area,3,0,,7),7,FALSE))","v":{"$error":"#REF!"}}," ",{"$f":"INDEX(#REF!,SMALL(IF(#REF!<>\"\",ROW(#REF!)),ROWS(I$1:I302)-1))","v":{"$error":"#REF!"}},{"$f":"INDEX(#REF!,SMALL(IF(#REF!<>\"\",ROW(#REF!)),ROWS(J$1:J302)-1))","v":{"$error":"#REF!"}},{"$f":"INDEX(#REF!,SMALL(IF(#REF!<>\"\",ROW(#REF!)),ROWS(K$1:K302)-1))","v":{"$error":"#REF!"}}]
[{"$error":"#REF!"},{"$error":"#REF!"},{"$error":"#REF!"},{"$f":"IF(J303=\"\",VLOOKUP(C303,OFFSET([0]!_xlnm.Print_Area,3,2),2,FALSE),VLOOKUP(A303,OFFSET([0]!_xlnm.Print_Area,3,0),4,FALSE))","v":{"$error":"#REF!"}},{"$f":"IF(J303=\"\",\"\",VLOOKUP(A303,OFFSET([0]!_xlnm.Print_Area,3,0),5,FALSE))","v":{"$error":"#REF!"}},{"$f":"IF(J303=\"\",\"\",VLOOKUP(A303,OFFSET([0]!_xlnm.Print_Area,3,0),6,FALSE))","v":{"$error":"#REF!"}},{"$f":"IF(J303=\"\",\"\",VLOOKUP(A303,OFFSET([0]!_xlnm.Print_Area,3,0,,7),7,FALSE))","v":{"$error":"#REF!"}}," ",{"$f":"INDEX(#REF!,SMALL(IF(#REF!<>\"\",ROW(#REF!)),ROWS(I$1:I303)-1))","v":{"$error":"#REF!"}},{"$f":"INDEX(#REF!,SMALL(IF(#REF!<>\"\",ROW(#REF!)),ROWS(J$1:J303)-1))","v":{"$error":"#REF!"}},{"$f":"INDEX(#REF!,SMALL(IF(#REF!<>\"\",ROW(#REF!)),ROWS(K$1:K303)-1))","v":{"$error":"#REF!"}}]
[{"$error":"#REF!"},{"$error":"#REF!"},{"$error":"#REF!"},{"$f":"IF(J304=\"\",VLOOKUP(C304,OFFSET([0]!_xlnm.Print_Area,3,2),2,FALSE),VLOOKUP(A304,OFFSET([0]!_xlnm.Print_Area,3,0),4,FALSE))","v":{"$error":"#REF!"}},{"$f":"IF(J304=\"\",\"\",VLOOKUP(A304,OFFSET([0]!_xlnm.Print_Area,3,0),5,FALSE))","v":{"$error":"#REF!"}},{"$f":"IF(J304=\"\",\"\",VLOOKUP(A304,OFFSET([0]!_xlnm.Print_Area,3,0),6,FALSE))","v":{"$error":"#REF!"}},{"$f":"IF(J304=\"\",\"\",VLOOKUP(A304,OFFSET([0]!_xlnm.Print_Area,3,0,,7),7,FALSE))","v":{"$error":"#REF!"}}," ",{"$f":"INDEX(#REF!,SMALL(IF(#REF!<>\"\",ROW(#REF!)),ROWS(I$1:I304)-1))","v":{"$error":"#REF!"}},{"$f":"INDEX(#REF!,SMALL(IF(#REF!<>\"\",ROW(#REF!)),ROWS(J$1:J304)-1))","v":{"$error":"#REF!"}},{"$f":"INDEX(#REF!,SMALL(IF(#REF!<>\"\",ROW(#REF!)),ROWS(K$1:K304)-1))","v":{"$error":"#REF!"}}]
[{"$error":"#REF!"},{"$error":"#REF!"},{"$error":"#REF!"},{"$f":"IF(J305=\"\",VLOOKUP(C305,OFFSET([0]!_xlnm.Print_Area,3,2),2,FALSE),VLOOKUP(A305,OFFSET([0]!_xlnm.Print_Area,3,0),4,FALSE))","v":{"$error":"#REF!"}},{"$f":"IF(J305=\"\",\"\",VLOOKUP(A305,OFFSET([0]!_xlnm.Print_Area,3,0),5,FALSE))","v":{"$error":"#REF!"}},{"$f":"IF(J305=\"\",\"\",VLOOKUP(A305,OFFSET([0]!_xlnm.Print_Area,3,0),6,FALSE))","v":{"$error":"#REF!"}},{"$f":"IF(J305=\"\",\"\",VLOOKUP(A305,OFFSET([0]!_xlnm.Print_Area,3,0,,7),7,FALSE))","v":{"$error":"#REF!"}}," ",{"$f":"INDEX(#REF!,SMALL(IF(#REF!<>\"\",ROW(#REF!)),ROWS(I$1:I305)-1))","v":{"$error":"#REF!"}},{"$f":"INDEX(#REF!,SMALL(IF(#REF!<>\"\",ROW(#REF!)),ROWS(J$1:J305)-1))","v":{"$error":"#REF!"}},{"$f":"INDEX(#REF!,SMALL(IF(#REF!<>\"\",ROW(#REF!)),ROWS(K$1:K305)-1))","v":{"$error":"#REF!"}}]
[{"$error":"#REF!"},{"$error":"#REF!"},{"$error":"#REF!"},{"$f":"IF(J306=\"\",VLOOKUP(C306,OFFSET([0]!_xlnm.Print_Area,3,2),2,FALSE),VLOOKUP(A306,OFFSET([0]!_xlnm.Print_Area,3,0),4,FALSE))","v":{"$error":"#REF!"}},{"$f":"IF(J306=\"\",\"\",VLOOKUP(A306,OFFSET([0]!_xlnm.Print_Area,3,0),5,FALSE))","v":{"$error":"#REF!"}},{"$f":"IF(J306=\"\",\"\",VLOOKUP(A306,OFFSET([0]!_xlnm.Print_Area,3,0),6,FALSE))","v":{"$error":"#REF!"}},{"$f":"IF(J306=\"\",\"\",VLOOKUP(A306,OFFSET([0]!_xlnm.Print_Area,3,0,,7),7,FALSE))","v":{"$error":"#REF!"}}," ",{"$f":"INDEX(#REF!,SMALL(IF(#REF!<>\"\",ROW(#REF!)),ROWS(I$1:I306)-1))","v":{"$error":"#REF!"}},{"$f":"INDEX(#REF!,SMALL(IF(#REF!<>\"\",ROW(#REF!)),ROWS(J$1:J306)-1))","v":{"$error":"#REF!"}},{"$f":"INDEX(#REF!,SMALL(IF(#REF!<>\"\",ROW(#REF!)),ROWS(K$1:K306)-1))","v":{"$error":"#REF!"}}]
[{"$error":"#REF!"},{"$error":"#REF!"},{"$error":"#REF!"},{"$f":"IF(J307=\"\",VLOOKUP(C307,OFFSET([0]!_xlnm.Print_Area,3,2),2,FALSE),VLOOKUP(A307,OFFSET([0]!_xlnm.Print_Area,3,0),4,FALSE))","v":{"$error":"#REF!"}},{"$f":"IF(J307=\"\",\"\",VLOOKUP(A307,OFFSET([0]!_xlnm.Print_Area,3,0),5,FALSE))","v":{"$error":"#REF!"}},{"$f":"IF(J307=\"\",\"\",VLOOKUP(A307,OFFSET([0]!_xlnm.Print_Area,3,0),6,FALSE))","v":{"$error":"#REF!"}},{"$f":"IF(J307=\"\",\"\",VLOOKUP(A307,OFFSET([0]!_xlnm.Print_Area,3,0,,7),7,FALSE))","v":{"$error":"#REF!"}}," ",{"$f":"INDEX(#REF!,SMALL(IF(#REF!<>\"\",ROW(#REF!)),ROWS(I$1:I307)-1))","v":{"$error":"#REF!"}},{"$f":"INDEX(#REF!,SMALL(IF(#REF!<>\"\",ROW(#REF!)),ROWS(J$1:J307)-1))","v":{"$error":"#REF!"}},{"$f":"INDEX(#REF!,SMALL(IF(#REF!<>\"\",ROW(#REF!)),ROWS(K$1:K307)-1))","v":{"$error":"#REF!"}}]
[{"$error":"#REF!"},{"$error":"#REF!"},{"$error":"#REF!"},{"$f":"IF(J308=\"\",VLOOKUP(C308,OFFSET([0]!_xlnm.Print_Area,3,2),2,FALSE),VLOOKUP(A308,OFFSET([0]!_xlnm.Print_Area,3,0),4,FALSE))","v":{"$error":"#REF!"}},{"$f":"IF(J308=\"\",\"\",VLOOKUP(A308,OFFSET([0]!_xlnm.Print_Area,3,0),5,FALSE))","v":{"$error":"#REF!"}},{"$f":"IF(J308=\"\",\"\",VLOOKUP(A308,OFFSET([0]!_xlnm.Print_Area,3,0),6,FALSE))","v":{"$error":"#REF!"}},{"$f":"IF(J308=\"\",\"\",VLOOKUP(A308,OFFSET([0]!_xlnm.Print_Area,3,0,,7),7,FALSE))","v":{"$error":"#REF!"}}," ",{"$f":"INDEX(#REF!,SMALL(IF(#REF!<>\"\",ROW(#REF!)),ROWS(I$1:I308)-1))","v":{"$error":"#REF!"}},{"$f":"INDEX(#REF!,SMALL(IF(#REF!<>\"\",ROW(#REF!)),ROWS(J$1:J308)-1))","v":{"$error":"#REF!"}},{"$f":"INDEX(#REF!,SMALL(IF(#REF!<>\"\",ROW(#REF!)),ROWS(K$1:K308)-1))","v":{"$error":"#REF!"}}]
[{"$error":"#REF!"},{"$error":"#REF!"},{"$error":"#REF!"},{"$f":"IF(J309=\"\",VLOOKUP(C309,OFFSET([0]!_xlnm.Print_Area,3,2),2,FALSE),VLOOKUP(A309,OFFSET([0]!_xlnm.Print_Area,3,0),4,FALSE))","v":{"$error":"#REF!"}},{"$f":"IF(J309=\"\",\"\",VLOOKUP(A309,OFFSET([0]!_xlnm.Print_Area,3,0),5,FALSE))","v":{"$error":"#REF!"}},{"$f":"IF(J309=\"\",\"\",VLOOKUP(A309,OFFSET([0]!_xlnm.Print_Area,3,0),6,FALSE))","v":{"$error":"#REF!"}},{"$f":"IF(J309=\"\",\"\",VLOOKUP(A309,OFFSET([0]!_xlnm.Print_Area,3,0,,7),7,FALSE))","v":{"$error":"#REF!"}}," ",{"$f":"INDEX(#REF!,SMALL(IF(#REF!<>\"\",ROW(#REF!)),ROWS(I$1:I309)-1))","v":{"$error":"#REF!"}},{"$f":"INDEX(#REF!,SMALL(IF(#REF!<>\"\",ROW(#REF!)),ROWS(J$1:J309)-1))","v":{"$error":"#REF!"}},{"$f":"INDEX(#REF!,SMALL(IF(#REF!<>\"\",ROW(#REF!)),ROWS(K$1:K309)-1))","v":{"$error":"#REF!"}}]
[{"$error":"#REF!"},{"$error":"#REF!"},{"$error":"#REF!"},{"$f":"IF(J310=\"\",VLOOKUP(C310,OFFSET([0]!_xlnm.Print_Area,3,2),2,FALSE),VLOOKUP(A310,OFFSET([0]!_xlnm.Print_Area,3,0),4,FALSE))","v":{"$error":"#REF!"}},{"$f":"IF(J310=\"\",\"\",VLOOKUP(A310,OFFSET([0]!_xlnm.Print_Area,3,0),5,FALSE))","v":{"$error":"#REF!"}},{"$f":"IF(J310=\"\",\"\",VLOOKUP(A310,OFFSET([0]!_xlnm.Print_Area,3,0),6,FALSE))","v":{"$error":"#REF!"}},{"$f":"IF(J310=\"\",\"\",VLOOKUP(A310,OFFSET([0]!_xlnm.Print_Area,3,0,,7),7,FALSE))","v":{"$error":"#REF!"}}," ",{"$f":"INDEX(#REF!,SMALL(IF(#REF!<>\"\",ROW(#REF!)),ROWS(I$1:I310)-1))","v":{"$error":"#REF!"}},{"$f":"INDEX(#REF!,SMALL(IF(#REF!<>\"\",ROW(#REF!)),ROWS(J$1:J310)-1))","v":{"$error":"#REF!"}},{"$f":"INDEX(#REF!,SMALL(IF(#REF!<>\"\",ROW(#REF!)),ROWS(K$1:K310)-1))","v":{"$error":"#REF!"}}]
[{"$error":"#REF!"},{"$error":"#REF!"},{"$error":"#REF!"},{"$f":"IF(J311=\"\",VLOOKUP(C311,OFFSET([0]!_xlnm.Print_Area,3,2),2,FALSE),VLOOKUP(A311,OFFSET([0]!_xlnm.Print_Area,3,0),4,FALSE))","v":{"$error":"#REF!"}},{"$f":"IF(J311=\"\",\"\",VLOOKUP(A311,OFFSET([0]!_xlnm.Print_Area,3,0),5,FALSE))","v":{"$error":"#REF!"}},{"$f":"IF(J311=\"\",\"\",VLOOKUP(A311,OFFSET([0]!_xlnm.Print_Area,3,0),6,FALSE))","v":{"$error":"#REF!"}},{"$f":"IF(J311=\"\",\"\",VLOOKUP(A311,OFFSET([0]!_xlnm.Print_Area,3,0,,7),7,FALSE))","v":{"$error":"#REF!"}}," ",{"$f":"INDEX(#REF!,SMALL(IF(#REF!<>\"\",ROW(#REF!)),ROWS(I$1:I311)-1))","v":{"$error":"#REF!"}},{"$f":"INDEX(#REF!,SMALL(IF(#REF!<>\"\",ROW(#REF!)),ROWS(J$1:J311)-1))","v":{"$error":"#REF!"}},{"$f":"INDEX(#REF!,SMALL(IF(#REF!<>\"\",ROW(#REF!)),ROWS(K$1:K311)-1))","v":{"$error":"#REF!"}}]
[{"$error":"#REF!"},{"$error":"#REF!"},{"$error":"#REF!"},{"$f":"IF(J312=\"\",VLOOKUP(C312,OFFSET([0]!_xlnm.Print_Area,3,2),2,FALSE),VLOOKUP(A312,OFFSET([0]!_xlnm.Print_Area,3,0),4,FALSE))","v":{"$error":"#REF!"}},{"$f":"IF(J312=\"\",\"\",VLOOKUP(A312,OFFSET([0]!_xlnm.Print_Area,3,0),5,FALSE))","v":{"$error":"#REF!"}},{"$f":"IF(J312=\"\",\"\",VLOOKUP(A312,OFFSET([0]!_xlnm.Print_Area,3,0),6,FALSE))","v":{"$error":"#REF!"}},{"$f":"IF(J312=\"\",\"\",VLOOKUP(A312,OFFSET([0]!_xlnm.Print_Area,3,0,,7),7,FALSE))","v":{"$error":"#REF!"}}," ",{"$f":"INDEX(#REF!,SMALL(IF(#REF!<>\"\",ROW(#REF!)),ROWS(I$1:I312)-1))","v":{"$error":"#REF!"}},{"$f":"INDEX(#REF!,SMALL(IF(#REF!<>\"\",ROW(#REF!)),ROWS(J$1:J312)-1))","v":{"$error":"#REF!"}},{"$f":"INDEX(#REF!,SMALL(IF(#REF!<>\"\",ROW(#REF!)),ROWS(K$1:K312)-1))","v":{"$error":"#REF!"}}]
[{"$error":"#REF!"},{"$error":"#REF!"},{"$error":"#REF!"},{"$f":"IF(J313=\"\",VLOOKUP(C313,OFFSET([0]!_xlnm.Print_Area,3,2),2,FALSE),VLOOKUP(A313,OFFSET([0]!_xlnm.Print_Area,3,0),4,FALSE))","v":{"$error":"#REF!"}},{"$f":"IF(J313=\"\",\"\",VLOOKUP(A313,OFFSET([0]!_xlnm.Print_Area,3,0),5,FALSE))","v":{"$error":"#REF!"}},{"$f":"IF(J313=\"\",\"\",VLOOKUP(A313,OFFSET([0]!_xlnm.Print_Area,3,0),6,FALSE))","v":{"$error":"#REF!"}},{"$f":"IF(J313=\"\",\"\",VLOOKUP(A313,OFFSET([0]!_xlnm.Print_Area,3,0,,7),7,FALSE))","v":{"$error":"#REF!"}}," ",{"$f":"INDEX(#REF!,SMALL(IF(#REF!<>\"\",ROW(#REF!)),ROWS(I$1:I313)-1))","v":{"$error":"#REF!"}},{"$f":"INDEX(#REF!,SMALL(IF(#REF!<>\"\",ROW(#REF!)),ROWS(J$1:J313)-1))","v":{"$error":"#REF!"}},{"$f":"INDEX(#REF!,SMALL(IF(#REF!<>\"\",ROW(#REF!)),ROWS(K$1:K313)-1))","v":{"$error":"#REF!"}}]
[{"$error":"#REF!"},{"$error":"#REF!"},{"$error":"#REF!"},{"$f":"IF(J314=\"\",VLOOKUP(C314,OFFSET([0]!_xlnm.Print_Area,3,2),2,FALSE),VLOOKUP(A314,OFFSET([0]!_xlnm.Print_Area,3,0),4,FALSE))","v":{"$error":"#REF!"}},{"$f":"IF(J314=\"\",\"\",VLOOKUP(A314,OFFSET([0]!_xlnm.Print_Area,3,0),5,FALSE))","v":{"$error":"#REF!"}},{"$f":"IF(J314=\"\",\"\",VLOOKUP(A314,OFFSET([0]!_xlnm.Print_Area,3,0),6,FALSE))","v":{"$error":"#REF!"}},{"$f":"IF(J314=\"\",\"\",VLOOKUP(A314,OFFSET([0]!_xlnm.Print_Area,3,0,,7),7,FALSE))","v":{"$error":"#REF!"}}," ",{"$f":"INDEX(#REF!,SMALL(IF(#REF!<>\"\",ROW(#REF!)),ROWS(I$1:I314)-1))","v":{"$error":"#REF!"}},{"$f":"INDEX(#REF!,SMALL(IF(#REF!<>\"\",ROW(#REF!)),ROWS(J$1:J314)-1))","v":{"$error":"#REF!"}},{"$f":"INDEX(#REF!,SMALL(IF(#REF!<>\"\",ROW(#REF!)),ROWS(K$1:K314)-1))","v":{"$error":"#REF!"}}]
[{"$error":"#REF!"},{"$error":"#REF!"},{"$error":"#REF!"},{"$f":"IF(J315=\"\",VLOOKUP(C315,OFFSET([0]!_xlnm.Print_Area,3,2),2,FALSE),VLOOKUP(A315,OFFSET([0]!_xlnm.Print_Area,3,0),4,FALSE))","v":{"$error":"#REF!"}},{"$f":"IF(J315=\"\",\"\",VLOOKUP(A315,OFFSET([0]!_xlnm.Print_Area,3,0),5,FALSE))","v":{"$error":"#REF!"}},{"$f":"IF(J315=\"\",\"\",VLOOKUP(A315,OFFSET([0]!_xlnm.Print_Area,3,0),6,FALSE))","v":{"$error":"#REF!"}},{"$f":"IF(J315=\"\",\"\",VLOOKUP(A315,OFFSET([0]!_xlnm.Print_Area,3,0,,7),7,FALSE))","v":{"$error":"#REF!"}}," ",{"$f":"INDEX(#REF!,SMALL(IF(#REF!<>\"\",ROW(#REF!)),ROWS(I$1:I315)-1))","v":{"$error":"#REF!"}},{"$f":"INDEX(#REF!,SMALL(IF(#REF!<>\"\",ROW(#REF!)),ROWS(J$1:J315)-1))","v":{"$error":"#REF!"}},{"$f":"INDEX(#REF!,SMALL(IF(#REF!<>\"\",ROW(#REF!)),ROWS(K$1:K315)-1))","v":{"$error":"#REF!"}}]
[{"$error":"#REF!"},{"$error":"#REF!"},{"$error":"#REF!"},{"$f":"IF(J316=\"\",VLOOKUP(C316,OFFSET([0]!_xlnm.Print_Area,3,2),2,FALSE),VLOOKUP(A316,OFFSET([0]!_xlnm.Print_Area,3,0),4,FALSE))","v":{"$error":"#REF!"}},{"$f":"IF(J316=\"\",\"\",VLOOKUP(A316,OFFSET([0]!_xlnm.Print_Area,3,0),5,FALSE))","v":{"$error":"#REF!"}},{"$f":"IF(J316=\"\",\"\",VLOOKUP(A316,OFFSET([0]!_xlnm.Print_Area,3,0),6,FALSE))","v":{"$error":"#REF!"}},{"$f":"IF(J316=\"\",\"\",VLOOKUP(A316,OFFSET([0]!_xlnm.Print_Area,3,0,,7),7,FALSE))","v":{"$error":"#REF!"}}," ",{"$f":"INDEX(#REF!,SMALL(IF(#REF!<>\"\",ROW(#REF!)),ROWS(I$1:I316)-1))","v":{"$error":"#REF!"}},{"$f":"INDEX(#REF!,SMALL(IF(#REF!<>\"\",ROW(#REF!)),ROWS(J$1:J316)-1))","v":{"$error":"#REF!"}},{"$f":"INDEX(#REF!,SMALL(IF(#REF!<>\"\",ROW(#REF!)),ROWS(K$1:K316)-1))","v":{"$error":"#REF!"}}]
[{"$error":"#REF!"},{"$error":"#REF!"},{"$error":"#REF!"},{"$f":"IF(J317=\"\",VLOOKUP(C317,OFFSET([0]!_xlnm.Print_Area,3,2),2,FALSE),VLOOKUP(A317,OFFSET([0]!_xlnm.Print_Area,3,0),4,FALSE))","v":{"$error":"#REF!"}},{"$f":"IF(J317=\"\",\"\",VLOOKUP(A317,OFFSET([0]!_xlnm.Print_Area,3,0),5,FALSE))","v":{"$error":"#REF!"}},{"$f":"IF(J317=\"\",\"\",VLOOKUP(A317,OFFSET([0]!_xlnm.Print_Area,3,0),6,FALSE))","v":{"$error":"#REF!"}},{"$f":"IF(J317=\"\",\"\",VLOOKUP(A317,OFFSET([0]!_xlnm.Print_Area,3,0,,7),7,FALSE))","v":{"$error":"#REF!"}}," ",{"$f":"INDEX(#REF!,SMALL(IF(#REF!<>\"\",ROW(#REF!)),ROWS(I$1:I317)-1))","v":{"$error":"#REF!"}},{"$f":"INDEX(#REF!,SMALL(IF(#REF!<>\"\",ROW(#REF!)),ROWS(J$1:J317)-1))","v":{"$error":"#REF!"}},{"$f":"INDEX(#REF!,SMALL(IF(#REF!<>\"\",ROW(#REF!)),ROWS(K$1:K317)-1))","v":{"$error":"#REF!"}}]
[{"$error":"#REF!"},{"$error":"#REF!"},{"$error":"#REF!"},{"$f":"IF(J318=\"\",VLOOKUP(C318,OFFSET([0]!_xlnm.Print_Area,3,2),2,FALSE),VLOOKUP(A318,OFFSET([0]!_xlnm.Print_Area,3,0),4,FALSE))","v":{"$error":"#REF!"}},{"$f":"IF(J318=\"\",\"\",VLOOKUP(A318,OFFSET([0]!_xlnm.Print_Area,3,0),5,FALSE))","v":{"$error":"#REF!"}},{"$f":"IF(J318=\"\",\"\",VLOOKUP(A318,OFFSET([0]!_xlnm.Print_Area,3,0),6,FALSE))","v":{"$error":"#REF!"}},{"$f":"IF(J318=\"\",\"\",VLOOKUP(A318,OFFSET([0]!_xlnm.Print_Area,3,0,,7),7,FALSE))","v":{"$error":"#REF!"}}," ",{"$f":"INDEX(#REF!,SMALL(IF(#REF!<>\"\",ROW(#REF!)),ROWS(I$1:I318)-1))","v":{"$error":"#REF!"}},{"$f":"INDEX(#REF!,SMALL(IF(#REF!<>\"\",ROW(#REF!)),ROWS(J$1:J318)-1))","v":{"$error":"#REF!"}},{"$f":"INDEX(#REF!,SMALL(IF(#REF!<>\"\",ROW(#REF!)),ROWS(K$1:K318)-1))","v":{"$error":"#REF!"}}]
[{"$error":"#REF!"},{"$error":"#REF!"},{"$error":"#REF!"},{"$f":"IF(J319=\"\",VLOOKUP(C319,OFFSET([0]!_xlnm.Print_Area,3,2),2,FALSE),VLOOKUP(A319,OFFSET([0]!_xlnm.Print_Area,3,0),4,FALSE))","v":{"$error":"#REF!"}},{"$f":"IF(J319=\"\",\"\",VLOOKUP(A319,OFFSET([0]!_xlnm.Print_Area,3,0),5,FALSE))","v":{"$error":"#REF!"}},{"$f":"IF(J319=\"\",\"\",VLOOKUP(A319,OFFSET([0]!_xlnm.Print_Area,3,0),6,FALSE))","v":{"$error":"#REF!"}},{"$f":"IF(J319=\"\",\"\",VLOOKUP(A319,OFFSET([0]!_xlnm.Print_Area,3,0,,7),7,FALSE))","v":{"$error":"#REF!"}}," ",{"$f":"INDEX(#REF!,SMALL(IF(#REF!<>\"\",ROW(#REF!)),ROWS(I$1:I319)-1))","v":{"$error":"#REF!"}},{"$f":"INDEX(#REF!,SMALL(IF(#REF!<>\"\",ROW(#REF!)),ROWS(J$1:J319)-1))","v":{"$error":"#REF!"}},{"$f":"INDEX(#REF!,SMALL(IF(#REF!<>\"\",ROW(#REF!)),ROWS(K$1:K319)-1))","v":{"$error":"#REF!"}}]
[{"$error":"#REF!"},{"$error":"#REF!"},{"$error":"#REF!"},{"$f":"IF(J320=\"\",VLOOKUP(C320,OFFSET([0]!_xlnm.Print_Area,3,2),2,FALSE),VLOOKUP(A320,OFFSET([0]!_xlnm.Print_Area,3,0),4,FALSE))","v":{"$error":"#REF!"}},{"$f":"IF(J320=\"\",\"\",VLOOKUP(A320,OFFSET([0]!_xlnm.Print_Area,3,0),5,FALSE))","v":{"$error":"#REF!"}},{"$f":"IF(J320=\"\",\"\",VLOOKUP(A320,OFFSET([0]!_xlnm.Print_Area,3,0),6,FALSE))","v":{"$error":"#REF!"}},{"$f":"IF(J320=\"\",\"\",VLOOKUP(A320,OFFSET([0]!_xlnm.Print_Area,3,0,,7),7,FALSE))","v":{"$error":"#REF!"}}," ",{"$f":"INDEX(#REF!,SMALL(IF(#REF!<>\"\",ROW(#REF!)),ROWS(I$1:I320)-1))","v":{"$error":"#REF!"}},{"$f":"INDEX(#REF!,SMALL(IF(#REF!<>\"\",ROW(#REF!)),ROWS(J$1:J320)-1))","v":{"$error":"#REF!"}},{"$f":"INDEX(#REF!,SMALL(IF(#REF!<>\"\",ROW(#REF!)),ROWS(K$1:K320)-1))","v":{"$error":"#REF!"}}]
[{"$error":"#REF!"},{"$error":"#REF!"},{"$error":"#REF!"},{"$f":"IF(J321=\"\",VLOOKUP(C321,OFFSET([0]!_xlnm.Print_Area,3,2),2,FALSE),VLOOKUP(A321,OFFSET([0]!_xlnm.Print_Area,3,0),4,FALSE))","v":{"$error":"#REF!"}},{"$f":"IF(J321=\"\",\"\",VLOOKUP(A321,OFFSET([0]!_xlnm.Print_Area,3,0),5,FALSE))","v":{"$error":"#REF!"}},{"$f":"IF(J321=\"\",\"\",VLOOKUP(A321,OFFSET([0]!_xlnm.Print_Area,3,0),6,FALSE))","v":{"$error":"#REF!"}},{"$f":"IF(J321=\"\",\"\",VLOOKUP(A321,OFFSET([0]!_xlnm.Print_Area,3,0,,7),7,FALSE))","v":{"$error":"#REF!"}}," ",{"$f":"INDEX(#REF!,SMALL(IF(#REF!<>\"\",ROW(#REF!)),ROWS(I$1:I321)-1))","v":{"$error":"#REF!"}},{"$f":"INDEX(#REF!,SMALL(IF(#REF!<>\"\",ROW(#REF!)),ROWS(J$1:J321)-1))","v":{"$error":"#REF!"}},{"$f":"INDEX(#REF!,SMALL(IF(#REF!<>\"\",ROW(#REF!)),ROWS(K$1:K321)-1))","v":{"$error":"#REF!"}}]
[{"$error":"#REF!"},{"$error":"#REF!"},{"$error":"#REF!"},{"$f":"IF(J322=\"\",VLOOKUP(C322,OFFSET([0]!_xlnm.Print_Area,3,2),2,FALSE),VLOOKUP(A322,OFFSET([0]!_xlnm.Print_Area,3,0),4,FALSE))","v":{"$error":"#REF!"}},{"$f":"IF(J322=\"\",\"\",VLOOKUP(A322,OFFSET([0]!_xlnm.Print_Area,3,0),5,FALSE))","v":{"$error":"#REF!"}},{"$f":"IF(J322=\"\",\"\",VLOOKUP(A322,OFFSET([0]!_xlnm.Print_Area,3,0),6,FALSE))","v":{"$error":"#REF!"}},{"$f":"IF(J322=\"\",\"\",VLOOKUP(A322,OFFSET([0]!_xlnm.Print_Area,3,0,,7),7,FALSE))","v":{"$error":"#REF!"}}," ",{"$f":"INDEX(#REF!,SMALL(IF(#REF!<>\"\",ROW(#REF!)),ROWS(I$1:I322)-1))","v":{"$error":"#REF!"}},{"$f":"INDEX(#REF!,SMALL(IF(#REF!<>\"\",ROW(#REF!)),ROWS(J$1:J322)-1))","v":{"$error":"#REF!"}},{"$f":"INDEX(#REF!,SMALL(IF(#REF!<>\"\",ROW(#REF!)),ROWS(K$1:K322)-1))","v":{"$error":"#REF!"}}]
[{"$error":"#REF!"},{"$error":"#REF!"},{"$error":"#REF!"},{"$f":"IF(J323=\"\",VLOOKUP(C323,OFFSET([0]!_xlnm.Print_Area,3,2),2,FALSE),VLOOKUP(A323,OFFSET([0]!_xlnm.Print_Area,3,0),4,FALSE))","v":{"$error":"#REF!"}},{"$f":"IF(J323=\"\",\"\",VLOOKUP(A323,OFFSET([0]!_xlnm.Print_Area,3,0),5,FALSE))","v":{"$error":"#REF!"}},{"$f":"IF(J323=\"\",\"\",VLOOKUP(A323,OFFSET([0]!_xlnm.Print_Area,3,0),6,FALSE))","v":{"$error":"#REF!"}},{"$f":"IF(J323=\"\",\"\",VLOOKUP(A323,OFFSET([0]!_xlnm.Print_Area,3,0,,7),7,FALSE))","v":{"$error":"#REF!"}}," ",{"$f":"INDEX(#REF!,SMALL(IF(#REF!<>\"\",ROW(#REF!)),ROWS(I$1:I323)-1))","v":{"$error":"#REF!"}},{"$f":"INDEX(#REF!,SMALL(IF(#REF!<>\"\",ROW(#REF!)),ROWS(J$1:J323)-1))","v":{"$error":"#REF!"}},{"$f":"INDEX(#REF!,SMALL(IF(#REF!<>\"\",ROW(#REF!)),ROWS(K$1:K323)-1))","v":{"$error":"#REF!"}}]
[{"$error":"#REF!"},{"$error":"#REF!"},{"$error":"#REF!"},{"$f":"IF(J324=\"\",VLOOKUP(C324,OFFSET([0]!_xlnm.Print_Area,3,2),2,FALSE),VLOOKUP(A324,OFFSET([0]!_xlnm.Print_Area,3,0),4,FALSE))","v":{"$error":"#REF!"}},{"$f":"IF(J324=\"\",\"\",VLOOKUP(A324,OFFSET([0]!_xlnm.Print_Area,3,0),5,FALSE))","v":{"$error":"#REF!"}},{"$f":"IF(J324=\"\",\"\",VLOOKUP(A324,OFFSET([0]!_xlnm.Print_Area,3,0),6,FALSE))","v":{"$error":"#REF!"}},{"$f":"IF(J324=\"\",\"\",VLOOKUP(A324,OFFSET([0]!_xlnm.Print_Area,3,0,,7),7,FALSE))","v":{"$error":"#REF!"}}," ",{"$f":"INDEX(#REF!,SMALL(IF(#REF!<>\"\",ROW(#REF!)),ROWS(I$1:I324)-1))","v":{"$error":"#REF!"}},{"$f":"INDEX(#REF!,SMALL(IF(#REF!<>\"\",ROW(#REF!)),ROWS(J$1:J324)-1))","v":{"$error":"#REF!"}},{"$f":"INDEX(#REF!,SMALL(IF(#REF!<>\"\",ROW(#REF!)),ROWS(K$1:K324)-1))","v":{"$error":"#REF!"}}]
[{"$f":"IF(J325=0,\"\",J325)","v":{"$error":"#REF!"}},{"$f":"IF(K325=0,\"\",K325)","v":{"$error":"#REF!"}},{"$f":"I325","v":{"$error":"#REF!"}},{"$f":"IF(J325=\"\",VLOOKUP(C325,OFFSET([0]!_xlnm.Print_Area,3,2),2,FALSE),VLOOKUP(A325,OFFSET([0]!_xlnm.Print_Area,3,0),4,FALSE))","v":{"$error":"#REF!"}},{"$f":"IF(J325=\"\",\"\",VLOOKUP(A325,OFFSET([0]!_xlnm.Print_Area,3,0),5,FALSE))","v":{"$error":"#REF!"}},{"$f":"IF(J325=\"\",\"\",VLOOKUP(A325,OFFSET([0]!_xlnm.Print_Area,3,0),6,FALSE))","v":{"$error":"#REF!"}},{"$f":"IF(J325=\"\",\"\",VLOOKUP(A325,OFFSET([0]!_xlnm.Print_Area,3,0,,7),7,FALSE))","v":{"$error":"#REF!"}},{"$f":"IFERROR(ROUND(F325*G325,2),\" \")","v":" "},{"$f":"INDEX(#REF!,SMALL(IF(#REF!<>\"\",ROW(#REF!)),ROWS(I$1:I325)-1))","v":{"$error":"#REF!"}},{"$f":"INDEX(#REF!,SMALL(IF(#REF!<>\"\",ROW(#REF!)),ROWS(J$1:J325)-1))","v":{"$error":"#REF!"}},{"$f":"INDEX(#REF!,SMALL(IF(#REF!<>\"\",ROW(#REF!)),ROWS(K$1:K325)-1))","v":{"$error":"#REF!"}}]
[{"$error":"#REF!"},{"$error":"#REF!"},{"$error":"#REF!"},{"$f":"IF(J326=\"\",VLOOKUP(C326,OFFSET([0]!_xlnm.Print_Area,3,2),2,FALSE),VLOOKUP(A326,OFFSET([0]!_xlnm.Print_Area,3,0),4,FALSE))","v":{"$error":"#REF!"}},{"$f":"IF(J326=\"\",\"\",VLOOKUP(A326,OFFSET([0]!_xlnm.Print_Area,3,0),5,FALSE))","v":{"$error":"#REF!"}},{"$f":"IF(J326=\"\",\"\",VLOOKUP(A326,OFFSET([0]!_xlnm.Print_Area,3,0),6,FALSE))","v":{"$error":"#REF!"}},{"$f":"IF(J326=\"\",\"\",VLOOKUP(A326,OFFSET([0]!_xlnm.Print_Area,3,0,,7),7,FALSE))","v":{"$error":"#REF!"}}," ",{"$f":"INDEX(#REF!,SMALL(IF(#REF!<>\"\",ROW(#REF!)),ROWS(I$1:I326)-1))","v":{"$error":"#REF!"}},{"$f":"INDEX(#REF!,SMALL(IF(#REF!<>\"\",ROW(#REF!)),ROWS(J$1:J326)-1))","v":{"$error":"#REF!"}},{"$f":"INDEX(#REF!,SMALL(IF(#REF!<>\"\",ROW(#REF!)),ROWS(K$1:K326)-1))","v":{"$error":"#REF!"}}]
[{"$error":"#REF!"},{"$error":"#REF!"},{"$error":"#REF!"},{"$f":"IF(J327=\"\",VLOOKUP(C327,OFFSET([0]!_xlnm.Print_Area,3,2),2,FALSE),VLOOKUP(A327,OFFSET([0]!_xlnm.Print_Area,3,0),4,FALSE))","v":{"$error":"#REF!"}},{"$f":"IF(J327=\"\",\"\",VLOOKUP(A327,OFFSET([0]!_xlnm.Print_Area,3,0),5,FALSE))","v":{"$error":"#REF!"}},{"$f":"IF(J327=\"\",\"\",VLOOKUP(A327,OFFSET([0]!_xlnm.Print_Area,3,0),6,FALSE))","v":{"$error":"#REF!"}},{"$f":"IF(J327=\"\",\"\",VLOOKUP(A327,OFFSET([0]!_xlnm.Print_Area,3,0,,7),7,FALSE))","v":{"$error":"#REF!"}}," ",{"$f":"INDEX(#REF!,SMALL(IF(#REF!<>\"\",ROW(#REF!)),ROWS(I$1:I327)-1))","v":{"$error":"#REF!"}},{"$f":"INDEX(#REF!,SMALL(IF(#REF!<>\"\",ROW(#REF!)),ROWS(J$1:J327)-1))","v":{"$error":"#REF!"}},{"$f":"INDEX(#REF!,SMALL(IF(#REF!<>\"\",ROW(#REF!)),ROWS(K$1:K327)-1))","v":{"$error":"#REF!"}}]
[{"$error":"#REF!"},{"$error":"#REF!"},{"$error":"#REF!"},{"$f":"IF(J328=\"\",VLOOKUP(C328,OFFSET([0]!_xlnm.Print_Area,3,2),2,FALSE),VLOOKUP(A328,OFFSET([0]!_xlnm.Print_Area,3,0),4,FALSE))","v":{"$error":"#REF!"}},{"$f":"IF(J328=\"\",\"\",VLOOKUP(A328,OFFSET([0]!_xlnm.Print_Area,3,0),5,FALSE))","v":{"$error":"#REF!"}},{"$f":"IF(J328=\"\",\"\",VLOOKUP(A328,OFFSET([0]!_xlnm.Print_Area,3,0),6,FALSE))","v":{"$error":"#REF!"}},{"$f":"IF(J328=\"\",\"\",VLOOKUP(A328,OFFSET([0]!_xlnm.Print_Area,3,0,,7),7,FALSE))","v":{"$error":"#REF!"}}," ",{"$f":"INDEX(#REF!,SMALL(IF(#REF!<>\"\",ROW(#REF!)),ROWS(I$1:I328)-1))","v":{"$error":"#REF!"}},{"$f":"INDEX(#REF!,SMALL(IF(#REF!<>\"\",ROW(#REF!)),ROWS(J$1:J328)-1))","v":{"$error":"#REF!"}},{"$f":"INDEX(#REF!,SMALL(IF(#REF!<>\"\",ROW(#REF!)),ROWS(K$1:K328)-1))","v":{"$error":"#REF!"}}]
[{"$error":"#REF!"},{"$error":"#REF!"},{"$error":"#REF!"},{"$f":"IF(J329=\"\",VLOOKUP(C329,OFFSET([0]!_xlnm.Print_Area,3,2),2,FALSE),VLOOKUP(A329,OFFSET([0]!_xlnm.Print_Area,3,0),4,FALSE))","v":{"$error":"#REF!"}},{"$f":"IF(J329=\"\",\"\",VLOOKUP(A329,OFFSET([0]!_xlnm.Print_Area,3,0),5,FALSE))","v":{"$error":"#REF!"}},{"$f":"IF(J329=\"\",\"\",VLOOKUP(A329,OFFSET([0]!_xlnm.Print_Area,3,0),6,FALSE))","v":{"$error":"#REF!"}},{"$f":"IF(J329=\"\",\"\",VLOOKUP(A329,OFFSET([0]!_xlnm.Print_Area,3,0,,7),7,FALSE))","v":{"$error":"#REF!"}}," ",{"$f":"INDEX(#REF!,SMALL(IF(#REF!<>\"\",ROW(#REF!)),ROWS(I$1:I329)-1))","v":{"$error":"#REF!"}},{"$f":"INDEX(#REF!,SMALL(IF(#REF!<>\"\",ROW(#REF!)),ROWS(J$1:J329)-1))","v":{"$error":"#REF!"}},{"$f":"INDEX(#REF!,SMALL(IF(#REF!<>\"\",ROW(#REF!)),ROWS(K$1:K329)-1))","v":{"$error":"#REF!"}}]
[{"$error":"#REF!"},{"$error":"#REF!"},{"$error":"#REF!"},{"$f":"IF(J330=\"\",VLOOKUP(C330,OFFSET([0]!_xlnm.Print_Area,3,2),2,FALSE),VLOOKUP(A330,OFFSET([0]!_xlnm.Print_Area,3,0),4,FALSE))","v":{"$error":"#REF!"}},{"$f":"IF(J330=\"\",\"\",VLOOKUP(A330,OFFSET([0]!_xlnm.Print_Area,3,0),5,FALSE))","v":{"$error":"#REF!"}},{"$f":"IF(J330=\"\",\"\",VLOOKUP(A330,OFFSET([0]!_xlnm.Print_Area,3,0),6,FALSE))","v":{"$error":"#REF!"}},{"$f":"IF(J330=\"\",\"\",VLOOKUP(A330,OFFSET([0]!_xlnm.Print_Area,3,0,,7),7,FALSE))","v":{"$error":"#REF!"}}," ",{"$f":"INDEX(#REF!,SMALL(IF(#REF!<>\"\",ROW(#REF!)),ROWS(I$1:I330)-1))","v":{"$error":"#REF!"}},{"$f":"INDEX(#REF!,SMALL(IF(#REF!<>\"\",ROW(#REF!)),ROWS(J$1:J330)-1))","v":{"$error":"#REF!"}},{"$f":"INDEX(#REF!,SMALL(IF(#REF!<>\"\",ROW(#REF!)),ROWS(K$1:K330)-1))","v":{"$error":"#REF!"}}]
[{"$error":"#REF!"},{"$error":"#REF!"},{"$error":"#REF!"},{"$f":"IF(J331=\"\",VLOOKUP(C331,OFFSET([0]!_xlnm.Print_Area,3,2),2,FALSE),VLOOKUP(A331,OFFSET([0]!_xlnm.Print_Area,3,0),4,FALSE))","v":{"$error":"#REF!"}},{"$f":"IF(J331=\"\",\"\",VLOOKUP(A331,OFFSET([0]!_xlnm.Print_Area,3,0),5,FALSE))","v":{"$error":"#REF!"}},{"$f":"IF(J331=\"\",\"\",VLOOKUP(A331,OFFSET([0]!_xlnm.Print_Area,3,0),6,FALSE))","v":{"$error":"#REF!"}},{"$f":"IF(J331=\"\",\"\",VLOOKUP(A331,OFFSET([0]!_xlnm.Print_Area,3,0,,7),7,FALSE))","v":{"$error":"#REF!"}}," ",{"$f":"INDEX(#REF!,SMALL(IF(#REF!<>\"\",ROW(#REF!)),ROWS(I$1:I331)-1))","v":{"$error":"#REF!"}},{"$f":"INDEX(#REF!,SMALL(IF(#REF!<>\"\",ROW(#REF!)),ROWS(J$1:J331)-1))","v":{"$error":"#REF!"}},{"$f":"INDEX(#REF!,SMALL(IF(#REF!<>\"\",ROW(#REF!)),ROWS(K$1:K331)-1))","v":{"$error":"#REF!"}}]
[{"$error":"#REF!"},{"$error":"#REF!"},{"$error":"#REF!"},{"$f":"IF(J332=\"\",VLOOKUP(C332,OFFSET([0]!_xlnm.Print_Area,3,2),2,FALSE),VLOOKUP(A332,OFFSET([0]!_xlnm.Print_Area,3,0),4,FALSE))","v":{"$error":"#REF!"}},{"$f":"IF(J332=\"\",\"\",VLOOKUP(A332,OFFSET([0]!_xlnm.Print_Area,3,0),5,FALSE))","v":{"$error":"#REF!"}},{"$f":"IF(J332=\"\",\"\",VLOOKUP(A332,OFFSET([0]!_xlnm.Print_Area,3,0),6,FALSE))","v":{"$error":"#REF!"}},{"$f":"IF(J332=\"\",\"\",VLOOKUP(A332,OFFSET([0]!_xlnm.Print_Area,3,0,,7),7,FALSE))","v":{"$error":"#REF!"}}," ",{"$f":"INDEX(#REF!,SMALL(IF(#REF!<>\"\",ROW(#REF!)),ROWS(I$1:I332)-1))","v":{"$error":"#REF!"}},{"$f":"INDEX(#REF!,SMALL(IF(#REF!<>\"\",ROW(#REF!)),ROWS(J$1:J332)-1))","v":{"$error":"#REF!"}},{"$f":"INDEX(#REF!,SMALL(IF(#REF!<>\"\",ROW(#REF!)),ROWS(K$1:K332)-1))","v":{"$error":"#REF!"}}]
[{"$error":"#REF!"},{"$error":"#REF!"},{"$error":"#REF!"},{"$f":"IF(J333=\"\",VLOOKUP(C333,OFFSET([0]!_xlnm.Print_Area,3,2),2,FALSE),VLOOKUP(A333,OFFSET([0]!_xlnm.Print_Area,3,0),4,FALSE))","v":{"$error":"#REF!"}},{"$f":"IF(J333=\"\",\"\",VLOOKUP(A333,OFFSET([0]!_xlnm.Print_Area,3,0),5,FALSE))","v":{"$error":"#REF!"}},{"$f":"IF(J333=\"\",\"\",VLOOKUP(A333,OFFSET([0]!_xlnm.Print_Area,3,0),6,FALSE))","v":{"$error":"#REF!"}},{"$f":"IF(J333=\"\",\"\",VLOOKUP(A333,OFFSET([0]!_xlnm.Print_Area,3,0,,7),7,FALSE))","v":{"$error":"#REF!"}}," ",{"$f":"INDEX(#REF!,SMALL(IF(#REF!<>\"\",ROW(#REF!)),ROWS(I$1:I333)-1))","v":{"$error":"#REF!"}},{"$f":"INDEX(#REF!,SMALL(IF(#REF!<>\"\",ROW(#REF!)),ROWS(J$1:J333)-1))","v":{"$error":"#REF!"}},{"$f":"INDEX(#REF!,SMALL(IF(#REF!<>\"\",ROW(#REF!)),ROWS(K$1:K333)-1))","v":{"$error":"#REF!"}}]
[{"$error":"#REF!"},{"$error":"#REF!"},{"$error":"#REF!"},{"$f":"IF(J334=\"\",VLOOKUP(C334,OFFSET([0]!_xlnm.Print_Area,3,2),2,FALSE),VLOOKUP(A334,OFFSET([0]!_xlnm.Print_Area,3,0),4,FALSE))","v":{"$error":"#REF!"}},{"$f":"IF(J334=\"\",\"\",VLOOKUP(A334,OFFSET([0]!_xlnm.Print_Area,3,0),5,FALSE))","v":{"$error":"#REF!"}},{"$f":"IF(J334=\"\",\"\",VLOOKUP(A334,OFFSET([0]!_xlnm.Print_Area,3,0),6,FALSE))","v":{"$error":"#REF!"}},{"$f":"IF(J334=\"\",\"\",VLOOKUP(A334,OFFSET([0]!_xlnm.Print_Area,3,0,,7),7,FALSE))","v":{"$error":"#REF!"}}," ",{"$f":"INDEX(#REF!,SMALL(IF(#REF!<>\"\",ROW(#REF!)),ROWS(I$1:I334)-1))","v":{"$error":"#REF!"}},{"$f":"INDEX(#REF!,SMALL(IF(#REF!<>\"\",ROW(#REF!)),ROWS(J$1:J334)-1))","v":{"$error":"#REF!"}},{"$f":"INDEX(#REF!,SMALL(IF(#REF!<>\"\",ROW(#REF!)),ROWS(K$1:K334)-1))","v":{"$error":"#REF!"}}]
[{"$error":"#REF!"},{"$error":"#REF!"},{"$error":"#REF!"},{"$f":"IF(J335=\"\",VLOOKUP(C335,OFFSET([0]!_xlnm.Print_Area,3,2),2,FALSE),VLOOKUP(A335,OFFSET([0]!_xlnm.Print_Area,3,0),4,FALSE))","v":{"$error":"#REF!"}},{"$f":"IF(J335=\"\",\"\",VLOOKUP(A335,OFFSET([0]!_xlnm.Print_Area,3,0),5,FALSE))","v":{"$error":"#REF!"}},{"$f":"IF(J335=\"\",\"\",VLOOKUP(A335,OFFSET([0]!_xlnm.Print_Area,3,0),6,FALSE))","v":{"$error":"#REF!"}},{"$f":"IF(J335=\"\",\"\",VLOOKUP(A335,OFFSET([0]!_xlnm.Print_Area,3,0,,7),7,FALSE))","v":{"$error":"#REF!"}}," ",{"$f":"INDEX(#REF!,SMALL(IF(#REF!<>\"\",ROW(#REF!)),ROWS(I$1:I335)-1))","v":{"$error":"#REF!"}},{"$f":"INDEX(#REF!,SMALL(IF(#REF!<>\"\",ROW(#REF!)),ROWS(J$1:J335)-1))","v":{"$error":"#REF!"}},{"$f":"INDEX(#REF!,SMALL(IF(#REF!<>\"\",ROW(#REF!)),ROWS(K$1:K335)-1))","v":{"$error":"#REF!"}}]
[{"$error":"#REF!"},{"$error":"#REF!"},{"$error":"#REF!"},{"$f":"IF(J336=\"\",VLOOKUP(C336,OFFSET([0]!_xlnm.Print_Area,3,2),2,FALSE),VLOOKUP(A336,OFFSET([0]!_xlnm.Print_Area,3,0),4,FALSE))","v":{"$error":"#REF!"}},{"$f":"IF(J336=\"\",\"\",VLOOKUP(A336,OFFSET([0]!_xlnm.Print_Area,3,0),5,FALSE))","v":{"$error":"#REF!"}},{"$f":"IF(J336=\"\",\"\",VLOOKUP(A336,OFFSET([0]!_xlnm.Print_Area,3,0),6,FALSE))","v":{"$error":"#REF!"}},{"$f":"IF(J336=\"\",\"\",VLOOKUP(A336,OFFSET([0]!_xlnm.Print_Area,3,0,,7),7,FALSE))","v":{"$error":"#REF!"}}," ",{"$f":"INDEX(#REF!,SMALL(IF(#REF!<>\"\",ROW(#REF!)),ROWS(I$1:I336)-1))","v":{"$error":"#REF!"}},{"$f":"INDEX(#REF!,SMALL(IF(#REF!<>\"\",ROW(#REF!)),ROWS(J$1:J336)-1))","v":{"$error":"#REF!"}},{"$f":"INDEX(#REF!,SMALL(IF(#REF!<>\"\",ROW(#REF!)),ROWS(K$1:K336)-1))","v":{"$error":"#REF!"}}]
[{"$error":"#REF!"},{"$error":"#REF!"},{"$error":"#REF!"},{"$f":"IF(J337=\"\",VLOOKUP(C337,OFFSET([0]!_xlnm.Print_Area,3,2),2,FALSE),VLOOKUP(A337,OFFSET([0]!_xlnm.Print_Area,3,0),4,FALSE))","v":{"$error":"#REF!"}},{"$f":"IF(J337=\"\",\"\",VLOOKUP(A337,OFFSET([0]!_xlnm.Print_Area,3,0),5,FALSE))","v":{"$error":"#REF!"}},{"$f":"IF(J337=\"\",\"\",VLOOKUP(A337,OFFSET([0]!_xlnm.Print_Area,3,0),6,FALSE))","v":{"$error":"#REF!"}},{"$f":"IF(J337=\"\",\"\",VLOOKUP(A337,OFFSET([0]!_xlnm.Print_Area,3,0,,7),7,FALSE))","v":{"$error":"#REF!"}}," ",{"$f":"INDEX(#REF!,SMALL(IF(#REF!<>\"\",ROW(#REF!)),ROWS(I$1:I337)-1))","v":{"$error":"#REF!"}},{"$f":"INDEX(#REF!,SMALL(IF(#REF!<>\"\",ROW(#REF!)),ROWS(J$1:J337)-1))","v":{"$error":"#REF!"}},{"$f":"INDEX(#REF!,SMALL(IF(#REF!<>\"\",ROW(#REF!)),ROWS(K$1:K337)-1))","v":{"$error":"#REF!"}}]
[{"$error":"#REF!"},{"$error":"#REF!"},{"$error":"#REF!"},{"$f":"IF(J338=\"\",VLOOKUP(C338,OFFSET([0]!_xlnm.Print_Area,3,2),2,FALSE),VLOOKUP(A338,OFFSET([0]!_xlnm.Print_Area,3,0),4,FALSE))","v":{"$error":"#REF!"}},{"$f":"IF(J338=\"\",\"\",VLOOKUP(A338,OFFSET([0]!_xlnm.Print_Area,3,0),5,FALSE))","v":{"$error":"#REF!"}},{"$f":"IF(J338=\"\",\"\",VLOOKUP(A338,OFFSET([0]!_xlnm.Print_Area,3,0),6,FALSE))","v":{"$error":"#REF!"}},{"$f":"IF(J338=\"\",\"\",VLOOKUP(A338,OFFSET([0]!_xlnm.Print_Area,3,0,,7),7,FALSE))","v":{"$error":"#REF!"}}," ",{"$f":"INDEX(#REF!,SMALL(IF(#REF!<>\"\",ROW(#REF!)),ROWS(I$1:I338)-1))","v":{"$error":"#REF!"}},{"$f":"INDEX(#REF!,SMALL(IF(#REF!<>\"\",ROW(#REF!)),ROWS(J$1:J338)-1))","v":{"$error":"#REF!"}},{"$f":"INDEX(#REF!,SMALL(IF(#REF!<>\"\",ROW(#REF!)),ROWS(K$1:K338)-1))","v":{"$error":"#REF!"}}]
[{"$error":"#REF!"},{"$error":"#REF!"},{"$error":"#REF!"},{"$f":"IF(J339=\"\",VLOOKUP(C339,OFFSET([0]!_xlnm.Print_Area,3,2),2,FALSE),VLOOKUP(A339,OFFSET([0]!_xlnm.Print_Area,3,0),4,FALSE))","v":{"$error":"#REF!"}},{"$f":"IF(J339=\"\",\"\",VLOOKUP(A339,OFFSET([0]!_xlnm.Print_Area,3,0),5,FALSE))","v":{"$error":"#REF!"}},{"$f":"IF(J339=\"\",\"\",VLOOKUP(A339,OFFSET([0]!_xlnm.Print_Area,3,0),6,FALSE))","v":{"$error":"#REF!"}},{"$f":"IF(J339=\"\",\"\",VLOOKUP(A339,OFFSET([0]!_xlnm.Print_Area,3,0,,7),7,FALSE))","v":{"$error":"#REF!"}}," ",{"$f":"INDEX(#REF!,SMALL(IF(#REF!<>\"\",ROW(#REF!)),ROWS(I$1:I339)-1))","v":{"$error":"#REF!"}},{"$f":"INDEX(#REF!,SMALL(IF(#REF!<>\"\",ROW(#REF!)),ROWS(J$1:J339)-1))","v":{"$error":"#REF!"}},{"$f":"INDEX(#REF!,SMALL(IF(#REF!<>\"\",ROW(#REF!)),ROWS(K$1:K339)-1))","v":{"$error":"#REF!"}}]
[{"$error":"#REF!"},{"$error":"#REF!"},{"$error":"#REF!"},{"$f":"IF(J340=\"\",VLOOKUP(C340,OFFSET([0]!_xlnm.Print_Area,3,2),2,FALSE),VLOOKUP(A340,OFFSET([0]!_xlnm.Print_Area,3,0),4,FALSE))","v":{"$error":"#REF!"}},{"$f":"IF(J340=\"\",\"\",VLOOKUP(A340,OFFSET([0]!_xlnm.Print_Area,3,0),5,FALSE))","v":{"$error":"#REF!"}},{"$f":"IF(J340=\"\",\"\",VLOOKUP(A340,OFFSET([0]!_xlnm.Print_Area,3,0),6,FALSE))","v":{"$error":"#REF!"}},{"$f":"IF(J340=\"\",\"\",VLOOKUP(A340,OFFSET([0]!_xlnm.Print_Area,3,0,,7),7,FALSE))","v":{"$error":"#REF!"}}," ",{"$f":"INDEX(#REF!,SMALL(IF(#REF!<>\"\",ROW(#REF!)),ROWS(I$1:I340)-1))","v":{"$error":"#REF!"}},{"$f":"INDEX(#REF!,SMALL(IF(#REF!<>\"\",ROW(#REF!)),ROWS(J$1:J340)-1))","v":{"$error":"#REF!"}},{"$f":"INDEX(#REF!,SMALL(IF(#REF!<>\"\",ROW(#REF!)),ROWS(K$1:K340)-1))","v":{"$error":"#REF!"}}]
[{"$error":"#REF!"},{"$error":"#REF!"},{"$error":"#REF!"},{"$f":"IF(J341=\"\",VLOOKUP(C341,OFFSET([0]!_xlnm.Print_Area,3,2),2,FALSE),VLOOKUP(A341,OFFSET([0]!_xlnm.Print_Area,3,0),4,FALSE))","v":{"$error":"#REF!"}},{"$f":"IF(J341=\"\",\"\",VLOOKUP(A341,OFFSET([0]!_xlnm.Print_Area,3,0),5,FALSE))","v":{"$error":"#REF!"}},{"$f":"IF(J341=\"\",\"\",VLOOKUP(A341,OFFSET([0]!_xlnm.Print_Area,3,0),6,FALSE))","v":{"$error":"#REF!"}},{"$f":"IF(J341=\"\",\"\",VLOOKUP(A341,OFFSET([0]!_xlnm.Print_Area,3,0,,7),7,FALSE))","v":{"$error":"#REF!"}}," ",{"$f":"INDEX(#REF!,SMALL(IF(#REF!<>\"\",ROW(#REF!)),ROWS(I$1:I341)-1))","v":{"$error":"#REF!"}},{"$f":"INDEX(#REF!,SMALL(IF(#REF!<>\"\",ROW(#REF!)),ROWS(J$1:J341)-1))","v":{"$error":"#REF!"}},{"$f":"INDEX(#REF!,SMALL(IF(#REF!<>\"\",ROW(#REF!)),ROWS(K$1:K341)-1))","v":{"$error":"#REF!"}}]
[{"$error":"#REF!"},{"$error":"#REF!"},{"$error":"#REF!"},{"$f":"IF(J342=\"\",VLOOKUP(C342,OFFSET([0]!_xlnm.Print_Area,3,2),2,FALSE),VLOOKUP(A342,OFFSET([0]!_xlnm.Print_Area,3,0),4,FALSE))","v":{"$error":"#REF!"}},{"$f":"IF(J342=\"\",\"\",VLOOKUP(A342,OFFSET([0]!_xlnm.Print_Area,3,0),5,FALSE))","v":{"$error":"#REF!"}},{"$f":"IF(J342=\"\",\"\",VLOOKUP(A342,OFFSET([0]!_xlnm.Print_Area,3,0),6,FALSE))","v":{"$error":"#REF!"}},{"$f":"IF(J342=\"\",\"\",VLOOKUP(A342,OFFSET([0]!_xlnm.Print_Area,3,0,,7),7,FALSE))","v":{"$error":"#REF!"}}," ",{"$f":"INDEX(#REF!,SMALL(IF(#REF!<>\"\",ROW(#REF!)),ROWS(I$1:I342)-1))","v":{"$error":"#REF!"}},{"$f":"INDEX(#REF!,SMALL(IF(#REF!<>\"\",ROW(#REF!)),ROWS(J$1:J342)-1))","v":{"$error":"#REF!"}},{"$f":"INDEX(#REF!,SMALL(IF(#REF!<>\"\",ROW(#REF!)),ROWS(K$1:K342)-1))","v":{"$error":"#REF!"}}]
[{"$error":"#REF!"},{"$error":"#REF!"},{"$error":"#REF!"},{"$f":"IF(J343=\"\",VLOOKUP(C343,OFFSET([0]!_xlnm.Print_Area,3,2),2,FALSE),VLOOKUP(A343,OFFSET([0]!_xlnm.Print_Area,3,0),4,FALSE))","v":{"$error":"#REF!"}},{"$f":"IF(J343=\"\",\"\",VLOOKUP(A343,OFFSET([0]!_xlnm.Print_Area,3,0),5,FALSE))","v":{"$error":"#REF!"}},{"$f":"IF(J343=\"\",\"\",VLOOKUP(A343,OFFSET([0]!_xlnm.Print_Area,3,0),6,FALSE))","v":{"$error":"#REF!"}},{"$f":"IF(J343=\"\",\"\",VLOOKUP(A343,OFFSET([0]!_xlnm.Print_Area,3,0,,7),7,FALSE))","v":{"$error":"#REF!"}}," ",{"$f":"INDEX(#REF!,SMALL(IF(#REF!<>\"\",ROW(#REF!)),ROWS(I$1:I343)-1))","v":{"$error":"#REF!"}},{"$f":"INDEX(#REF!,SMALL(IF(#REF!<>\"\",ROW(#REF!)),ROWS(J$1:J343)-1))","v":{"$error":"#REF!"}},{"$f":"INDEX(#REF!,SMALL(IF(#REF!<>\"\",ROW(#REF!)),ROWS(K$1:K343)-1))","v":{"$error":"#REF!"}}]
[{"$error":"#REF!"},{"$error":"#REF!"},{"$error":"#REF!"},{"$f":"IF(J344=\"\",VLOOKUP(C344,OFFSET([0]!_xlnm.Print_Area,3,2),2,FALSE),VLOOKUP(A344,OFFSET([0]!_xlnm.Print_Area,3,0),4,FALSE))","v":{"$error":"#REF!"}},{"$f":"IF(J344=\"\",\"\",VLOOKUP(A344,OFFSET([0]!_xlnm.Print_Area,3,0),5,FALSE))","v":{"$error":"#REF!"}},{"$f":"IF(J344=\"\",\"\",VLOOKUP(A344,OFFSET([0]!_xlnm.Print_Area,3,0),6,FALSE))","v":{"$error":"#REF!"}},{"$f":"IF(J344=\"\",\"\",VLOOKUP(A344,OFFSET([0]!_xlnm.Print_Area,3,0,,7),7,FALSE))","v":{"$error":"#REF!"}}," ",{"$f":"INDEX(#REF!,SMALL(IF(#REF!<>\"\",ROW(#REF!)),ROWS(I$1:I344)-1))","v":{"$error":"#REF!"}},{"$f":"INDEX(#REF!,SMALL(IF(#REF!<>\"\",ROW(#REF!)),ROWS(J$1:J344)-1))","v":{"$error":"#REF!"}},{"$f":"INDEX(#REF!,SMALL(IF(#REF!<>\"\",ROW(#REF!)),ROWS(K$1:K344)-1))","v":{"$error":"#REF!"}}]
[{"$error":"#REF!"},{"$error":"#REF!"},{"$error":"#REF!"},{"$f":"IF(J345=\"\",VLOOKUP(C345,OFFSET([0]!_xlnm.Print_Area,3,2),2,FALSE),VLOOKUP(A345,OFFSET([0]!_xlnm.Print_Area,3,0),4,FALSE))","v":{"$error":"#REF!"}},{"$f":"IF(J345=\"\",\"\",VLOOKUP(A345,OFFSET([0]!_xlnm.Print_Area,3,0),5,FALSE))","v":{"$error":"#REF!"}},{"$f":"IF(J345=\"\",\"\",VLOOKUP(A345,OFFSET([0]!_xlnm.Print_Area,3,0),6,FALSE))","v":{"$error":"#REF!"}},{"$f":"IF(J345=\"\",\"\",VLOOKUP(A345,OFFSET([0]!_xlnm.Print_Area,3,0,,7),7,FALSE))","v":{"$error":"#REF!"}}," ",{"$f":"INDEX(#REF!,SMALL(IF(#REF!<>\"\",ROW(#REF!)),ROWS(I$1:I345)-1))","v":{"$error":"#REF!"}},{"$f":"INDEX(#REF!,SMALL(IF(#REF!<>\"\",ROW(#REF!)),ROWS(J$1:J345)-1))","v":{"$error":"#REF!"}},{"$f":"INDEX(#REF!,SMALL(IF(#REF!<>\"\",ROW(#REF!)),ROWS(K$1:K345)-1))","v":{"$error":"#REF!"}}]
[{"$error":"#REF!"},{"$error":"#REF!"},{"$error":"#REF!"},{"$f":"IF(J346=\"\",VLOOKUP(C346,OFFSET([0]!_xlnm.Print_Area,3,2),2,FALSE),VLOOKUP(A346,OFFSET([0]!_xlnm.Print_Area,3,0),4,FALSE))","v":{"$error":"#REF!"}},{"$f":"IF(J346=\"\",\"\",VLOOKUP(A346,OFFSET([0]!_xlnm.Print_Area,3,0),5,FALSE))","v":{"$error":"#REF!"}},{"$f":"IF(J346=\"\",\"\",VLOOKUP(A346,OFFSET([0]!_xlnm.Print_Area,3,0),6,FALSE))","v":{"$error":"#REF!"}},{"$f":"IF(J346=\"\",\"\",VLOOKUP(A346,OFFSET([0]!_xlnm.Print_Area,3,0,,7),7,FALSE))","v":{"$error":"#REF!"}}," ",{"$f":"INDEX(#REF!,SMALL(IF(#REF!<>\"\",ROW(#REF!)),ROWS(I$1:I346)-1))","v":{"$error":"#REF!"}},{"$f":"INDEX(#REF!,SMALL(IF(#REF!<>\"\",ROW(#REF!)),ROWS(J$1:J346)-1))","v":{"$error":"#REF!"}},{"$f":"INDEX(#REF!,SMALL(IF(#REF!<>\"\",ROW(#REF!)),ROWS(K$1:K346)-1))","v":{"$error":"#REF!"}}]
[{"$error":"#REF!"},{"$error":"#REF!"},{"$error":"#REF!"},{"$f":"IF(J347=\"\",VLOOKUP(C347,OFFSET([0]!_xlnm.Print_Area,3,2),2,FALSE),VLOOKUP(A347,OFFSET([0]!_xlnm.Print_Area,3,0),4,FALSE))","v":{"$error":"#REF!"}},{"$f":"IF(J347=\"\",\"\",VLOOKUP(A347,OFFSET([0]!_xlnm.Print_Area,3,0),5,FALSE))","v":{"$error":"#REF!"}},{"$f":"IF(J347=\"\",\"\",VLOOKUP(A347,OFFSET([0]!_xlnm.Print_Area,3,0),6,FALSE))","v":{"$error":"#REF!"}},{"$f":"IF(J347=\"\",\"\",VLOOKUP(A347,OFFSET([0]!_xlnm.Print_Area,3,0,,7),7,FALSE))","v":{"$error":"#REF!"}}," ",{"$f":"INDEX(#REF!,SMALL(IF(#REF!<>\"\",ROW(#REF!)),ROWS(I$1:I347)-1))","v":{"$error":"#REF!"}},{"$f":"INDEX(#REF!,SMALL(IF(#REF!<>\"\",ROW(#REF!)),ROWS(J$1:J347)-1))","v":{"$error":"#REF!"}},{"$f":"INDEX(#REF!,SMALL(IF(#REF!<>\"\",ROW(#REF!)),ROWS(K$1:K347)-1))","v":{"$error":"#REF!"}}]
[{"$error":"#REF!"},{"$error":"#REF!"},{"$error":"#REF!"},{"$f":"IF(J348=\"\",VLOOKUP(C348,OFFSET([0]!_xlnm.Print_Area,3,2),2,FALSE),VLOOKUP(A348,OFFSET([0]!_xlnm.Print_Area,3,0),4,FALSE))","v":{"$error":"#REF!"}},{"$f":"IF(J348=\"\",\"\",VLOOKUP(A348,OFFSET([0]!_xlnm.Print_Area,3,0),5,FALSE))","v":{"$error":"#REF!"}},{"$f":"IF(J348=\"\",\"\",VLOOKUP(A348,OFFSET([0]!_xlnm.Print_Area,3,0),6,FALSE))","v":{"$error":"#REF!"}},{"$f":"IF(J348=\"\",\"\",VLOOKUP(A348,OFFSET([0]!_xlnm.Print_Area,3,0,,7),7,FALSE))","v":{"$error":"#REF!"}}," ",{"$f":"INDEX(#REF!,SMALL(IF(#REF!<>\"\",ROW(#REF!)),ROWS(I$1:I348)-1))","v":{"$error":"#REF!"}},{"$f":"INDEX(#REF!,SMALL(IF(#REF!<>\"\",ROW(#REF!)),ROWS(J$1:J348)-1))","v":{"$error":"#REF!"}},{"$f":"INDEX(#REF!,SMALL(IF(#REF!<>\"\",ROW(#REF!)),ROWS(K$1:K348)-1))","v":{"$error":"#REF!"}}]
[{"$error":"#REF!"},{"$error":"#REF!"},{"$error":"#REF!"},{"$f":"IF(J349=\"\",VLOOKUP(C349,OFFSET([0]!_xlnm.Print_Area,3,2),2,FALSE),VLOOKUP(A349,OFFSET([0]!_xlnm.Print_Area,3,0),4,FALSE))","v":{"$error":"#REF!"}},{"$f":"IF(J349=\"\",\"\",VLOOKUP(A349,OFFSET([0]!_xlnm.Print_Area,3,0),5,FALSE))","v":{"$error":"#REF!"}},{"$f":"IF(J349=\"\",\"\",VLOOKUP(A349,OFFSET([0]!_xlnm.Print_Area,3,0),6,FALSE))","v":{"$error":"#REF!"}},{"$f":"IF(J349=\"\",\"\",VLOOKUP(A349,OFFSET([0]!_xlnm.Print_Area,3,0,,7),7,FALSE))","v":{"$error":"#REF!"}}," ",{"$f":"INDEX(#REF!,SMALL(IF(#REF!<>\"\",ROW(#REF!)),ROWS(I$1:I349)-1))","v":{"$error":"#REF!"}},{"$f":"INDEX(#REF!,SMALL(IF(#REF!<>\"\",ROW(#REF!)),ROWS(J$1:J349)-1))","v":{"$error":"#REF!"}},{"$f":"INDEX(#REF!,SMALL(IF(#REF!<>\"\",ROW(#REF!)),ROWS(K$1:K349)-1))","v":{"$error":"#REF!"}}]
[{"$error":"#REF!"},{"$error":"#REF!"},{"$error":"#REF!"},{"$f":"IF(J350=\"\",VLOOKUP(C350,OFFSET([0]!_xlnm.Print_Area,3,2),2,FALSE),VLOOKUP(A350,OFFSET([0]!_xlnm.Print_Area,3,0),4,FALSE))","v":{"$error":"#REF!"}},{"$f":"IF(J350=\"\",\"\",VLOOKUP(A350,OFFSET([0]!_xlnm.Print_Area,3,0),5,FALSE))","v":{"$error":"#REF!"}},{"$f":"IF(J350=\"\",\"\",VLOOKUP(A350,OFFSET([0]!_xlnm.Print_Area,3,0),6,FALSE))","v":{"$error":"#REF!"}},{"$f":"IF(J350=\"\",\"\",VLOOKUP(A350,OFFSET([0]!_xlnm.Print_Area,3,0,,7),7,FALSE))","v":{"$error":"#REF!"}}," ",{"$f":"INDEX(#REF!,SMALL(IF(#REF!<>\"\",ROW(#REF!)),ROWS(I$1:I350)-1))","v":{"$error":"#REF!"}},{"$f":"INDEX(#REF!,SMALL(IF(#REF!<>\"\",ROW(#REF!)),ROWS(J$1:J350)-1))","v":{"$error":"#REF!"}},{"$f":"INDEX(#REF!,SMALL(IF(#REF!<>\"\",ROW(#REF!)),ROWS(K$1:K350)-1))","v":{"$error":"#REF!"}}]
[{"$error":"#REF!"},{"$error":"#REF!"},{"$error":"#REF!"},{"$f":"IF(J351=\"\",VLOOKUP(C351,OFFSET([0]!_xlnm.Print_Area,3,2),2,FALSE),VLOOKUP(A351,OFFSET([0]!_xlnm.Print_Area,3,0),4,FALSE))","v":{"$error":"#REF!"}},{"$f":"IF(J351=\"\",\"\",VLOOKUP(A351,OFFSET([0]!_xlnm.Print_Area,3,0),5,FALSE))","v":{"$error":"#REF!"}},{"$f":"IF(J351=\"\",\"\",VLOOKUP(A351,OFFSET([0]!_xlnm.Print_Area,3,0),6,FALSE))","v":{"$error":"#REF!"}},{"$f":"IF(J351=\"\",\"\",VLOOKUP(A351,OFFSET([0]!_xlnm.Print_Area,3,0,,7),7,FALSE))","v":{"$error":"#REF!"}}," ",{"$f":"INDEX(#REF!,SMALL(IF(#REF!<>\"\",ROW(#REF!)),ROWS(I$1:I351)-1))","v":{"$error":"#REF!"}},{"$f":"INDEX(#REF!,SMALL(IF(#REF!<>\"\",ROW(#REF!)),ROWS(J$1:J351)-1))","v":{"$error":"#REF!"}},{"$f":"INDEX(#REF!,SMALL(IF(#REF!<>\"\",ROW(#REF!)),ROWS(K$1:K351)-1))","v":{"$error":"#REF!"}}]
[{"$error":"#REF!"},{"$error":"#REF!"},{"$error":"#REF!"},{"$f":"IF(J352=\"\",VLOOKUP(C352,OFFSET([0]!_xlnm.Print_Area,3,2),2,FALSE),VLOOKUP(A352,OFFSET([0]!_xlnm.Print_Area,3,0),4,FALSE))","v":{"$error":"#REF!"}},{"$f":"IF(J352=\"\",\"\",VLOOKUP(A352,OFFSET([0]!_xlnm.Print_Area,3,0),5,FALSE))","v":{"$error":"#REF!"}},{"$f":"IF(J352=\"\",\"\",VLOOKUP(A352,OFFSET([0]!_xlnm.Print_Area,3,0),6,FALSE))","v":{"$error":"#REF!"}},{"$f":"IF(J352=\"\",\"\",VLOOKUP(A352,OFFSET([0]!_xlnm.Print_Area,3,0,,7),7,FALSE))","v":{"$error":"#REF!"}}," ",{"$f":"INDEX(#REF!,SMALL(IF(#REF!<>\"\",ROW(#REF!)),ROWS(I$1:I352)-1))","v":{"$error":"#REF!"}},{"$f":"INDEX(#REF!,SMALL(IF(#REF!<>\"\",ROW(#REF!)),ROWS(J$1:J352)-1))","v":{"$error":"#REF!"}},{"$f":"INDEX(#REF!,SMALL(IF(#REF!<>\"\",ROW(#REF!)),ROWS(K$1:K352)-1))","v":{"$error":"#REF!"}}]
[{"$error":"#REF!"},{"$error":"#REF!"},{"$error":"#REF!"},{"$f":"IF(J353=\"\",VLOOKUP(C353,OFFSET([0]!_xlnm.Print_Area,3,2),2,FALSE),VLOOKUP(A353,OFFSET([0]!_xlnm.Print_Area,3,0),4,FALSE))","v":{"$error":"#REF!"}},{"$f":"IF(J353=\"\",\"\",VLOOKUP(A353,OFFSET([0]!_xlnm.Print_Area,3,0),5,FALSE))","v":{"$error":"#REF!"}},{"$f":"IF(J353=\"\",\"\",VLOOKUP(A353,OFFSET([0]!_xlnm.Print_Area,3,0),6,FALSE))","v":{"$error":"#REF!"}},{"$f":"IF(J353=\"\",\"\",VLOOKUP(A353,OFFSET([0]!_xlnm.Print_Area,3,0,,7),7,FALSE))","v":{"$error":"#REF!"}}," ",{"$f":"INDEX(#REF!,SMALL(IF(#REF!<>\"\",ROW(#REF!)),ROWS(I$1:I353)-1))","v":{"$error":"#REF!"}},{"$f":"INDEX(#REF!,SMALL(IF(#REF!<>\"\",ROW(#REF!)),ROWS(J$1:J353)-1))","v":{"$error":"#REF!"}},{"$f":"INDEX(#REF!,SMALL(IF(#REF!<>\"\",ROW(#REF!)),ROWS(K$1:K353)-1))","v":{"$error":"#REF!"}}]
[{"$error":"#REF!"},{"$error":"#REF!"},{"$error":"#REF!"},{"$f":"IF(J354=\"\",VLOOKUP(C354,OFFSET([0]!_xlnm.Print_Area,3,2),2,FALSE),VLOOKUP(A354,OFFSET([0]!_xlnm.Print_Area,3,0),4,FALSE))","v":{"$error":"#REF!"}},{"$f":"IF(J354=\"\",\"\",VLOOKUP(A354,OFFSET([0]!_xlnm.Print_Area,3,0),5,FALSE))","v":{"$error":"#REF!"}},{"$f":"IF(J354=\"\",\"\",VLOOKUP(A354,OFFSET([0]!_xlnm.Print_Area,3,0),6,FALSE))","v":{"$error":"#REF!"}},{"$f":"IF(J354=\"\",\"\",VLOOKUP(A354,OFFSET([0]!_xlnm.Print_Area,3,0,,7),7,FALSE))","v":{"$error":"#REF!"}}," ",{"$f":"INDEX(#REF!,SMALL(IF(#REF!<>\"\",ROW(#REF!)),ROWS(I$1:I354)-1))","v":{"$error":"#REF!"}},{"$f":"INDEX(#REF!,SMALL(IF(#REF!<>\"\",ROW(#REF!)),ROWS(J$1:J354)-1))","v":{"$error":"#REF!"}},{"$f":"INDEX(#REF!,SMALL(IF(#REF!<>\"\",ROW(#REF!)),ROWS(K$1:K354)-1))","v":{"$error":"#REF!"}}]
[{"$error":"#REF!"},{"$error":"#REF!"},{"$error":"#REF!"},{"$f":"IF(J355=\"\",VLOOKUP(C355,OFFSET([0]!_xlnm.Print_Area,3,2),2,FALSE),VLOOKUP(A355,OFFSET([0]!_xlnm.Print_Area,3,0),4,FALSE))","v":{"$error":"#REF!"}},{"$f":"IF(J355=\"\",\"\",VLOOKUP(A355,OFFSET([0]!_xlnm.Print_Area,3,0),5,FALSE))","v":{"$error":"#REF!"}},{"$f":"IF(J355=\"\",\"\",VLOOKUP(A355,OFFSET([0]!_xlnm.Print_Area,3,0),6,FALSE))","v":{"$error":"#REF!"}},{"$f":"IF(J355=\"\",\"\",VLOOKUP(A355,OFFSET([0]!_xlnm.Print_Area,3,0,,7),7,FALSE))","v":{"$error":"#REF!"}}," ",{"$f":"INDEX(#REF!,SMALL(IF(#REF!<>\"\",ROW(#REF!)),ROWS(I$1:I355)-1))","v":{"$error":"#REF!"}},{"$f":"INDEX(#REF!,SMALL(IF(#REF!<>\"\",ROW(#REF!)),ROWS(J$1:J355)-1))","v":{"$error":"#REF!"}},{"$f":"INDEX(#REF!,SMALL(IF(#REF!<>\"\",ROW(#REF!)),ROWS(K$1:K355)-1))","v":{"$error":"#REF!"}}]
[{"$error":"#REF!"},{"$error":"#REF!"},{"$error":"#REF!"},{"$f":"IF(J356=\"\",VLOOKUP(C356,OFFSET([0]!_xlnm.Print_Area,3,2),2,FALSE),VLOOKUP(A356,OFFSET([0]!_xlnm.Print_Area,3,0),4,FALSE))","v":{"$error":"#REF!"}},{"$f":"IF(J356=\"\",\"\",VLOOKUP(A356,OFFSET([0]!_xlnm.Print_Area,3,0),5,FALSE))","v":{"$error":"#REF!"}},{"$f":"IF(J356=\"\",\"\",VLOOKUP(A356,OFFSET([0]!_xlnm.Print_Area,3,0),6,FALSE))","v":{"$error":"#REF!"}},{"$f":"IF(J356=\"\",\"\",VLOOKUP(A356,OFFSET([0]!_xlnm.Print_Area,3,0,,7),7,FALSE))","v":{"$error":"#REF!"}}," ",{"$f":"INDEX(#REF!,SMALL(IF(#REF!<>\"\",ROW(#REF!)),ROWS(I$1:I356)-1))","v":{"$error":"#REF!"}},{"$f":"INDEX(#REF!,SMALL(IF(#REF!<>\"\",ROW(#REF!)),ROWS(J$1:J356)-1))","v":{"$error":"#REF!"}},{"$f":"INDEX(#REF!,SMALL(IF(#REF!<>\"\",ROW(#REF!)),ROWS(K$1:K356)-1))","v":{"$error":"#REF!"}}]
[{"$error":"#REF!"},{"$error":"#REF!"},{"$error":"#REF!"},{"$f":"IF(J357=\"\",VLOOKUP(C357,OFFSET([0]!_xlnm.Print_Area,3,2),2,FALSE),VLOOKUP(A357,OFFSET([0]!_xlnm.Print_Area,3,0),4,FALSE))","v":{"$error":"#REF!"}},{"$f":"IF(J357=\"\",\"\",VLOOKUP(A357,OFFSET([0]!_xlnm.Print_Area,3,0),5,FALSE))","v":{"$error":"#REF!"}},{"$f":"IF(J357=\"\",\"\",VLOOKUP(A357,OFFSET([0]!_xlnm.Print_Area,3,0),6,FALSE))","v":{"$error":"#REF!"}},{"$f":"IF(J357=\"\",\"\",VLOOKUP(A357,OFFSET([0]!_xlnm.Print_Area,3,0,,7),7,FALSE))","v":{"$error":"#REF!"}}," ",{"$f":"INDEX(#REF!,SMALL(IF(#REF!<>\"\",ROW(#REF!)),ROWS(I$1:I357)-1))","v":{"$error":"#REF!"}},{"$f":"INDEX(#REF!,SMALL(IF(#REF!<>\"\",ROW(#REF!)),ROWS(J$1:J357)-1))","v":{"$error":"#REF!"}},{"$f":"INDEX(#REF!,SMALL(IF(#REF!<>\"\",ROW(#REF!)),ROWS(K$1:K357)-1))","v":{"$error":"#REF!"}}]
[{"$error":"#REF!"},{"$error":"#REF!"},{"$error":"#REF!"},{"$f":"IF(J358=\"\",VLOOKUP(C358,OFFSET([0]!_xlnm.Print_Area,3,2),2,FALSE),VLOOKUP(A358,OFFSET([0]!_xlnm.Print_Area,3,0),4,FALSE))","v":{"$error":"#REF!"}},{"$f":"IF(J358=\"\",\"\",VLOOKUP(A358,OFFSET([0]!_xlnm.Print_Area,3,0),5,FALSE))","v":{"$error":"#REF!"}},{"$f":"IF(J358=\"\",\"\",VLOOKUP(A358,OFFSET([0]!_xlnm.Print_Area,3,0),6,FALSE))","v":{"$error":"#REF!"}},{"$f":"IF(J358=\"\",\"\",VLOOKUP(A358,OFFSET([0]!_xlnm.Print_Area,3,0,,7),7,FALSE))","v":{"$error":"#REF!"}}," ",{"$f":"INDEX(#REF!,SMALL(IF(#REF!<>\"\",ROW(#REF!)),ROWS(I$1:I358)-1))","v":{"$error":"#REF!"}},{"$f":"INDEX(#REF!,SMALL(IF(#REF!<>\"\",ROW(#REF!)),ROWS(J$1:J358)-1))","v":{"$error":"#REF!"}},{"$f":"INDEX(#REF!,SMALL(IF(#REF!<>\"\",ROW(#REF!)),ROWS(K$1:K358)-1))","v":{"$error":"#REF!"}}]
[{"$error":"#REF!"},{"$error":"#REF!"},{"$error":"#REF!"},{"$f":"IF(J359=\"\",VLOOKUP(C359,OFFSET([0]!_xlnm.Print_Area,3,2),2,FALSE),VLOOKUP(A359,OFFSET([0]!_xlnm.Print_Area,3,0),4,FALSE))","v":{"$error":"#REF!"}},{"$f":"IF(J359=\"\",\"\",VLOOKUP(A359,OFFSET([0]!_xlnm.Print_Area,3,0),5,FALSE))","v":{"$error":"#REF!"}},{"$f":"IF(J359=\"\",\"\",VLOOKUP(A359,OFFSET([0]!_xlnm.Print_Area,3,0),6,FALSE))","v":{"$error":"#REF!"}},{"$f":"IF(J359=\"\",\"\",VLOOKUP(A359,OFFSET([0]!_xlnm.Print_Area,3,0,,7),7,FALSE))","v":{"$error":"#REF!"}}," ",{"$f":"INDEX(#REF!,SMALL(IF(#REF!<>\"\",ROW(#REF!)),ROWS(I$1:I359)-1))","v":{"$error":"#REF!"}},{"$f":"INDEX(#REF!,SMALL(IF(#REF!<>\"\",ROW(#REF!)),ROWS(J$1:J359)-1))","v":{"$error":"#REF!"}},{"$f":"INDEX(#REF!,SMALL(IF(#REF!<>\"\",ROW(#REF!)),ROWS(K$1:K359)-1))","v":{"$error":"#REF!"}}]
[{"$error":"#REF!"},{"$error":"#REF!"},{"$error":"#REF!"},{"$f":"IF(J360=\"\",VLOOKUP(C360,OFFSET([0]!_xlnm.Print_Area,3,2),2,FALSE),VLOOKUP(A360,OFFSET([0]!_xlnm.Print_Area,3,0),4,FALSE))","v":{"$error":"#REF!"}},{"$f":"IF(J360=\"\",\"\",VLOOKUP(A360,OFFSET([0]!_xlnm.Print_Area,3,0),5,FALSE))","v":{"$error":"#REF!"}},{"$f":"IF(J360=\"\",\"\",VLOOKUP(A360,OFFSET([0]!_xlnm.Print_Area,3,0),6,FALSE))","v":{"$error":"#REF!"}},{"$f":"IF(J360=\"\",\"\",VLOOKUP(A360,OFFSET([0]!_xlnm.Print_Area,3,0,,7),7,FALSE))","v":{"$error":"#REF!"}}," ",{"$f":"INDEX(#REF!,SMALL(IF(#REF!<>\"\",ROW(#REF!)),ROWS(I$1:I360)-1))","v":{"$error":"#REF!"}},{"$f":"INDEX(#REF!,SMALL(IF(#REF!<>\"\",ROW(#REF!)),ROWS(J$1:J360)-1))","v":{"$error":"#REF!"}},{"$f":"INDEX(#REF!,SMALL(IF(#REF!<>\"\",ROW(#REF!)),ROWS(K$1:K360)-1))","v":{"$error":"#REF!"}}]
[{"$error":"#REF!"},{"$error":"#REF!"},{"$error":"#REF!"},{"$f":"IF(J361=\"\",VLOOKUP(C361,OFFSET([0]!_xlnm.Print_Area,3,2),2,FALSE),VLOOKUP(A361,OFFSET([0]!_xlnm.Print_Area,3,0),4,FALSE))","v":{"$error":"#REF!"}},{"$f":"IF(J361=\"\",\"\",VLOOKUP(A361,OFFSET([0]!_xlnm.Print_Area,3,0),5,FALSE))","v":{"$error":"#REF!"}},{"$f":"IF(J361=\"\",\"\",VLOOKUP(A361,OFFSET([0]!_xlnm.Print_Area,3,0),6,FALSE))","v":{"$error":"#REF!"}},{"$f":"IF(J361=\"\",\"\",VLOOKUP(A361,OFFSET([0]!_xlnm.Print_Area,3,0,,7),7,FALSE))","v":{"$error":"#REF!"}}," ",{"$f":"INDEX(#REF!,SMALL(IF(#REF!<>\"\",ROW(#REF!)),ROWS(I$1:I361)-1))","v":{"$error":"#REF!"}},{"$f":"INDEX(#REF!,SMALL(IF(#REF!<>\"\",ROW(#REF!)),ROWS(J$1:J361)-1))","v":{"$error":"#REF!"}},{"$f":"INDEX(#REF!,SMALL(IF(#REF!<>\"\",ROW(#REF!)),ROWS(K$1:K361)-1))","v":{"$error":"#REF!"}}]
[{"$error":"#REF!"},{"$error":"#REF!"},{"$error":"#REF!"},{"$f":"IF(J362=\"\",VLOOKUP(C362,OFFSET([0]!_xlnm.Print_Area,3,2),2,FALSE),VLOOKUP(A362,OFFSET([0]!_xlnm.Print_Area,3,0),4,FALSE))","v":{"$error":"#REF!"}},{"$f":"IF(J362=\"\",\"\",VLOOKUP(A362,OFFSET([0]!_xlnm.Print_Area,3,0),5,FALSE))","v":{"$error":"#REF!"}},{"$f":"IF(J362=\"\",\"\",VLOOKUP(A362,OFFSET([0]!_xlnm.Print_Area,3,0),6,FALSE))","v":{"$error":"#REF!"}},{"$f":"IF(J362=\"\",\"\",VLOOKUP(A362,OFFSET([0]!_xlnm.Print_Area,3,0,,7),7,FALSE))","v":{"$error":"#REF!"}}," ",{"$f":"INDEX(#REF!,SMALL(IF(#REF!<>\"\",ROW(#REF!)),ROWS(I$1:I362)-1))","v":{"$error":"#REF!"}},{"$f":"INDEX(#REF!,SMALL(IF(#REF!<>\"\",ROW(#REF!)),ROWS(J$1:J362)-1))","v":{"$error":"#REF!"}},{"$f":"INDEX(#REF!,SMALL(IF(#REF!<>\"\",ROW(#REF!)),ROWS(K$1:K362)-1))","v":{"$error":"#REF!"}}]
[{"$error":"#REF!"},{"$error":"#REF!"},{"$error":"#REF!"},{"$f":"IF(J363=\"\",VLOOKUP(C363,OFFSET([0]!_xlnm.Print_Area,3,2),2,FALSE),VLOOKUP(A363,OFFSET([0]!_xlnm.Print_Area,3,0),4,FALSE))","v":{"$error":"#REF!"}},{"$f":"IF(J363=\"\",\"\",VLOOKUP(A363,OFFSET([0]!_xlnm.Print_Area,3,0),5,FALSE))","v":{"$error":"#REF!"}},{"$f":"IF(J363=\"\",\"\",VLOOKUP(A363,OFFSET([0]!_xlnm.Print_Area,3,0),6,FALSE))","v":{"$error":"#REF!"}},{"$f":"IF(J363=\"\",\"\",VLOOKUP(A363,OFFSET([0]!_xlnm.Print_Area,3,0,,7),7,FALSE))","v":{"$error":"#REF!"}}," ",{"$f":"INDEX(#REF!,SMALL(IF(#REF!<>\"\",ROW(#REF!)),ROWS(I$1:I363)-1))","v":{"$error":"#REF!"}},{"$f":"INDEX(#REF!,SMALL(IF(#REF!<>\"\",ROW(#REF!)),ROWS(J$1:J363)-1))","v":{"$error":"#REF!"}},{"$f":"INDEX(#REF!,SMALL(IF(#REF!<>\"\",ROW(#REF!)),ROWS(K$1:K363)-1))","v":{"$error":"#REF!"}}]
[{"$error":"#REF!"},{"$error":"#REF!"},{"$error":"#REF!"},{"$f":"IF(J364=\"\",VLOOKUP(C364,OFFSET([0]!_xlnm.Print_Area,3,2),2,FALSE),VLOOKUP(A364,OFFSET([0]!_xlnm.Print_Area,3,0),4,FALSE))","v":{"$error":"#REF!"}},{"$f":"IF(J364=\"\",\"\",VLOOKUP(A364,OFFSET([0]!_xlnm.Print_Area,3,0),5,FALSE))","v":{"$error":"#REF!"}},{"$f":"IF(J364=\"\",\"\",VLOOKUP(A364,OFFSET([0]!_xlnm.Print_Area,3,0),6,FALSE))","v":{"$error":"#REF!"}},{"$f":"IF(J364=\"\",\"\",VLOOKUP(A364,OFFSET([0]!_xlnm.Print_Area,3,0,,7),7,FALSE))","v":{"$error":"#REF!"}}," ",{"$f":"INDEX(#REF!,SMALL(IF(#REF!<>\"\",ROW(#REF!)),ROWS(I$1:I364)-1))","v":{"$error":"#REF!"}},{"$f":"INDEX(#REF!,SMALL(IF(#REF!<>\"\",ROW(#REF!)),ROWS(J$1:J364)-1))","v":{"$error":"#REF!"}},{"$f":"INDEX(#REF!,SMALL(IF(#REF!<>\"\",ROW(#REF!)),ROWS(K$1:K364)-1))","v":{"$error":"#REF!"}}]
[{"$error":"#REF!"},{"$error":"#REF!"},{"$error":"#REF!"},{"$f":"IF(J365=\"\",VLOOKUP(C365,OFFSET([0]!_xlnm.Print_Area,3,2),2,FALSE),VLOOKUP(A365,OFFSET([0]!_xlnm.Print_Area,3,0),4,FALSE))","v":{"$error":"#REF!"}},{"$f":"IF(J365=\"\",\"\",VLOOKUP(A365,OFFSET([0]!_xlnm.Print_Area,3,0),5,FALSE))","v":{"$error":"#REF!"}},{"$f":"IF(J365=\"\",\"\",VLOOKUP(A365,OFFSET([0]!_xlnm.Print_Area,3,0),6,FALSE))","v":{"$error":"#REF!"}},{"$f":"IF(J365=\"\",\"\",VLOOKUP(A365,OFFSET([0]!_xlnm.Print_Area,3,0,,7),7,FALSE))","v":{"$error":"#REF!"}}," ",{"$f":"INDEX(#REF!,SMALL(IF(#REF!<>\"\",ROW(#REF!)),ROWS(I$1:I365)-1))","v":{"$error":"#REF!"}},{"$f":"INDEX(#REF!,SMALL(IF(#REF!<>\"\",ROW(#REF!)),ROWS(J$1:J365)-1))","v":{"$error":"#REF!"}},{"$f":"INDEX(#REF!,SMALL(IF(#REF!<>\"\",ROW(#REF!)),ROWS(K$1:K365)-1))","v":{"$error":"#REF!"}}]
[{"$error":"#REF!"},{"$error":"#REF!"},{"$error":"#REF!"},{"$f":"IF(J366=\"\",VLOOKUP(C366,OFFSET([0]!_xlnm.Print_Area,3,2),2,FALSE),VLOOKUP(A366,OFFSET([0]!_xlnm.Print_Area,3,0),4,FALSE))","v":{"$error":"#REF!"}},{"$f":"IF(J366=\"\",\"\",VLOOKUP(A366,OFFSET([0]!_xlnm.Print_Area,3,0),5,FALSE))","v":{"$error":"#REF!"}},{"$f":"IF(J366=\"\",\"\",VLOOKUP(A366,OFFSET([0]!_xlnm.Print_Area,3,0),6,FALSE))","v":{"$error":"#REF!"}},{"$f":"IF(J366=\"\",\"\",VLOOKUP(A366,OFFSET([0]!_xlnm.Print_Area,3,0,,7),7,FALSE))","v":{"$error":"#REF!"}}," ",{"$f":"INDEX(#REF!,SMALL(IF(#REF!<>\"\",ROW(#REF!)),ROWS(I$1:I366)-1))","v":{"$error":"#REF!"}},{"$f":"INDEX(#REF!,SMALL(IF(#REF!<>\"\",ROW(#REF!)),ROWS(J$1:J366)-1))","v":{"$error":"#REF!"}},{"$f":"INDEX(#REF!,SMALL(IF(#REF!<>\"\",ROW(#REF!)),ROWS(K$1:K366)-1))","v":{"$error":"#REF!"}}]
[{"$error":"#REF!"},{"$error":"#REF!"},{"$error":"#REF!"},{"$f":"IF(J367=\"\",VLOOKUP(C367,OFFSET([0]!_xlnm.Print_Area,3,2),2,FALSE),VLOOKUP(A367,OFFSET([0]!_xlnm.Print_Area,3,0),4,FALSE))","v":{"$error":"#REF!"}},{"$f":"IF(J367=\"\",\"\",VLOOKUP(A367,OFFSET([0]!_xlnm.Print_Area,3,0),5,FALSE))","v":{"$error":"#REF!"}},{"$f":"IF(J367=\"\",\"\",VLOOKUP(A367,OFFSET([0]!_xlnm.Print_Area,3,0),6,FALSE))","v":{"$error":"#REF!"}},{"$f":"IF(J367=\"\",\"\",VLOOKUP(A367,OFFSET([0]!_xlnm.Print_Area,3,0,,7),7,FALSE))","v":{"$error":"#REF!"}}," ",{"$f":"INDEX(#REF!,SMALL(IF(#REF!<>\"\",ROW(#REF!)),ROWS(I$1:I367)-1))","v":{"$error":"#REF!"}},{"$f":"INDEX(#REF!,SMALL(IF(#REF!<>\"\",ROW(#REF!)),ROWS(J$1:J367)-1))","v":{"$error":"#REF!"}},{"$f":"INDEX(#REF!,SMALL(IF(#REF!<>\"\",ROW(#REF!)),ROWS(K$1:K367)-1))","v":{"$error":"#REF!"}}]
[{"$error":"#REF!"},{"$error":"#REF!"},{"$error":"#REF!"},{"$f":"IF(J368=\"\",VLOOKUP(C368,OFFSET([0]!_xlnm.Print_Area,3,2),2,FALSE),VLOOKUP(A368,OFFSET([0]!_xlnm.Print_Area,3,0),4,FALSE))","v":{"$error":"#REF!"}},{"$f":"IF(J368=\"\",\"\",VLOOKUP(A368,OFFSET([0]!_xlnm.Print_Area,3,0),5,FALSE))","v":{"$error":"#REF!"}},{"$f":"IF(J368=\"\",\"\",VLOOKUP(A368,OFFSET([0]!_xlnm.Print_Area,3,0),6,FALSE))","v":{"$error":"#REF!"}},{"$f":"IF(J368=\"\",\"\",VLOOKUP(A368,OFFSET([0]!_xlnm.Print_Area,3,0,,7),7,FALSE))","v":{"$error":"#REF!"}}," ",{"$f":"INDEX(#REF!,SMALL(IF(#REF!<>\"\",ROW(#REF!)),ROWS(I$1:I368)-1))","v":{"$error":"#REF!"}},{"$f":"INDEX(#REF!,SMALL(IF(#REF!<>\"\",ROW(#REF!)),ROWS(J$1:J368)-1))","v":{"$error":"#REF!"}},{"$f":"INDEX(#REF!,SMALL(IF(#REF!<>\"\",ROW(#REF!)),ROWS(K$1:K368)-1))","v":{"$error":"#REF!"}}]
[{"$error":"#REF!"},{"$error":"#REF!"},{"$error":"#REF!"},{"$f":"IF(J369=\"\",VLOOKUP(C369,OFFSET([0]!_xlnm.Print_Area,3,2),2,FALSE),VLOOKUP(A369,OFFSET([0]!_xlnm.Print_Area,3,0),4,FALSE))","v":{"$error":"#REF!"}},{"$f":"IF(J369=\"\",\"\",VLOOKUP(A369,OFFSET([0]!_xlnm.Print_Area,3,0),5,FALSE))","v":{"$error":"#REF!"}},{"$f":"IF(J369=\"\",\"\",VLOOKUP(A369,OFFSET([0]!_xlnm.Print_Area,3,0),6,FALSE))","v":{"$error":"#REF!"}},{"$f":"IF(J369=\"\",\"\",VLOOKUP(A369,OFFSET([0]!_xlnm.Print_Area,3,0,,7),7,FALSE))","v":{"$error":"#REF!"}}," ",{"$f":"INDEX(#REF!,SMALL(IF(#REF!<>\"\",ROW(#REF!)),ROWS(I$1:I369)-1))","v":{"$error":"#REF!"}},{"$f":"INDEX(#REF!,SMALL(IF(#REF!<>\"\",ROW(#REF!)),ROWS(J$1:J369)-1))","v":{"$error":"#REF!"}},{"$f":"INDEX(#REF!,SMALL(IF(#REF!<>\"\",ROW(#REF!)),ROWS(K$1:K369)-1))","v":{"$error":"#REF!"}}]
[{"$error":"#REF!"},{"$error":"#REF!"},{"$error":"#REF!"},{"$f":"IF(J370=\"\",VLOOKUP(C370,OFFSET([0]!_xlnm.Print_Area,3,2),2,FALSE),VLOOKUP(A370,OFFSET([0]!_xlnm.Print_Area,3,0),4,FALSE))","v":{"$error":"#REF!"}},{"$f":"IF(J370=\"\",\"\",VLOOKUP(A370,OFFSET([0]!_xlnm.Print_Area,3,0),5,FALSE))","v":{"$error":"#REF!"}},{"$f":"IF(J370=\"\",\"\",VLOOKUP(A370,OFFSET([0]!_xlnm.Print_Area,3,0),6,FALSE))","v":{"$error":"#REF!"}},{"$f":"IF(J370=\"\",\"\",VLOOKUP(A370,OFFSET([0]!_xlnm.Print_Area,3,0,,7),7,FALSE))","v":{"$error":"#REF!"}}," ",{"$f":"INDEX(#REF!,SMALL(IF(#REF!<>\"\",ROW(#REF!)),ROWS(I$1:I370)-1))","v":{"$error":"#REF!"}},{"$f":"INDEX(#REF!,SMALL(IF(#REF!<>\"\",ROW(#REF!)),ROWS(J$1:J370)-1))","v":{"$error":"#REF!"}},{"$f":"INDEX(#REF!,SMALL(IF(#REF!<>\"\",ROW(#REF!)),ROWS(K$1:K370)-1))","v":{"$error":"#REF!"}}]
[{"$error":"#REF!"},{"$error":"#REF!"},{"$error":"#REF!"},{"$f":"IF(J371=\"\",VLOOKUP(C371,OFFSET([0]!_xlnm.Print_Area,3,2),2,FALSE),VLOOKUP(A371,OFFSET([0]!_xlnm.Print_Area,3,0),4,FALSE))","v":{"$error":"#REF!"}},{"$f":"IF(J371=\"\",\"\",VLOOKUP(A371,OFFSET([0]!_xlnm.Print_Area,3,0),5,FALSE))","v":{"$error":"#REF!"}},{"$f":"IF(J371=\"\",\"\",VLOOKUP(A371,OFFSET([0]!_xlnm.Print_Area,3,0),6,FALSE))","v":{"$error":"#REF!"}},{"$f":"IF(J371=\"\",\"\",VLOOKUP(A371,OFFSET([0]!_xlnm.Print_Area,3,0,,7),7,FALSE))","v":{"$error":"#REF!"}}," ",{"$f":"INDEX(#REF!,SMALL(IF(#REF!<>\"\",ROW(#REF!)),ROWS(I$1:I371)-1))","v":{"$error":"#REF!"}},{"$f":"INDEX(#REF!,SMALL(IF(#REF!<>\"\",ROW(#REF!)),ROWS(J$1:J371)-1))","v":{"$error":"#REF!"}},{"$f":"INDEX(#REF!,SMALL(IF(#REF!<>\"\",ROW(#REF!)),ROWS(K$1:K371)-1))","v":{"$error":"#REF!"}}]
[{"$error":"#REF!"},{"$error":"#REF!"},{"$error":"#REF!"},{"$f":"IF(J372=\"\",VLOOKUP(C372,OFFSET([0]!_xlnm.Print_Area,3,2),2,FALSE),VLOOKUP(A372,OFFSET([0]!_xlnm.Print_Area,3,0),4,FALSE))","v":{"$error":"#REF!"}},{"$f":"IF(J372=\"\",\"\",VLOOKUP(A372,OFFSET([0]!_xlnm.Print_Area,3,0),5,FALSE))","v":{"$error":"#REF!"}},{"$f":"IF(J372=\"\",\"\",VLOOKUP(A372,OFFSET([0]!_xlnm.Print_Area,3,0),6,FALSE))","v":{"$error":"#REF!"}},{"$f":"IF(J372=\"\",\"\",VLOOKUP(A372,OFFSET([0]!_xlnm.Print_Area,3,0,,7),7,FALSE))","v":{"$error":"#REF!"}}," ",{"$f":"INDEX(#REF!,SMALL(IF(#REF!<>\"\",ROW(#REF!)),ROWS(I$1:I372)-1))","v":{"$error":"#REF!"}},{"$f":"INDEX(#REF!,SMALL(IF(#REF!<>\"\",ROW(#REF!)),ROWS(J$1:J372)-1))","v":{"$error":"#REF!"}},{"$f":"INDEX(#REF!,SMALL(IF(#REF!<>\"\",ROW(#REF!)),ROWS(K$1:K372)-1))","v":{"$error":"#REF!"}}]
[{"$error":"#REF!"},{"$error":"#REF!"},{"$error":"#REF!"},{"$f":"IF(J373=\"\",VLOOKUP(C373,OFFSET([0]!_xlnm.Print_Area,3,2),2,FALSE),VLOOKUP(A373,OFFSET([0]!_xlnm.Print_Area,3,0),4,FALSE))","v":{"$error":"#REF!"}},{"$f":"IF(J373=\"\",\"\",VLOOKUP(A373,OFFSET([0]!_xlnm.Print_Area,3,0),5,FALSE))","v":{"$error":"#REF!"}},{"$f":"IF(J373=\"\",\"\",VLOOKUP(A373,OFFSET([0]!_xlnm.Print_Area,3,0),6,FALSE))","v":{"$error":"#REF!"}},{"$f":"IF(J373=\"\",\"\",VLOOKUP(A373,OFFSET([0]!_xlnm.Print_Area,3,0,,7),7,FALSE))","v":{"$error":"#REF!"}}," ",{"$f":"INDEX(#REF!,SMALL(IF(#REF!<>\"\",ROW(#REF!)),ROWS(I$1:I373)-1))","v":{"$error":"#REF!"}},{"$f":"INDEX(#REF!,SMALL(IF(#REF!<>\"\",ROW(#REF!)),ROWS(J$1:J373)-1))","v":{"$error":"#REF!"}},{"$f":"INDEX(#REF!,SMALL(IF(#REF!<>\"\",ROW(#REF!)),ROWS(K$1:K373)-1))","v":{"$error":"#REF!"}}]
[{"$error":"#REF!"},{"$error":"#REF!"},{"$error":"#REF!"},{"$f":"IF(J374=\"\",VLOOKUP(C374,OFFSET([0]!_xlnm.Print_Area,3,2),2,FALSE),VLOOKUP(A374,OFFSET([0]!_xlnm.Print_Area,3,0),4,FALSE))","v":{"$error":"#REF!"}},{"$f":"IF(J374=\"\",\"\",VLOOKUP(A374,OFFSET([0]!_xlnm.Print_Area,3,0),5,FALSE))","v":{"$error":"#REF!"}},{"$f":"IF(J374=\"\",\"\",VLOOKUP(A374,OFFSET([0]!_xlnm.Print_Area,3,0),6,FALSE))","v":{"$error":"#REF!"}},{"$f":"IF(J374=\"\",\"\",VLOOKUP(A374,OFFSET([0]!_xlnm.Print_Area,3,0,,7),7,FALSE))","v":{"$error":"#REF!"}}," ",{"$f":"INDEX(#REF!,SMALL(IF(#REF!<>\"\",ROW(#REF!)),ROWS(I$1:I374)-1))","v":{"$error":"#REF!"}},{"$f":"INDEX(#REF!,SMALL(IF(#REF!<>\"\",ROW(#REF!)),ROWS(J$1:J374)-1))","v":{"$error":"#REF!"}},{"$f":"INDEX(#REF!,SMALL(IF(#REF!<>\"\",ROW(#REF!)),ROWS(K$1:K374)-1))","v":{"$error":"#REF!"}}]
[{"$error":"#REF!"},{"$error":"#REF!"},{"$error":"#REF!"},{"$f":"IF(J375=\"\",VLOOKUP(C375,OFFSET([0]!_xlnm.Print_Area,3,2),2,FALSE),VLOOKUP(A375,OFFSET([0]!_xlnm.Print_Area,3,0),4,FALSE))","v":{"$error":"#REF!"}},{"$f":"IF(J375=\"\",\"\",VLOOKUP(A375,OFFSET([0]!_xlnm.Print_Area,3,0),5,FALSE))","v":{"$error":"#REF!"}},{"$f":"IF(J375=\"\",\"\",VLOOKUP(A375,OFFSET([0]!_xlnm.Print_Area,3,0),6,FALSE))","v":{"$error":"#REF!"}},{"$f":"IF(J375=\"\",\"\",VLOOKUP(A375,OFFSET([0]!_xlnm.Print_Area,3,0,,7),7,FALSE))","v":{"$error":"#REF!"}}," ",{"$f":"INDEX(#REF!,SMALL(IF(#REF!<>\"\",ROW(#REF!)),ROWS(I$1:I375)-1))","v":{"$error":"#REF!"}},{"$f":"INDEX(#REF!,SMALL(IF(#REF!<>\"\",ROW(#REF!)),ROWS(J$1:J375)-1))","v":{"$error":"#REF!"}},{"$f":"INDEX(#REF!,SMALL(IF(#REF!<>\"\",ROW(#REF!)),ROWS(K$1:K375)-1))","v":{"$error":"#REF!"}}]
[{"$error":"#REF!"},{"$error":"#REF!"},{"$error":"#REF!"},{"$f":"IF(J376=\"\",VLOOKUP(C376,OFFSET([0]!_xlnm.Print_Area,3,2),2,FALSE),VLOOKUP(A376,OFFSET([0]!_xlnm.Print_Area,3,0),4,FALSE))","v":{"$error":"#REF!"}},{"$f":"IF(J376=\"\",\"\",VLOOKUP(A376,OFFSET([0]!_xlnm.Print_Area,3,0),5,FALSE))","v":{"$error":"#REF!"}},{"$f":"IF(J376=\"\",\"\",VLOOKUP(A376,OFFSET([0]!_xlnm.Print_Area,3,0),6,FALSE))","v":{"$error":"#REF!"}},{"$f":"IF(J376=\"\",\"\",VLOOKUP(A376,OFFSET([0]!_xlnm.Print_Area,3,0,,7),7,FALSE))","v":{"$error":"#REF!"}}," ",{"$f":"INDEX(#REF!,SMALL(IF(#REF!<>\"\",ROW(#REF!)),ROWS(I$1:I376)-1))","v":{"$error":"#REF!"}},{"$f":"INDEX(#REF!,SMALL(IF(#REF!<>\"\",ROW(#REF!)),ROWS(J$1:J376)-1))","v":{"$error":"#REF!"}},{"$f":"INDEX(#REF!,SMALL(IF(#REF!<>\"\",ROW(#REF!)),ROWS(K$1:K376)-1))","v":{"$error":"#REF!"}}]
[{"$error":"#REF!"},{"$error":"#REF!"},{"$error":"#REF!"},{"$f":"IF(J377=\"\",VLOOKUP(C377,OFFSET([0]!_xlnm.Print_Area,3,2),2,FALSE),VLOOKUP(A377,OFFSET([0]!_xlnm.Print_Area,3,0),4,FALSE))","v":{"$error":"#REF!"}},{"$f":"IF(J377=\"\",\"\",VLOOKUP(A377,OFFSET([0]!_xlnm.Print_Area,3,0),5,FALSE))","v":{"$error":"#REF!"}},{"$f":"IF(J377=\"\",\"\",VLOOKUP(A377,OFFSET([0]!_xlnm.Print_Area,3,0),6,FALSE))","v":{"$error":"#REF!"}},{"$f":"IF(J377=\"\",\"\",VLOOKUP(A377,OFFSET([0]!_xlnm.Print_Area,3,0,,7),7,FALSE))","v":{"$error":"#REF!"}}," ",{"$f":"INDEX(#REF!,SMALL(IF(#REF!<>\"\",ROW(#REF!)),ROWS(I$1:I377)-1))","v":{"$error":"#REF!"}},{"$f":"INDEX(#REF!,SMALL(IF(#REF!<>\"\",ROW(#REF!)),ROWS(J$1:J377)-1))","v":{"$error":"#REF!"}},{"$f":"INDEX(#REF!,SMALL(IF(#REF!<>\"\",ROW(#REF!)),ROWS(K$1:K377)-1))","v":{"$error":"#REF!"}}]
[{"$error":"#REF!"},{"$error":"#REF!"},{"$error":"#REF!"},{"$f":"IF(J378=\"\",VLOOKUP(C378,OFFSET([0]!_xlnm.Print_Area,3,2),2,FALSE),VLOOKUP(A378,OFFSET([0]!_xlnm.Print_Area,3,0),4,FALSE))","v":{"$error":"#REF!"}},{"$f":"IF(J378=\"\",\"\",VLOOKUP(A378,OFFSET([0]!_xlnm.Print_Area,3,0),5,FALSE))","v":{"$error":"#REF!"}},{"$f":"IF(J378=\"\",\"\",VLOOKUP(A378,OFFSET([0]!_xlnm.Print_Area,3,0),6,FALSE))","v":{"$error":"#REF!"}},{"$f":"IF(J378=\"\",\"\",VLOOKUP(A378,OFFSET([0]!_xlnm.Print_Area,3,0,,7),7,FALSE))","v":{"$error":"#REF!"}}," ",{"$f":"INDEX(#REF!,SMALL(IF(#REF!<>\"\",ROW(#REF!)),ROWS(I$1:I378)-1))","v":{"$error":"#REF!"}},{"$f":"INDEX(#REF!,SMALL(IF(#REF!<>\"\",ROW(#REF!)),ROWS(J$1:J378)-1))","v":{"$error":"#REF!"}},{"$f":"INDEX(#REF!,SMALL(IF(#REF!<>\"\",ROW(#REF!)),ROWS(K$1:K378)-1))","v":{"$error":"#REF!"}}]
[{"$error":"#REF!"},{"$error":"#REF!"},{"$error":"#REF!"},{"$f":"IF(J379=\"\",VLOOKUP(C379,OFFSET([0]!_xlnm.Print_Area,3,2),2,FALSE),VLOOKUP(A379,OFFSET([0]!_xlnm.Print_Area,3,0),4,FALSE))","v":{"$error":"#REF!"}},{"$f":"IF(J379=\"\",\"\",VLOOKUP(A379,OFFSET([0]!_xlnm.Print_Area,3,0),5,FALSE))","v":{"$error":"#REF!"}},{"$f":"IF(J379=\"\",\"\",VLOOKUP(A379,OFFSET([0]!_xlnm.Print_Area,3,0),6,FALSE))","v":{"$error":"#REF!"}},{"$f":"IF(J379=\"\",\"\",VLOOKUP(A379,OFFSET([0]!_xlnm.Print_Area,3,0,,7),7,FALSE))","v":{"$error":"#REF!"}}," ",{"$f":"INDEX(#REF!,SMALL(IF(#REF!<>\"\",ROW(#REF!)),ROWS(I$1:I379)-1))","v":{"$error":"#REF!"}},{"$f":"INDEX(#REF!,SMALL(IF(#REF!<>\"\",ROW(#REF!)),ROWS(J$1:J379)-1))","v":{"$error":"#REF!"}},{"$f":"INDEX(#REF!,SMALL(IF(#REF!<>\"\",ROW(#REF!)),ROWS(K$1:K379)-1))","v":{"$error":"#REF!"}}]
[{"$error":"#REF!"},{"$error":"#REF!"},{"$error":"#REF!"},{"$f":"IF(J380=\"\",VLOOKUP(C380,OFFSET([0]!_xlnm.Print_Area,3,2),2,FALSE),VLOOKUP(A380,OFFSET([0]!_xlnm.Print_Area,3,0),4,FALSE))","v":{"$error":"#REF!"}},{"$f":"IF(J380=\"\",\"\",VLOOKUP(A380,OFFSET([0]!_xlnm.Print_Area,3,0),5,FALSE))","v":{"$error":"#REF!"}},{"$f":"IF(J380=\"\",\"\",VLOOKUP(A380,OFFSET([0]!_xlnm.Print_Area,3,0),6,FALSE))","v":{"$error":"#REF!"}},{"$f":"IF(J380=\"\",\"\",VLOOKUP(A380,OFFSET([0]!_xlnm.Print_Area,3,0,,7),7,FALSE))","v":{"$error":"#REF!"}}," ",{"$f":"INDEX(#REF!,SMALL(IF(#REF!<>\"\",ROW(#REF!)),ROWS(I$1:I380)-1))","v":{"$error":"#REF!"}},{"$f":"INDEX(#REF!,SMALL(IF(#REF!<>\"\",ROW(#REF!)),ROWS(J$1:J380)-1))","v":{"$error":"#REF!"}},{"$f":"INDEX(#REF!,SMALL(IF(#REF!<>\"\",ROW(#REF!)),ROWS(K$1:K380)-1))","v":{"$error":"#REF!"}}]
[{"$error":"#REF!"},{"$error":"#REF!"},{"$error":"#REF!"},{"$f":"IF(J381=\"\",VLOOKUP(C381,OFFSET([0]!_xlnm.Print_Area,3,2),2,FALSE),VLOOKUP(A381,OFFSET([0]!_xlnm.Print_Area,3,0),4,FALSE))","v":{"$error":"#REF!"}},{"$f":"IF(J381=\"\",\"\",VLOOKUP(A381,OFFSET([0]!_xlnm.Print_Area,3,0),5,FALSE))","v":{"$error":"#REF!"}},{"$f":"IF(J381=\"\",\"\",VLOOKUP(A381,OFFSET([0]!_xlnm.Print_Area,3,0),6,FALSE))","v":{"$error":"#REF!"}},{"$f":"IF(J381=\"\",\"\",VLOOKUP(A381,OFFSET([0]!_xlnm.Print_Area,3,0,,7),7,FALSE))","v":{"$error":"#REF!"}}," ",{"$f":"INDEX(#REF!,SMALL(IF(#REF!<>\"\",ROW(#REF!)),ROWS(I$1:I381)-1))","v":{"$error":"#REF!"}},{"$f":"INDEX(#REF!,SMALL(IF(#REF!<>\"\",ROW(#REF!)),ROWS(J$1:J381)-1))","v":{"$error":"#REF!"}},{"$f":"INDEX(#REF!,SMALL(IF(#REF!<>\"\",ROW(#REF!)),ROWS(K$1:K381)-1))","v":{"$error":"#REF!"}}]
[{"$error":"#REF!"},{"$error":"#REF!"},{"$error":"#REF!"},{"$f":"IF(J382=\"\",VLOOKUP(C382,OFFSET([0]!_xlnm.Print_Area,3,2),2,FALSE),VLOOKUP(A382,OFFSET([0]!_xlnm.Print_Area,3,0),4,FALSE))","v":{"$error":"#REF!"}},{"$f":"IF(J382=\"\",\"\",VLOOKUP(A382,OFFSET([0]!_xlnm.Print_Area,3,0),5,FALSE))","v":{"$error":"#REF!"}},{"$f":"IF(J382=\"\",\"\",VLOOKUP(A382,OFFSET([0]!_xlnm.Print_Area,3,0),6,FALSE))","v":{"$error":"#REF!"}},{"$f":"IF(J382=\"\",\"\",VLOOKUP(A382,OFFSET([0]!_xlnm.Print_Area,3,0,,7),7,FALSE))","v":{"$error":"#REF!"}}," ",{"$f":"INDEX(#REF!,SMALL(IF(#REF!<>\"\",ROW(#REF!)),ROWS(I$1:I382)-1))","v":{"$error":"#REF!"}},{"$f":"INDEX(#REF!,SMALL(IF(#REF!<>\"\",ROW(#REF!)),ROWS(J$1:J382)-1))","v":{"$error":"#REF!"}},{"$f":"INDEX(#REF!,SMALL(IF(#REF!<>\"\",ROW(#REF!)),ROWS(K$1:K382)-1))","v":{"$error":"#REF!"}}]
[{"$error":"#REF!"},{"$error":"#REF!"},{"$error":"#REF!"},{"$f":"IF(J383=\"\",VLOOKUP(C383,OFFSET([0]!_xlnm.Print_Area,3,2),2,FALSE),VLOOKUP(A383,OFFSET([0]!_xlnm.Print_Area,3,0),4,FALSE))","v":{"$error":"#REF!"}},{"$f":"IF(J383=\"\",\"\",VLOOKUP(A383,OFFSET([0]!_xlnm.Print_Area,3,0),5,FALSE))","v":{"$error":"#REF!"}},{"$f":"IF(J383=\"\",\"\",VLOOKUP(A383,OFFSET([0]!_xlnm.Print_Area,3,0),6,FALSE))","v":{"$error":"#REF!"}},{"$f":"IF(J383=\"\",\"\",VLOOKUP(A383,OFFSET([0]!_xlnm.Print_Area,3,0,,7),7,FALSE))","v":{"$error":"#REF!"}}," ",{"$f":"INDEX(#REF!,SMALL(IF(#REF!<>\"\",ROW(#REF!)),ROWS(I$1:I383)-1))","v":{"$error":"#REF!"}},{"$f":"INDEX(#REF!,SMALL(IF(#REF!<>\"\",ROW(#REF!)),ROWS(J$1:J383)-1))","v":{"$error":"#REF!"}},{"$f":"INDEX(#REF!,SMALL(IF(#REF!<>\"\",ROW(#REF!)),ROWS(K$1:K383)-1))","v":{"$error":"#REF!"}}]
[{"$error":"#REF!"},{"$error":"#REF!"},{"$error":"#REF!"},{"$f":"IF(J384=\"\",VLOOKUP(C384,OFFSET([0]!_xlnm.Print_Area,3,2),2,FALSE),VLOOKUP(A384,OFFSET([0]!_xlnm.Print_Area,3,0),4,FALSE))","v":{"$error":"#REF!"}},{"$f":"IF(J384=\"\",\"\",VLOOKUP(A384,OFFSET([0]!_xlnm.Print_Area,3,0),5,FALSE))","v":{"$error":"#REF!"}},{"$f":"IF(J384=\"\",\"\",VLOOKUP(A384,OFFSET([0]!_xlnm.Print_Area,3,0),6,FALSE))","v":{"$error":"#REF!"}},{"$f":"IF(J384=\"\",\"\",VLOOKUP(A384,OFFSET([0]!_xlnm.Print_Area,3,0,,7),7,FALSE))","v":{"$error":"#REF!"}}," ",{"$f":"INDEX(#REF!,SMALL(IF(#REF!<>\"\",ROW(#REF!)),ROWS(I$1:I384)-1))","v":{"$error":"#REF!"}},{"$f":"INDEX(#REF!,SMALL(IF(#REF!<>\"\",ROW(#REF!)),ROWS(J$1:J384)-1))","v":{"$error":"#REF!"}},{"$f":"INDEX(#REF!,SMALL(IF(#REF!<>\"\",ROW(#REF!)),ROWS(K$1:K384)-1))","v":{"$error":"#REF!"}}]
[{"$error":"#REF!"},{"$error":"#REF!"},{"$error":"#REF!"},{"$f":"IF(J385=\"\",VLOOKUP(C385,OFFSET([0]!_xlnm.Print_Area,3,2),2,FALSE),VLOOKUP(A385,OFFSET([0]!_xlnm.Print_Area,3,0),4,FALSE))","v":{"$error":"#REF!"}},{"$f":"IF(J385=\"\",\"\",VLOOKUP(A385,OFFSET([0]!_xlnm.Print_Area,3,0),5,FALSE))","v":{"$error":"#REF!"}},{"$f":"IF(J385=\"\",\"\",VLOOKUP(A385,OFFSET([0]!_xlnm.Print_Area,3,0),6,FALSE))","v":{"$error":"#REF!"}},{"$f":"IF(J385=\"\",\"\",VLOOKUP(A385,OFFSET([0]!_xlnm.Print_Area,3,0,,7),7,FALSE))","v":{"$error":"#REF!"}}," ",{"$f":"INDEX(#REF!,SMALL(IF(#REF!<>\"\",ROW(#REF!)),ROWS(I$1:I385)-1))","v":{"$error":"#REF!"}},{"$f":"INDEX(#REF!,SMALL(IF(#REF!<>\"\",ROW(#REF!)),ROWS(J$1:J385)-1))","v":{"$error":"#REF!"}},{"$f":"INDEX(#REF!,SMALL(IF(#REF!<>\"\",ROW(#REF!)),ROWS(K$1:K385)-1))","v":{"$error":"#REF!"}}]
[{"$error":"#REF!"},{"$error":"#REF!"},{"$error":"#REF!"},{"$f":"IF(J386=\"\",VLOOKUP(C386,OFFSET([0]!_xlnm.Print_Area,3,2),2,FALSE),VLOOKUP(A386,OFFSET([0]!_xlnm.Print_Area,3,0),4,FALSE))","v":{"$error":"#REF!"}},{"$f":"IF(J386=\"\",\"\",VLOOKUP(A386,OFFSET([0]!_xlnm.Print_Area,3,0),5,FALSE))","v":{"$error":"#REF!"}},{"$f":"IF(J386=\"\",\"\",VLOOKUP(A386,OFFSET([0]!_xlnm.Print_Area,3,0),6,FALSE))","v":{"$error":"#REF!"}},{"$f":"IF(J386=\"\",\"\",VLOOKUP(A386,OFFSET([0]!_xlnm.Print_Area,3,0,,7),7,FALSE))","v":{"$error":"#REF!"}}," ",{"$f":"INDEX(#REF!,SMALL(IF(#REF!<>\"\",ROW(#REF!)),ROWS(I$1:I386)-1))","v":{"$error":"#REF!"}},{"$f":"INDEX(#REF!,SMALL(IF(#REF!<>\"\",ROW(#REF!)),ROWS(J$1:J386)-1))","v":{"$error":"#REF!"}},{"$f":"INDEX(#REF!,SMALL(IF(#REF!<>\"\",ROW(#REF!)),ROWS(K$1:K386)-1))","v":{"$error":"#REF!"}}]
[{"$error":"#REF!"},{"$error":"#REF!"},{"$error":"#REF!"},{"$f":"IF(J387=\"\",VLOOKUP(C387,OFFSET([0]!_xlnm.Print_Area,3,2),2,FALSE),VLOOKUP(A387,OFFSET([0]!_xlnm.Print_Area,3,0),4,FALSE))","v":{"$error":"#REF!"}},{"$f":"IF(J387=\"\",\"\",VLOOKUP(A387,OFFSET([0]!_xlnm.Print_Area,3,0),5,FALSE))","v":{"$error":"#REF!"}},{"$f":"IF(J387=\"\",\"\",VLOOKUP(A387,OFFSET([0]!_xlnm.Print_Area,3,0),6,FALSE))","v":{"$error":"#REF!"}},{"$f":"IF(J387=\"\",\"\",VLOOKUP(A387,OFFSET([0]!_xlnm.Print_Area,3,0,,7),7,FALSE))","v":{"$error":"#REF!"}}," ",{"$f":"INDEX(#REF!,SMALL(IF(#REF!<>\"\",ROW(#REF!)),ROWS(I$1:I387)-1))","v":{"$error":"#REF!"}},{"$f":"INDEX(#REF!,SMALL(IF(#REF!<>\"\",ROW(#REF!)),ROWS(J$1:J387)-1))","v":{"$error":"#REF!"}},{"$f":"INDEX(#REF!,SMALL(IF(#REF!<>\"\",ROW(#REF!)),ROWS(K$1:K387)-1))","v":{"$error":"#REF!"}}]
[{"$error":"#REF!"},{"$error":"#REF!"},{"$error":"#REF!"},{"$f":"IF(J388=\"\",VLOOKUP(C388,OFFSET([0]!_xlnm.Print_Area,3,2),2,FALSE),VLOOKUP(A388,OFFSET([0]!_xlnm.Print_Area,3,0),4,FALSE))","v":{"$error":"#REF!"}},{"$f":"IF(J388=\"\",\"\",VLOOKUP(A388,OFFSET([0]!_xlnm.Print_Area,3,0),5,FALSE))","v":{"$error":"#REF!"}},{"$f":"IF(J388=\"\",\"\",VLOOKUP(A388,OFFSET([0]!_xlnm.Print_Area,3,0),6,FALSE))","v":{"$error":"#REF!"}},{"$f":"IF(J388=\"\",\"\",VLOOKUP(A388,OFFSET([0]!_xlnm.Print_Area,3,0,,7),7,FALSE))","v":{"$error":"#REF!"}}," ",{"$f":"INDEX(#REF!,SMALL(IF(#REF!<>\"\",ROW(#REF!)),ROWS(I$1:I388)-1))","v":{"$error":"#REF!"}},{"$f":"INDEX(#REF!,SMALL(IF(#REF!<>\"\",ROW(#REF!)),ROWS(J$1:J388)-1))","v":{"$error":"#REF!"}},{"$f":"INDEX(#REF!,SMALL(IF(#REF!<>\"\",ROW(#REF!)),ROWS(K$1:K388)-1))","v":{"$error":"#REF!"}}]
[{"$f":"IF(J389=0,\"\",J389)","v":{"$error":"#REF!"}},{"$f":"IF(K389=0,\"\",K389)","v":{"$error":"#REF!"}},{"$f":"I389","v":{"$error":"#REF!"}},{"$f":"IF(J389=\"\",VLOOKUP(C389,OFFSET([0]!_xlnm.Print_Area,3,2),2,FALSE),VLOOKUP(A389,OFFSET([0]!_xlnm.Print_Area,3,0),4,FALSE))","v":{"$error":"#REF!"}},{"$f":"IF(J389=\"\",\"\",VLOOKUP(A389,OFFSET([0]!_xlnm.Print_Area,3,0),5,FALSE))","v":{"$error":"#REF!"}},{"$f":"IF(J389=\"\",\"\",VLOOKUP(A389,OFFSET([0]!_xlnm.Print_Area,3,0),6,FALSE))","v":{"$error":"#REF!"}},{"$f":"IF(J389=\"\",\"\",VLOOKUP(A389,OFFSET([0]!_xlnm.Print_Area,3,0,,7),7,FALSE))","v":{"$error":"#REF!"}},{"$f":"IFERROR(ROUND(F389*G389,2),\" \")","v":" "},{"$f":"INDEX(#REF!,SMALL(IF(#REF!<>\"\",ROW(#REF!)),ROWS(I$1:I389)-1))","v":{"$error":"#REF!"}},{"$f":"INDEX(#REF!,SMALL(IF(#REF!<>\"\",ROW(#REF!)),ROWS(J$1:J389)-1))","v":{"$error":"#REF!"}},{"$f":"INDEX(#REF!,SMALL(IF(#REF!<>\"\",ROW(#REF!)),ROWS(K$1:K389)-1))","v":{"$error":"#REF!"}}]
[{"$error":"#REF!"},{"$error":"#REF!"},{"$error":"#REF!"},{"$f":"IF(J390=\"\",VLOOKUP(C390,OFFSET([0]!_xlnm.Print_Area,3,2),2,FALSE),VLOOKUP(A390,OFFSET([0]!_xlnm.Print_Area,3,0),4,FALSE))","v":{"$error":"#REF!"}},{"$f":"IF(J390=\"\",\"\",VLOOKUP(A390,OFFSET([0]!_xlnm.Print_Area,3,0),5,FALSE))","v":{"$error":"#REF!"}},{"$f":"IF(J390=\"\",\"\",VLOOKUP(A390,OFFSET([0]!_xlnm.Print_Area,3,0),6,FALSE))","v":{"$error":"#REF!"}},{"$f":"IF(J390=\"\",\"\",VLOOKUP(A390,OFFSET([0]!_xlnm.Print_Area,3,0,,7),7,FALSE))","v":{"$error":"#REF!"}}," ",{"$f":"INDEX(#REF!,SMALL(IF(#REF!<>\"\",ROW(#REF!)),ROWS(I$1:I390)-1))","v":{"$error":"#REF!"}},{"$f":"INDEX(#REF!,SMALL(IF(#REF!<>\"\",ROW(#REF!)),ROWS(J$1:J390)-1))","v":{"$error":"#REF!"}},{"$f":"INDEX(#REF!,SMALL(IF(#REF!<>\"\",ROW(#REF!)),ROWS(K$1:K390)-1))","v":{"$error":"#REF!"}}]
[{"$error":"#REF!"},{"$error":"#REF!"},{"$error":"#REF!"},{"$f":"IF(J391=\"\",VLOOKUP(C391,OFFSET([0]!_xlnm.Print_Area,3,2),2,FALSE),VLOOKUP(A391,OFFSET([0]!_xlnm.Print_Area,3,0),4,FALSE))","v":{"$error":"#REF!"}},{"$f":"IF(J391=\"\",\"\",VLOOKUP(A391,OFFSET([0]!_xlnm.Print_Area,3,0),5,FALSE))","v":{"$error":"#REF!"}},{"$f":"IF(J391=\"\",\"\",VLOOKUP(A391,OFFSET([0]!_xlnm.Print_Area,3,0),6,FALSE))","v":{"$error":"#REF!"}},{"$f":"IF(J391=\"\",\"\",VLOOKUP(A391,OFFSET([0]!_xlnm.Print_Area,3,0,,7),7,FALSE))","v":{"$error":"#REF!"}}," ",{"$f":"INDEX(#REF!,SMALL(IF(#REF!<>\"\",ROW(#REF!)),ROWS(I$1:I391)-1))","v":{"$error":"#REF!"}},{"$f":"INDEX(#REF!,SMALL(IF(#REF!<>\"\",ROW(#REF!)),ROWS(J$1:J391)-1))","v":{"$error":"#REF!"}},{"$f":"INDEX(#REF!,SMALL(IF(#REF!<>\"\",ROW(#REF!)),ROWS(K$1:K391)-1))","v":{"$error":"#REF!"}}]
[{"$error":"#REF!"},{"$error":"#REF!"},{"$error":"#REF!"},{"$f":"IF(J392=\"\",VLOOKUP(C392,OFFSET([0]!_xlnm.Print_Area,3,2),2,FALSE),VLOOKUP(A392,OFFSET([0]!_xlnm.Print_Area,3,0),4,FALSE))","v":{"$error":"#REF!"}},{"$f":"IF(J392=\"\",\"\",VLOOKUP(A392,OFFSET([0]!_xlnm.Print_Area,3,0),5,FALSE))","v":{"$error":"#REF!"}},{"$f":"IF(J392=\"\",\"\",VLOOKUP(A392,OFFSET([0]!_xlnm.Print_Area,3,0),6,FALSE))","v":{"$error":"#REF!"}},{"$f":"IF(J392=\"\",\"\",VLOOKUP(A392,OFFSET([0]!_xlnm.Print_Area,3,0,,7),7,FALSE))","v":{"$error":"#REF!"}}," ",{"$f":"INDEX(#REF!,SMALL(IF(#REF!<>\"\",ROW(#REF!)),ROWS(I$1:I392)-1))","v":{"$error":"#REF!"}},{"$f":"INDEX(#REF!,SMALL(IF(#REF!<>\"\",ROW(#REF!)),ROWS(J$1:J392)-1))","v":{"$error":"#REF!"}},{"$f":"INDEX(#REF!,SMALL(IF(#REF!<>\"\",ROW(#REF!)),ROWS(K$1:K392)-1))","v":{"$error":"#REF!"}}]
[{"$error":"#REF!"},{"$error":"#REF!"},{"$error":"#REF!"},{"$f":"IF(J393=\"\",VLOOKUP(C393,OFFSET([0]!_xlnm.Print_Area,3,2),2,FALSE),VLOOKUP(A393,OFFSET([0]!_xlnm.Print_Area,3,0),4,FALSE))","v":{"$error":"#REF!"}},{"$f":"IF(J393=\"\",\"\",VLOOKUP(A393,OFFSET([0]!_xlnm.Print_Area,3,0),5,FALSE))","v":{"$error":"#REF!"}},{"$f":"IF(J393=\"\",\"\",VLOOKUP(A393,OFFSET([0]!_xlnm.Print_Area,3,0),6,FALSE))","v":{"$error":"#REF!"}},{"$f":"IF(J393=\"\",\"\",VLOOKUP(A393,OFFSET([0]!_xlnm.Print_Area,3,0,,7),7,FALSE))","v":{"$error":"#REF!"}}," ",{"$f":"INDEX(#REF!,SMALL(IF(#REF!<>\"\",ROW(#REF!)),ROWS(I$1:I393)-1))","v":{"$error":"#REF!"}},{"$f":"INDEX(#REF!,SMALL(IF(#REF!<>\"\",ROW(#REF!)),ROWS(J$1:J393)-1))","v":{"$error":"#REF!"}},{"$f":"INDEX(#REF!,SMALL(IF(#REF!<>\"\",ROW(#REF!)),ROWS(K$1:K393)-1))","v":{"$error":"#REF!"}}]
[{"$error":"#REF!"},{"$error":"#REF!"},{"$error":"#REF!"},{"$f":"IF(J394=\"\",VLOOKUP(C394,OFFSET([0]!_xlnm.Print_Area,3,2),2,FALSE),VLOOKUP(A394,OFFSET([0]!_xlnm.Print_Area,3,0),4,FALSE))","v":{"$error":"#REF!"}},{"$f":"IF(J394=\"\",\"\",VLOOKUP(A394,OFFSET([0]!_xlnm.Print_Area,3,0),5,FALSE))","v":{"$error":"#REF!"}},{"$f":"IF(J394=\"\",\"\",VLOOKUP(A394,OFFSET([0]!_xlnm.Print_Area,3,0),6,FALSE))","v":{"$error":"#REF!"}},{"$f":"IF(J394=\"\",\"\",VLOOKUP(A394,OFFSET([0]!_xlnm.Print_Area,3,0,,7),7,FALSE))","v":{"$error":"#REF!"}}," ",{"$f":"INDEX(#REF!,SMALL(IF(#REF!<>\"\",ROW(#REF!)),ROWS(I$1:I394)-1))","v":{"$error":"#REF!"}},{"$f":"INDEX(#REF!,SMALL(IF(#REF!<>\"\",ROW(#REF!)),ROWS(J$1:J394)-1))","v":{"$error":"#REF!"}},{"$f":"INDEX(#REF!,SMALL(IF(#REF!<>\"\",ROW(#REF!)),ROWS(K$1:K394)-1))","v":{"$error":"#REF!"}}]
[{"$error":"#REF!"},{"$error":"#REF!"},{"$error":"#REF!"},{"$f":"IF(J395=\"\",VLOOKUP(C395,OFFSET([0]!_xlnm.Print_Area,3,2),2,FALSE),VLOOKUP(A395,OFFSET([0]!_xlnm.Print_Area,3,0),4,FALSE))","v":{"$error":"#REF!"}},{"$f":"IF(J395=\"\",\"\",VLOOKUP(A395,OFFSET([0]!_xlnm.Print_Area,3,0),5,FALSE))","v":{"$error":"#REF!"}},{"$f":"IF(J395=\"\",\"\",VLOOKUP(A395,OFFSET([0]!_xlnm.Print_Area,3,0),6,FALSE))","v":{"$error":"#REF!"}},{"$f":"IF(J395=\"\",\"\",VLOOKUP(A395,OFFSET([0]!_xlnm.Print_Area,3,0,,7),7,FALSE))","v":{"$error":"#REF!"}}," ",{"$f":"INDEX(#REF!,SMALL(IF(#REF!<>\"\",ROW(#REF!)),ROWS(I$1:I395)-1))","v":{"$error":"#REF!"}},{"$f":"INDEX(#REF!,SMALL(IF(#REF!<>\"\",ROW(#REF!)),ROWS(J$1:J395)-1))","v":{"$error":"#REF!"}},{"$f":"INDEX(#REF!,SMALL(IF(#REF!<>\"\",ROW(#REF!)),ROWS(K$1:K395)-1))","v":{"$error":"#REF!"}}]
[{"$error":"#REF!"},{"$error":"#REF!"},{"$error":"#REF!"},{"$f":"IF(J396=\"\",VLOOKUP(C396,OFFSET([0]!_xlnm.Print_Area,3,2),2,FALSE),VLOOKUP(A396,OFFSET([0]!_xlnm.Print_Area,3,0),4,FALSE))","v":{"$error":"#REF!"}},{"$f":"IF(J396=\"\",\"\",VLOOKUP(A396,OFFSET([0]!_xlnm.Print_Area,3,0),5,FALSE))","v":{"$error":"#REF!"}},{"$f":"IF(J396=\"\",\"\",VLOOKUP(A396,OFFSET([0]!_xlnm.Print_Area,3,0),6,FALSE))","v":{"$error":"#REF!"}},{"$f":"IF(J396=\"\",\"\",VLOOKUP(A396,OFFSET([0]!_xlnm.Print_Area,3,0,,7),7,FALSE))","v":{"$error":"#REF!"}}," ",{"$f":"INDEX(#REF!,SMALL(IF(#REF!<>\"\",ROW(#REF!)),ROWS(I$1:I396)-1))","v":{"$error":"#REF!"}},{"$f":"INDEX(#REF!,SMALL(IF(#REF!<>\"\",ROW(#REF!)),ROWS(J$1:J396)-1))","v":{"$error":"#REF!"}},{"$f":"INDEX(#REF!,SMALL(IF(#REF!<>\"\",ROW(#REF!)),ROWS(K$1:K396)-1))","v":{"$error":"#REF!"}}]
[{"$error":"#REF!"},{"$error":"#REF!"},{"$error":"#REF!"},{"$f":"IF(J397=\"\",VLOOKUP(C397,OFFSET([0]!_xlnm.Print_Area,3,2),2,FALSE),VLOOKUP(A397,OFFSET([0]!_xlnm.Print_Area,3,0),4,FALSE))","v":{"$error":"#REF!"}},{"$f":"IF(J397=\"\",\"\",VLOOKUP(A397,OFFSET([0]!_xlnm.Print_Area,3,0),5,FALSE))","v":{"$error":"#REF!"}},{"$f":"IF(J397=\"\",\"\",VLOOKUP(A397,OFFSET([0]!_xlnm.Print_Area,3,0),6,FALSE))","v":{"$error":"#REF!"}},{"$f":"IF(J397=\"\",\"\",VLOOKUP(A397,OFFSET([0]!_xlnm.Print_Area,3,0,,7),7,FALSE))","v":{"$error":"#REF!"}}," ",{"$f":"INDEX(#REF!,SMALL(IF(#REF!<>\"\",ROW(#REF!)),ROWS(I$1:I397)-1))","v":{"$error":"#REF!"}},{"$f":"INDEX(#REF!,SMALL(IF(#REF!<>\"\",ROW(#REF!)),ROWS(J$1:J397)-1))","v":{"$error":"#REF!"}},{"$f":"INDEX(#REF!,SMALL(IF(#REF!<>\"\",ROW(#REF!)),ROWS(K$1:K397)-1))","v":{"$error":"#REF!"}}]
[{"$error":"#REF!"},{"$error":"#REF!"},{"$error":"#REF!"},{"$f":"IF(J398=\"\",VLOOKUP(C398,OFFSET([0]!_xlnm.Print_Area,3,2),2,FALSE),VLOOKUP(A398,OFFSET([0]!_xlnm.Print_Area,3,0),4,FALSE))","v":{"$error":"#REF!"}},{"$f":"IF(J398=\"\",\"\",VLOOKUP(A398,OFFSET([0]!_xlnm.Print_Area,3,0),5,FALSE))","v":{"$error":"#REF!"}},{"$f":"IF(J398=\"\",\"\",VLOOKUP(A398,OFFSET([0]!_xlnm.Print_Area,3,0),6,FALSE))","v":{"$error":"#REF!"}},{"$f":"IF(J398=\"\",\"\",VLOOKUP(A398,OFFSET([0]!_xlnm.Print_Area,3,0,,7),7,FALSE))","v":{"$error":"#REF!"}}," ",{"$f":"INDEX(#REF!,SMALL(IF(#REF!<>\"\",ROW(#REF!)),ROWS(I$1:I398)-1))","v":{"$error":"#REF!"}},{"$f":"INDEX(#REF!,SMALL(IF(#REF!<>\"\",ROW(#REF!)),ROWS(J$1:J398)-1))","v":{"$error":"#REF!"}},{"$f":"INDEX(#REF!,SMALL(IF(#REF!<>\"\",ROW(#REF!)),ROWS(K$1:K398)-1))","v":{"$error":"#REF!"}}]
[{"$error":"#REF!"},{"$error":"#REF!"},{"$error":"#REF!"},{"$f":"IF(J399=\"\",VLOOKUP(C399,OFFSET([0]!_xlnm.Print_Area,3,2),2,FALSE),VLOOKUP(A399,OFFSET([0]!_xlnm.Print_Area,3,0),4,FALSE))","v":{"$error":"#REF!"}},{"$f":"IF(J399=\"\",\"\",VLOOKUP(A399,OFFSET([0]!_xlnm.Print_Area,3,0),5,FALSE))","v":{"$error":"#REF!"}},{"$f":"IF(J399=\"\",\"\",VLOOKUP(A399,OFFSET([0]!_xlnm.Print_Area,3,0),6,FALSE))","v":{"$error":"#REF!"}},{"$f":"IF(J399=\"\",\"\",VLOOKUP(A399,OFFSET([0]!_xlnm.Print_Area,3,0,,7),7,FALSE))","v":{"$error":"#REF!"}}," ",{"$f":"INDEX(#REF!,SMALL(IF(#REF!<>\"\",ROW(#REF!)),ROWS(I$1:I399)-1))","v":{"$error":"#REF!"}},{"$f":"INDEX(#REF!,SMALL(IF(#REF!<>\"\",ROW(#REF!)),ROWS(J$1:J399)-1))","v":{"$error":"#REF!"}},{"$f":"INDEX(#REF!,SMALL(IF(#REF!<>\"\",ROW(#REF!)),ROWS(K$1:K399)-1))","v":{"$error":"#REF!"}}]
[{"$error":"#REF!"},{"$error":"#REF!"},{"$error":"#REF!"},{"$f":"IF(J400=\"\",VLOOKUP(C400,OFFSET([0]!_xlnm.Print_Area,3,2),2,FALSE),VLOOKUP(A400,OFFSET([0]!_xlnm.Print_Area,3,0),4,FALSE))","v":{"$error":"#REF!"}},{"$f":"IF(J400=\"\",\"\",VLOOKUP(A400,OFFSET([0]!_xlnm.Print_Area,3,0),5,FALSE))","v":{"$error":"#REF!"}},{"$f":"IF(J400=\"\",\"\",VLOOKUP(A400,OFFSET([0]!_xlnm.Print_Area,3,0),6,FALSE))","v":{"$error":"#REF!"}},{"$f":"IF(J400=\"\",\"\",VLOOKUP(A400,OFFSET([0]!_xlnm.Print_Area,3,0,,7),7,FALSE))","v":{"$error":"#REF!"}}," ",{"$f":"INDEX(#REF!,SMALL(IF(#REF!<>\"\",ROW(#REF!)),ROWS(I$1:I400)-1))","v":{"$error":"#REF!"}},{"$f":"INDEX(#REF!,SMALL(IF(#REF!<>\"\",ROW(#REF!)),ROWS(J$1:J400)-1))","v":{"$error":"#REF!"}},{"$f":"INDEX(#REF!,SMALL(IF(#REF!<>\"\",ROW(#REF!)),ROWS(K$1:K400)-1))","v":{"$error":"#REF!"}}]
[{"$error":"#REF!"},{"$error":"#REF!"},{"$error":"#REF!"},{"$f":"IF(J401=\"\",VLOOKUP(C401,OFFSET([0]!_xlnm.Print_Area,3,2),2,FALSE),VLOOKUP(A401,OFFSET([0]!_xlnm.Print_Area,3,0),4,FALSE))","v":{"$error":"#REF!"}},{"$f":"IF(J401=\"\",\"\",VLOOKUP(A401,OFFSET([0]!_xlnm.Print_Area,3,0),5,FALSE))","v":{"$error":"#REF!"}},{"$f":"IF(J401=\"\",\"\",VLOOKUP(A401,OFFSET([0]!_xlnm.Print_Area,3,0),6,FALSE))","v":{"$error":"#REF!"}},{"$f":"IF(J401=\"\",\"\",VLOOKUP(A401,OFFSET([0]!_xlnm.Print_Area,3,0,,7),7,FALSE))","v":{"$error":"#REF!"}}," ",{"$f":"INDEX(#REF!,SMALL(IF(#REF!<>\"\",ROW(#REF!)),ROWS(I$1:I401)-1))","v":{"$error":"#REF!"}},{"$f":"INDEX(#REF!,SMALL(IF(#REF!<>\"\",ROW(#REF!)),ROWS(J$1:J401)-1))","v":{"$error":"#REF!"}},{"$f":"INDEX(#REF!,SMALL(IF(#REF!<>\"\",ROW(#REF!)),ROWS(K$1:K401)-1))","v":{"$error":"#REF!"}}]
[{"$error":"#REF!"},{"$error":"#REF!"},{"$error":"#REF!"},{"$f":"IF(J402=\"\",VLOOKUP(C402,OFFSET([0]!_xlnm.Print_Area,3,2),2,FALSE),VLOOKUP(A402,OFFSET([0]!_xlnm.Print_Area,3,0),4,FALSE))","v":{"$error":"#REF!"}},{"$f":"IF(J402=\"\",\"\",VLOOKUP(A402,OFFSET([0]!_xlnm.Print_Area,3,0),5,FALSE))","v":{"$error":"#REF!"}},{"$f":"IF(J402=\"\",\"\",VLOOKUP(A402,OFFSET([0]!_xlnm.Print_Area,3,0),6,FALSE))","v":{"$error":"#REF!"}},{"$f":"IF(J402=\"\",\"\",VLOOKUP(A402,OFFSET([0]!_xlnm.Print_Area,3,0,,7),7,FALSE))","v":{"$error":"#REF!"}}," ",{"$f":"INDEX(#REF!,SMALL(IF(#REF!<>\"\",ROW(#REF!)),ROWS(I$1:I402)-1))","v":{"$error":"#REF!"}},{"$f":"INDEX(#REF!,SMALL(IF(#REF!<>\"\",ROW(#REF!)),ROWS(J$1:J402)-1))","v":{"$error":"#REF!"}},{"$f":"INDEX(#REF!,SMALL(IF(#REF!<>\"\",ROW(#REF!)),ROWS(K$1:K402)-1))","v":{"$error":"#REF!"}}]
[{"$error":"#REF!"},{"$error":"#REF!"},{"$error":"#REF!"},{"$f":"IF(J403=\"\",VLOOKUP(C403,OFFSET([0]!_xlnm.Print_Area,3,2),2,FALSE),VLOOKUP(A403,OFFSET([0]!_xlnm.Print_Area,3,0),4,FALSE))","v":{"$error":"#REF!"}},{"$f":"IF(J403=\"\",\"\",VLOOKUP(A403,OFFSET([0]!_xlnm.Print_Area,3,0),5,FALSE))","v":{"$error":"#REF!"}},{"$f":"IF(J403=\"\",\"\",VLOOKUP(A403,OFFSET([0]!_xlnm.Print_Area,3,0),6,FALSE))","v":{"$error":"#REF!"}},{"$f":"IF(J403=\"\",\"\",VLOOKUP(A403,OFFSET([0]!_xlnm.Print_Area,3,0,,7),7,FALSE))","v":{"$error":"#REF!"}}," ",{"$f":"INDEX(#REF!,SMALL(IF(#REF!<>\"\",ROW(#REF!)),ROWS(I$1:I403)-1))","v":{"$error":"#REF!"}},{"$f":"INDEX(#REF!,SMALL(IF(#REF!<>\"\",ROW(#REF!)),ROWS(J$1:J403)-1))","v":{"$error":"#REF!"}},{"$f":"INDEX(#REF!,SMALL(IF(#REF!<>\"\",ROW(#REF!)),ROWS(K$1:K403)-1))","v":{"$error":"#REF!"}}]
[{"$error":"#REF!"},{"$error":"#REF!"},{"$error":"#REF!"},{"$f":"IF(J404=\"\",VLOOKUP(C404,OFFSET([0]!_xlnm.Print_Area,3,2),2,FALSE),VLOOKUP(A404,OFFSET([0]!_xlnm.Print_Area,3,0),4,FALSE))","v":{"$error":"#REF!"}},{"$f":"IF(J404=\"\",\"\",VLOOKUP(A404,OFFSET([0]!_xlnm.Print_Area,3,0),5,FALSE))","v":{"$error":"#REF!"}},{"$f":"IF(J404=\"\",\"\",VLOOKUP(A404,OFFSET([0]!_xlnm.Print_Area,3,0),6,FALSE))","v":{"$error":"#REF!"}},{"$f":"IF(J404=\"\",\"\",VLOOKUP(A404,OFFSET([0]!_xlnm.Print_Area,3,0,,7),7,FALSE))","v":{"$error":"#REF!"}}," ",{"$f":"INDEX(#REF!,SMALL(IF(#REF!<>\"\",ROW(#REF!)),ROWS(I$1:I404)-1))","v":{"$error":"#REF!"}},{"$f":"INDEX(#REF!,SMALL(IF(#REF!<>\"\",ROW(#REF!)),ROWS(J$1:J404)-1))","v":{"$error":"#REF!"}},{"$f":"INDEX(#REF!,SMALL(IF(#REF!<>\"\",ROW(#REF!)),ROWS(K$1:K404)-1))","v":{"$error":"#REF!"}}]
[{"$error":"#REF!"},{"$error":"#REF!"},{"$error":"#REF!"},{"$f":"IF(J405=\"\",VLOOKUP(C405,OFFSET([0]!_xlnm.Print_Area,3,2),2,FALSE),VLOOKUP(A405,OFFSET([0]!_xlnm.Print_Area,3,0),4,FALSE))","v":{"$error":"#REF!"}},{"$f":"IF(J405=\"\",\"\",VLOOKUP(A405,OFFSET([0]!_xlnm.Print_Area,3,0),5,FALSE))","v":{"$error":"#REF!"}},{"$f":"IF(J405=\"\",\"\",VLOOKUP(A405,OFFSET([0]!_xlnm.Print_Area,3,0),6,FALSE))","v":{"$error":"#REF!"}},{"$f":"IF(J405=\"\",\"\",VLOOKUP(A405,OFFSET([0]!_xlnm.Print_Area,3,0,,7),7,FALSE))","v":{"$error":"#REF!"}}," ",{"$f":"INDEX(#REF!,SMALL(IF(#REF!<>\"\",ROW(#REF!)),ROWS(I$1:I405)-1))","v":{"$error":"#REF!"}},{"$f":"INDEX(#REF!,SMALL(IF(#REF!<>\"\",ROW(#REF!)),ROWS(J$1:J405)-1))","v":{"$error":"#REF!"}},{"$f":"INDEX(#REF!,SMALL(IF(#REF!<>\"\",ROW(#REF!)),ROWS(K$1:K405)-1))","v":{"$error":"#REF!"}}]
[{"$error":"#REF!"},{"$error":"#REF!"},{"$error":"#REF!"},{"$f":"IF(J406=\"\",VLOOKUP(C406,OFFSET([0]!_xlnm.Print_Area,3,2),2,FALSE),VLOOKUP(A406,OFFSET([0]!_xlnm.Print_Area,3,0),4,FALSE))","v":{"$error":"#REF!"}},{"$f":"IF(J406=\"\",\"\",VLOOKUP(A406,OFFSET([0]!_xlnm.Print_Area,3,0),5,FALSE))","v":{"$error":"#REF!"}},{"$f":"IF(J406=\"\",\"\",VLOOKUP(A406,OFFSET([0]!_xlnm.Print_Area,3,0),6,FALSE))","v":{"$error":"#REF!"}},{"$f":"IF(J406=\"\",\"\",VLOOKUP(A406,OFFSET([0]!_xlnm.Print_Area,3,0,,7),7,FALSE))","v":{"$error":"#REF!"}}," ",{"$f":"INDEX(#REF!,SMALL(IF(#REF!<>\"\",ROW(#REF!)),ROWS(I$1:I406)-1))","v":{"$error":"#REF!"}},{"$f":"INDEX(#REF!,SMALL(IF(#REF!<>\"\",ROW(#REF!)),ROWS(J$1:J406)-1))","v":{"$error":"#REF!"}},{"$f":"INDEX(#REF!,SMALL(IF(#REF!<>\"\",ROW(#REF!)),ROWS(K$1:K406)-1))","v":{"$error":"#REF!"}}]
[{"$error":"#REF!"},{"$error":"#REF!"},{"$error":"#REF!"},{"$f":"IF(J407=\"\",VLOOKUP(C407,OFFSET([0]!_xlnm.Print_Area,3,2),2,FALSE),VLOOKUP(A407,OFFSET([0]!_xlnm.Print_Area,3,0),4,FALSE))","v":{"$error":"#REF!"}},{"$f":"IF(J407=\"\",\"\",VLOOKUP(A407,OFFSET([0]!_xlnm.Print_Area,3,0),5,FALSE))","v":{"$error":"#REF!"}},{"$f":"IF(J407=\"\",\"\",VLOOKUP(A407,OFFSET([0]!_xlnm.Print_Area,3,0),6,FALSE))","v":{"$error":"#REF!"}},{"$f":"IF(J407=\"\",\"\",VLOOKUP(A407,OFFSET([0]!_xlnm.Print_Area,3,0,,7),7,FALSE))","v":{"$error":"#REF!"}}," ",{"$f":"INDEX(#REF!,SMALL(IF(#REF!<>\"\",ROW(#REF!)),ROWS(I$1:I407)-1))","v":{"$error":"#REF!"}},{"$f":"INDEX(#REF!,SMALL(IF(#REF!<>\"\",ROW(#REF!)),ROWS(J$1:J407)-1))","v":{"$error":"#REF!"}},{"$f":"INDEX(#REF!,SMALL(IF(#REF!<>\"\",ROW(#REF!)),ROWS(K$1:K407)-1))","v":{"$error":"#REF!"}}]
[{"$error":"#REF!"},{"$error":"#REF!"},{"$error":"#REF!"},{"$f":"IF(J408=\"\",VLOOKUP(C408,OFFSET([0]!_xlnm.Print_Area,3,2),2,FALSE),VLOOKUP(A408,OFFSET([0]!_xlnm.Print_Area,3,0),4,FALSE))","v":{"$error":"#REF!"}},{"$f":"IF(J408=\"\",\"\",VLOOKUP(A408,OFFSET([0]!_xlnm.Print_Area,3,0),5,FALSE))","v":{"$error":"#REF!"}},{"$f":"IF(J408=\"\",\"\",VLOOKUP(A408,OFFSET([0]!_xlnm.Print_Area,3,0),6,FALSE))","v":{"$error":"#REF!"}},{"$f":"IF(J408=\"\",\"\",VLOOKUP(A408,OFFSET([0]!_xlnm.Print_Area,3,0,,7),7,FALSE))","v":{"$error":"#REF!"}}," ",{"$f":"INDEX(#REF!,SMALL(IF(#REF!<>\"\",ROW(#REF!)),ROWS(I$1:I408)-1))","v":{"$error":"#REF!"}},{"$f":"INDEX(#REF!,SMALL(IF(#REF!<>\"\",ROW(#REF!)),ROWS(J$1:J408)-1))","v":{"$error":"#REF!"}},{"$f":"INDEX(#REF!,SMALL(IF(#REF!<>\"\",ROW(#REF!)),ROWS(K$1:K408)-1))","v":{"$error":"#REF!"}}]
[{"$error":"#REF!"},{"$error":"#REF!"},{"$error":"#REF!"},{"$f":"IF(J409=\"\",VLOOKUP(C409,OFFSET([0]!_xlnm.Print_Area,3,2),2,FALSE),VLOOKUP(A409,OFFSET([0]!_xlnm.Print_Area,3,0),4,FALSE))","v":{"$error":"#REF!"}},{"$f":"IF(J409=\"\",\"\",VLOOKUP(A409,OFFSET([0]!_xlnm.Print_Area,3,0),5,FALSE))","v":{"$error":"#REF!"}},{"$f":"IF(J409=\"\",\"\",VLOOKUP(A409,OFFSET([0]!_xlnm.Print_Area,3,0),6,FALSE))","v":{"$error":"#REF!"}},{"$f":"IF(J409=\"\",\"\",VLOOKUP(A409,OFFSET([0]!_xlnm.Print_Area,3,0,,7),7,FALSE))","v":{"$error":"#REF!"}}," ",{"$f":"INDEX(#REF!,SMALL(IF(#REF!<>\"\",ROW(#REF!)),ROWS(I$1:I409)-1))","v":{"$error":"#REF!"}},{"$f":"INDEX(#REF!,SMALL(IF(#REF!<>\"\",ROW(#REF!)),ROWS(J$1:J409)-1))","v":{"$error":"#REF!"}},{"$f":"INDEX(#REF!,SMALL(IF(#REF!<>\"\",ROW(#REF!)),ROWS(K$1:K409)-1))","v":{"$error":"#REF!"}}]
[{"$error":"#REF!"},{"$error":"#REF!"},{"$error":"#REF!"},{"$f":"IF(J410=\"\",VLOOKUP(C410,OFFSET([0]!_xlnm.Print_Area,3,2),2,FALSE),VLOOKUP(A410,OFFSET([0]!_xlnm.Print_Area,3,0),4,FALSE))","v":{"$error":"#REF!"}},{"$f":"IF(J410=\"\",\"\",VLOOKUP(A410,OFFSET([0]!_xlnm.Print_Area,3,0),5,FALSE))","v":{"$error":"#REF!"}},{"$f":"IF(J410=\"\",\"\",VLOOKUP(A410,OFFSET([0]!_xlnm.Print_Area,3,0),6,FALSE))","v":{"$error":"#REF!"}},{"$f":"IF(J410=\"\",\"\",VLOOKUP(A410,OFFSET([0]!_xlnm.Print_Area,3,0,,7),7,FALSE))","v":{"$error":"#REF!"}}," ",{"$f":"INDEX(#REF!,SMALL(IF(#REF!<>\"\",ROW(#REF!)),ROWS(I$1:I410)-1))","v":{"$error":"#REF!"}},{"$f":"INDEX(#REF!,SMALL(IF(#REF!<>\"\",ROW(#REF!)),ROWS(J$1:J410)-1))","v":{"$error":"#REF!"}},{"$f":"INDEX(#REF!,SMALL(IF(#REF!<>\"\",ROW(#REF!)),ROWS(K$1:K410)-1))","v":{"$error":"#REF!"}}]
[{"$error":"#REF!"},{"$error":"#REF!"},{"$error":"#REF!"},{"$f":"IF(J411=\"\",VLOOKUP(C411,OFFSET([0]!_xlnm.Print_Area,3,2),2,FALSE),VLOOKUP(A411,OFFSET([0]!_xlnm.Print_Area,3,0),4,FALSE))","v":{"$error":"#REF!"}},{"$f":"IF(J411=\"\",\"\",VLOOKUP(A411,OFFSET([0]!_xlnm.Print_Area,3,0),5,FALSE))","v":{"$error":"#REF!"}},{"$f":"IF(J411=\"\",\"\",VLOOKUP(A411,OFFSET([0]!_xlnm.Print_Area,3,0),6,FALSE))","v":{"$error":"#REF!"}},{"$f":"IF(J411=\"\",\"\",VLOOKUP(A411,OFFSET([0]!_xlnm.Print_Area,3,0,,7),7,FALSE))","v":{"$error":"#REF!"}}," ",{"$f":"INDEX(#REF!,SMALL(IF(#REF!<>\"\",ROW(#REF!)),ROWS(I$1:I411)-1))","v":{"$error":"#REF!"}},{"$f":"INDEX(#REF!,SMALL(IF(#REF!<>\"\",ROW(#REF!)),ROWS(J$1:J411)-1))","v":{"$error":"#REF!"}},{"$f":"INDEX(#REF!,SMALL(IF(#REF!<>\"\",ROW(#REF!)),ROWS(K$1:K411)-1))","v":{"$error":"#REF!"}}]
[{"$error":"#REF!"},{"$error":"#REF!"},{"$error":"#REF!"},{"$f":"IF(J412=\"\",VLOOKUP(C412,OFFSET([0]!_xlnm.Print_Area,3,2),2,FALSE),VLOOKUP(A412,OFFSET([0]!_xlnm.Print_Area,3,0),4,FALSE))","v":{"$error":"#REF!"}},{"$f":"IF(J412=\"\",\"\",VLOOKUP(A412,OFFSET([0]!_xlnm.Print_Area,3,0),5,FALSE))","v":{"$error":"#REF!"}},{"$f":"IF(J412=\"\",\"\",VLOOKUP(A412,OFFSET([0]!_xlnm.Print_Area,3,0),6,FALSE))","v":{"$error":"#REF!"}},{"$f":"IF(J412=\"\",\"\",VLOOKUP(A412,OFFSET([0]!_xlnm.Print_Area,3,0,,7),7,FALSE))","v":{"$error":"#REF!"}}," ",{"$f":"INDEX(#REF!,SMALL(IF(#REF!<>\"\",ROW(#REF!)),ROWS(I$1:I412)-1))","v":{"$error":"#REF!"}},{"$f":"INDEX(#REF!,SMALL(IF(#REF!<>\"\",ROW(#REF!)),ROWS(J$1:J412)-1))","v":{"$error":"#REF!"}},{"$f":"INDEX(#REF!,SMALL(IF(#REF!<>\"\",ROW(#REF!)),ROWS(K$1:K412)-1))","v":{"$error":"#REF!"}}]
[{"$error":"#REF!"},{"$error":"#REF!"},{"$error":"#REF!"},{"$f":"IF(J413=\"\",VLOOKUP(C413,OFFSET([0]!_xlnm.Print_Area,3,2),2,FALSE),VLOOKUP(A413,OFFSET([0]!_xlnm.Print_Area,3,0),4,FALSE))","v":{"$error":"#REF!"}},{"$f":"IF(J413=\"\",\"\",VLOOKUP(A413,OFFSET([0]!_xlnm.Print_Area,3,0),5,FALSE))","v":{"$error":"#REF!"}},{"$f":"IF(J413=\"\",\"\",VLOOKUP(A413,OFFSET([0]!_xlnm.Print_Area,3,0),6,FALSE))","v":{"$error":"#REF!"}},{"$f":"IF(J413=\"\",\"\",VLOOKUP(A413,OFFSET([0]!_xlnm.Print_Area,3,0,,7),7,FALSE))","v":{"$error":"#REF!"}}," ",{"$f":"INDEX(#REF!,SMALL(IF(#REF!<>\"\",ROW(#REF!)),ROWS(I$1:I413)-1))","v":{"$error":"#REF!"}},{"$f":"INDEX(#REF!,SMALL(IF(#REF!<>\"\",ROW(#REF!)),ROWS(J$1:J413)-1))","v":{"$error":"#REF!"}},{"$f":"INDEX(#REF!,SMALL(IF(#REF!<>\"\",ROW(#REF!)),ROWS(K$1:K413)-1))","v":{"$error":"#REF!"}}]
[{"$error":"#REF!"},{"$error":"#REF!"},{"$error":"#REF!"},{"$f":"IF(J414=\"\",VLOOKUP(C414,OFFSET([0]!_xlnm.Print_Area,3,2),2,FALSE),VLOOKUP(A414,OFFSET([0]!_xlnm.Print_Area,3,0),4,FALSE))","v":{"$error":"#REF!"}},{"$f":"IF(J414=\"\",\"\",VLOOKUP(A414,OFFSET([0]!_xlnm.Print_Area,3,0),5,FALSE))","v":{"$error":"#REF!"}},{"$f":"IF(J414=\"\",\"\",VLOOKUP(A414,OFFSET([0]!_xlnm.Print_Area,3,0),6,FALSE))","v":{"$error":"#REF!"}},{"$f":"IF(J414=\"\",\"\",VLOOKUP(A414,OFFSET([0]!_xlnm.Print_Area,3,0,,7),7,FALSE))","v":{"$error":"#REF!"}}," ",{"$f":"INDEX(#REF!,SMALL(IF(#REF!<>\"\",ROW(#REF!)),ROWS(I$1:I414)-1))","v":{"$error":"#REF!"}},{"$f":"INDEX(#REF!,SMALL(IF(#REF!<>\"\",ROW(#REF!)),ROWS(J$1:J414)-1))","v":{"$error":"#REF!"}},{"$f":"INDEX(#REF!,SMALL(IF(#REF!<>\"\",ROW(#REF!)),ROWS(K$1:K414)-1))","v":{"$error":"#REF!"}}]
[{"$error":"#REF!"},{"$error":"#REF!"},{"$error":"#REF!"},{"$f":"IF(J415=\"\",VLOOKUP(C415,OFFSET([0]!_xlnm.Print_Area,3,2),2,FALSE),VLOOKUP(A415,OFFSET([0]!_xlnm.Print_Area,3,0),4,FALSE))","v":{"$error":"#REF!"}},{"$f":"IF(J415=\"\",\"\",VLOOKUP(A415,OFFSET([0]!_xlnm.Print_Area,3,0),5,FALSE))","v":{"$error":"#REF!"}},{"$f":"IF(J415=\"\",\"\",VLOOKUP(A415,OFFSET([0]!_xlnm.Print_Area,3,0),6,FALSE))","v":{"$error":"#REF!"}},{"$f":"IF(J415=\"\",\"\",VLOOKUP(A415,OFFSET([0]!_xlnm.Print_Area,3,0,,7),7,FALSE))","v":{"$error":"#REF!"}}," ",{"$f":"INDEX(#REF!,SMALL(IF(#REF!<>\"\",ROW(#REF!)),ROWS(I$1:I415)-1))","v":{"$error":"#REF!"}},{"$f":"INDEX(#REF!,SMALL(IF(#REF!<>\"\",ROW(#REF!)),ROWS(J$1:J415)-1))","v":{"$error":"#REF!"}},{"$f":"INDEX(#REF!,SMALL(IF(#REF!<>\"\",ROW(#REF!)),ROWS(K$1:K415)-1))","v":{"$error":"#REF!"}}]
[{"$error":"#REF!"},{"$error":"#REF!"},{"$error":"#REF!"},{"$f":"IF(J416=\"\",VLOOKUP(C416,OFFSET([0]!_xlnm.Print_Area,3,2),2,FALSE),VLOOKUP(A416,OFFSET([0]!_xlnm.Print_Area,3,0),4,FALSE))","v":{"$error":"#REF!"}},{"$f":"IF(J416=\"\",\"\",VLOOKUP(A416,OFFSET([0]!_xlnm.Print_Area,3,0),5,FALSE))","v":{"$error":"#REF!"}},{"$f":"IF(J416=\"\",\"\",VLOOKUP(A416,OFFSET([0]!_xlnm.Print_Area,3,0),6,FALSE))","v":{"$error":"#REF!"}},{"$f":"IF(J416=\"\",\"\",VLOOKUP(A416,OFFSET([0]!_xlnm.Print_Area,3,0,,7),7,FALSE))","v":{"$error":"#REF!"}}," ",{"$f":"INDEX(#REF!,SMALL(IF(#REF!<>\"\",ROW(#REF!)),ROWS(I$1:I416)-1))","v":{"$error":"#REF!"}},{"$f":"INDEX(#REF!,SMALL(IF(#REF!<>\"\",ROW(#REF!)),ROWS(J$1:J416)-1))","v":{"$error":"#REF!"}},{"$f":"INDEX(#REF!,SMALL(IF(#REF!<>\"\",ROW(#REF!)),ROWS(K$1:K416)-1))","v":{"$error":"#REF!"}}]
[{"$error":"#REF!"},{"$error":"#REF!"},{"$error":"#REF!"},{"$f":"IF(J417=\"\",VLOOKUP(C417,OFFSET([0]!_xlnm.Print_Area,3,2),2,FALSE),VLOOKUP(A417,OFFSET([0]!_xlnm.Print_Area,3,0),4,FALSE))","v":{"$error":"#REF!"}},{"$f":"IF(J417=\"\",\"\",VLOOKUP(A417,OFFSET([0]!_xlnm.Print_Area,3,0),5,FALSE))","v":{"$error":"#REF!"}},{"$f":"IF(J417=\"\",\"\",VLOOKUP(A417,OFFSET([0]!_xlnm.Print_Area,3,0),6,FALSE))","v":{"$error":"#REF!"}},{"$f":"IF(J417=\"\",\"\",VLOOKUP(A417,OFFSET([0]!_xlnm.Print_Area,3,0,,7),7,FALSE))","v":{"$error":"#REF!"}}," ",{"$f":"INDEX(#REF!,SMALL(IF(#REF!<>\"\",ROW(#REF!)),ROWS(I$1:I417)-1))","v":{"$error":"#REF!"}},{"$f":"INDEX(#REF!,SMALL(IF(#REF!<>\"\",ROW(#REF!)),ROWS(J$1:J417)-1))","v":{"$error":"#REF!"}},{"$f":"INDEX(#REF!,SMALL(IF(#REF!<>\"\",ROW(#REF!)),ROWS(K$1:K417)-1))","v":{"$error":"#REF!"}}]
[{"$error":"#REF!"},{"$error":"#REF!"},{"$error":"#REF!"},{"$f":"IF(J418=\"\",VLOOKUP(C418,OFFSET([0]!_xlnm.Print_Area,3,2),2,FALSE),VLOOKUP(A418,OFFSET([0]!_xlnm.Print_Area,3,0),4,FALSE))","v":{"$error":"#REF!"}},{"$f":"IF(J418=\"\",\"\",VLOOKUP(A418,OFFSET([0]!_xlnm.Print_Area,3,0),5,FALSE))","v":{"$error":"#REF!"}},{"$f":"IF(J418=\"\",\"\",VLOOKUP(A418,OFFSET([0]!_xlnm.Print_Area,3,0),6,FALSE))","v":{"$error":"#REF!"}},{"$f":"IF(J418=\"\",\"\",VLOOKUP(A418,OFFSET([0]!_xlnm.Print_Area,3,0,,7),7,FALSE))","v":{"$error":"#REF!"}}," ",{"$f":"INDEX(#REF!,SMALL(IF(#REF!<>\"\",ROW(#REF!)),ROWS(I$1:I418)-1))","v":{"$error":"#REF!"}},{"$f":"INDEX(#REF!,SMALL(IF(#REF!<>\"\",ROW(#REF!)),ROWS(J$1:J418)-1))","v":{"$error":"#REF!"}},{"$f":"INDEX(#REF!,SMALL(IF(#REF!<>\"\",ROW(#REF!)),ROWS(K$1:K418)-1))","v":{"$error":"#REF!"}}]
[{"$error":"#REF!"},{"$error":"#REF!"},{"$error":"#REF!"},{"$f":"IF(J419=\"\",VLOOKUP(C419,OFFSET([0]!_xlnm.Print_Area,3,2),2,FALSE),VLOOKUP(A419,OFFSET([0]!_xlnm.Print_Area,3,0),4,FALSE))","v":{"$error":"#REF!"}},{"$f":"IF(J419=\"\",\"\",VLOOKUP(A419,OFFSET([0]!_xlnm.Print_Area,3,0),5,FALSE))","v":{"$error":"#REF!"}},{"$f":"IF(J419=\"\",\"\",VLOOKUP(A419,OFFSET([0]!_xlnm.Print_Area,3,0),6,FALSE))","v":{"$error":"#REF!"}},{"$f":"IF(J419=\"\",\"\",VLOOKUP(A419,OFFSET([0]!_xlnm.Print_Area,3,0,,7),7,FALSE))","v":{"$error":"#REF!"}}," ",{"$f":"INDEX(#REF!,SMALL(IF(#REF!<>\"\",ROW(#REF!)),ROWS(I$1:I419)-1))","v":{"$error":"#REF!"}},{"$f":"INDEX(#REF!,SMALL(IF(#REF!<>\"\",ROW(#REF!)),ROWS(J$1:J419)-1))","v":{"$error":"#REF!"}},{"$f":"INDEX(#REF!,SMALL(IF(#REF!<>\"\",ROW(#REF!)),ROWS(K$1:K419)-1))","v":{"$error":"#REF!"}}]
[{"$error":"#REF!"},{"$error":"#REF!"},{"$error":"#REF!"},{"$f":"IF(J420=\"\",VLOOKUP(C420,OFFSET([0]!_xlnm.Print_Area,3,2),2,FALSE),VLOOKUP(A420,OFFSET([0]!_xlnm.Print_Area,3,0),4,FALSE))","v":{"$error":"#REF!"}},{"$f":"IF(J420=\"\",\"\",VLOOKUP(A420,OFFSET([0]!_xlnm.Print_Area,3,0),5,FALSE))","v":{"$error":"#REF!"}},{"$f":"IF(J420=\"\",\"\",VLOOKUP(A420,OFFSET([0]!_xlnm.Print_Area,3,0),6,FALSE))","v":{"$error":"#REF!"}},{"$f":"IF(J420=\"\",\"\",VLOOKUP(A420,OFFSET([0]!_xlnm.Print_Area,3,0,,7),7,FALSE))","v":{"$error":"#REF!"}}," ",{"$f":"INDEX(#REF!,SMALL(IF(#REF!<>\"\",ROW(#REF!)),ROWS(I$1:I420)-1))","v":{"$error":"#REF!"}},{"$f":"INDEX(#REF!,SMALL(IF(#REF!<>\"\",ROW(#REF!)),ROWS(J$1:J420)-1))","v":{"$error":"#REF!"}},{"$f":"INDEX(#REF!,SMALL(IF(#REF!<>\"\",ROW(#REF!)),ROWS(K$1:K420)-1))","v":{"$error":"#REF!"}}]
[{"$error":"#REF!"},{"$error":"#REF!"},{"$error":"#REF!"},{"$f":"IF(J421=\"\",VLOOKUP(C421,OFFSET([0]!_xlnm.Print_Area,3,2),2,FALSE),VLOOKUP(A421,OFFSET([0]!_xlnm.Print_Area,3,0),4,FALSE))","v":{"$error":"#REF!"}},{"$f":"IF(J421=\"\",\"\",VLOOKUP(A421,OFFSET([0]!_xlnm.Print_Area,3,0),5,FALSE))","v":{"$error":"#REF!"}},{"$f":"IF(J421=\"\",\"\",VLOOKUP(A421,OFFSET([0]!_xlnm.Print_Area,3,0),6,FALSE))","v":{"$error":"#REF!"}},{"$f":"IF(J421=\"\",\"\",VLOOKUP(A421,OFFSET([0]!_xlnm.Print_Area,3,0,,7),7,FALSE))","v":{"$error":"#REF!"}}," ",{"$f":"INDEX(#REF!,SMALL(IF(#REF!<>\"\",ROW(#REF!)),ROWS(I$1:I421)-1))","v":{"$error":"#REF!"}},{"$f":"INDEX(#REF!,SMALL(IF(#REF!<>\"\",ROW(#REF!)),ROWS(J$1:J421)-1))","v":{"$error":"#REF!"}},{"$f":"INDEX(#REF!,SMALL(IF(#REF!<>\"\",ROW(#REF!)),ROWS(K$1:K421)-1))","v":{"$error":"#REF!"}}]
[{"$error":"#REF!"},{"$error":"#REF!"},{"$error":"#REF!"},{"$f":"IF(J422=\"\",VLOOKUP(C422,OFFSET([0]!_xlnm.Print_Area,3,2),2,FALSE),VLOOKUP(A422,OFFSET([0]!_xlnm.Print_Area,3,0),4,FALSE))","v":{"$error":"#REF!"}},{"$f":"IF(J422=\"\",\"\",VLOOKUP(A422,OFFSET([0]!_xlnm.Print_Area,3,0),5,FALSE))","v":{"$error":"#REF!"}},{"$f":"IF(J422=\"\",\"\",VLOOKUP(A422,OFFSET([0]!_xlnm.Print_Area,3,0),6,FALSE))","v":{"$error":"#REF!"}},{"$f":"IF(J422=\"\",\"\",VLOOKUP(A422,OFFSET([0]!_xlnm.Print_Area,3,0,,7),7,FALSE))","v":{"$error":"#REF!"}}," ",{"$f":"INDEX(#REF!,SMALL(IF(#REF!<>\"\",ROW(#REF!)),ROWS(I$1:I422)-1))","v":{"$error":"#REF!"}},{"$f":"INDEX(#REF!,SMALL(IF(#REF!<>\"\",ROW(#REF!)),ROWS(J$1:J422)-1))","v":{"$error":"#REF!"}},{"$f":"INDEX(#REF!,SMALL(IF(#REF!<>\"\",ROW(#REF!)),ROWS(K$1:K422)-1))","v":{"$error":"#REF!"}}]
[{"$error":"#REF!"},{"$error":"#REF!"},{"$error":"#REF!"},{"$f":"IF(J423=\"\",VLOOKUP(C423,OFFSET([0]!_xlnm.Print_Area,3,2),2,FALSE),VLOOKUP(A423,OFFSET([0]!_xlnm.Print_Area,3,0),4,FALSE))","v":{"$error":"#REF!"}},{"$f":"IF(J423=\"\",\"\",VLOOKUP(A423,OFFSET([0]!_xlnm.Print_Area,3,0),5,FALSE))","v":{"$error":"#REF!"}},{"$f":"IF(J423=\"\",\"\",VLOOKUP(A423,OFFSET([0]!_xlnm.Print_Area,3,0),6,FALSE))","v":{"$error":"#REF!"}},{"$f":"IF(J423=\"\",\"\",VLOOKUP(A423,OFFSET([0]!_xlnm.Print_Area,3,0,,7),7,FALSE))","v":{"$error":"#REF!"}}," ",{"$f":"INDEX(#REF!,SMALL(IF(#REF!<>\"\",ROW(#REF!)),ROWS(I$1:I423)-1))","v":{"$error":"#REF!"}},{"$f":"INDEX(#REF!,SMALL(IF(#REF!<>\"\",ROW(#REF!)),ROWS(J$1:J423)-1))","v":{"$error":"#REF!"}},{"$f":"INDEX(#REF!,SMALL(IF(#REF!<>\"\",ROW(#REF!)),ROWS(K$1:K423)-1))","v":{"$error":"#REF!"}}]
[{"$error":"#REF!"},{"$error":"#REF!"},{"$error":"#REF!"},{"$f":"IF(J424=\"\",VLOOKUP(C424,OFFSET([0]!_xlnm.Print_Area,3,2),2,FALSE),VLOOKUP(A424,OFFSET([0]!_xlnm.Print_Area,3,0),4,FALSE))","v":{"$error":"#REF!"}},{"$f":"IF(J424=\"\",\"\",VLOOKUP(A424,OFFSET([0]!_xlnm.Print_Area,3,0),5,FALSE))","v":{"$error":"#REF!"}},{"$f":"IF(J424=\"\",\"\",VLOOKUP(A424,OFFSET([0]!_xlnm.Print_Area,3,0),6,FALSE))","v":{"$error":"#REF!"}},{"$f":"IF(J424=\"\",\"\",VLOOKUP(A424,OFFSET([0]!_xlnm.Print_Area,3,0,,7),7,FALSE))","v":{"$error":"#REF!"}}," ",{"$f":"INDEX(#REF!,SMALL(IF(#REF!<>\"\",ROW(#REF!)),ROWS(I$1:I424)-1))","v":{"$error":"#REF!"}},{"$f":"INDEX(#REF!,SMALL(IF(#REF!<>\"\",ROW(#REF!)),ROWS(J$1:J424)-1))","v":{"$error":"#REF!"}},{"$f":"INDEX(#REF!,SMALL(IF(#REF!<>\"\",ROW(#REF!)),ROWS(K$1:K424)-1))","v":{"$error":"#REF!"}}]
[{"$error":"#REF!"},{"$error":"#REF!"},{"$error":"#REF!"},{"$f":"IF(J425=\"\",VLOOKUP(C425,OFFSET([0]!_xlnm.Print_Area,3,2),2,FALSE),VLOOKUP(A425,OFFSET([0]!_xlnm.Print_Area,3,0),4,FALSE))","v":{"$error":"#REF!"}},{"$f":"IF(J425=\"\",\"\",VLOOKUP(A425,OFFSET([0]!_xlnm.Print_Area,3,0),5,FALSE))","v":{"$error":"#REF!"}},{"$f":"IF(J425=\"\",\"\",VLOOKUP(A425,OFFSET([0]!_xlnm.Print_Area,3,0),6,FALSE))","v":{"$error":"#REF!"}},{"$f":"IF(J425=\"\",\"\",VLOOKUP(A425,OFFSET([0]!_xlnm.Print_Area,3,0,,7),7,FALSE))","v":{"$error":"#REF!"}}," ",{"$f":"INDEX(#REF!,SMALL(IF(#REF!<>\"\",ROW(#REF!)),ROWS(I$1:I425)-1))","v":{"$error":"#REF!"}},{"$f":"INDEX(#REF!,SMALL(IF(#REF!<>\"\",ROW(#REF!)),ROWS(J$1:J425)-1))","v":{"$error":"#REF!"}},{"$f":"INDEX(#REF!,SMALL(IF(#REF!<>\"\",ROW(#REF!)),ROWS(K$1:K425)-1))","v":{"$error":"#REF!"}}]
[{"$error":"#REF!"},{"$error":"#REF!"},{"$error":"#REF!"},{"$f":"IF(J426=\"\",VLOOKUP(C426,OFFSET([0]!_xlnm.Print_Area,3,2),2,FALSE),VLOOKUP(A426,OFFSET([0]!_xlnm.Print_Area,3,0),4,FALSE))","v":{"$error":"#REF!"}},{"$f":"IF(J426=\"\",\"\",VLOOKUP(A426,OFFSET([0]!_xlnm.Print_Area,3,0),5,FALSE))","v":{"$error":"#REF!"}},{"$f":"IF(J426=\"\",\"\",VLOOKUP(A426,OFFSET([0]!_xlnm.Print_Area,3,0),6,FALSE))","v":{"$error":"#REF!"}},{"$f":"IF(J426=\"\",\"\",VLOOKUP(A426,OFFSET([0]!_xlnm.Print_Area,3,0,,7),7,FALSE))","v":{"$error":"#REF!"}}," ",{"$f":"INDEX(#REF!,SMALL(IF(#REF!<>\"\",ROW(#REF!)),ROWS(I$1:I426)-1))","v":{"$error":"#REF!"}},{"$f":"INDEX(#REF!,SMALL(IF(#REF!<>\"\",ROW(#REF!)),ROWS(J$1:J426)-1))","v":{"$error":"#REF!"}},{"$f":"INDEX(#REF!,SMALL(IF(#REF!<>\"\",ROW(#REF!)),ROWS(K$1:K426)-1))","v":{"$error":"#REF!"}}]
[{"$error":"#REF!"},{"$error":"#REF!"},{"$error":"#REF!"},{"$f":"IF(J427=\"\",VLOOKUP(C427,OFFSET([0]!_xlnm.Print_Area,3,2),2,FALSE),VLOOKUP(A427,OFFSET([0]!_xlnm.Print_Area,3,0),4,FALSE))","v":{"$error":"#REF!"}},{"$f":"IF(J427=\"\",\"\",VLOOKUP(A427,OFFSET([0]!_xlnm.Print_Area,3,0),5,FALSE))","v":{"$error":"#REF!"}},{"$f":"IF(J427=\"\",\"\",VLOOKUP(A427,OFFSET([0]!_xlnm.Print_Area,3,0),6,FALSE))","v":{"$error":"#REF!"}},{"$f":"IF(J427=\"\",\"\",VLOOKUP(A427,OFFSET([0]!_xlnm.Print_Area,3,0,,7),7,FALSE))","v":{"$error":"#REF!"}}," ",{"$f":"INDEX(#REF!,SMALL(IF(#REF!<>\"\",ROW(#REF!)),ROWS(I$1:I427)-1))","v":{"$error":"#REF!"}},{"$f":"INDEX(#REF!,SMALL(IF(#REF!<>\"\",ROW(#REF!)),ROWS(J$1:J427)-1))","v":{"$error":"#REF!"}},{"$f":"INDEX(#REF!,SMALL(IF(#REF!<>\"\",ROW(#REF!)),ROWS(K$1:K427)-1))","v":{"$error":"#REF!"}}]
[{"$error":"#REF!"},{"$error":"#REF!"},{"$error":"#REF!"},{"$f":"IF(J428=\"\",VLOOKUP(C428,OFFSET([0]!_xlnm.Print_Area,3,2),2,FALSE),VLOOKUP(A428,OFFSET([0]!_xlnm.Print_Area,3,0),4,FALSE))","v":{"$error":"#REF!"}},{"$f":"IF(J428=\"\",\"\",VLOOKUP(A428,OFFSET([0]!_xlnm.Print_Area,3,0),5,FALSE))","v":{"$error":"#REF!"}},{"$f":"IF(J428=\"\",\"\",VLOOKUP(A428,OFFSET([0]!_xlnm.Print_Area,3,0),6,FALSE))","v":{"$error":"#REF!"}},{"$f":"IF(J428=\"\",\"\",VLOOKUP(A428,OFFSET([0]!_xlnm.Print_Area,3,0,,7),7,FALSE))","v":{"$error":"#REF!"}}," ",{"$f":"INDEX(#REF!,SMALL(IF(#REF!<>\"\",ROW(#REF!)),ROWS(I$1:I428)-1))","v":{"$error":"#REF!"}},{"$f":"INDEX(#REF!,SMALL(IF(#REF!<>\"\",ROW(#REF!)),ROWS(J$1:J428)-1))","v":{"$error":"#REF!"}},{"$f":"INDEX(#REF!,SMALL(IF(#REF!<>\"\",ROW(#REF!)),ROWS(K$1:K428)-1))","v":{"$error":"#REF!"}}]
[{"$error":"#REF!"},{"$error":"#REF!"},{"$error":"#REF!"},{"$f":"IF(J429=\"\",VLOOKUP(C429,OFFSET([0]!_xlnm.Print_Area,3,2),2,FALSE),VLOOKUP(A429,OFFSET([0]!_xlnm.Print_Area,3,0),4,FALSE))","v":{"$error":"#REF!"}},{"$f":"IF(J429=\"\",\"\",VLOOKUP(A429,OFFSET([0]!_xlnm.Print_Area,3,0),5,FALSE))","v":{"$error":"#REF!"}},{"$f":"IF(J429=\"\",\"\",VLOOKUP(A429,OFFSET([0]!_xlnm.Print_Area,3,0),6,FALSE))","v":{"$error":"#REF!"}},{"$f":"IF(J429=\"\",\"\",VLOOKUP(A429,OFFSET([0]!_xlnm.Print_Area,3,0,,7),7,FALSE))","v":{"$error":"#REF!"}}," ",{"$f":"INDEX(#REF!,SMALL(IF(#REF!<>\"\",ROW(#REF!)),ROWS(I$1:I429)-1))","v":{"$error":"#REF!"}},{"$f":"INDEX(#REF!,SMALL(IF(#REF!<>\"\",ROW(#REF!)),ROWS(J$1:J429)-1))","v":{"$error":"#REF!"}},{"$f":"INDEX(#REF!,SMALL(IF(#REF!<>\"\",ROW(#REF!)),ROWS(K$1:K429)-1))","v":{"$error":"#REF!"}}]
[{"$error":"#REF!"},{"$error":"#REF!"},{"$error":"#REF!"},{"$f":"IF(J430=\"\",VLOOKUP(C430,OFFSET([0]!_xlnm.Print_Area,3,2),2,FALSE),VLOOKUP(A430,OFFSET([0]!_xlnm.Print_Area,3,0),4,FALSE))","v":{"$error":"#REF!"}},{"$f":"IF(J430=\"\",\"\",VLOOKUP(A430,OFFSET([0]!_xlnm.Print_Area,3,0),5,FALSE))","v":{"$error":"#REF!"}},{"$f":"IF(J430=\"\",\"\",VLOOKUP(A430,OFFSET([0]!_xlnm.Print_Area,3,0),6,FALSE))","v":{"$error":"#REF!"}},{"$f":"IF(J430=\"\",\"\",VLOOKUP(A430,OFFSET([0]!_xlnm.Print_Area,3,0,,7),7,FALSE))","v":{"$error":"#REF!"}}," ",{"$f":"INDEX(#REF!,SMALL(IF(#REF!<>\"\",ROW(#REF!)),ROWS(I$1:I430)-1))","v":{"$error":"#REF!"}},{"$f":"INDEX(#REF!,SMALL(IF(#REF!<>\"\",ROW(#REF!)),ROWS(J$1:J430)-1))","v":{"$error":"#REF!"}},{"$f":"INDEX(#REF!,SMALL(IF(#REF!<>\"\",ROW(#REF!)),ROWS(K$1:K430)-1))","v":{"$error":"#REF!"}}]
[{"$error":"#REF!"},{"$error":"#REF!"},{"$error":"#REF!"},{"$f":"IF(J431=\"\",VLOOKUP(C431,OFFSET([0]!_xlnm.Print_Area,3,2),2,FALSE),VLOOKUP(A431,OFFSET([0]!_xlnm.Print_Area,3,0),4,FALSE))","v":{"$error":"#REF!"}},{"$f":"IF(J431=\"\",\"\",VLOOKUP(A431,OFFSET([0]!_xlnm.Print_Area,3,0),5,FALSE))","v":{"$error":"#REF!"}},{"$f":"IF(J431=\"\",\"\",VLOOKUP(A431,OFFSET([0]!_xlnm.Print_Area,3,0),6,FALSE))","v":{"$error":"#REF!"}},{"$f":"IF(J431=\"\",\"\",VLOOKUP(A431,OFFSET([0]!_xlnm.Print_Area,3,0,,7),7,FALSE))","v":{"$error":"#REF!"}}," ",{"$f":"INDEX(#REF!,SMALL(IF(#REF!<>\"\",ROW(#REF!)),ROWS(I$1:I431)-1))","v":{"$error":"#REF!"}},{"$f":"INDEX(#REF!,SMALL(IF(#REF!<>\"\",ROW(#REF!)),ROWS(J$1:J431)-1))","v":{"$error":"#REF!"}},{"$f":"INDEX(#REF!,SMALL(IF(#REF!<>\"\",ROW(#REF!)),ROWS(K$1:K431)-1))","v":{"$error":"#REF!"}}]
[{"$error":"#REF!"},{"$error":"#REF!"},{"$error":"#REF!"},{"$f":"IF(J432=\"\",VLOOKUP(C432,OFFSET([0]!_xlnm.Print_Area,3,2),2,FALSE),VLOOKUP(A432,OFFSET([0]!_xlnm.Print_Area,3,0),4,FALSE))","v":{"$error":"#REF!"}},{"$f":"IF(J432=\"\",\"\",VLOOKUP(A432,OFFSET([0]!_xlnm.Print_Area,3,0),5,FALSE))","v":{"$error":"#REF!"}},{"$f":"IF(J432=\"\",\"\",VLOOKUP(A432,OFFSET([0]!_xlnm.Print_Area,3,0),6,FALSE))","v":{"$error":"#REF!"}},{"$f":"IF(J432=\"\",\"\",VLOOKUP(A432,OFFSET([0]!_xlnm.Print_Area,3,0,,7),7,FALSE))","v":{"$error":"#REF!"}}," ",{"$f":"INDEX(#REF!,SMALL(IF(#REF!<>\"\",ROW(#REF!)),ROWS(I$1:I432)-1))","v":{"$error":"#REF!"}},{"$f":"INDEX(#REF!,SMALL(IF(#REF!<>\"\",ROW(#REF!)),ROWS(J$1:J432)-1))","v":{"$error":"#REF!"}},{"$f":"INDEX(#REF!,SMALL(IF(#REF!<>\"\",ROW(#REF!)),ROWS(K$1:K432)-1))","v":{"$error":"#REF!"}}]
[{"$error":"#REF!"},{"$error":"#REF!"},{"$error":"#REF!"},{"$f":"IF(J433=\"\",VLOOKUP(C433,OFFSET([0]!_xlnm.Print_Area,3,2),2,FALSE),VLOOKUP(A433,OFFSET([0]!_xlnm.Print_Area,3,0),4,FALSE))","v":{"$error":"#REF!"}},{"$f":"IF(J433=\"\",\"\",VLOOKUP(A433,OFFSET([0]!_xlnm.Print_Area,3,0),5,FALSE))","v":{"$error":"#REF!"}},{"$f":"IF(J433=\"\",\"\",VLOOKUP(A433,OFFSET([0]!_xlnm.Print_Area,3,0),6,FALSE))","v":{"$error":"#REF!"}},{"$f":"IF(J433=\"\",\"\",VLOOKUP(A433,OFFSET([0]!_xlnm.Print_Area,3,0,,7),7,FALSE))","v":{"$error":"#REF!"}}," ",{"$f":"INDEX(#REF!,SMALL(IF(#REF!<>\"\",ROW(#REF!)),ROWS(I$1:I433)-1))","v":{"$error":"#REF!"}},{"$f":"INDEX(#REF!,SMALL(IF(#REF!<>\"\",ROW(#REF!)),ROWS(J$1:J433)-1))","v":{"$error":"#REF!"}},{"$f":"INDEX(#REF!,SMALL(IF(#REF!<>\"\",ROW(#REF!)),ROWS(K$1:K433)-1))","v":{"$error":"#REF!"}}]
[{"$error":"#REF!"},{"$error":"#REF!"},{"$error":"#REF!"},{"$f":"IF(J434=\"\",VLOOKUP(C434,OFFSET([0]!_xlnm.Print_Area,3,2),2,FALSE),VLOOKUP(A434,OFFSET([0]!_xlnm.Print_Area,3,0),4,FALSE))","v":{"$error":"#REF!"}},{"$f":"IF(J434=\"\",\"\",VLOOKUP(A434,OFFSET([0]!_xlnm.Print_Area,3,0),5,FALSE))","v":{"$error":"#REF!"}},{"$f":"IF(J434=\"\",\"\",VLOOKUP(A434,OFFSET([0]!_xlnm.Print_Area,3,0),6,FALSE))","v":{"$error":"#REF!"}},{"$f":"IF(J434=\"\",\"\",VLOOKUP(A434,OFFSET([0]!_xlnm.Print_Area,3,0,,7),7,FALSE))","v":{"$error":"#REF!"}}," ",{"$f":"INDEX(#REF!,SMALL(IF(#REF!<>\"\",ROW(#REF!)),ROWS(I$1:I434)-1))","v":{"$error":"#REF!"}},{"$f":"INDEX(#REF!,SMALL(IF(#REF!<>\"\",ROW(#REF!)),ROWS(J$1:J434)-1))","v":{"$error":"#REF!"}},{"$f":"INDEX(#REF!,SMALL(IF(#REF!<>\"\",ROW(#REF!)),ROWS(K$1:K434)-1))","v":{"$error":"#REF!"}}]
[{"$error":"#REF!"},{"$error":"#REF!"},{"$error":"#REF!"},{"$f":"IF(J435=\"\",VLOOKUP(C435,OFFSET([0]!_xlnm.Print_Area,3,2),2,FALSE),VLOOKUP(A435,OFFSET([0]!_xlnm.Print_Area,3,0),4,FALSE))","v":{"$error":"#REF!"}},{"$f":"IF(J435=\"\",\"\",VLOOKUP(A435,OFFSET([0]!_xlnm.Print_Area,3,0),5,FALSE))","v":{"$error":"#REF!"}},{"$f":"IF(J435=\"\",\"\",VLOOKUP(A435,OFFSET([0]!_xlnm.Print_Area,3,0),6,FALSE))","v":{"$error":"#REF!"}},{"$f":"IF(J435=\"\",\"\",VLOOKUP(A435,OFFSET([0]!_xlnm.Print_Area,3,0,,7),7,FALSE))","v":{"$error":"#REF!"}}," ",{"$f":"INDEX(#REF!,SMALL(IF(#REF!<>\"\",ROW(#REF!)),ROWS(I$1:I435)-1))","v":{"$error":"#REF!"}},{"$f":"INDEX(#REF!,SMALL(IF(#REF!<>\"\",ROW(#REF!)),ROWS(J$1:J435)-1))","v":{"$error":"#REF!"}},{"$f":"INDEX(#REF!,SMALL(IF(#REF!<>\"\",ROW(#REF!)),ROWS(K$1:K435)-1))","v":{"$error":"#REF!"}}]
[{"$error":"#REF!"},{"$error":"#REF!"},{"$error":"#REF!"},{"$f":"IF(J436=\"\",VLOOKUP(C436,OFFSET([0]!_xlnm.Print_Area,3,2),2,FALSE),VLOOKUP(A436,OFFSET([0]!_xlnm.Print_Area,3,0),4,FALSE))","v":{"$error":"#REF!"}},{"$f":"IF(J436=\"\",\"\",VLOOKUP(A436,OFFSET([0]!_xlnm.Print_Area,3,0),5,FALSE))","v":{"$error":"#REF!"}},{"$f":"IF(J436=\"\",\"\",VLOOKUP(A436,OFFSET([0]!_xlnm.Print_Area,3,0),6,FALSE))","v":{"$error":"#REF!"}},{"$f":"IF(J436=\"\",\"\",VLOOKUP(A436,OFFSET([0]!_xlnm.Print_Area,3,0,,7),7,FALSE))","v":{"$error":"#REF!"}}," ",{"$f":"INDEX(#REF!,SMALL(IF(#REF!<>\"\",ROW(#REF!)),ROWS(I$1:I436)-1))","v":{"$error":"#REF!"}},{"$f":"INDEX(#REF!,SMALL(IF(#REF!<>\"\",ROW(#REF!)),ROWS(J$1:J436)-1))","v":{"$error":"#REF!"}},{"$f":"INDEX(#REF!,SMALL(IF(#REF!<>\"\",ROW(#REF!)),ROWS(K$1:K436)-1))","v":{"$error":"#REF!"}}]
[{"$error":"#REF!"},{"$error":"#REF!"},{"$error":"#REF!"},{"$f":"IF(J437=\"\",VLOOKUP(C437,OFFSET([0]!_xlnm.Print_Area,3,2),2,FALSE),VLOOKUP(A437,OFFSET([0]!_xlnm.Print_Area,3,0),4,FALSE))","v":{"$error":"#REF!"}},{"$f":"IF(J437=\"\",\"\",VLOOKUP(A437,OFFSET([0]!_xlnm.Print_Area,3,0),5,FALSE))","v":{"$error":"#REF!"}},{"$f":"IF(J437=\"\",\"\",VLOOKUP(A437,OFFSET([0]!_xlnm.Print_Area,3,0),6,FALSE))","v":{"$error":"#REF!"}},{"$f":"IF(J437=\"\",\"\",VLOOKUP(A437,OFFSET([0]!_xlnm.Print_Area,3,0,,7),7,FALSE))","v":{"$error":"#REF!"}}," ",{"$f":"INDEX(#REF!,SMALL(IF(#REF!<>\"\",ROW(#REF!)),ROWS(I$1:I437)-1))","v":{"$error":"#REF!"}},{"$f":"INDEX(#REF!,SMALL(IF(#REF!<>\"\",ROW(#REF!)),ROWS(J$1:J437)-1))","v":{"$error":"#REF!"}},{"$f":"INDEX(#REF!,SMALL(IF(#REF!<>\"\",ROW(#REF!)),ROWS(K$1:K437)-1))","v":{"$error":"#REF!"}}]
[{"$error":"#REF!"},{"$error":"#REF!"},{"$error":"#REF!"},{"$f":"IF(J438=\"\",VLOOKUP(C438,OFFSET([0]!_xlnm.Print_Area,3,2),2,FALSE),VLOOKUP(A438,OFFSET([0]!_xlnm.Print_Area,3,0),4,FALSE))","v":{"$error":"#REF!"}},{"$f":"IF(J438=\"\",\"\",VLOOKUP(A438,OFFSET([0]!_xlnm.Print_Area,3,0),5,FALSE))","v":{"$error":"#REF!"}},{"$f":"IF(J438=\"\",\"\",VLOOKUP(A438,OFFSET([0]!_xlnm.Print_Area,3,0),6,FALSE))","v":{"$error":"#REF!"}},{"$f":"IF(J438=\"\",\"\",VLOOKUP(A438,OFFSET([0]!_xlnm.Print_Area,3,0,,7),7,FALSE))","v":{"$error":"#REF!"}}," ",{"$f":"INDEX(#REF!,SMALL(IF(#REF!<>\"\",ROW(#REF!)),ROWS(I$1:I438)-1))","v":{"$error":"#REF!"}},{"$f":"INDEX(#REF!,SMALL(IF(#REF!<>\"\",ROW(#REF!)),ROWS(J$1:J438)-1))","v":{"$error":"#REF!"}},{"$f":"INDEX(#REF!,SMALL(IF(#REF!<>\"\",ROW(#REF!)),ROWS(K$1:K438)-1))","v":{"$error":"#REF!"}}]
[{"$error":"#REF!"},{"$error":"#REF!"},{"$error":"#REF!"},{"$f":"IF(J439=\"\",VLOOKUP(C439,OFFSET([0]!_xlnm.Print_Area,3,2),2,FALSE),VLOOKUP(A439,OFFSET([0]!_xlnm.Print_Area,3,0),4,FALSE))","v":{"$error":"#REF!"}},{"$f":"IF(J439=\"\",\"\",VLOOKUP(A439,OFFSET([0]!_xlnm.Print_Area,3,0),5,FALSE))","v":{"$error":"#REF!"}},{"$f":"IF(J439=\"\",\"\",VLOOKUP(A439,OFFSET([0]!_xlnm.Print_Area,3,0),6,FALSE))","v":{"$error":"#REF!"}},{"$f":"IF(J439=\"\",\"\",VLOOKUP(A439,OFFSET([0]!_xlnm.Print_Area,3,0,,7),7,FALSE))","v":{"$error":"#REF!"}}," ",{"$f":"INDEX(#REF!,SMALL(IF(#REF!<>\"\",ROW(#REF!)),ROWS(I$1:I439)-1))","v":{"$error":"#REF!"}},{"$f":"INDEX(#REF!,SMALL(IF(#REF!<>\"\",ROW(#REF!)),ROWS(J$1:J439)-1))","v":{"$error":"#REF!"}},{"$f":"INDEX(#REF!,SMALL(IF(#REF!<>\"\",ROW(#REF!)),ROWS(K$1:K439)-1))","v":{"$error":"#REF!"}}]
[{"$error":"#REF!"},{"$error":"#REF!"},{"$error":"#REF!"},{"$f":"IF(J440=\"\",VLOOKUP(C440,OFFSET([0]!_xlnm.Print_Area,3,2),2,FALSE),VLOOKUP(A440,OFFSET([0]!_xlnm.Print_Area,3,0),4,FALSE))","v":{"$error":"#REF!"}},{"$f":"IF(J440=\"\",\"\",VLOOKUP(A440,OFFSET([0]!_xlnm.Print_Area,3,0),5,FALSE))","v":{"$error":"#REF!"}},{"$f":"IF(J440=\"\",\"\",VLOOKUP(A440,OFFSET([0]!_xlnm.Print_Area,3,0),6,FALSE))","v":{"$error":"#REF!"}},{"$f":"IF(J440=\"\",\"\",VLOOKUP(A440,OFFSET([0]!_xlnm.Print_Area,3,0,,7),7,FALSE))","v":{"$error":"#REF!"}}," ",{"$f":"INDEX(#REF!,SMALL(IF(#REF!<>\"\",ROW(#REF!)),ROWS(I$1:I440)-1))","v":{"$error":"#REF!"}},{"$f":"INDEX(#REF!,SMALL(IF(#REF!<>\"\",ROW(#REF!)),ROWS(J$1:J440)-1))","v":{"$error":"#REF!"}},{"$f":"INDEX(#REF!,SMALL(IF(#REF!<>\"\",ROW(#REF!)),ROWS(K$1:K440)-1))","v":{"$error":"#REF!"}}]
[{"$error":"#REF!"},{"$error":"#REF!"},{"$error":"#REF!"},{"$f":"IF(J441=\"\",VLOOKUP(C441,OFFSET([0]!_xlnm.Print_Area,3,2),2,FALSE),VLOOKUP(A441,OFFSET([0]!_xlnm.Print_Area,3,0),4,FALSE))","v":{"$error":"#REF!"}},{"$f":"IF(J441=\"\",\"\",VLOOKUP(A441,OFFSET([0]!_xlnm.Print_Area,3,0),5,FALSE))","v":{"$error":"#REF!"}},{"$f":"IF(J441=\"\",\"\",VLOOKUP(A441,OFFSET([0]!_xlnm.Print_Area,3,0),6,FALSE))","v":{"$error":"#REF!"}},{"$f":"IF(J441=\"\",\"\",VLOOKUP(A441,OFFSET([0]!_xlnm.Print_Area,3,0,,7),7,FALSE))","v":{"$error":"#REF!"}}," ",{"$f":"INDEX(#REF!,SMALL(IF(#REF!<>\"\",ROW(#REF!)),ROWS(I$1:I441)-1))","v":{"$error":"#REF!"}},{"$f":"INDEX(#REF!,SMALL(IF(#REF!<>\"\",ROW(#REF!)),ROWS(J$1:J441)-1))","v":{"$error":"#REF!"}},{"$f":"INDEX(#REF!,SMALL(IF(#REF!<>\"\",ROW(#REF!)),ROWS(K$1:K441)-1))","v":{"$error":"#REF!"}}]
[{"$error":"#REF!"},{"$error":"#REF!"},{"$error":"#REF!"},{"$f":"IF(J442=\"\",VLOOKUP(C442,OFFSET([0]!_xlnm.Print_Area,3,2),2,FALSE),VLOOKUP(A442,OFFSET([0]!_xlnm.Print_Area,3,0),4,FALSE))","v":{"$error":"#REF!"}},{"$f":"IF(J442=\"\",\"\",VLOOKUP(A442,OFFSET([0]!_xlnm.Print_Area,3,0),5,FALSE))","v":{"$error":"#REF!"}},{"$f":"IF(J442=\"\",\"\",VLOOKUP(A442,OFFSET([0]!_xlnm.Print_Area,3,0),6,FALSE))","v":{"$error":"#REF!"}},{"$f":"IF(J442=\"\",\"\",VLOOKUP(A442,OFFSET([0]!_xlnm.Print_Area,3,0,,7),7,FALSE))","v":{"$error":"#REF!"}}," ",{"$f":"INDEX(#REF!,SMALL(IF(#REF!<>\"\",ROW(#REF!)),ROWS(I$1:I442)-1))","v":{"$error":"#REF!"}},{"$f":"INDEX(#REF!,SMALL(IF(#REF!<>\"\",ROW(#REF!)),ROWS(J$1:J442)-1))","v":{"$error":"#REF!"}},{"$f":"INDEX(#REF!,SMALL(IF(#REF!<>\"\",ROW(#REF!)),ROWS(K$1:K442)-1))","v":{"$error":"#REF!"}}]
[{"$error":"#REF!"},{"$error":"#REF!"},{"$error":"#REF!"},{"$f":"IF(J443=\"\",VLOOKUP(C443,OFFSET([0]!_xlnm.Print_Area,3,2),2,FALSE),VLOOKUP(A443,OFFSET([0]!_xlnm.Print_Area,3,0),4,FALSE))","v":{"$error":"#REF!"}},{"$f":"IF(J443=\"\",\"\",VLOOKUP(A443,OFFSET([0]!_xlnm.Print_Area,3,0),5,FALSE))","v":{"$error":"#REF!"}},{"$f":"IF(J443=\"\",\"\",VLOOKUP(A443,OFFSET([0]!_xlnm.Print_Area,3,0),6,FALSE))","v":{"$error":"#REF!"}},{"$f":"IF(J443=\"\",\"\",VLOOKUP(A443,OFFSET([0]!_xlnm.Print_Area,3,0,,7),7,FALSE))","v":{"$error":"#REF!"}}," ",{"$f":"INDEX(#REF!,SMALL(IF(#REF!<>\"\",ROW(#REF!)),ROWS(I$1:I443)-1))","v":{"$error":"#REF!"}},{"$f":"INDEX(#REF!,SMALL(IF(#REF!<>\"\",ROW(#REF!)),ROWS(J$1:J443)-1))","v":{"$error":"#REF!"}},{"$f":"INDEX(#REF!,SMALL(IF(#REF!<>\"\",ROW(#REF!)),ROWS(K$1:K443)-1))","v":{"$error":"#REF!"}}]
[{"$error":"#REF!"},{"$error":"#REF!"},{"$error":"#REF!"},{"$f":"IF(J444=\"\",VLOOKUP(C444,OFFSET([0]!_xlnm.Print_Area,3,2),2,FALSE),VLOOKUP(A444,OFFSET([0]!_xlnm.Print_Area,3,0),4,FALSE))","v":{"$error":"#REF!"}},{"$f":"IF(J444=\"\",\"\",VLOOKUP(A444,OFFSET([0]!_xlnm.Print_Area,3,0),5,FALSE))","v":{"$error":"#REF!"}},{"$f":"IF(J444=\"\",\"\",VLOOKUP(A444,OFFSET([0]!_xlnm.Print_Area,3,0),6,FALSE))","v":{"$error":"#REF!"}},{"$f":"IF(J444=\"\",\"\",VLOOKUP(A444,OFFSET([0]!_xlnm.Print_Area,3,0,,7),7,FALSE))","v":{"$error":"#REF!"}}," ",{"$f":"INDEX(#REF!,SMALL(IF(#REF!<>\"\",ROW(#REF!)),ROWS(I$1:I444)-1))","v":{"$error":"#REF!"}},{"$f":"INDEX(#REF!,SMALL(IF(#REF!<>\"\",ROW(#REF!)),ROWS(J$1:J444)-1))","v":{"$error":"#REF!"}},{"$f":"INDEX(#REF!,SMALL(IF(#REF!<>\"\",ROW(#REF!)),ROWS(K$1:K444)-1))","v":{"$error":"#REF!"}}]
[{"$error":"#REF!"},{"$error":"#REF!"},{"$error":"#REF!"},{"$f":"IF(J445=\"\",VLOOKUP(C445,OFFSET([0]!_xlnm.Print_Area,3,2),2,FALSE),VLOOKUP(A445,OFFSET([0]!_xlnm.Print_Area,3,0),4,FALSE))","v":{"$error":"#REF!"}},{"$f":"IF(J445=\"\",\"\",VLOOKUP(A445,OFFSET([0]!_xlnm.Print_Area,3,0),5,FALSE))","v":{"$error":"#REF!"}},{"$f":"IF(J445=\"\",\"\",VLOOKUP(A445,OFFSET([0]!_xlnm.Print_Area,3,0),6,FALSE))","v":{"$error":"#REF!"}},{"$f":"IF(J445=\"\",\"\",VLOOKUP(A445,OFFSET([0]!_xlnm.Print_Area,3,0,,7),7,FALSE))","v":{"$error":"#REF!"}}," ",{"$f":"INDEX(#REF!,SMALL(IF(#REF!<>\"\",ROW(#REF!)),ROWS(I$1:I445)-1))","v":{"$error":"#REF!"}},{"$f":"INDEX(#REF!,SMALL(IF(#REF!<>\"\",ROW(#REF!)),ROWS(J$1:J445)-1))","v":{"$error":"#REF!"}},{"$f":"INDEX(#REF!,SMALL(IF(#REF!<>\"\",ROW(#REF!)),ROWS(K$1:K445)-1))","v":{"$error":"#REF!"}}]
[{"$error":"#REF!"},{"$error":"#REF!"},{"$error":"#REF!"},{"$f":"IF(J446=\"\",VLOOKUP(C446,OFFSET([0]!_xlnm.Print_Area,3,2),2,FALSE),VLOOKUP(A446,OFFSET([0]!_xlnm.Print_Area,3,0),4,FALSE))","v":{"$error":"#REF!"}},{"$f":"IF(J446=\"\",\"\",VLOOKUP(A446,OFFSET([0]!_xlnm.Print_Area,3,0),5,FALSE))","v":{"$error":"#REF!"}},{"$f":"IF(J446=\"\",\"\",VLOOKUP(A446,OFFSET([0]!_xlnm.Print_Area,3,0),6,FALSE))","v":{"$error":"#REF!"}},{"$f":"IF(J446=\"\",\"\",VLOOKUP(A446,OFFSET([0]!_xlnm.Print_Area,3,0,,7),7,FALSE))","v":{"$error":"#REF!"}}," ",{"$f":"INDEX(#REF!,SMALL(IF(#REF!<>\"\",ROW(#REF!)),ROWS(I$1:I446)-1))","v":{"$error":"#REF!"}},{"$f":"INDEX(#REF!,SMALL(IF(#REF!<>\"\",ROW(#REF!)),ROWS(J$1:J446)-1))","v":{"$error":"#REF!"}},{"$f":"INDEX(#REF!,SMALL(IF(#REF!<>\"\",ROW(#REF!)),ROWS(K$1:K446)-1))","v":{"$error":"#REF!"}}]
[{"$error":"#REF!"},{"$error":"#REF!"},{"$error":"#REF!"},{"$f":"IF(J447=\"\",VLOOKUP(C447,OFFSET([0]!_xlnm.Print_Area,3,2),2,FALSE),VLOOKUP(A447,OFFSET([0]!_xlnm.Print_Area,3,0),4,FALSE))","v":{"$error":"#REF!"}},{"$f":"IF(J447=\"\",\"\",VLOOKUP(A447,OFFSET([0]!_xlnm.Print_Area,3,0),5,FALSE))","v":{"$error":"#REF!"}},{"$f":"IF(J447=\"\",\"\",VLOOKUP(A447,OFFSET([0]!_xlnm.Print_Area,3,0),6,FALSE))","v":{"$error":"#REF!"}},{"$f":"IF(J447=\"\",\"\",VLOOKUP(A447,OFFSET([0]!_xlnm.Print_Area,3,0,,7),7,FALSE))","v":{"$error":"#REF!"}}," ",{"$f":"INDEX(#REF!,SMALL(IF(#REF!<>\"\",ROW(#REF!)),ROWS(I$1:I447)-1))","v":{"$error":"#REF!"}},{"$f":"INDEX(#REF!,SMALL(IF(#REF!<>\"\",ROW(#REF!)),ROWS(J$1:J447)-1))","v":{"$error":"#REF!"}},{"$f":"INDEX(#REF!,SMALL(IF(#REF!<>\"\",ROW(#REF!)),ROWS(K$1:K447)-1))","v":{"$error":"#REF!"}}]
[{"$error":"#REF!"},{"$error":"#REF!"},{"$error":"#REF!"},{"$f":"IF(J448=\"\",VLOOKUP(C448,OFFSET([0]!_xlnm.Print_Area,3,2),2,FALSE),VLOOKUP(A448,OFFSET([0]!_xlnm.Print_Area,3,0),4,FALSE))","v":{"$error":"#REF!"}},{"$f":"IF(J448=\"\",\"\",VLOOKUP(A448,OFFSET([0]!_xlnm.Print_Area,3,0),5,FALSE))","v":{"$error":"#REF!"}},{"$f":"IF(J448=\"\",\"\",VLOOKUP(A448,OFFSET([0]!_xlnm.Print_Area,3,0),6,FALSE))","v":{"$error":"#REF!"}},{"$f":"IF(J448=\"\",\"\",VLOOKUP(A448,OFFSET([0]!_xlnm.Print_Area,3,0,,7),7,FALSE))","v":{"$error":"#REF!"}}," ",{"$f":"INDEX(#REF!,SMALL(IF(#REF!<>\"\",ROW(#REF!)),ROWS(I$1:I448)-1))","v":{"$error":"#REF!"}},{"$f":"INDEX(#REF!,SMALL(IF(#REF!<>\"\",ROW(#REF!)),ROWS(J$1:J448)-1))","v":{"$error":"#REF!"}},{"$f":"INDEX(#REF!,SMALL(IF(#REF!<>\"\",ROW(#REF!)),ROWS(K$1:K448)-1))","v":{"$error":"#REF!"}}]
[{"$error":"#REF!"},{"$error":"#REF!"},{"$error":"#REF!"},{"$f":"IF(J449=\"\",VLOOKUP(C449,OFFSET([0]!_xlnm.Print_Area,3,2),2,FALSE),VLOOKUP(A449,OFFSET([0]!_xlnm.Print_Area,3,0),4,FALSE))","v":{"$error":"#REF!"}},{"$f":"IF(J449=\"\",\"\",VLOOKUP(A449,OFFSET([0]!_xlnm.Print_Area,3,0),5,FALSE))","v":{"$error":"#REF!"}},{"$f":"IF(J449=\"\",\"\",VLOOKUP(A449,OFFSET([0]!_xlnm.Print_Area,3,0),6,FALSE))","v":{"$error":"#REF!"}},{"$f":"IF(J449=\"\",\"\",VLOOKUP(A449,OFFSET([0]!_xlnm.Print_Area,3,0,,7),7,FALSE))","v":{"$error":"#REF!"}}," ",{"$f":"INDEX(#REF!,SMALL(IF(#REF!<>\"\",ROW(#REF!)),ROWS(I$1:I449)-1))","v":{"$error":"#REF!"}},{"$f":"INDEX(#REF!,SMALL(IF(#REF!<>\"\",ROW(#REF!)),ROWS(J$1:J449)-1))","v":{"$error":"#REF!"}},{"$f":"INDEX(#REF!,SMALL(IF(#REF!<>\"\",ROW(#REF!)),ROWS(K$1:K449)-1))","v":{"$error":"#REF!"}}]
[{"$error":"#REF!"},{"$error":"#REF!"},{"$error":"#REF!"},{"$f":"IF(J450=\"\",VLOOKUP(C450,OFFSET([0]!_xlnm.Print_Area,3,2),2,FALSE),VLOOKUP(A450,OFFSET([0]!_xlnm.Print_Area,3,0),4,FALSE))","v":{"$error":"#REF!"}},{"$f":"IF(J450=\"\",\"\",VLOOKUP(A450,OFFSET([0]!_xlnm.Print_Area,3,0),5,FALSE))","v":{"$error":"#REF!"}},{"$f":"IF(J450=\"\",\"\",VLOOKUP(A450,OFFSET([0]!_xlnm.Print_Area,3,0),6,FALSE))","v":{"$error":"#REF!"}},{"$f":"IF(J450=\"\",\"\",VLOOKUP(A450,OFFSET([0]!_xlnm.Print_Area,3,0,,7),7,FALSE))","v":{"$error":"#REF!"}}," ",{"$f":"INDEX(#REF!,SMALL(IF(#REF!<>\"\",ROW(#REF!)),ROWS(I$1:I450)-1))","v":{"$error":"#REF!"}},{"$f":"INDEX(#REF!,SMALL(IF(#REF!<>\"\",ROW(#REF!)),ROWS(J$1:J450)-1))","v":{"$error":"#REF!"}},{"$f":"INDEX(#REF!,SMALL(IF(#REF!<>\"\",ROW(#REF!)),ROWS(K$1:K450)-1))","v":{"$error":"#REF!"}}]
[{"$error":"#REF!"},{"$error":"#REF!"},{"$error":"#REF!"},{"$f":"IF(J451=\"\",VLOOKUP(C451,OFFSET([0]!_xlnm.Print_Area,3,2),2,FALSE),VLOOKUP(A451,OFFSET([0]!_xlnm.Print_Area,3,0),4,FALSE))","v":{"$error":"#REF!"}},{"$f":"IF(J451=\"\",\"\",VLOOKUP(A451,OFFSET([0]!_xlnm.Print_Area,3,0),5,FALSE))","v":{"$error":"#REF!"}},{"$f":"IF(J451=\"\",\"\",VLOOKUP(A451,OFFSET([0]!_xlnm.Print_Area,3,0),6,FALSE))","v":{"$error":"#REF!"}},{"$f":"IF(J451=\"\",\"\",VLOOKUP(A451,OFFSET([0]!_xlnm.Print_Area,3,0,,7),7,FALSE))","v":{"$error":"#REF!"}}," ",{"$f":"INDEX(#REF!,SMALL(IF(#REF!<>\"\",ROW(#REF!)),ROWS(I$1:I451)-1))","v":{"$error":"#REF!"}},{"$f":"INDEX(#REF!,SMALL(IF(#REF!<>\"\",ROW(#REF!)),ROWS(J$1:J451)-1))","v":{"$error":"#REF!"}},{"$f":"INDEX(#REF!,SMALL(IF(#REF!<>\"\",ROW(#REF!)),ROWS(K$1:K451)-1))","v":{"$error":"#REF!"}}]
[{"$error":"#REF!"},{"$error":"#REF!"},{"$error":"#REF!"},{"$f":"IF(J452=\"\",VLOOKUP(C452,OFFSET([0]!_xlnm.Print_Area,3,2),2,FALSE),VLOOKUP(A452,OFFSET([0]!_xlnm.Print_Area,3,0),4,FALSE))","v":{"$error":"#REF!"}},{"$f":"IF(J452=\"\",\"\",VLOOKUP(A452,OFFSET([0]!_xlnm.Print_Area,3,0),5,FALSE))","v":{"$error":"#REF!"}},{"$f":"IF(J452=\"\",\"\",VLOOKUP(A452,OFFSET([0]!_xlnm.Print_Area,3,0),6,FALSE))","v":{"$error":"#REF!"}},{"$f":"IF(J452=\"\",\"\",VLOOKUP(A452,OFFSET([0]!_xlnm.Print_Area,3,0,,7),7,FALSE))","v":{"$error":"#REF!"}}," ",{"$f":"INDEX(#REF!,SMALL(IF(#REF!<>\"\",ROW(#REF!)),ROWS(I$1:I452)-1))","v":{"$error":"#REF!"}},{"$f":"INDEX(#REF!,SMALL(IF(#REF!<>\"\",ROW(#REF!)),ROWS(J$1:J452)-1))","v":{"$error":"#REF!"}},{"$f":"INDEX(#REF!,SMALL(IF(#REF!<>\"\",ROW(#REF!)),ROWS(K$1:K452)-1))","v":{"$error":"#REF!"}}]
[{"$f":"IF(J453=0,\"\",J453)","v":{"$error":"#REF!"}},{"$f":"IF(K453=0,\"\",K453)","v":{"$error":"#REF!"}},{"$f":"I453","v":{"$error":"#REF!"}},{"$f":"IF(J453=\"\",VLOOKUP(C453,OFFSET([0]!_xlnm.Print_Area,3,2),2,FALSE),VLOOKUP(A453,OFFSET([0]!_xlnm.Print_Area,3,0),4,FALSE))","v":{"$error":"#REF!"}},{"$f":"IF(J453=\"\",\"\",VLOOKUP(A453,OFFSET([0]!_xlnm.Print_Area,3,0),5,FALSE))","v":{"$error":"#REF!"}},{"$f":"IF(J453=\"\",\"\",VLOOKUP(A453,OFFSET([0]!_xlnm.Print_Area,3,0),6,FALSE))","v":{"$error":"#REF!"}},{"$f":"IF(J453=\"\",\"\",VLOOKUP(A453,OFFSET([0]!_xlnm.Print_Area,3,0,,7),7,FALSE))","v":{"$error":"#REF!"}},{"$f":"IFERROR(ROUND(F453*G453,2),\" \")","v":" "},{"$f":"INDEX(#REF!,SMALL(IF(#REF!<>\"\",ROW(#REF!)),ROWS(I$1:I453)-1))","v":{"$error":"#REF!"}},{"$f":"INDEX(#REF!,SMALL(IF(#REF!<>\"\",ROW(#REF!)),ROWS(J$1:J453)-1))","v":{"$error":"#REF!"}},{"$f":"INDEX(#REF!,SMALL(IF(#REF!<>\"\",ROW(#REF!)),ROWS(K$1:K453)-1))","v":{"$error":"#REF!"}}]
[{"$error":"#REF!"},{"$error":"#REF!"},{"$error":"#REF!"},{"$f":"IF(J454=\"\",VLOOKUP(C454,OFFSET([0]!_xlnm.Print_Area,3,2),2,FALSE),VLOOKUP(A454,OFFSET([0]!_xlnm.Print_Area,3,0),4,FALSE))","v":{"$error":"#REF!"}},{"$f":"IF(J454=\"\",\"\",VLOOKUP(A454,OFFSET([0]!_xlnm.Print_Area,3,0),5,FALSE))","v":{"$error":"#REF!"}},{"$f":"IF(J454=\"\",\"\",VLOOKUP(A454,OFFSET([0]!_xlnm.Print_Area,3,0),6,FALSE))","v":{"$error":"#REF!"}},{"$f":"IF(J454=\"\",\"\",VLOOKUP(A454,OFFSET([0]!_xlnm.Print_Area,3,0,,7),7,FALSE))","v":{"$error":"#REF!"}}," ",{"$f":"INDEX(#REF!,SMALL(IF(#REF!<>\"\",ROW(#REF!)),ROWS(I$1:I454)-1))","v":{"$error":"#REF!"}},{"$f":"INDEX(#REF!,SMALL(IF(#REF!<>\"\",ROW(#REF!)),ROWS(J$1:J454)-1))","v":{"$error":"#REF!"}},{"$f":"INDEX(#REF!,SMALL(IF(#REF!<>\"\",ROW(#REF!)),ROWS(K$1:K454)-1))","v":{"$error":"#REF!"}}]
[{"$error":"#REF!"},{"$error":"#REF!"},{"$error":"#REF!"},{"$f":"IF(J455=\"\",VLOOKUP(C455,OFFSET([0]!_xlnm.Print_Area,3,2),2,FALSE),VLOOKUP(A455,OFFSET([0]!_xlnm.Print_Area,3,0),4,FALSE))","v":{"$error":"#REF!"}},{"$f":"IF(J455=\"\",\"\",VLOOKUP(A455,OFFSET([0]!_xlnm.Print_Area,3,0),5,FALSE))","v":{"$error":"#REF!"}},{"$f":"IF(J455=\"\",\"\",VLOOKUP(A455,OFFSET([0]!_xlnm.Print_Area,3,0),6,FALSE))","v":{"$error":"#REF!"}},{"$f":"IF(J455=\"\",\"\",VLOOKUP(A455,OFFSET([0]!_xlnm.Print_Area,3,0,,7),7,FALSE))","v":{"$error":"#REF!"}}," ",{"$f":"INDEX(#REF!,SMALL(IF(#REF!<>\"\",ROW(#REF!)),ROWS(I$1:I455)-1))","v":{"$error":"#REF!"}},{"$f":"INDEX(#REF!,SMALL(IF(#REF!<>\"\",ROW(#REF!)),ROWS(J$1:J455)-1))","v":{"$error":"#REF!"}},{"$f":"INDEX(#REF!,SMALL(IF(#REF!<>\"\",ROW(#REF!)),ROWS(K$1:K455)-1))","v":{"$error":"#REF!"}}]
[{"$error":"#REF!"},{"$error":"#REF!"},{"$error":"#REF!"},{"$f":"IF(J456=\"\",VLOOKUP(C456,OFFSET([0]!_xlnm.Print_Area,3,2),2,FALSE),VLOOKUP(A456,OFFSET([0]!_xlnm.Print_Area,3,0),4,FALSE))","v":{"$error":"#REF!"}},{"$f":"IF(J456=\"\",\"\",VLOOKUP(A456,OFFSET([0]!_xlnm.Print_Area,3,0),5,FALSE))","v":{"$error":"#REF!"}},{"$f":"IF(J456=\"\",\"\",VLOOKUP(A456,OFFSET([0]!_xlnm.Print_Area,3,0),6,FALSE))","v":{"$error":"#REF!"}},{"$f":"IF(J456=\"\",\"\",VLOOKUP(A456,OFFSET([0]!_xlnm.Print_Area,3,0,,7),7,FALSE))","v":{"$error":"#REF!"}}," ",{"$f":"INDEX(#REF!,SMALL(IF(#REF!<>\"\",ROW(#REF!)),ROWS(I$1:I456)-1))","v":{"$error":"#REF!"}},{"$f":"INDEX(#REF!,SMALL(IF(#REF!<>\"\",ROW(#REF!)),ROWS(J$1:J456)-1))","v":{"$error":"#REF!"}},{"$f":"INDEX(#REF!,SMALL(IF(#REF!<>\"\",ROW(#REF!)),ROWS(K$1:K456)-1))","v":{"$error":"#REF!"}}]
[{"$error":"#REF!"},{"$error":"#REF!"},{"$error":"#REF!"},{"$f":"IF(J457=\"\",VLOOKUP(C457,OFFSET([0]!_xlnm.Print_Area,3,2),2,FALSE),VLOOKUP(A457,OFFSET([0]!_xlnm.Print_Area,3,0),4,FALSE))","v":{"$error":"#REF!"}},{"$f":"IF(J457=\"\",\"\",VLOOKUP(A457,OFFSET([0]!_xlnm.Print_Area,3,0),5,FALSE))","v":{"$error":"#REF!"}},{"$f":"IF(J457=\"\",\"\",VLOOKUP(A457,OFFSET([0]!_xlnm.Print_Area,3,0),6,FALSE))","v":{"$error":"#REF!"}},{"$f":"IF(J457=\"\",\"\",VLOOKUP(A457,OFFSET([0]!_xlnm.Print_Area,3,0,,7),7,FALSE))","v":{"$error":"#REF!"}}," ",{"$f":"INDEX(#REF!,SMALL(IF(#REF!<>\"\",ROW(#REF!)),ROWS(I$1:I457)-1))","v":{"$error":"#REF!"}},{"$f":"INDEX(#REF!,SMALL(IF(#REF!<>\"\",ROW(#REF!)),ROWS(J$1:J457)-1))","v":{"$error":"#REF!"}},{"$f":"INDEX(#REF!,SMALL(IF(#REF!<>\"\",ROW(#REF!)),ROWS(K$1:K457)-1))","v":{"$error":"#REF!"}}]
[{"$error":"#REF!"},{"$error":"#REF!"},{"$error":"#REF!"},{"$f":"IF(J458=\"\",VLOOKUP(C458,OFFSET([0]!_xlnm.Print_Area,3,2),2,FALSE),VLOOKUP(A458,OFFSET([0]!_xlnm.Print_Area,3,0),4,FALSE))","v":{"$error":"#REF!"}},{"$f":"IF(J458=\"\",\"\",VLOOKUP(A458,OFFSET([0]!_xlnm.Print_Area,3,0),5,FALSE))","v":{"$error":"#REF!"}},{"$f":"IF(J458=\"\",\"\",VLOOKUP(A458,OFFSET([0]!_xlnm.Print_Area,3,0),6,FALSE))","v":{"$error":"#REF!"}},{"$f":"IF(J458=\"\",\"\",VLOOKUP(A458,OFFSET([0]!_xlnm.Print_Area,3,0,,7),7,FALSE))","v":{"$error":"#REF!"}}," ",{"$f":"INDEX(#REF!,SMALL(IF(#REF!<>\"\",ROW(#REF!)),ROWS(I$1:I458)-1))","v":{"$error":"#REF!"}},{"$f":"INDEX(#REF!,SMALL(IF(#REF!<>\"\",ROW(#REF!)),ROWS(J$1:J458)-1))","v":{"$error":"#REF!"}},{"$f":"INDEX(#REF!,SMALL(IF(#REF!<>\"\",ROW(#REF!)),ROWS(K$1:K458)-1))","v":{"$error":"#REF!"}}]
[{"$error":"#REF!"},{"$error":"#REF!"},{"$error":"#REF!"},{"$f":"IF(J459=\"\",VLOOKUP(C459,OFFSET([0]!_xlnm.Print_Area,3,2),2,FALSE),VLOOKUP(A459,OFFSET([0]!_xlnm.Print_Area,3,0),4,FALSE))","v":{"$error":"#REF!"}},{"$f":"IF(J459=\"\",\"\",VLOOKUP(A459,OFFSET([0]!_xlnm.Print_Area,3,0),5,FALSE))","v":{"$error":"#REF!"}},{"$f":"IF(J459=\"\",\"\",VLOOKUP(A459,OFFSET([0]!_xlnm.Print_Area,3,0),6,FALSE))","v":{"$error":"#REF!"}},{"$f":"IF(J459=\"\",\"\",VLOOKUP(A459,OFFSET([0]!_xlnm.Print_Area,3,0,,7),7,FALSE))","v":{"$error":"#REF!"}}," ",{"$f":"INDEX(#REF!,SMALL(IF(#REF!<>\"\",ROW(#REF!)),ROWS(I$1:I459)-1))","v":{"$error":"#REF!"}},{"$f":"INDEX(#REF!,SMALL(IF(#REF!<>\"\",ROW(#REF!)),ROWS(J$1:J459)-1))","v":{"$error":"#REF!"}},{"$f":"INDEX(#REF!,SMALL(IF(#REF!<>\"\",ROW(#REF!)),ROWS(K$1:K459)-1))","v":{"$error":"#REF!"}}]
[{"$error":"#REF!"},{"$error":"#REF!"},{"$error":"#REF!"},{"$f":"IF(J460=\"\",VLOOKUP(C460,OFFSET([0]!_xlnm.Print_Area,3,2),2,FALSE),VLOOKUP(A460,OFFSET([0]!_xlnm.Print_Area,3,0),4,FALSE))","v":{"$error":"#REF!"}},{"$f":"IF(J460=\"\",\"\",VLOOKUP(A460,OFFSET([0]!_xlnm.Print_Area,3,0),5,FALSE))","v":{"$error":"#REF!"}},{"$f":"IF(J460=\"\",\"\",VLOOKUP(A460,OFFSET([0]!_xlnm.Print_Area,3,0),6,FALSE))","v":{"$error":"#REF!"}},{"$f":"IF(J460=\"\",\"\",VLOOKUP(A460,OFFSET([0]!_xlnm.Print_Area,3,0,,7),7,FALSE))","v":{"$error":"#REF!"}}," ",{"$f":"INDEX(#REF!,SMALL(IF(#REF!<>\"\",ROW(#REF!)),ROWS(I$1:I460)-1))","v":{"$error":"#REF!"}},{"$f":"INDEX(#REF!,SMALL(IF(#REF!<>\"\",ROW(#REF!)),ROWS(J$1:J460)-1))","v":{"$error":"#REF!"}},{"$f":"INDEX(#REF!,SMALL(IF(#REF!<>\"\",ROW(#REF!)),ROWS(K$1:K460)-1))","v":{"$error":"#REF!"}}]
[{"$error":"#REF!"},{"$error":"#REF!"},{"$error":"#REF!"},{"$f":"IF(J461=\"\",VLOOKUP(C461,OFFSET([0]!_xlnm.Print_Area,3,2),2,FALSE),VLOOKUP(A461,OFFSET([0]!_xlnm.Print_Area,3,0),4,FALSE))","v":{"$error":"#REF!"}},{"$f":"IF(J461=\"\",\"\",VLOOKUP(A461,OFFSET([0]!_xlnm.Print_Area,3,0),5,FALSE))","v":{"$error":"#REF!"}},{"$f":"IF(J461=\"\",\"\",VLOOKUP(A461,OFFSET([0]!_xlnm.Print_Area,3,0),6,FALSE))","v":{"$error":"#REF!"}},{"$f":"IF(J461=\"\",\"\",VLOOKUP(A461,OFFSET([0]!_xlnm.Print_Area,3,0,,7),7,FALSE))","v":{"$error":"#REF!"}}," ",{"$f":"INDEX(#REF!,SMALL(IF(#REF!<>\"\",ROW(#REF!)),ROWS(I$1:I461)-1))","v":{"$error":"#REF!"}},{"$f":"INDEX(#REF!,SMALL(IF(#REF!<>\"\",ROW(#REF!)),ROWS(J$1:J461)-1))","v":{"$error":"#REF!"}},{"$f":"INDEX(#REF!,SMALL(IF(#REF!<>\"\",ROW(#REF!)),ROWS(K$1:K461)-1))","v":{"$error":"#REF!"}}]
[{"$error":"#REF!"},{"$error":"#REF!"},{"$error":"#REF!"},{"$f":"IF(J462=\"\",VLOOKUP(C462,OFFSET([0]!_xlnm.Print_Area,3,2),2,FALSE),VLOOKUP(A462,OFFSET([0]!_xlnm.Print_Area,3,0),4,FALSE))","v":{"$error":"#REF!"}},{"$f":"IF(J462=\"\",\"\",VLOOKUP(A462,OFFSET([0]!_xlnm.Print_Area,3,0),5,FALSE))","v":{"$error":"#REF!"}},{"$f":"IF(J462=\"\",\"\",VLOOKUP(A462,OFFSET([0]!_xlnm.Print_Area,3,0),6,FALSE))","v":{"$error":"#REF!"}},{"$f":"IF(J462=\"\",\"\",VLOOKUP(A462,OFFSET([0]!_xlnm.Print_Area,3,0,,7),7,FALSE))","v":{"$error":"#REF!"}}," ",{"$f":"INDEX(#REF!,SMALL(IF(#REF!<>\"\",ROW(#REF!)),ROWS(I$1:I462)-1))","v":{"$error":"#REF!"}},{"$f":"INDEX(#REF!,SMALL(IF(#REF!<>\"\",ROW(#REF!)),ROWS(J$1:J462)-1))","v":{"$error":"#REF!"}},{"$f":"INDEX(#REF!,SMALL(IF(#REF!<>\"\",ROW(#REF!)),ROWS(K$1:K462)-1))","v":{"$error":"#REF!"}}]
[{"$error":"#REF!"},{"$error":"#REF!"},{"$error":"#REF!"},{"$f":"IF(J463=\"\",VLOOKUP(C463,OFFSET([0]!_xlnm.Print_Area,3,2),2,FALSE),VLOOKUP(A463,OFFSET([0]!_xlnm.Print_Area,3,0),4,FALSE))","v":{"$error":"#REF!"}},{"$f":"IF(J463=\"\",\"\",VLOOKUP(A463,OFFSET([0]!_xlnm.Print_Area,3,0),5,FALSE))","v":{"$error":"#REF!"}},{"$f":"IF(J463=\"\",\"\",VLOOKUP(A463,OFFSET([0]!_xlnm.Print_Area,3,0),6,FALSE))","v":{"$error":"#REF!"}},{"$f":"IF(J463=\"\",\"\",VLOOKUP(A463,OFFSET([0]!_xlnm.Print_Area,3,0,,7),7,FALSE))","v":{"$error":"#REF!"}}," ",{"$f":"INDEX(#REF!,SMALL(IF(#REF!<>\"\",ROW(#REF!)),ROWS(I$1:I463)-1))","v":{"$error":"#REF!"}},{"$f":"INDEX(#REF!,SMALL(IF(#REF!<>\"\",ROW(#REF!)),ROWS(J$1:J463)-1))","v":{"$error":"#REF!"}},{"$f":"INDEX(#REF!,SMALL(IF(#REF!<>\"\",ROW(#REF!)),ROWS(K$1:K463)-1))","v":{"$error":"#REF!"}}]
[{"$error":"#REF!"},{"$error":"#REF!"},{"$error":"#REF!"},{"$f":"IF(J464=\"\",VLOOKUP(C464,OFFSET([0]!_xlnm.Print_Area,3,2),2,FALSE),VLOOKUP(A464,OFFSET([0]!_xlnm.Print_Area,3,0),4,FALSE))","v":{"$error":"#REF!"}},{"$f":"IF(J464=\"\",\"\",VLOOKUP(A464,OFFSET([0]!_xlnm.Print_Area,3,0),5,FALSE))","v":{"$error":"#REF!"}},{"$f":"IF(J464=\"\",\"\",VLOOKUP(A464,OFFSET([0]!_xlnm.Print_Area,3,0),6,FALSE))","v":{"$error":"#REF!"}},{"$f":"IF(J464=\"\",\"\",VLOOKUP(A464,OFFSET([0]!_xlnm.Print_Area,3,0,,7),7,FALSE))","v":{"$error":"#REF!"}}," ",{"$f":"INDEX(#REF!,SMALL(IF(#REF!<>\"\",ROW(#REF!)),ROWS(I$1:I464)-1))","v":{"$error":"#REF!"}},{"$f":"INDEX(#REF!,SMALL(IF(#REF!<>\"\",ROW(#REF!)),ROWS(J$1:J464)-1))","v":{"$error":"#REF!"}},{"$f":"INDEX(#REF!,SMALL(IF(#REF!<>\"\",ROW(#REF!)),ROWS(K$1:K464)-1))","v":{"$error":"#REF!"}}]
[{"$error":"#REF!"},{"$error":"#REF!"},{"$error":"#REF!"},{"$f":"IF(J465=\"\",VLOOKUP(C465,OFFSET([0]!_xlnm.Print_Area,3,2),2,FALSE),VLOOKUP(A465,OFFSET([0]!_xlnm.Print_Area,3,0),4,FALSE))","v":{"$error":"#REF!"}},{"$f":"IF(J465=\"\",\"\",VLOOKUP(A465,OFFSET([0]!_xlnm.Print_Area,3,0),5,FALSE))","v":{"$error":"#REF!"}},{"$f":"IF(J465=\"\",\"\",VLOOKUP(A465,OFFSET([0]!_xlnm.Print_Area,3,0),6,FALSE))","v":{"$error":"#REF!"}},{"$f":"IF(J465=\"\",\"\",VLOOKUP(A465,OFFSET([0]!_xlnm.Print_Area,3,0,,7),7,FALSE))","v":{"$error":"#REF!"}}," ",{"$f":"INDEX(#REF!,SMALL(IF(#REF!<>\"\",ROW(#REF!)),ROWS(I$1:I465)-1))","v":{"$error":"#REF!"}},{"$f":"INDEX(#REF!,SMALL(IF(#REF!<>\"\",ROW(#REF!)),ROWS(J$1:J465)-1))","v":{"$error":"#REF!"}},{"$f":"INDEX(#REF!,SMALL(IF(#REF!<>\"\",ROW(#REF!)),ROWS(K$1:K465)-1))","v":{"$error":"#REF!"}}]
[{"$error":"#REF!"},{"$error":"#REF!"},{"$error":"#REF!"},{"$f":"IF(J466=\"\",VLOOKUP(C466,OFFSET([0]!_xlnm.Print_Area,3,2),2,FALSE),VLOOKUP(A466,OFFSET([0]!_xlnm.Print_Area,3,0),4,FALSE))","v":{"$error":"#REF!"}},{"$f":"IF(J466=\"\",\"\",VLOOKUP(A466,OFFSET([0]!_xlnm.Print_Area,3,0),5,FALSE))","v":{"$error":"#REF!"}},{"$f":"IF(J466=\"\",\"\",VLOOKUP(A466,OFFSET([0]!_xlnm.Print_Area,3,0),6,FALSE))","v":{"$error":"#REF!"}},{"$f":"IF(J466=\"\",\"\",VLOOKUP(A466,OFFSET([0]!_xlnm.Print_Area,3,0,,7),7,FALSE))","v":{"$error":"#REF!"}}," ",{"$f":"INDEX(#REF!,SMALL(IF(#REF!<>\"\",ROW(#REF!)),ROWS(I$1:I466)-1))","v":{"$error":"#REF!"}},{"$f":"INDEX(#REF!,SMALL(IF(#REF!<>\"\",ROW(#REF!)),ROWS(J$1:J466)-1))","v":{"$error":"#REF!"}},{"$f":"INDEX(#REF!,SMALL(IF(#REF!<>\"\",ROW(#REF!)),ROWS(K$1:K466)-1))","v":{"$error":"#REF!"}}]
[{"$error":"#REF!"},{"$error":"#REF!"},{"$error":"#REF!"},{"$f":"IF(J467=\"\",VLOOKUP(C467,OFFSET([0]!_xlnm.Print_Area,3,2),2,FALSE),VLOOKUP(A467,OFFSET([0]!_xlnm.Print_Area,3,0),4,FALSE))","v":{"$error":"#REF!"}},{"$f":"IF(J467=\"\",\"\",VLOOKUP(A467,OFFSET([0]!_xlnm.Print_Area,3,0),5,FALSE))","v":{"$error":"#REF!"}},{"$f":"IF(J467=\"\",\"\",VLOOKUP(A467,OFFSET([0]!_xlnm.Print_Area,3,0),6,FALSE))","v":{"$error":"#REF!"}},{"$f":"IF(J467=\"\",\"\",VLOOKUP(A467,OFFSET([0]!_xlnm.Print_Area,3,0,,7),7,FALSE))","v":{"$error":"#REF!"}}," ",{"$f":"INDEX(#REF!,SMALL(IF(#REF!<>\"\",ROW(#REF!)),ROWS(I$1:I467)-1))","v":{"$error":"#REF!"}},{"$f":"INDEX(#REF!,SMALL(IF(#REF!<>\"\",ROW(#REF!)),ROWS(J$1:J467)-1))","v":{"$error":"#REF!"}},{"$f":"INDEX(#REF!,SMALL(IF(#REF!<>\"\",ROW(#REF!)),ROWS(K$1:K467)-1))","v":{"$error":"#REF!"}}]
[{"$error":"#REF!"},{"$error":"#REF!"},{"$error":"#REF!"},{"$f":"IF(J468=\"\",VLOOKUP(C468,OFFSET([0]!_xlnm.Print_Area,3,2),2,FALSE),VLOOKUP(A468,OFFSET([0]!_xlnm.Print_Area,3,0),4,FALSE))","v":{"$error":"#REF!"}},{"$f":"IF(J468=\"\",\"\",VLOOKUP(A468,OFFSET([0]!_xlnm.Print_Area,3,0),5,FALSE))","v":{"$error":"#REF!"}},{"$f":"IF(J468=\"\",\"\",VLOOKUP(A468,OFFSET([0]!_xlnm.Print_Area,3,0),6,FALSE))","v":{"$error":"#REF!"}},{"$f":"IF(J468=\"\",\"\",VLOOKUP(A468,OFFSET([0]!_xlnm.Print_Area,3,0,,7),7,FALSE))","v":{"$error":"#REF!"}}," ",{"$f":"INDEX(#REF!,SMALL(IF(#REF!<>\"\",ROW(#REF!)),ROWS(I$1:I468)-1))","v":{"$error":"#REF!"}},{"$f":"INDEX(#REF!,SMALL(IF(#REF!<>\"\",ROW(#REF!)),ROWS(J$1:J468)-1))","v":{"$error":"#REF!"}},{"$f":"INDEX(#REF!,SMALL(IF(#REF!<>\"\",ROW(#REF!)),ROWS(K$1:K468)-1))","v":{"$error":"#REF!"}}]
[{"$error":"#REF!"},{"$error":"#REF!"},{"$error":"#REF!"},{"$f":"IF(J469=\"\",VLOOKUP(C469,OFFSET([0]!_xlnm.Print_Area,3,2),2,FALSE),VLOOKUP(A469,OFFSET([0]!_xlnm.Print_Area,3,0),4,FALSE))","v":{"$error":"#REF!"}},{"$f":"IF(J469=\"\",\"\",VLOOKUP(A469,OFFSET([0]!_xlnm.Print_Area,3,0),5,FALSE))","v":{"$error":"#REF!"}},{"$f":"IF(J469=\"\",\"\",VLOOKUP(A469,OFFSET([0]!_xlnm.Print_Area,3,0),6,FALSE))","v":{"$error":"#REF!"}},{"$f":"IF(J469=\"\",\"\",VLOOKUP(A469,OFFSET([0]!_xlnm.Print_Area,3,0,,7),7,FALSE))","v":{"$error":"#REF!"}}," ",{"$f":"INDEX(#REF!,SMALL(IF(#REF!<>\"\",ROW(#REF!)),ROWS(I$1:I469)-1))","v":{"$error":"#REF!"}},{"$f":"INDEX(#REF!,SMALL(IF(#REF!<>\"\",ROW(#REF!)),ROWS(J$1:J469)-1))","v":{"$error":"#REF!"}},{"$f":"INDEX(#REF!,SMALL(IF(#REF!<>\"\",ROW(#REF!)),ROWS(K$1:K469)-1))","v":{"$error":"#REF!"}}]
[{"$error":"#REF!"},{"$error":"#REF!"},{"$error":"#REF!"},{"$f":"IF(J470=\"\",VLOOKUP(C470,OFFSET([0]!_xlnm.Print_Area,3,2),2,FALSE),VLOOKUP(A470,OFFSET([0]!_xlnm.Print_Area,3,0),4,FALSE))","v":{"$error":"#REF!"}},{"$f":"IF(J470=\"\",\"\",VLOOKUP(A470,OFFSET([0]!_xlnm.Print_Area,3,0),5,FALSE))","v":{"$error":"#REF!"}},{"$f":"IF(J470=\"\",\"\",VLOOKUP(A470,OFFSET([0]!_xlnm.Print_Area,3,0),6,FALSE))","v":{"$error":"#REF!"}},{"$f":"IF(J470=\"\",\"\",VLOOKUP(A470,OFFSET([0]!_xlnm.Print_Area,3,0,,7),7,FALSE))","v":{"$error":"#REF!"}}," ",{"$f":"INDEX(#REF!,SMALL(IF(#REF!<>\"\",ROW(#REF!)),ROWS(I$1:I470)-1))","v":{"$error":"#REF!"}},{"$f":"INDEX(#REF!,SMALL(IF(#REF!<>\"\",ROW(#REF!)),ROWS(J$1:J470)-1))","v":{"$error":"#REF!"}},{"$f":"INDEX(#REF!,SMALL(IF(#REF!<>\"\",ROW(#REF!)),ROWS(K$1:K470)-1))","v":{"$error":"#REF!"}}]
[{"$error":"#REF!"},{"$error":"#REF!"},{"$error":"#REF!"},{"$f":"IF(J471=\"\",VLOOKUP(C471,OFFSET([0]!_xlnm.Print_Area,3,2),2,FALSE),VLOOKUP(A471,OFFSET([0]!_xlnm.Print_Area,3,0),4,FALSE))","v":{"$error":"#REF!"}},{"$f":"IF(J471=\"\",\"\",VLOOKUP(A471,OFFSET([0]!_xlnm.Print_Area,3,0),5,FALSE))","v":{"$error":"#REF!"}},{"$f":"IF(J471=\"\",\"\",VLOOKUP(A471,OFFSET([0]!_xlnm.Print_Area,3,0),6,FALSE))","v":{"$error":"#REF!"}},{"$f":"IF(J471=\"\",\"\",VLOOKUP(A471,OFFSET([0]!_xlnm.Print_Area,3,0,,7),7,FALSE))","v":{"$error":"#REF!"}}," ",{"$f":"INDEX(#REF!,SMALL(IF(#REF!<>\"\",ROW(#REF!)),ROWS(I$1:I471)-1))","v":{"$error":"#REF!"}},{"$f":"INDEX(#REF!,SMALL(IF(#REF!<>\"\",ROW(#REF!)),ROWS(J$1:J471)-1))","v":{"$error":"#REF!"}},{"$f":"INDEX(#REF!,SMALL(IF(#REF!<>\"\",ROW(#REF!)),ROWS(K$1:K471)-1))","v":{"$error":"#REF!"}}]
[{"$error":"#REF!"},{"$error":"#REF!"},{"$error":"#REF!"},{"$f":"IF(J472=\"\",VLOOKUP(C472,OFFSET([0]!_xlnm.Print_Area,3,2),2,FALSE),VLOOKUP(A472,OFFSET([0]!_xlnm.Print_Area,3,0),4,FALSE))","v":{"$error":"#REF!"}},{"$f":"IF(J472=\"\",\"\",VLOOKUP(A472,OFFSET([0]!_xlnm.Print_Area,3,0),5,FALSE))","v":{"$error":"#REF!"}},{"$f":"IF(J472=\"\",\"\",VLOOKUP(A472,OFFSET([0]!_xlnm.Print_Area,3,0),6,FALSE))","v":{"$error":"#REF!"}},{"$f":"IF(J472=\"\",\"\",VLOOKUP(A472,OFFSET([0]!_xlnm.Print_Area,3,0,,7),7,FALSE))","v":{"$error":"#REF!"}}," ",{"$f":"INDEX(#REF!,SMALL(IF(#REF!<>\"\",ROW(#REF!)),ROWS(I$1:I472)-1))","v":{"$error":"#REF!"}},{"$f":"INDEX(#REF!,SMALL(IF(#REF!<>\"\",ROW(#REF!)),ROWS(J$1:J472)-1))","v":{"$error":"#REF!"}},{"$f":"INDEX(#REF!,SMALL(IF(#REF!<>\"\",ROW(#REF!)),ROWS(K$1:K472)-1))","v":{"$error":"#REF!"}}]
[{"$error":"#REF!"},{"$error":"#REF!"},{"$error":"#REF!"},{"$f":"IF(J473=\"\",VLOOKUP(C473,OFFSET([0]!_xlnm.Print_Area,3,2),2,FALSE),VLOOKUP(A473,OFFSET([0]!_xlnm.Print_Area,3,0),4,FALSE))","v":{"$error":"#REF!"}},{"$f":"IF(J473=\"\",\"\",VLOOKUP(A473,OFFSET([0]!_xlnm.Print_Area,3,0),5,FALSE))","v":{"$error":"#REF!"}},{"$f":"IF(J473=\"\",\"\",VLOOKUP(A473,OFFSET([0]!_xlnm.Print_Area,3,0),6,FALSE))","v":{"$error":"#REF!"}},{"$f":"IF(J473=\"\",\"\",VLOOKUP(A473,OFFSET([0]!_xlnm.Print_Area,3,0,,7),7,FALSE))","v":{"$error":"#REF!"}}," ",{"$f":"INDEX(#REF!,SMALL(IF(#REF!<>\"\",ROW(#REF!)),ROWS(I$1:I473)-1))","v":{"$error":"#REF!"}},{"$f":"INDEX(#REF!,SMALL(IF(#REF!<>\"\",ROW(#REF!)),ROWS(J$1:J473)-1))","v":{"$error":"#REF!"}},{"$f":"INDEX(#REF!,SMALL(IF(#REF!<>\"\",ROW(#REF!)),ROWS(K$1:K473)-1))","v":{"$error":"#REF!"}}]
[{"$error":"#REF!"},{"$error":"#REF!"},{"$error":"#REF!"},{"$f":"IF(J474=\"\",VLOOKUP(C474,OFFSET([0]!_xlnm.Print_Area,3,2),2,FALSE),VLOOKUP(A474,OFFSET([0]!_xlnm.Print_Area,3,0),4,FALSE))","v":{"$error":"#REF!"}},{"$f":"IF(J474=\"\",\"\",VLOOKUP(A474,OFFSET([0]!_xlnm.Print_Area,3,0),5,FALSE))","v":{"$error":"#REF!"}},{"$f":"IF(J474=\"\",\"\",VLOOKUP(A474,OFFSET([0]!_xlnm.Print_Area,3,0),6,FALSE))","v":{"$error":"#REF!"}},{"$f":"IF(J474=\"\",\"\",VLOOKUP(A474,OFFSET([0]!_xlnm.Print_Area,3,0,,7),7,FALSE))","v":{"$error":"#REF!"}}," ",{"$f":"INDEX(#REF!,SMALL(IF(#REF!<>\"\",ROW(#REF!)),ROWS(I$1:I474)-1))","v":{"$error":"#REF!"}},{"$f":"INDEX(#REF!,SMALL(IF(#REF!<>\"\",ROW(#REF!)),ROWS(J$1:J474)-1))","v":{"$error":"#REF!"}},{"$f":"INDEX(#REF!,SMALL(IF(#REF!<>\"\",ROW(#REF!)),ROWS(K$1:K474)-1))","v":{"$error":"#REF!"}}]
[{"$error":"#REF!"},{"$error":"#REF!"},{"$error":"#REF!"},{"$f":"IF(J475=\"\",VLOOKUP(C475,OFFSET([0]!_xlnm.Print_Area,3,2),2,FALSE),VLOOKUP(A475,OFFSET([0]!_xlnm.Print_Area,3,0),4,FALSE))","v":{"$error":"#REF!"}},{"$f":"IF(J475=\"\",\"\",VLOOKUP(A475,OFFSET([0]!_xlnm.Print_Area,3,0),5,FALSE))","v":{"$error":"#REF!"}},{"$f":"IF(J475=\"\",\"\",VLOOKUP(A475,OFFSET([0]!_xlnm.Print_Area,3,0),6,FALSE))","v":{"$error":"#REF!"}},{"$f":"IF(J475=\"\",\"\",VLOOKUP(A475,OFFSET([0]!_xlnm.Print_Area,3,0,,7),7,FALSE))","v":{"$error":"#REF!"}}," ",{"$f":"INDEX(#REF!,SMALL(IF(#REF!<>\"\",ROW(#REF!)),ROWS(I$1:I475)-1))","v":{"$error":"#REF!"}},{"$f":"INDEX(#REF!,SMALL(IF(#REF!<>\"\",ROW(#REF!)),ROWS(J$1:J475)-1))","v":{"$error":"#REF!"}},{"$f":"INDEX(#REF!,SMALL(IF(#REF!<>\"\",ROW(#REF!)),ROWS(K$1:K475)-1))","v":{"$error":"#REF!"}}]
[{"$error":"#REF!"},{"$error":"#REF!"},{"$error":"#REF!"},{"$f":"IF(J476=\"\",VLOOKUP(C476,OFFSET([0]!_xlnm.Print_Area,3,2),2,FALSE),VLOOKUP(A476,OFFSET([0]!_xlnm.Print_Area,3,0),4,FALSE))","v":{"$error":"#REF!"}},{"$f":"IF(J476=\"\",\"\",VLOOKUP(A476,OFFSET([0]!_xlnm.Print_Area,3,0),5,FALSE))","v":{"$error":"#REF!"}},{"$f":"IF(J476=\"\",\"\",VLOOKUP(A476,OFFSET([0]!_xlnm.Print_Area,3,0),6,FALSE))","v":{"$error":"#REF!"}},{"$f":"IF(J476=\"\",\"\",VLOOKUP(A476,OFFSET([0]!_xlnm.Print_Area,3,0,,7),7,FALSE))","v":{"$error":"#REF!"}}," ",{"$f":"INDEX(#REF!,SMALL(IF(#REF!<>\"\",ROW(#REF!)),ROWS(I$1:I476)-1))","v":{"$error":"#REF!"}},{"$f":"INDEX(#REF!,SMALL(IF(#REF!<>\"\",ROW(#REF!)),ROWS(J$1:J476)-1))","v":{"$error":"#REF!"}},{"$f":"INDEX(#REF!,SMALL(IF(#REF!<>\"\",ROW(#REF!)),ROWS(K$1:K476)-1))","v":{"$error":"#REF!"}}]
[{"$error":"#REF!"},{"$error":"#REF!"},{"$error":"#REF!"},{"$f":"IF(J477=\"\",VLOOKUP(C477,OFFSET([0]!_xlnm.Print_Area,3,2),2,FALSE),VLOOKUP(A477,OFFSET([0]!_xlnm.Print_Area,3,0),4,FALSE))","v":{"$error":"#REF!"}},{"$f":"IF(J477=\"\",\"\",VLOOKUP(A477,OFFSET([0]!_xlnm.Print_Area,3,0),5,FALSE))","v":{"$error":"#REF!"}},{"$f":"IF(J477=\"\",\"\",VLOOKUP(A477,OFFSET([0]!_xlnm.Print_Area,3,0),6,FALSE))","v":{"$error":"#REF!"}},{"$f":"IF(J477=\"\",\"\",VLOOKUP(A477,OFFSET([0]!_xlnm.Print_Area,3,0,,7),7,FALSE))","v":{"$error":"#REF!"}}," ",{"$f":"INDEX(#REF!,SMALL(IF(#REF!<>\"\",ROW(#REF!)),ROWS(I$1:I477)-1))","v":{"$error":"#REF!"}},{"$f":"INDEX(#REF!,SMALL(IF(#REF!<>\"\",ROW(#REF!)),ROWS(J$1:J477)-1))","v":{"$error":"#REF!"}},{"$f":"INDEX(#REF!,SMALL(IF(#REF!<>\"\",ROW(#REF!)),ROWS(K$1:K477)-1))","v":{"$error":"#REF!"}}]
[{"$error":"#REF!"},{"$error":"#REF!"},{"$error":"#REF!"},{"$f":"IF(J478=\"\",VLOOKUP(C478,OFFSET([0]!_xlnm.Print_Area,3,2),2,FALSE),VLOOKUP(A478,OFFSET([0]!_xlnm.Print_Area,3,0),4,FALSE))","v":{"$error":"#REF!"}},{"$f":"IF(J478=\"\",\"\",VLOOKUP(A478,OFFSET([0]!_xlnm.Print_Area,3,0),5,FALSE))","v":{"$error":"#REF!"}},{"$f":"IF(J478=\"\",\"\",VLOOKUP(A478,OFFSET([0]!_xlnm.Print_Area,3,0),6,FALSE))","v":{"$error":"#REF!"}},{"$f":"IF(J478=\"\",\"\",VLOOKUP(A478,OFFSET([0]!_xlnm.Print_Area,3,0,,7),7,FALSE))","v":{"$error":"#REF!"}}," ",{"$f":"INDEX(#REF!,SMALL(IF(#REF!<>\"\",ROW(#REF!)),ROWS(I$1:I478)-1))","v":{"$error":"#REF!"}},{"$f":"INDEX(#REF!,SMALL(IF(#REF!<>\"\",ROW(#REF!)),ROWS(J$1:J478)-1))","v":{"$error":"#REF!"}},{"$f":"INDEX(#REF!,SMALL(IF(#REF!<>\"\",ROW(#REF!)),ROWS(K$1:K478)-1))","v":{"$error":"#REF!"}}]
[{"$error":"#REF!"},{"$error":"#REF!"},{"$error":"#REF!"},{"$f":"IF(J479=\"\",VLOOKUP(C479,OFFSET([0]!_xlnm.Print_Area,3,2),2,FALSE),VLOOKUP(A479,OFFSET([0]!_xlnm.Print_Area,3,0),4,FALSE))","v":{"$error":"#REF!"}},{"$f":"IF(J479=\"\",\"\",VLOOKUP(A479,OFFSET([0]!_xlnm.Print_Area,3,0),5,FALSE))","v":{"$error":"#REF!"}},{"$f":"IF(J479=\"\",\"\",VLOOKUP(A479,OFFSET([0]!_xlnm.Print_Area,3,0),6,FALSE))","v":{"$error":"#REF!"}},{"$f":"IF(J479=\"\",\"\",VLOOKUP(A479,OFFSET([0]!_xlnm.Print_Area,3,0,,7),7,FALSE))","v":{"$error":"#REF!"}}," ",{"$f":"INDEX(#REF!,SMALL(IF(#REF!<>\"\",ROW(#REF!)),ROWS(I$1:I479)-1))","v":{"$error":"#REF!"}},{"$f":"INDEX(#REF!,SMALL(IF(#REF!<>\"\",ROW(#REF!)),ROWS(J$1:J479)-1))","v":{"$error":"#REF!"}},{"$f":"INDEX(#REF!,SMALL(IF(#REF!<>\"\",ROW(#REF!)),ROWS(K$1:K479)-1))","v":{"$error":"#REF!"}}]
[{"$error":"#REF!"},{"$error":"#REF!"},{"$error":"#REF!"},{"$f":"IF(J480=\"\",VLOOKUP(C480,OFFSET([0]!_xlnm.Print_Area,3,2),2,FALSE),VLOOKUP(A480,OFFSET([0]!_xlnm.Print_Area,3,0),4,FALSE))","v":{"$error":"#REF!"}},{"$f":"IF(J480=\"\",\"\",VLOOKUP(A480,OFFSET([0]!_xlnm.Print_Area,3,0),5,FALSE))","v":{"$error":"#REF!"}},{"$f":"IF(J480=\"\",\"\",VLOOKUP(A480,OFFSET([0]!_xlnm.Print_Area,3,0),6,FALSE))","v":{"$error":"#REF!"}},{"$f":"IF(J480=\"\",\"\",VLOOKUP(A480,OFFSET([0]!_xlnm.Print_Area,3,0,,7),7,FALSE))","v":{"$error":"#REF!"}}," ",{"$f":"INDEX(#REF!,SMALL(IF(#REF!<>\"\",ROW(#REF!)),ROWS(I$1:I480)-1))","v":{"$error":"#REF!"}},{"$f":"INDEX(#REF!,SMALL(IF(#REF!<>\"\",ROW(#REF!)),ROWS(J$1:J480)-1))","v":{"$error":"#REF!"}},{"$f":"INDEX(#REF!,SMALL(IF(#REF!<>\"\",ROW(#REF!)),ROWS(K$1:K480)-1))","v":{"$error":"#REF!"}}]
[{"$error":"#REF!"},{"$error":"#REF!"},{"$error":"#REF!"},{"$f":"IF(J481=\"\",VLOOKUP(C481,OFFSET([0]!_xlnm.Print_Area,3,2),2,FALSE),VLOOKUP(A481,OFFSET([0]!_xlnm.Print_Area,3,0),4,FALSE))","v":{"$error":"#REF!"}},{"$f":"IF(J481=\"\",\"\",VLOOKUP(A481,OFFSET([0]!_xlnm.Print_Area,3,0),5,FALSE))","v":{"$error":"#REF!"}},{"$f":"IF(J481=\"\",\"\",VLOOKUP(A481,OFFSET([0]!_xlnm.Print_Area,3,0),6,FALSE))","v":{"$error":"#REF!"}},{"$f":"IF(J481=\"\",\"\",VLOOKUP(A481,OFFSET([0]!_xlnm.Print_Area,3,0,,7),7,FALSE))","v":{"$error":"#REF!"}}," ",{"$f":"INDEX(#REF!,SMALL(IF(#REF!<>\"\",ROW(#REF!)),ROWS(I$1:I481)-1))","v":{"$error":"#REF!"}},{"$f":"INDEX(#REF!,SMALL(IF(#REF!<>\"\",ROW(#REF!)),ROWS(J$1:J481)-1))","v":{"$error":"#REF!"}},{"$f":"INDEX(#REF!,SMALL(IF(#REF!<>\"\",ROW(#REF!)),ROWS(K$1:K481)-1))","v":{"$error":"#REF!"}}]
[{"$error":"#REF!"},{"$error":"#REF!"},{"$error":"#REF!"},{"$f":"IF(J482=\"\",VLOOKUP(C482,OFFSET([0]!_xlnm.Print_Area,3,2),2,FALSE),VLOOKUP(A482,OFFSET([0]!_xlnm.Print_Area,3,0),4,FALSE))","v":{"$error":"#REF!"}},{"$f":"IF(J482=\"\",\"\",VLOOKUP(A482,OFFSET([0]!_xlnm.Print_Area,3,0),5,FALSE))","v":{"$error":"#REF!"}},{"$f":"IF(J482=\"\",\"\",VLOOKUP(A482,OFFSET([0]!_xlnm.Print_Area,3,0),6,FALSE))","v":{"$error":"#REF!"}},{"$f":"IF(J482=\"\",\"\",VLOOKUP(A482,OFFSET([0]!_xlnm.Print_Area,3,0,,7),7,FALSE))","v":{"$error":"#REF!"}}," ",{"$f":"INDEX(#REF!,SMALL(IF(#REF!<>\"\",ROW(#REF!)),ROWS(I$1:I482)-1))","v":{"$error":"#REF!"}},{"$f":"INDEX(#REF!,SMALL(IF(#REF!<>\"\",ROW(#REF!)),ROWS(J$1:J482)-1))","v":{"$error":"#REF!"}},{"$f":"INDEX(#REF!,SMALL(IF(#REF!<>\"\",ROW(#REF!)),ROWS(K$1:K482)-1))","v":{"$error":"#REF!"}}]
[{"$error":"#REF!"},{"$error":"#REF!"},{"$error":"#REF!"},{"$f":"IF(J483=\"\",VLOOKUP(C483,OFFSET([0]!_xlnm.Print_Area,3,2),2,FALSE),VLOOKUP(A483,OFFSET([0]!_xlnm.Print_Area,3,0),4,FALSE))","v":{"$error":"#REF!"}},{"$f":"IF(J483=\"\",\"\",VLOOKUP(A483,OFFSET([0]!_xlnm.Print_Area,3,0),5,FALSE))","v":{"$error":"#REF!"}},{"$f":"IF(J483=\"\",\"\",VLOOKUP(A483,OFFSET([0]!_xlnm.Print_Area,3,0),6,FALSE))","v":{"$error":"#REF!"}},{"$f":"IF(J483=\"\",\"\",VLOOKUP(A483,OFFSET([0]!_xlnm.Print_Area,3,0,,7),7,FALSE))","v":{"$error":"#REF!"}}," ",{"$f":"INDEX(#REF!,SMALL(IF(#REF!<>\"\",ROW(#REF!)),ROWS(I$1:I483)-1))","v":{"$error":"#REF!"}},{"$f":"INDEX(#REF!,SMALL(IF(#REF!<>\"\",ROW(#REF!)),ROWS(J$1:J483)-1))","v":{"$error":"#REF!"}},{"$f":"INDEX(#REF!,SMALL(IF(#REF!<>\"\",ROW(#REF!)),ROWS(K$1:K483)-1))","v":{"$error":"#REF!"}}]
[{"$error":"#REF!"},{"$error":"#REF!"},{"$error":"#REF!"},{"$f":"IF(J484=\"\",VLOOKUP(C484,OFFSET([0]!_xlnm.Print_Area,3,2),2,FALSE),VLOOKUP(A484,OFFSET([0]!_xlnm.Print_Area,3,0),4,FALSE))","v":{"$error":"#REF!"}},{"$f":"IF(J484=\"\",\"\",VLOOKUP(A484,OFFSET([0]!_xlnm.Print_Area,3,0),5,FALSE))","v":{"$error":"#REF!"}},{"$f":"IF(J484=\"\",\"\",VLOOKUP(A484,OFFSET([0]!_xlnm.Print_Area,3,0),6,FALSE))","v":{"$error":"#REF!"}},{"$f":"IF(J484=\"\",\"\",VLOOKUP(A484,OFFSET([0]!_xlnm.Print_Area,3,0,,7),7,FALSE))","v":{"$error":"#REF!"}}," ",{"$f":"INDEX(#REF!,SMALL(IF(#REF!<>\"\",ROW(#REF!)),ROWS(I$1:I484)-1))","v":{"$error":"#REF!"}},{"$f":"INDEX(#REF!,SMALL(IF(#REF!<>\"\",ROW(#REF!)),ROWS(J$1:J484)-1))","v":{"$error":"#REF!"}},{"$f":"INDEX(#REF!,SMALL(IF(#REF!<>\"\",ROW(#REF!)),ROWS(K$1:K484)-1))","v":{"$error":"#REF!"}}]
[{"$error":"#REF!"},{"$error":"#REF!"},{"$error":"#REF!"},{"$f":"IF(J485=\"\",VLOOKUP(C485,OFFSET([0]!_xlnm.Print_Area,3,2),2,FALSE),VLOOKUP(A485,OFFSET([0]!_xlnm.Print_Area,3,0),4,FALSE))","v":{"$error":"#REF!"}},{"$f":"IF(J485=\"\",\"\",VLOOKUP(A485,OFFSET([0]!_xlnm.Print_Area,3,0),5,FALSE))","v":{"$error":"#REF!"}},{"$f":"IF(J485=\"\",\"\",VLOOKUP(A485,OFFSET([0]!_xlnm.Print_Area,3,0),6,FALSE))","v":{"$error":"#REF!"}},{"$f":"IF(J485=\"\",\"\",VLOOKUP(A485,OFFSET([0]!_xlnm.Print_Area,3,0,,7),7,FALSE))","v":{"$error":"#REF!"}}," ",{"$f":"INDEX(#REF!,SMALL(IF(#REF!<>\"\",ROW(#REF!)),ROWS(I$1:I485)-1))","v":{"$error":"#REF!"}},{"$f":"INDEX(#REF!,SMALL(IF(#REF!<>\"\",ROW(#REF!)),ROWS(J$1:J485)-1))","v":{"$error":"#REF!"}},{"$f":"INDEX(#REF!,SMALL(IF(#REF!<>\"\",ROW(#REF!)),ROWS(K$1:K485)-1))","v":{"$error":"#REF!"}}]
[{"$error":"#REF!"},{"$error":"#REF!"},{"$error":"#REF!"},{"$f":"IF(J486=\"\",VLOOKUP(C486,OFFSET([0]!_xlnm.Print_Area,3,2),2,FALSE),VLOOKUP(A486,OFFSET([0]!_xlnm.Print_Area,3,0),4,FALSE))","v":{"$error":"#REF!"}},{"$f":"IF(J486=\"\",\"\",VLOOKUP(A486,OFFSET([0]!_xlnm.Print_Area,3,0),5,FALSE))","v":{"$error":"#REF!"}},{"$f":"IF(J486=\"\",\"\",VLOOKUP(A486,OFFSET([0]!_xlnm.Print_Area,3,0),6,FALSE))","v":{"$error":"#REF!"}},{"$f":"IF(J486=\"\",\"\",VLOOKUP(A486,OFFSET([0]!_xlnm.Print_Area,3,0,,7),7,FALSE))","v":{"$error":"#REF!"}}," ",{"$f":"INDEX(#REF!,SMALL(IF(#REF!<>\"\",ROW(#REF!)),ROWS(I$1:I486)-1))","v":{"$error":"#REF!"}},{"$f":"INDEX(#REF!,SMALL(IF(#REF!<>\"\",ROW(#REF!)),ROWS(J$1:J486)-1))","v":{"$error":"#REF!"}},{"$f":"INDEX(#REF!,SMALL(IF(#REF!<>\"\",ROW(#REF!)),ROWS(K$1:K486)-1))","v":{"$error":"#REF!"}}]
[{"$error":"#REF!"},{"$error":"#REF!"},{"$error":"#REF!"},{"$f":"IF(J487=\"\",VLOOKUP(C487,OFFSET([0]!_xlnm.Print_Area,3,2),2,FALSE),VLOOKUP(A487,OFFSET([0]!_xlnm.Print_Area,3,0),4,FALSE))","v":{"$error":"#REF!"}},{"$f":"IF(J487=\"\",\"\",VLOOKUP(A487,OFFSET([0]!_xlnm.Print_Area,3,0),5,FALSE))","v":{"$error":"#REF!"}},{"$f":"IF(J487=\"\",\"\",VLOOKUP(A487,OFFSET([0]!_xlnm.Print_Area,3,0),6,FALSE))","v":{"$error":"#REF!"}},{"$f":"IF(J487=\"\",\"\",VLOOKUP(A487,OFFSET([0]!_xlnm.Print_Area,3,0,,7),7,FALSE))","v":{"$error":"#REF!"}}," ",{"$f":"INDEX(#REF!,SMALL(IF(#REF!<>\"\",ROW(#REF!)),ROWS(I$1:I487)-1))","v":{"$error":"#REF!"}},{"$f":"INDEX(#REF!,SMALL(IF(#REF!<>\"\",ROW(#REF!)),ROWS(J$1:J487)-1))","v":{"$error":"#REF!"}},{"$f":"INDEX(#REF!,SMALL(IF(#REF!<>\"\",ROW(#REF!)),ROWS(K$1:K487)-1))","v":{"$error":"#REF!"}}]
[{"$error":"#REF!"},{"$error":"#REF!"},{"$error":"#REF!"},{"$f":"IF(J488=\"\",VLOOKUP(C488,OFFSET([0]!_xlnm.Print_Area,3,2),2,FALSE),VLOOKUP(A488,OFFSET([0]!_xlnm.Print_Area,3,0),4,FALSE))","v":{"$error":"#REF!"}},{"$f":"IF(J488=\"\",\"\",VLOOKUP(A488,OFFSET([0]!_xlnm.Print_Area,3,0),5,FALSE))","v":{"$error":"#REF!"}},{"$f":"IF(J488=\"\",\"\",VLOOKUP(A488,OFFSET([0]!_xlnm.Print_Area,3,0),6,FALSE))","v":{"$error":"#REF!"}},{"$f":"IF(J488=\"\",\"\",VLOOKUP(A488,OFFSET([0]!_xlnm.Print_Area,3,0,,7),7,FALSE))","v":{"$error":"#REF!"}}," ",{"$f":"INDEX(#REF!,SMALL(IF(#REF!<>\"\",ROW(#REF!)),ROWS(I$1:I488)-1))","v":{"$error":"#REF!"}},{"$f":"INDEX(#REF!,SMALL(IF(#REF!<>\"\",ROW(#REF!)),ROWS(J$1:J488)-1))","v":{"$error":"#REF!"}},{"$f":"INDEX(#REF!,SMALL(IF(#REF!<>\"\",ROW(#REF!)),ROWS(K$1:K488)-1))","v":{"$error":"#REF!"}}]
[{"$error":"#REF!"},{"$error":"#REF!"},{"$error":"#REF!"},{"$f":"IF(J489=\"\",VLOOKUP(C489,OFFSET([0]!_xlnm.Print_Area,3,2),2,FALSE),VLOOKUP(A489,OFFSET([0]!_xlnm.Print_Area,3,0),4,FALSE))","v":{"$error":"#REF!"}},{"$f":"IF(J489=\"\",\"\",VLOOKUP(A489,OFFSET([0]!_xlnm.Print_Area,3,0),5,FALSE))","v":{"$error":"#REF!"}},{"$f":"IF(J489=\"\",\"\",VLOOKUP(A489,OFFSET([0]!_xlnm.Print_Area,3,0),6,FALSE))","v":{"$error":"#REF!"}},{"$f":"IF(J489=\"\",\"\",VLOOKUP(A489,OFFSET([0]!_xlnm.Print_Area,3,0,,7),7,FALSE))","v":{"$error":"#REF!"}}," ",{"$f":"INDEX(#REF!,SMALL(IF(#REF!<>\"\",ROW(#REF!)),ROWS(I$1:I489)-1))","v":{"$error":"#REF!"}},{"$f":"INDEX(#REF!,SMALL(IF(#REF!<>\"\",ROW(#REF!)),ROWS(J$1:J489)-1))","v":{"$error":"#REF!"}},{"$f":"INDEX(#REF!,SMALL(IF(#REF!<>\"\",ROW(#REF!)),ROWS(K$1:K489)-1))","v":{"$error":"#REF!"}}]
[{"$error":"#REF!"},{"$error":"#REF!"},{"$error":"#REF!"},{"$f":"IF(J490=\"\",VLOOKUP(C490,OFFSET([0]!_xlnm.Print_Area,3,2),2,FALSE),VLOOKUP(A490,OFFSET([0]!_xlnm.Print_Area,3,0),4,FALSE))","v":{"$error":"#REF!"}},{"$f":"IF(J490=\"\",\"\",VLOOKUP(A490,OFFSET([0]!_xlnm.Print_Area,3,0),5,FALSE))","v":{"$error":"#REF!"}},{"$f":"IF(J490=\"\",\"\",VLOOKUP(A490,OFFSET([0]!_xlnm.Print_Area,3,0),6,FALSE))","v":{"$error":"#REF!"}},{"$f":"IF(J490=\"\",\"\",VLOOKUP(A490,OFFSET([0]!_xlnm.Print_Area,3,0,,7),7,FALSE))","v":{"$error":"#REF!"}}," ",{"$f":"INDEX(#REF!,SMALL(IF(#REF!<>\"\",ROW(#REF!)),ROWS(I$1:I490)-1))","v":{"$error":"#REF!"}},{"$f":"INDEX(#REF!,SMALL(IF(#REF!<>\"\",ROW(#REF!)),ROWS(J$1:J490)-1))","v":{"$error":"#REF!"}},{"$f":"INDEX(#REF!,SMALL(IF(#REF!<>\"\",ROW(#REF!)),ROWS(K$1:K490)-1))","v":{"$error":"#REF!"}}]
[{"$error":"#REF!"},{"$error":"#REF!"},{"$error":"#REF!"},{"$f":"IF(J491=\"\",VLOOKUP(C491,OFFSET([0]!_xlnm.Print_Area,3,2),2,FALSE),VLOOKUP(A491,OFFSET([0]!_xlnm.Print_Area,3,0),4,FALSE))","v":{"$error":"#REF!"}},{"$f":"IF(J491=\"\",\"\",VLOOKUP(A491,OFFSET([0]!_xlnm.Print_Area,3,0),5,FALSE))","v":{"$error":"#REF!"}},{"$f":"IF(J491=\"\",\"\",VLOOKUP(A491,OFFSET([0]!_xlnm.Print_Area,3,0),6,FALSE))","v":{"$error":"#REF!"}},{"$f":"IF(J491=\"\",\"\",VLOOKUP(A491,OFFSET([0]!_xlnm.Print_Area,3,0,,7),7,FALSE))","v":{"$error":"#REF!"}}," ",{"$f":"INDEX(#REF!,SMALL(IF(#REF!<>\"\",ROW(#REF!)),ROWS(I$1:I491)-1))","v":{"$error":"#REF!"}},{"$f":"INDEX(#REF!,SMALL(IF(#REF!<>\"\",ROW(#REF!)),ROWS(J$1:J491)-1))","v":{"$error":"#REF!"}},{"$f":"INDEX(#REF!,SMALL(IF(#REF!<>\"\",ROW(#REF!)),ROWS(K$1:K491)-1))","v":{"$error":"#REF!"}}]
[{"$error":"#REF!"},{"$error":"#REF!"},{"$error":"#REF!"},{"$f":"IF(J492=\"\",VLOOKUP(C492,OFFSET([0]!_xlnm.Print_Area,3,2),2,FALSE),VLOOKUP(A492,OFFSET([0]!_xlnm.Print_Area,3,0),4,FALSE))","v":{"$error":"#REF!"}},{"$f":"IF(J492=\"\",\"\",VLOOKUP(A492,OFFSET([0]!_xlnm.Print_Area,3,0),5,FALSE))","v":{"$error":"#REF!"}},{"$f":"IF(J492=\"\",\"\",VLOOKUP(A492,OFFSET([0]!_xlnm.Print_Area,3,0),6,FALSE))","v":{"$error":"#REF!"}},{"$f":"IF(J492=\"\",\"\",VLOOKUP(A492,OFFSET([0]!_xlnm.Print_Area,3,0,,7),7,FALSE))","v":{"$error":"#REF!"}}," ",{"$f":"INDEX(#REF!,SMALL(IF(#REF!<>\"\",ROW(#REF!)),ROWS(I$1:I492)-1))","v":{"$error":"#REF!"}},{"$f":"INDEX(#REF!,SMALL(IF(#REF!<>\"\",ROW(#REF!)),ROWS(J$1:J492)-1))","v":{"$error":"#REF!"}},{"$f":"INDEX(#REF!,SMALL(IF(#REF!<>\"\",ROW(#REF!)),ROWS(K$1:K492)-1))","v":{"$error":"#REF!"}}]
[{"$error":"#REF!"},{"$error":"#REF!"},{"$error":"#REF!"},{"$f":"IF(J493=\"\",VLOOKUP(C493,OFFSET([0]!_xlnm.Print_Area,3,2),2,FALSE),VLOOKUP(A493,OFFSET([0]!_xlnm.Print_Area,3,0),4,FALSE))","v":{"$error":"#REF!"}},{"$f":"IF(J493=\"\",\"\",VLOOKUP(A493,OFFSET([0]!_xlnm.Print_Area,3,0),5,FALSE))","v":{"$error":"#REF!"}},{"$f":"IF(J493=\"\",\"\",VLOOKUP(A493,OFFSET([0]!_xlnm.Print_Area,3,0),6,FALSE))","v":{"$error":"#REF!"}},{"$f":"IF(J493=\"\",\"\",VLOOKUP(A493,OFFSET([0]!_xlnm.Print_Area,3,0,,7),7,FALSE))","v":{"$error":"#REF!"}}," ",{"$f":"INDEX(#REF!,SMALL(IF(#REF!<>\"\",ROW(#REF!)),ROWS(I$1:I493)-1))","v":{"$error":"#REF!"}},{"$f":"INDEX(#REF!,SMALL(IF(#REF!<>\"\",ROW(#REF!)),ROWS(J$1:J493)-1))","v":{"$error":"#REF!"}},{"$f":"INDEX(#REF!,SMALL(IF(#REF!<>\"\",ROW(#REF!)),ROWS(K$1:K493)-1))","v":{"$error":"#REF!"}}]
[{"$error":"#REF!"},{"$error":"#REF!"},{"$error":"#REF!"},{"$f":"IF(J494=\"\",VLOOKUP(C494,OFFSET([0]!_xlnm.Print_Area,3,2),2,FALSE),VLOOKUP(A494,OFFSET([0]!_xlnm.Print_Area,3,0),4,FALSE))","v":{"$error":"#REF!"}},{"$f":"IF(J494=\"\",\"\",VLOOKUP(A494,OFFSET([0]!_xlnm.Print_Area,3,0),5,FALSE))","v":{"$error":"#REF!"}},{"$f":"IF(J494=\"\",\"\",VLOOKUP(A494,OFFSET([0]!_xlnm.Print_Area,3,0),6,FALSE))","v":{"$error":"#REF!"}},{"$f":"IF(J494=\"\",\"\",VLOOKUP(A494,OFFSET([0]!_xlnm.Print_Area,3,0,,7),7,FALSE))","v":{"$error":"#REF!"}}," ",{"$f":"INDEX(#REF!,SMALL(IF(#REF!<>\"\",ROW(#REF!)),ROWS(I$1:I494)-1))","v":{"$error":"#REF!"}},{"$f":"INDEX(#REF!,SMALL(IF(#REF!<>\"\",ROW(#REF!)),ROWS(J$1:J494)-1))","v":{"$error":"#REF!"}},{"$f":"INDEX(#REF!,SMALL(IF(#REF!<>\"\",ROW(#REF!)),ROWS(K$1:K494)-1))","v":{"$error":"#REF!"}}]
[{"$error":"#REF!"},{"$error":"#REF!"},{"$error":"#REF!"},{"$f":"IF(J495=\"\",VLOOKUP(C495,OFFSET([0]!_xlnm.Print_Area,3,2),2,FALSE),VLOOKUP(A495,OFFSET([0]!_xlnm.Print_Area,3,0),4,FALSE))","v":{"$error":"#REF!"}},{"$f":"IF(J495=\"\",\"\",VLOOKUP(A495,OFFSET([0]!_xlnm.Print_Area,3,0),5,FALSE))","v":{"$error":"#REF!"}},{"$f":"IF(J495=\"\",\"\",VLOOKUP(A495,OFFSET([0]!_xlnm.Print_Area,3,0),6,FALSE))","v":{"$error":"#REF!"}},{"$f":"IF(J495=\"\",\"\",VLOOKUP(A495,OFFSET([0]!_xlnm.Print_Area,3,0,,7),7,FALSE))","v":{"$error":"#REF!"}}," ",{"$f":"INDEX(#REF!,SMALL(IF(#REF!<>\"\",ROW(#REF!)),ROWS(I$1:I495)-1))","v":{"$error":"#REF!"}},{"$f":"INDEX(#REF!,SMALL(IF(#REF!<>\"\",ROW(#REF!)),ROWS(J$1:J495)-1))","v":{"$error":"#REF!"}},{"$f":"INDEX(#REF!,SMALL(IF(#REF!<>\"\",ROW(#REF!)),ROWS(K$1:K495)-1))","v":{"$error":"#REF!"}}]
[{"$error":"#REF!"},{"$error":"#REF!"},{"$error":"#REF!"},{"$f":"IF(J496=\"\",VLOOKUP(C496,OFFSET([0]!_xlnm.Print_Area,3,2),2,FALSE),VLOOKUP(A496,OFFSET([0]!_xlnm.Print_Area,3,0),4,FALSE))","v":{"$error":"#REF!"}},{"$f":"IF(J496=\"\",\"\",VLOOKUP(A496,OFFSET([0]!_xlnm.Print_Area,3,0),5,FALSE))","v":{"$error":"#REF!"}},{"$f":"IF(J496=\"\",\"\",VLOOKUP(A496,OFFSET([0]!_xlnm.Print_Area,3,0),6,FALSE))","v":{"$error":"#REF!"}},{"$f":"IF(J496=\"\",\"\",VLOOKUP(A496,OFFSET([0]!_xlnm.Print_Area,3,0,,7),7,FALSE))","v":{"$error":"#REF!"}}," ",{"$f":"INDEX(#REF!,SMALL(IF(#REF!<>\"\",ROW(#REF!)),ROWS(I$1:I496)-1))","v":{"$error":"#REF!"}},{"$f":"INDEX(#REF!,SMALL(IF(#REF!<>\"\",ROW(#REF!)),ROWS(J$1:J496)-1))","v":{"$error":"#REF!"}},{"$f":"INDEX(#REF!,SMALL(IF(#REF!<>\"\",ROW(#REF!)),ROWS(K$1:K496)-1))","v":{"$error":"#REF!"}}]
[{"$error":"#REF!"},{"$error":"#REF!"},{"$error":"#REF!"},{"$f":"IF(J497=\"\",VLOOKUP(C497,OFFSET([0]!_xlnm.Print_Area,3,2),2,FALSE),VLOOKUP(A497,OFFSET([0]!_xlnm.Print_Area,3,0),4,FALSE))","v":{"$error":"#REF!"}},{"$f":"IF(J497=\"\",\"\",VLOOKUP(A497,OFFSET([0]!_xlnm.Print_Area,3,0),5,FALSE))","v":{"$error":"#REF!"}},{"$f":"IF(J497=\"\",\"\",VLOOKUP(A497,OFFSET([0]!_xlnm.Print_Area,3,0),6,FALSE))","v":{"$error":"#REF!"}},{"$f":"IF(J497=\"\",\"\",VLOOKUP(A497,OFFSET([0]!_xlnm.Print_Area,3,0,,7),7,FALSE))","v":{"$error":"#REF!"}}," ",{"$f":"INDEX(#REF!,SMALL(IF(#REF!<>\"\",ROW(#REF!)),ROWS(I$1:I497)-1))","v":{"$error":"#REF!"}},{"$f":"INDEX(#REF!,SMALL(IF(#REF!<>\"\",ROW(#REF!)),ROWS(J$1:J497)-1))","v":{"$error":"#REF!"}},{"$f":"INDEX(#REF!,SMALL(IF(#REF!<>\"\",ROW(#REF!)),ROWS(K$1:K497)-1))","v":{"$error":"#REF!"}}]
[{"$error":"#REF!"},{"$error":"#REF!"},{"$error":"#REF!"},{"$f":"IF(J498=\"\",VLOOKUP(C498,OFFSET([0]!_xlnm.Print_Area,3,2),2,FALSE),VLOOKUP(A498,OFFSET([0]!_xlnm.Print_Area,3,0),4,FALSE))","v":{"$error":"#REF!"}},{"$f":"IF(J498=\"\",\"\",VLOOKUP(A498,OFFSET([0]!_xlnm.Print_Area,3,0),5,FALSE))","v":{"$error":"#REF!"}},{"$f":"IF(J498=\"\",\"\",VLOOKUP(A498,OFFSET([0]!_xlnm.Print_Area,3,0),6,FALSE))","v":{"$error":"#REF!"}},{"$f":"IF(J498=\"\",\"\",VLOOKUP(A498,OFFSET([0]!_xlnm.Print_Area,3,0,,7),7,FALSE))","v":{"$error":"#REF!"}}," ",{"$f":"INDEX(#REF!,SMALL(IF(#REF!<>\"\",ROW(#REF!)),ROWS(I$1:I498)-1))","v":{"$error":"#REF!"}},{"$f":"INDEX(#REF!,SMALL(IF(#REF!<>\"\",ROW(#REF!)),ROWS(J$1:J498)-1))","v":{"$error":"#REF!"}},{"$f":"INDEX(#REF!,SMALL(IF(#REF!<>\"\",ROW(#REF!)),ROWS(K$1:K498)-1))","v":{"$error":"#REF!"}}]
[{"$error":"#REF!"},{"$error":"#REF!"},{"$error":"#REF!"},{"$f":"IF(J499=\"\",VLOOKUP(C499,OFFSET([0]!_xlnm.Print_Area,3,2),2,FALSE),VLOOKUP(A499,OFFSET([0]!_xlnm.Print_Area,3,0),4,FALSE))","v":{"$error":"#REF!"}},{"$f":"IF(J499=\"\",\"\",VLOOKUP(A499,OFFSET([0]!_xlnm.Print_Area,3,0),5,FALSE))","v":{"$error":"#REF!"}},{"$f":"IF(J499=\"\",\"\",VLOOKUP(A499,OFFSET([0]!_xlnm.Print_Area,3,0),6,FALSE))","v":{"$error":"#REF!"}},{"$f":"IF(J499=\"\",\"\",VLOOKUP(A499,OFFSET([0]!_xlnm.Print_Area,3,0,,7),7,FALSE))","v":{"$error":"#REF!"}}," ",{"$f":"INDEX(#REF!,SMALL(IF(#REF!<>\"\",ROW(#REF!)),ROWS(I$1:I499)-1))","v":{"$error":"#REF!"}},{"$f":"INDEX(#REF!,SMALL(IF(#REF!<>\"\",ROW(#REF!)),ROWS(J$1:J499)-1))","v":{"$error":"#REF!"}},{"$f":"INDEX(#REF!,SMALL(IF(#REF!<>\"\",ROW(#REF!)),ROWS(K$1:K499)-1))","v":{"$error":"#REF!"}}]
[{"$error":"#REF!"},{"$error":"#REF!"},{"$error":"#REF!"},{"$f":"IF(J500=\"\",VLOOKUP(C500,OFFSET([0]!_xlnm.Print_Area,3,2),2,FALSE),VLOOKUP(A500,OFFSET([0]!_xlnm.Print_Area,3,0),4,FALSE))","v":{"$error":"#REF!"}},{"$f":"IF(J500=\"\",\"\",VLOOKUP(A500,OFFSET([0]!_xlnm.Print_Area,3,0),5,FALSE))","v":{"$error":"#REF!"}},{"$f":"IF(J500=\"\",\"\",VLOOKUP(A500,OFFSET([0]!_xlnm.Print_Area,3,0),6,FALSE))","v":{"$error":"#REF!"}},{"$f":"IF(J500=\"\",\"\",VLOOKUP(A500,OFFSET([0]!_xlnm.Print_Area,3,0,,7),7,FALSE))","v":{"$error":"#REF!"}}," ",{"$f":"INDEX(#REF!,SMALL(IF(#REF!<>\"\",ROW(#REF!)),ROWS(I$1:I500)-1))","v":{"$error":"#REF!"}},{"$f":"INDEX(#REF!,SMALL(IF(#REF!<>\"\",ROW(#REF!)),ROWS(J$1:J500)-1))","v":{"$error":"#REF!"}},{"$f":"INDEX(#REF!,SMALL(IF(#REF!<>\"\",ROW(#REF!)),ROWS(K$1:K500)-1))","v":{"$error":"#REF!"}}]
[{"$error":"#REF!"},{"$error":"#REF!"},{"$error":"#REF!"},{"$f":"IF(J501=\"\",VLOOKUP(C501,OFFSET([0]!_xlnm.Print_Area,3,2),2,FALSE),VLOOKUP(A501,OFFSET([0]!_xlnm.Print_Area,3,0),4,FALSE))","v":{"$error":"#REF!"}},{"$f":"IF(J501=\"\",\"\",VLOOKUP(A501,OFFSET([0]!_xlnm.Print_Area,3,0),5,FALSE))","v":{"$error":"#REF!"}},{"$f":"IF(J501=\"\",\"\",VLOOKUP(A501,OFFSET([0]!_xlnm.Print_Area,3,0),6,FALSE))","v":{"$error":"#REF!"}},{"$f":"IF(J501=\"\",\"\",VLOOKUP(A501,OFFSET([0]!_xlnm.Print_Area,3,0,,7),7,FALSE))","v":{"$error":"#REF!"}}," ",{"$f":"INDEX(#REF!,SMALL(IF(#REF!<>\"\",ROW(#REF!)),ROWS(I$1:I501)-1))","v":{"$error":"#REF!"}},{"$f":"INDEX(#REF!,SMALL(IF(#REF!<>\"\",ROW(#REF!)),ROWS(J$1:J501)-1))","v":{"$error":"#REF!"}},{"$f":"INDEX(#REF!,SMALL(IF(#REF!<>\"\",ROW(#REF!)),ROWS(K$1:K501)-1))","v":{"$error":"#REF!"}}]
[{"$error":"#REF!"},{"$error":"#REF!"},{"$error":"#REF!"},{"$f":"IF(J502=\"\",VLOOKUP(C502,OFFSET([0]!_xlnm.Print_Area,3,2),2,FALSE),VLOOKUP(A502,OFFSET([0]!_xlnm.Print_Area,3,0),4,FALSE))","v":{"$error":"#REF!"}},{"$f":"IF(J502=\"\",\"\",VLOOKUP(A502,OFFSET([0]!_xlnm.Print_Area,3,0),5,FALSE))","v":{"$error":"#REF!"}},{"$f":"IF(J502=\"\",\"\",VLOOKUP(A502,OFFSET([0]!_xlnm.Print_Area,3,0),6,FALSE))","v":{"$error":"#REF!"}},{"$f":"IF(J502=\"\",\"\",VLOOKUP(A502,OFFSET([0]!_xlnm.Print_Area,3,0,,7),7,FALSE))","v":{"$error":"#REF!"}}," ",{"$f":"INDEX(#REF!,SMALL(IF(#REF!<>\"\",ROW(#REF!)),ROWS(I$1:I502)-1))","v":{"$error":"#REF!"}},{"$f":"INDEX(#REF!,SMALL(IF(#REF!<>\"\",ROW(#REF!)),ROWS(J$1:J502)-1))","v":{"$error":"#REF!"}},{"$f":"INDEX(#REF!,SMALL(IF(#REF!<>\"\",ROW(#REF!)),ROWS(K$1:K502)-1))","v":{"$error":"#REF!"}}]
[{"$error":"#REF!"},{"$error":"#REF!"},{"$error":"#REF!"},{"$f":"IF(J503=\"\",VLOOKUP(C503,OFFSET([0]!_xlnm.Print_Area,3,2),2,FALSE),VLOOKUP(A503,OFFSET([0]!_xlnm.Print_Area,3,0),4,FALSE))","v":{"$error":"#REF!"}},{"$f":"IF(J503=\"\",\"\",VLOOKUP(A503,OFFSET([0]!_xlnm.Print_Area,3,0),5,FALSE))","v":{"$error":"#REF!"}},{"$f":"IF(J503=\"\",\"\",VLOOKUP(A503,OFFSET([0]!_xlnm.Print_Area,3,0),6,FALSE))","v":{"$error":"#REF!"}},{"$f":"IF(J503=\"\",\"\",VLOOKUP(A503,OFFSET([0]!_xlnm.Print_Area,3,0,,7),7,FALSE))","v":{"$error":"#REF!"}}," ",{"$f":"INDEX(#REF!,SMALL(IF(#REF!<>\"\",ROW(#REF!)),ROWS(I$1:I503)-1))","v":{"$error":"#REF!"}},{"$f":"INDEX(#REF!,SMALL(IF(#REF!<>\"\",ROW(#REF!)),ROWS(J$1:J503)-1))","v":{"$error":"#REF!"}},{"$f":"INDEX(#REF!,SMALL(IF(#REF!<>\"\",ROW(#REF!)),ROWS(K$1:K503)-1))","v":{"$error":"#REF!"}}]
[{"$error":"#REF!"},{"$error":"#REF!"},{"$error":"#REF!"},{"$f":"IF(J504=\"\",VLOOKUP(C504,OFFSET([0]!_xlnm.Print_Area,3,2),2,FALSE),VLOOKUP(A504,OFFSET([0]!_xlnm.Print_Area,3,0),4,FALSE))","v":{"$error":"#REF!"}},{"$f":"IF(J504=\"\",\"\",VLOOKUP(A504,OFFSET([0]!_xlnm.Print_Area,3,0),5,FALSE))","v":{"$error":"#REF!"}},{"$f":"IF(J504=\"\",\"\",VLOOKUP(A504,OFFSET([0]!_xlnm.Print_Area,3,0),6,FALSE))","v":{"$error":"#REF!"}},{"$f":"IF(J504=\"\",\"\",VLOOKUP(A504,OFFSET([0]!_xlnm.Print_Area,3,0,,7),7,FALSE))","v":{"$error":"#REF!"}}," ",{"$f":"INDEX(#REF!,SMALL(IF(#REF!<>\"\",ROW(#REF!)),ROWS(I$1:I504)-1))","v":{"$error":"#REF!"}},{"$f":"INDEX(#REF!,SMALL(IF(#REF!<>\"\",ROW(#REF!)),ROWS(J$1:J504)-1))","v":{"$error":"#REF!"}},{"$f":"INDEX(#REF!,SMALL(IF(#REF!<>\"\",ROW(#REF!)),ROWS(K$1:K504)-1))","v":{"$error":"#REF!"}}]
[{"$error":"#REF!"},{"$error":"#REF!"},{"$error":"#REF!"},{"$f":"IF(J505=\"\",VLOOKUP(C505,OFFSET([0]!_xlnm.Print_Area,3,2),2,FALSE),VLOOKUP(A505,OFFSET([0]!_xlnm.Print_Area,3,0),4,FALSE))","v":{"$error":"#REF!"}},{"$f":"IF(J505=\"\",\"\",VLOOKUP(A505,OFFSET([0]!_xlnm.Print_Area,3,0),5,FALSE))","v":{"$error":"#REF!"}},{"$f":"IF(J505=\"\",\"\",VLOOKUP(A505,OFFSET([0]!_xlnm.Print_Area,3,0),6,FALSE))","v":{"$error":"#REF!"}},{"$f":"IF(J505=\"\",\"\",VLOOKUP(A505,OFFSET([0]!_xlnm.Print_Area,3,0,,7),7,FALSE))","v":{"$error":"#REF!"}}," ",{"$f":"INDEX(#REF!,SMALL(IF(#REF!<>\"\",ROW(#REF!)),ROWS(I$1:I505)-1))","v":{"$error":"#REF!"}},{"$f":"INDEX(#REF!,SMALL(IF(#REF!<>\"\",ROW(#REF!)),ROWS(J$1:J505)-1))","v":{"$error":"#REF!"}},{"$f":"INDEX(#REF!,SMALL(IF(#REF!<>\"\",ROW(#REF!)),ROWS(K$1:K505)-1))","v":{"$error":"#REF!"}}]
[{"$error":"#REF!"},{"$error":"#REF!"},{"$error":"#REF!"},{"$f":"IF(J506=\"\",VLOOKUP(C506,OFFSET([0]!_xlnm.Print_Area,3,2),2,FALSE),VLOOKUP(A506,OFFSET([0]!_xlnm.Print_Area,3,0),4,FALSE))","v":{"$error":"#REF!"}},{"$f":"IF(J506=\"\",\"\",VLOOKUP(A506,OFFSET([0]!_xlnm.Print_Area,3,0),5,FALSE))","v":{"$error":"#REF!"}},{"$f":"IF(J506=\"\",\"\",VLOOKUP(A506,OFFSET([0]!_xlnm.Print_Area,3,0),6,FALSE))","v":{"$error":"#REF!"}},{"$f":"IF(J506=\"\",\"\",VLOOKUP(A506,OFFSET([0]!_xlnm.Print_Area,3,0,,7),7,FALSE))","v":{"$error":"#REF!"}}," ",{"$f":"INDEX(#REF!,SMALL(IF(#REF!<>\"\",ROW(#REF!)),ROWS(I$1:I506)-1))","v":{"$error":"#REF!"}},{"$f":"INDEX(#REF!,SMALL(IF(#REF!<>\"\",ROW(#REF!)),ROWS(J$1:J506)-1))","v":{"$error":"#REF!"}},{"$f":"INDEX(#REF!,SMALL(IF(#REF!<>\"\",ROW(#REF!)),ROWS(K$1:K506)-1))","v":{"$error":"#REF!"}}]
[{"$error":"#REF!"},{"$error":"#REF!"},{"$error":"#REF!"},{"$f":"IF(J507=\"\",VLOOKUP(C507,OFFSET([0]!_xlnm.Print_Area,3,2),2,FALSE),VLOOKUP(A507,OFFSET([0]!_xlnm.Print_Area,3,0),4,FALSE))","v":{"$error":"#REF!"}},{"$f":"IF(J507=\"\",\"\",VLOOKUP(A507,OFFSET([0]!_xlnm.Print_Area,3,0),5,FALSE))","v":{"$error":"#REF!"}},{"$f":"IF(J507=\"\",\"\",VLOOKUP(A507,OFFSET([0]!_xlnm.Print_Area,3,0),6,FALSE))","v":{"$error":"#REF!"}},{"$f":"IF(J507=\"\",\"\",VLOOKUP(A507,OFFSET([0]!_xlnm.Print_Area,3,0,,7),7,FALSE))","v":{"$error":"#REF!"}}," ",{"$f":"INDEX(#REF!,SMALL(IF(#REF!<>\"\",ROW(#REF!)),ROWS(I$1:I507)-1))","v":{"$error":"#REF!"}},{"$f":"INDEX(#REF!,SMALL(IF(#REF!<>\"\",ROW(#REF!)),ROWS(J$1:J507)-1))","v":{"$error":"#REF!"}},{"$f":"INDEX(#REF!,SMALL(IF(#REF!<>\"\",ROW(#REF!)),ROWS(K$1:K507)-1))","v":{"$error":"#REF!"}}]
[{"$error":"#REF!"},{"$error":"#REF!"},{"$error":"#REF!"},{"$f":"IF(J508=\"\",VLOOKUP(C508,OFFSET([0]!_xlnm.Print_Area,3,2),2,FALSE),VLOOKUP(A508,OFFSET([0]!_xlnm.Print_Area,3,0),4,FALSE))","v":{"$error":"#REF!"}},{"$f":"IF(J508=\"\",\"\",VLOOKUP(A508,OFFSET([0]!_xlnm.Print_Area,3,0),5,FALSE))","v":{"$error":"#REF!"}},{"$f":"IF(J508=\"\",\"\",VLOOKUP(A508,OFFSET([0]!_xlnm.Print_Area,3,0),6,FALSE))","v":{"$error":"#REF!"}},{"$f":"IF(J508=\"\",\"\",VLOOKUP(A508,OFFSET([0]!_xlnm.Print_Area,3,0,,7),7,FALSE))","v":{"$error":"#REF!"}}," ",{"$f":"INDEX(#REF!,SMALL(IF(#REF!<>\"\",ROW(#REF!)),ROWS(I$1:I508)-1))","v":{"$error":"#REF!"}},{"$f":"INDEX(#REF!,SMALL(IF(#REF!<>\"\",ROW(#REF!)),ROWS(J$1:J508)-1))","v":{"$error":"#REF!"}},{"$f":"INDEX(#REF!,SMALL(IF(#REF!<>\"\",ROW(#REF!)),ROWS(K$1:K508)-1))","v":{"$error":"#REF!"}}]
[{"$error":"#REF!"},{"$error":"#REF!"},{"$error":"#REF!"},{"$f":"IF(J509=\"\",VLOOKUP(C509,OFFSET([0]!_xlnm.Print_Area,3,2),2,FALSE),VLOOKUP(A509,OFFSET([0]!_xlnm.Print_Area,3,0),4,FALSE))","v":{"$error":"#REF!"}},{"$f":"IF(J509=\"\",\"\",VLOOKUP(A509,OFFSET([0]!_xlnm.Print_Area,3,0),5,FALSE))","v":{"$error":"#REF!"}},{"$f":"IF(J509=\"\",\"\",VLOOKUP(A509,OFFSET([0]!_xlnm.Print_Area,3,0),6,FALSE))","v":{"$error":"#REF!"}},{"$f":"IF(J509=\"\",\"\",VLOOKUP(A509,OFFSET([0]!_xlnm.Print_Area,3,0,,7),7,FALSE))","v":{"$error":"#REF!"}}," ",{"$f":"INDEX(#REF!,SMALL(IF(#REF!<>\"\",ROW(#REF!)),ROWS(I$1:I509)-1))","v":{"$error":"#REF!"}},{"$f":"INDEX(#REF!,SMALL(IF(#REF!<>\"\",ROW(#REF!)),ROWS(J$1:J509)-1))","v":{"$error":"#REF!"}},{"$f":"INDEX(#REF!,SMALL(IF(#REF!<>\"\",ROW(#REF!)),ROWS(K$1:K509)-1))","v":{"$error":"#REF!"}}]
[{"$error":"#REF!"},{"$error":"#REF!"},{"$error":"#REF!"},{"$f":"IF(J510=\"\",VLOOKUP(C510,OFFSET([0]!_xlnm.Print_Area,3,2),2,FALSE),VLOOKUP(A510,OFFSET([0]!_xlnm.Print_Area,3,0),4,FALSE))","v":{"$error":"#REF!"}},{"$f":"IF(J510=\"\",\"\",VLOOKUP(A510,OFFSET([0]!_xlnm.Print_Area,3,0),5,FALSE))","v":{"$error":"#REF!"}},{"$f":"IF(J510=\"\",\"\",VLOOKUP(A510,OFFSET([0]!_xlnm.Print_Area,3,0),6,FALSE))","v":{"$error":"#REF!"}},{"$f":"IF(J510=\"\",\"\",VLOOKUP(A510,OFFSET([0]!_xlnm.Print_Area,3,0,,7),7,FALSE))","v":{"$error":"#REF!"}}," ",{"$f":"INDEX(#REF!,SMALL(IF(#REF!<>\"\",ROW(#REF!)),ROWS(I$1:I510)-1))","v":{"$error":"#REF!"}},{"$f":"INDEX(#REF!,SMALL(IF(#REF!<>\"\",ROW(#REF!)),ROWS(J$1:J510)-1))","v":{"$error":"#REF!"}},{"$f":"INDEX(#REF!,SMALL(IF(#REF!<>\"\",ROW(#REF!)),ROWS(K$1:K510)-1))","v":{"$error":"#REF!"}}]
[{"$error":"#REF!"},{"$error":"#REF!"},{"$error":"#REF!"},{"$f":"IF(J511=\"\",VLOOKUP(C511,OFFSET([0]!_xlnm.Print_Area,3,2),2,FALSE),VLOOKUP(A511,OFFSET([0]!_xlnm.Print_Area,3,0),4,FALSE))","v":{"$error":"#REF!"}},{"$f":"IF(J511=\"\",\"\",VLOOKUP(A511,OFFSET([0]!_xlnm.Print_Area,3,0),5,FALSE))","v":{"$error":"#REF!"}},{"$f":"IF(J511=\"\",\"\",VLOOKUP(A511,OFFSET([0]!_xlnm.Print_Area,3,0),6,FALSE))","v":{"$error":"#REF!"}},{"$f":"IF(J511=\"\",\"\",VLOOKUP(A511,OFFSET([0]!_xlnm.Print_Area,3,0,,7),7,FALSE))","v":{"$error":"#REF!"}}," ",{"$f":"INDEX(#REF!,SMALL(IF(#REF!<>\"\",ROW(#REF!)),ROWS(I$1:I511)-1))","v":{"$error":"#REF!"}},{"$f":"INDEX(#REF!,SMALL(IF(#REF!<>\"\",ROW(#REF!)),ROWS(J$1:J511)-1))","v":{"$error":"#REF!"}},{"$f":"INDEX(#REF!,SMALL(IF(#REF!<>\"\",ROW(#REF!)),ROWS(K$1:K511)-1))","v":{"$error":"#REF!"}}]
[{"$error":"#REF!"},{"$error":"#REF!"},{"$error":"#REF!"},{"$f":"IF(J512=\"\",VLOOKUP(C512,OFFSET([0]!_xlnm.Print_Area,3,2),2,FALSE),VLOOKUP(A512,OFFSET([0]!_xlnm.Print_Area,3,0),4,FALSE))","v":{"$error":"#REF!"}},{"$f":"IF(J512=\"\",\"\",VLOOKUP(A512,OFFSET([0]!_xlnm.Print_Area,3,0),5,FALSE))","v":{"$error":"#REF!"}},{"$f":"IF(J512=\"\",\"\",VLOOKUP(A512,OFFSET([0]!_xlnm.Print_Area,3,0),6,FALSE))","v":{"$error":"#REF!"}},{"$f":"IF(J512=\"\",\"\",VLOOKUP(A512,OFFSET([0]!_xlnm.Print_Area,3,0,,7),7,FALSE))","v":{"$error":"#REF!"}}," ",{"$f":"INDEX(#REF!,SMALL(IF(#REF!<>\"\",ROW(#REF!)),ROWS(I$1:I512)-1))","v":{"$error":"#REF!"}},{"$f":"INDEX(#REF!,SMALL(IF(#REF!<>\"\",ROW(#REF!)),ROWS(J$1:J512)-1))","v":{"$error":"#REF!"}},{"$f":"INDEX(#REF!,SMALL(IF(#REF!<>\"\",ROW(#REF!)),ROWS(K$1:K512)-1))","v":{"$error":"#REF!"}}]
[{"$error":"#REF!"},{"$error":"#REF!"},{"$error":"#REF!"},{"$f":"IF(J513=\"\",VLOOKUP(C513,OFFSET([0]!_xlnm.Print_Area,3,2),2,FALSE),VLOOKUP(A513,OFFSET([0]!_xlnm.Print_Area,3,0),4,FALSE))","v":{"$error":"#REF!"}},{"$f":"IF(J513=\"\",\"\",VLOOKUP(A513,OFFSET([0]!_xlnm.Print_Area,3,0),5,FALSE))","v":{"$error":"#REF!"}},{"$f":"IF(J513=\"\",\"\",VLOOKUP(A513,OFFSET([0]!_xlnm.Print_Area,3,0),6,FALSE))","v":{"$error":"#REF!"}},{"$f":"IF(J513=\"\",\"\",VLOOKUP(A513,OFFSET([0]!_xlnm.Print_Area,3,0,,7),7,FALSE))","v":{"$error":"#REF!"}}," ",{"$f":"INDEX(#REF!,SMALL(IF(#REF!<>\"\",ROW(#REF!)),ROWS(I$1:I513)-1))","v":{"$error":"#REF!"}},{"$f":"INDEX(#REF!,SMALL(IF(#REF!<>\"\",ROW(#REF!)),ROWS(J$1:J513)-1))","v":{"$error":"#REF!"}},{"$f":"INDEX(#REF!,SMALL(IF(#REF!<>\"\",ROW(#REF!)),ROWS(K$1:K513)-1))","v":{"$error":"#REF!"}}]
[{"$error":"#REF!"},{"$error":"#REF!"},{"$error":"#REF!"},{"$f":"IF(J514=\"\",VLOOKUP(C514,OFFSET([0]!_xlnm.Print_Area,3,2),2,FALSE),VLOOKUP(A514,OFFSET([0]!_xlnm.Print_Area,3,0),4,FALSE))","v":{"$error":"#REF!"}},{"$f":"IF(J514=\"\",\"\",VLOOKUP(A514,OFFSET([0]!_xlnm.Print_Area,3,0),5,FALSE))","v":{"$error":"#REF!"}},{"$f":"IF(J514=\"\",\"\",VLOOKUP(A514,OFFSET([0]!_xlnm.Print_Area,3,0),6,FALSE))","v":{"$error":"#REF!"}},{"$f":"IF(J514=\"\",\"\",VLOOKUP(A514,OFFSET([0]!_xlnm.Print_Area,3,0,,7),7,FALSE))","v":{"$error":"#REF!"}}," ",{"$f":"INDEX(#REF!,SMALL(IF(#REF!<>\"\",ROW(#REF!)),ROWS(I$1:I514)-1))","v":{"$error":"#REF!"}},{"$f":"INDEX(#REF!,SMALL(IF(#REF!<>\"\",ROW(#REF!)),ROWS(J$1:J514)-1))","v":{"$error":"#REF!"}},{"$f":"INDEX(#REF!,SMALL(IF(#REF!<>\"\",ROW(#REF!)),ROWS(K$1:K514)-1))","v":{"$error":"#REF!"}}]
[{"$error":"#REF!"},{"$error":"#REF!"},{"$error":"#REF!"},{"$f":"IF(J515=\"\",VLOOKUP(C515,OFFSET([0]!_xlnm.Print_Area,3,2),2,FALSE),VLOOKUP(A515,OFFSET([0]!_xlnm.Print_Area,3,0),4,FALSE))","v":{"$error":"#REF!"}},{"$f":"IF(J515=\"\",\"\",VLOOKUP(A515,OFFSET([0]!_xlnm.Print_Area,3,0),5,FALSE))","v":{"$error":"#REF!"}},{"$f":"IF(J515=\"\",\"\",VLOOKUP(A515,OFFSET([0]!_xlnm.Print_Area,3,0),6,FALSE))","v":{"$error":"#REF!"}},{"$f":"IF(J515=\"\",\"\",VLOOKUP(A515,OFFSET([0]!_xlnm.Print_Area,3,0,,7),7,FALSE))","v":{"$error":"#REF!"}}," ",{"$f":"INDEX(#REF!,SMALL(IF(#REF!<>\"\",ROW(#REF!)),ROWS(I$1:I515)-1))","v":{"$error":"#REF!"}},{"$f":"INDEX(#REF!,SMALL(IF(#REF!<>\"\",ROW(#REF!)),ROWS(J$1:J515)-1))","v":{"$error":"#REF!"}},{"$f":"INDEX(#REF!,SMALL(IF(#REF!<>\"\",ROW(#REF!)),ROWS(K$1:K515)-1))","v":{"$error":"#REF!"}}]
[{"$error":"#REF!"},{"$error":"#REF!"},{"$error":"#REF!"},{"$f":"IF(J516=\"\",VLOOKUP(C516,OFFSET([0]!_xlnm.Print_Area,3,2),2,FALSE),VLOOKUP(A516,OFFSET([0]!_xlnm.Print_Area,3,0),4,FALSE))","v":{"$error":"#REF!"}},{"$f":"IF(J516=\"\",\"\",VLOOKUP(A516,OFFSET([0]!_xlnm.Print_Area,3,0),5,FALSE))","v":{"$error":"#REF!"}},{"$f":"IF(J516=\"\",\"\",VLOOKUP(A516,OFFSET([0]!_xlnm.Print_Area,3,0),6,FALSE))","v":{"$error":"#REF!"}},{"$f":"IF(J516=\"\",\"\",VLOOKUP(A516,OFFSET([0]!_xlnm.Print_Area,3,0,,7),7,FALSE))","v":{"$error":"#REF!"}}," ",{"$f":"INDEX(#REF!,SMALL(IF(#REF!<>\"\",ROW(#REF!)),ROWS(I$1:I516)-1))","v":{"$error":"#REF!"}},{"$f":"INDEX(#REF!,SMALL(IF(#REF!<>\"\",ROW(#REF!)),ROWS(J$1:J516)-1))","v":{"$error":"#REF!"}},{"$f":"INDEX(#REF!,SMALL(IF(#REF!<>\"\",ROW(#REF!)),ROWS(K$1:K516)-1))","v":{"$error":"#REF!"}}]
[{"$f":"IF(J517=0,\"\",J517)","v":{"$error":"#REF!"}},{"$f":"IF(K517=0,\"\",K517)","v":{"$error":"#REF!"}},{"$f":"I517","v":{"$error":"#REF!"}},{"$f":"IF(J517=\"\",VLOOKUP(C517,OFFSET([0]!_xlnm.Print_Area,3,2),2,FALSE),VLOOKUP(A517,OFFSET([0]!_xlnm.Print_Area,3,0),4,FALSE))","v":{"$error":"#REF!"}},{"$f":"IF(J517=\"\",\"\",VLOOKUP(A517,OFFSET([0]!_xlnm.Print_Area,3,0),5,FALSE))","v":{"$error":"#REF!"}},{"$f":"IF(J517=\"\",\"\",VLOOKUP(A517,OFFSET([0]!_xlnm.Print_Area,3,0),6,FALSE))","v":{"$error":"#REF!"}},{"$f":"IF(J517=\"\",\"\",VLOOKUP(A517,OFFSET([0]!_xlnm.Print_Area,3,0,,7),7,FALSE))","v":{"$error":"#REF!"}},{"$f":"IFERROR(ROUND(F517*G517,2),\" \")","v":" "},{"$f":"INDEX(#REF!,SMALL(IF(#REF!<>\"\",ROW(#REF!)),ROWS(I$1:I517)-1))","v":{"$error":"#REF!"}},{"$f":"INDEX(#REF!,SMALL(IF(#REF!<>\"\",ROW(#REF!)),ROWS(J$1:J517)-1))","v":{"$error":"#REF!"}},{"$f":"INDEX(#REF!,SMALL(IF(#REF!<>\"\",ROW(#REF!)),ROWS(K$1:K517)-1))","v":{"$error":"#REF!"}}]
[{"$error":"#REF!"},{"$error":"#REF!"},{"$error":"#REF!"},{"$f":"IF(J518=\"\",VLOOKUP(C518,OFFSET([0]!_xlnm.Print_Area,3,2),2,FALSE),VLOOKUP(A518,OFFSET([0]!_xlnm.Print_Area,3,0),4,FALSE))","v":{"$error":"#REF!"}},{"$f":"IF(J518=\"\",\"\",VLOOKUP(A518,OFFSET([0]!_xlnm.Print_Area,3,0),5,FALSE))","v":{"$error":"#REF!"}},{"$f":"IF(J518=\"\",\"\",VLOOKUP(A518,OFFSET([0]!_xlnm.Print_Area,3,0),6,FALSE))","v":{"$error":"#REF!"}},{"$f":"IF(J518=\"\",\"\",VLOOKUP(A518,OFFSET([0]!_xlnm.Print_Area,3,0,,7),7,FALSE))","v":{"$error":"#REF!"}}," ",{"$f":"INDEX(#REF!,SMALL(IF(#REF!<>\"\",ROW(#REF!)),ROWS(I$1:I518)-1))","v":{"$error":"#REF!"}},{"$f":"INDEX(#REF!,SMALL(IF(#REF!<>\"\",ROW(#REF!)),ROWS(J$1:J518)-1))","v":{"$error":"#REF!"}},{"$f":"INDEX(#REF!,SMALL(IF(#REF!<>\"\",ROW(#REF!)),ROWS(K$1:K518)-1))","v":{"$error":"#REF!"}}]
[{"$error":"#REF!"},{"$error":"#REF!"},{"$error":"#REF!"},{"$f":"IF(J519=\"\",VLOOKUP(C519,OFFSET([0]!_xlnm.Print_Area,3,2),2,FALSE),VLOOKUP(A519,OFFSET([0]!_xlnm.Print_Area,3,0),4,FALSE))","v":{"$error":"#REF!"}},{"$f":"IF(J519=\"\",\"\",VLOOKUP(A519,OFFSET([0]!_xlnm.Print_Area,3,0),5,FALSE))","v":{"$error":"#REF!"}},{"$f":"IF(J519=\"\",\"\",VLOOKUP(A519,OFFSET([0]!_xlnm.Print_Area,3,0),6,FALSE))","v":{"$error":"#REF!"}},{"$f":"IF(J519=\"\",\"\",VLOOKUP(A519,OFFSET([0]!_xlnm.Print_Area,3,0,,7),7,FALSE))","v":{"$error":"#REF!"}}," ",{"$f":"INDEX(#REF!,SMALL(IF(#REF!<>\"\",ROW(#REF!)),ROWS(I$1:I519)-1))","v":{"$error":"#REF!"}},{"$f":"INDEX(#REF!,SMALL(IF(#REF!<>\"\",ROW(#REF!)),ROWS(J$1:J519)-1))","v":{"$error":"#REF!"}},{"$f":"INDEX(#REF!,SMALL(IF(#REF!<>\"\",ROW(#REF!)),ROWS(K$1:K519)-1))","v":{"$error":"#REF!"}}]
[{"$error":"#REF!"},{"$error":"#REF!"},{"$error":"#REF!"},{"$f":"IF(J520=\"\",VLOOKUP(C520,OFFSET([0]!_xlnm.Print_Area,3,2),2,FALSE),VLOOKUP(A520,OFFSET([0]!_xlnm.Print_Area,3,0),4,FALSE))","v":{"$error":"#REF!"}},{"$f":"IF(J520=\"\",\"\",VLOOKUP(A520,OFFSET([0]!_xlnm.Print_Area,3,0),5,FALSE))","v":{"$error":"#REF!"}},{"$f":"IF(J520=\"\",\"\",VLOOKUP(A520,OFFSET([0]!_xlnm.Print_Area,3,0),6,FALSE))","v":{"$error":"#REF!"}},{"$f":"IF(J520=\"\",\"\",VLOOKUP(A520,OFFSET([0]!_xlnm.Print_Area,3,0,,7),7,FALSE))","v":{"$error":"#REF!"}}," ",{"$f":"INDEX(#REF!,SMALL(IF(#REF!<>\"\",ROW(#REF!)),ROWS(I$1:I520)-1))","v":{"$error":"#REF!"}},{"$f":"INDEX(#REF!,SMALL(IF(#REF!<>\"\",ROW(#REF!)),ROWS(J$1:J520)-1))","v":{"$error":"#REF!"}},{"$f":"INDEX(#REF!,SMALL(IF(#REF!<>\"\",ROW(#REF!)),ROWS(K$1:K520)-1))","v":{"$error":"#REF!"}}]
[{"$error":"#REF!"},{"$error":"#REF!"},{"$error":"#REF!"},{"$f":"IF(J521=\"\",VLOOKUP(C521,OFFSET([0]!_xlnm.Print_Area,3,2),2,FALSE),VLOOKUP(A521,OFFSET([0]!_xlnm.Print_Area,3,0),4,FALSE))","v":{"$error":"#REF!"}},{"$f":"IF(J521=\"\",\"\",VLOOKUP(A521,OFFSET([0]!_xlnm.Print_Area,3,0),5,FALSE))","v":{"$error":"#REF!"}},{"$f":"IF(J521=\"\",\"\",VLOOKUP(A521,OFFSET([0]!_xlnm.Print_Area,3,0),6,FALSE))","v":{"$error":"#REF!"}},{"$f":"IF(J521=\"\",\"\",VLOOKUP(A521,OFFSET([0]!_xlnm.Print_Area,3,0,,7),7,FALSE))","v":{"$error":"#REF!"}}," ",{"$f":"INDEX(#REF!,SMALL(IF(#REF!<>\"\",ROW(#REF!)),ROWS(I$1:I521)-1))","v":{"$error":"#REF!"}},{"$f":"INDEX(#REF!,SMALL(IF(#REF!<>\"\",ROW(#REF!)),ROWS(J$1:J521)-1))","v":{"$error":"#REF!"}},{"$f":"INDEX(#REF!,SMALL(IF(#REF!<>\"\",ROW(#REF!)),ROWS(K$1:K521)-1))","v":{"$error":"#REF!"}}]
[{"$error":"#REF!"},{"$error":"#REF!"},{"$error":"#REF!"},{"$f":"IF(J522=\"\",VLOOKUP(C522,OFFSET([0]!_xlnm.Print_Area,3,2),2,FALSE),VLOOKUP(A522,OFFSET([0]!_xlnm.Print_Area,3,0),4,FALSE))","v":{"$error":"#REF!"}},{"$f":"IF(J522=\"\",\"\",VLOOKUP(A522,OFFSET([0]!_xlnm.Print_Area,3,0),5,FALSE))","v":{"$error":"#REF!"}},{"$f":"IF(J522=\"\",\"\",VLOOKUP(A522,OFFSET([0]!_xlnm.Print_Area,3,0),6,FALSE))","v":{"$error":"#REF!"}},{"$f":"IF(J522=\"\",\"\",VLOOKUP(A522,OFFSET([0]!_xlnm.Print_Area,3,0,,7),7,FALSE))","v":{"$error":"#REF!"}}," ",{"$f":"INDEX(#REF!,SMALL(IF(#REF!<>\"\",ROW(#REF!)),ROWS(I$1:I522)-1))","v":{"$error":"#REF!"}},{"$f":"INDEX(#REF!,SMALL(IF(#REF!<>\"\",ROW(#REF!)),ROWS(J$1:J522)-1))","v":{"$error":"#REF!"}},{"$f":"INDEX(#REF!,SMALL(IF(#REF!<>\"\",ROW(#REF!)),ROWS(K$1:K522)-1))","v":{"$error":"#REF!"}}]
[{"$error":"#REF!"},{"$error":"#REF!"},{"$error":"#REF!"},{"$f":"IF(J523=\"\",VLOOKUP(C523,OFFSET([0]!_xlnm.Print_Area,3,2),2,FALSE),VLOOKUP(A523,OFFSET([0]!_xlnm.Print_Area,3,0),4,FALSE))","v":{"$error":"#REF!"}},{"$f":"IF(J523=\"\",\"\",VLOOKUP(A523,OFFSET([0]!_xlnm.Print_Area,3,0),5,FALSE))","v":{"$error":"#REF!"}},{"$f":"IF(J523=\"\",\"\",VLOOKUP(A523,OFFSET([0]!_xlnm.Print_Area,3,0),6,FALSE))","v":{"$error":"#REF!"}},{"$f":"IF(J523=\"\",\"\",VLOOKUP(A523,OFFSET([0]!_xlnm.Print_Area,3,0,,7),7,FALSE))","v":{"$error":"#REF!"}}," ",{"$f":"INDEX(#REF!,SMALL(IF(#REF!<>\"\",ROW(#REF!)),ROWS(I$1:I523)-1))","v":{"$error":"#REF!"}},{"$f":"INDEX(#REF!,SMALL(IF(#REF!<>\"\",ROW(#REF!)),ROWS(J$1:J523)-1))","v":{"$error":"#REF!"}},{"$f":"INDEX(#REF!,SMALL(IF(#REF!<>\"\",ROW(#REF!)),ROWS(K$1:K523)-1))","v":{"$error":"#REF!"}}]
[{"$error":"#REF!"},{"$error":"#REF!"},{"$error":"#REF!"},{"$f":"IF(J524=\"\",VLOOKUP(C524,OFFSET([0]!_xlnm.Print_Area,3,2),2,FALSE),VLOOKUP(A524,OFFSET([0]!_xlnm.Print_Area,3,0),4,FALSE))","v":{"$error":"#REF!"}},{"$f":"IF(J524=\"\",\"\",VLOOKUP(A524,OFFSET([0]!_xlnm.Print_Area,3,0),5,FALSE))","v":{"$error":"#REF!"}},{"$f":"IF(J524=\"\",\"\",VLOOKUP(A524,OFFSET([0]!_xlnm.Print_Area,3,0),6,FALSE))","v":{"$error":"#REF!"}},{"$f":"IF(J524=\"\",\"\",VLOOKUP(A524,OFFSET([0]!_xlnm.Print_Area,3,0,,7),7,FALSE))","v":{"$error":"#REF!"}}," ",{"$f":"INDEX(#REF!,SMALL(IF(#REF!<>\"\",ROW(#REF!)),ROWS(I$1:I524)-1))","v":{"$error":"#REF!"}},{"$f":"INDEX(#REF!,SMALL(IF(#REF!<>\"\",ROW(#REF!)),ROWS(J$1:J524)-1))","v":{"$error":"#REF!"}},{"$f":"INDEX(#REF!,SMALL(IF(#REF!<>\"\",ROW(#REF!)),ROWS(K$1:K524)-1))","v":{"$error":"#REF!"}}]
[{"$error":"#REF!"},{"$error":"#REF!"},{"$error":"#REF!"},{"$f":"IF(J525=\"\",VLOOKUP(C525,OFFSET([0]!_xlnm.Print_Area,3,2),2,FALSE),VLOOKUP(A525,OFFSET([0]!_xlnm.Print_Area,3,0),4,FALSE))","v":{"$error":"#REF!"}},{"$f":"IF(J525=\"\",\"\",VLOOKUP(A525,OFFSET([0]!_xlnm.Print_Area,3,0),5,FALSE))","v":{"$error":"#REF!"}},{"$f":"IF(J525=\"\",\"\",VLOOKUP(A525,OFFSET([0]!_xlnm.Print_Area,3,0),6,FALSE))","v":{"$error":"#REF!"}},{"$f":"IF(J525=\"\",\"\",VLOOKUP(A525,OFFSET([0]!_xlnm.Print_Area,3,0,,7),7,FALSE))","v":{"$error":"#REF!"}}," ",{"$f":"INDEX(#REF!,SMALL(IF(#REF!<>\"\",ROW(#REF!)),ROWS(I$1:I525)-1))","v":{"$error":"#REF!"}},{"$f":"INDEX(#REF!,SMALL(IF(#REF!<>\"\",ROW(#REF!)),ROWS(J$1:J525)-1))","v":{"$error":"#REF!"}},{"$f":"INDEX(#REF!,SMALL(IF(#REF!<>\"\",ROW(#REF!)),ROWS(K$1:K525)-1))","v":{"$error":"#REF!"}}]
[{"$error":"#REF!"},{"$error":"#REF!"},{"$error":"#REF!"},{"$f":"IF(J526=\"\",VLOOKUP(C526,OFFSET([0]!_xlnm.Print_Area,3,2),2,FALSE),VLOOKUP(A526,OFFSET([0]!_xlnm.Print_Area,3,0),4,FALSE))","v":{"$error":"#REF!"}},{"$f":"IF(J526=\"\",\"\",VLOOKUP(A526,OFFSET([0]!_xlnm.Print_Area,3,0),5,FALSE))","v":{"$error":"#REF!"}},{"$f":"IF(J526=\"\",\"\",VLOOKUP(A526,OFFSET([0]!_xlnm.Print_Area,3,0),6,FALSE))","v":{"$error":"#REF!"}},{"$f":"IF(J526=\"\",\"\",VLOOKUP(A526,OFFSET([0]!_xlnm.Print_Area,3,0,,7),7,FALSE))","v":{"$error":"#REF!"}}," ",{"$f":"INDEX(#REF!,SMALL(IF(#REF!<>\"\",ROW(#REF!)),ROWS(I$1:I526)-1))","v":{"$error":"#REF!"}},{"$f":"INDEX(#REF!,SMALL(IF(#REF!<>\"\",ROW(#REF!)),ROWS(J$1:J526)-1))","v":{"$error":"#REF!"}},{"$f":"INDEX(#REF!,SMALL(IF(#REF!<>\"\",ROW(#REF!)),ROWS(K$1:K526)-1))","v":{"$error":"#REF!"}}]
[{"$error":"#REF!"},{"$error":"#REF!"},{"$error":"#REF!"},{"$f":"IF(J527=\"\",VLOOKUP(C527,OFFSET([0]!_xlnm.Print_Area,3,2),2,FALSE),VLOOKUP(A527,OFFSET([0]!_xlnm.Print_Area,3,0),4,FALSE))","v":{"$error":"#REF!"}},{"$f":"IF(J527=\"\",\"\",VLOOKUP(A527,OFFSET([0]!_xlnm.Print_Area,3,0),5,FALSE))","v":{"$error":"#REF!"}},{"$f":"IF(J527=\"\",\"\",VLOOKUP(A527,OFFSET([0]!_xlnm.Print_Area,3,0),6,FALSE))","v":{"$error":"#REF!"}},{"$f":"IF(J527=\"\",\"\",VLOOKUP(A527,OFFSET([0]!_xlnm.Print_Area,3,0,,7),7,FALSE))","v":{"$error":"#REF!"}}," ",{"$f":"INDEX(#REF!,SMALL(IF(#REF!<>\"\",ROW(#REF!)),ROWS(I$1:I527)-1))","v":{"$error":"#REF!"}},{"$f":"INDEX(#REF!,SMALL(IF(#REF!<>\"\",ROW(#REF!)),ROWS(J$1:J527)-1))","v":{"$error":"#REF!"}},{"$f":"INDEX(#REF!,SMALL(IF(#REF!<>\"\",ROW(#REF!)),ROWS(K$1:K527)-1))","v":{"$error":"#REF!"}}]
[{"$error":"#REF!"},{"$error":"#REF!"},{"$error":"#REF!"},{"$f":"IF(J528=\"\",VLOOKUP(C528,OFFSET([0]!_xlnm.Print_Area,3,2),2,FALSE),VLOOKUP(A528,OFFSET([0]!_xlnm.Print_Area,3,0),4,FALSE))","v":{"$error":"#REF!"}},{"$f":"IF(J528=\"\",\"\",VLOOKUP(A528,OFFSET([0]!_xlnm.Print_Area,3,0),5,FALSE))","v":{"$error":"#REF!"}},{"$f":"IF(J528=\"\",\"\",VLOOKUP(A528,OFFSET([0]!_xlnm.Print_Area,3,0),6,FALSE))","v":{"$error":"#REF!"}},{"$f":"IF(J528=\"\",\"\",VLOOKUP(A528,OFFSET([0]!_xlnm.Print_Area,3,0,,7),7,FALSE))","v":{"$error":"#REF!"}}," ",{"$f":"INDEX(#REF!,SMALL(IF(#REF!<>\"\",ROW(#REF!)),ROWS(I$1:I528)-1))","v":{"$error":"#REF!"}},{"$f":"INDEX(#REF!,SMALL(IF(#REF!<>\"\",ROW(#REF!)),ROWS(J$1:J528)-1))","v":{"$error":"#REF!"}},{"$f":"INDEX(#REF!,SMALL(IF(#REF!<>\"\",ROW(#REF!)),ROWS(K$1:K528)-1))","v":{"$error":"#REF!"}}]
[{"$error":"#REF!"},{"$error":"#REF!"},{"$error":"#REF!"},{"$f":"IF(J529=\"\",VLOOKUP(C529,OFFSET([0]!_xlnm.Print_Area,3,2),2,FALSE),VLOOKUP(A529,OFFSET([0]!_xlnm.Print_Area,3,0),4,FALSE))","v":{"$error":"#REF!"}},{"$f":"IF(J529=\"\",\"\",VLOOKUP(A529,OFFSET([0]!_xlnm.Print_Area,3,0),5,FALSE))","v":{"$error":"#REF!"}},{"$f":"IF(J529=\"\",\"\",VLOOKUP(A529,OFFSET([0]!_xlnm.Print_Area,3,0),6,FALSE))","v":{"$error":"#REF!"}},{"$f":"IF(J529=\"\",\"\",VLOOKUP(A529,OFFSET([0]!_xlnm.Print_Area,3,0,,7),7,FALSE))","v":{"$error":"#REF!"}}," ",{"$f":"INDEX(#REF!,SMALL(IF(#REF!<>\"\",ROW(#REF!)),ROWS(I$1:I529)-1))","v":{"$error":"#REF!"}},{"$f":"INDEX(#REF!,SMALL(IF(#REF!<>\"\",ROW(#REF!)),ROWS(J$1:J529)-1))","v":{"$error":"#REF!"}},{"$f":"INDEX(#REF!,SMALL(IF(#REF!<>\"\",ROW(#REF!)),ROWS(K$1:K529)-1))","v":{"$error":"#REF!"}}]
[{"$error":"#REF!"},{"$error":"#REF!"},{"$error":"#REF!"},{"$f":"IF(J530=\"\",VLOOKUP(C530,OFFSET([0]!_xlnm.Print_Area,3,2),2,FALSE),VLOOKUP(A530,OFFSET([0]!_xlnm.Print_Area,3,0),4,FALSE))","v":{"$error":"#REF!"}},{"$f":"IF(J530=\"\",\"\",VLOOKUP(A530,OFFSET([0]!_xlnm.Print_Area,3,0),5,FALSE))","v":{"$error":"#REF!"}},{"$f":"IF(J530=\"\",\"\",VLOOKUP(A530,OFFSET([0]!_xlnm.Print_Area,3,0),6,FALSE))","v":{"$error":"#REF!"}},{"$f":"IF(J530=\"\",\"\",VLOOKUP(A530,OFFSET([0]!_xlnm.Print_Area,3,0,,7),7,FALSE))","v":{"$error":"#REF!"}}," ",{"$f":"INDEX(#REF!,SMALL(IF(#REF!<>\"\",ROW(#REF!)),ROWS(I$1:I530)-1))","v":{"$error":"#REF!"}},{"$f":"INDEX(#REF!,SMALL(IF(#REF!<>\"\",ROW(#REF!)),ROWS(J$1:J530)-1))","v":{"$error":"#REF!"}},{"$f":"INDEX(#REF!,SMALL(IF(#REF!<>\"\",ROW(#REF!)),ROWS(K$1:K530)-1))","v":{"$error":"#REF!"}}]
[{"$error":"#REF!"},{"$error":"#REF!"},{"$error":"#REF!"},{"$f":"IF(J531=\"\",VLOOKUP(C531,OFFSET([0]!_xlnm.Print_Area,3,2),2,FALSE),VLOOKUP(A531,OFFSET([0]!_xlnm.Print_Area,3,0),4,FALSE))","v":{"$error":"#REF!"}},{"$f":"IF(J531=\"\",\"\",VLOOKUP(A531,OFFSET([0]!_xlnm.Print_Area,3,0),5,FALSE))","v":{"$error":"#REF!"}},{"$f":"IF(J531=\"\",\"\",VLOOKUP(A531,OFFSET([0]!_xlnm.Print_Area,3,0),6,FALSE))","v":{"$error":"#REF!"}},{"$f":"IF(J531=\"\",\"\",VLOOKUP(A531,OFFSET([0]!_xlnm.Print_Area,3,0,,7),7,FALSE))","v":{"$error":"#REF!"}}," ",{"$f":"INDEX(#REF!,SMALL(IF(#REF!<>\"\",ROW(#REF!)),ROWS(I$1:I531)-1))","v":{"$error":"#REF!"}},{"$f":"INDEX(#REF!,SMALL(IF(#REF!<>\"\",ROW(#REF!)),ROWS(J$1:J531)-1))","v":{"$error":"#REF!"}},{"$f":"INDEX(#REF!,SMALL(IF(#REF!<>\"\",ROW(#REF!)),ROWS(K$1:K531)-1))","v":{"$error":"#REF!"}}]
[{"$error":"#REF!"},{"$error":"#REF!"},{"$error":"#REF!"},{"$f":"IF(J532=\"\",VLOOKUP(C532,OFFSET([0]!_xlnm.Print_Area,3,2),2,FALSE),VLOOKUP(A532,OFFSET([0]!_xlnm.Print_Area,3,0),4,FALSE))","v":{"$error":"#REF!"}},{"$f":"IF(J532=\"\",\"\",VLOOKUP(A532,OFFSET([0]!_xlnm.Print_Area,3,0),5,FALSE))","v":{"$error":"#REF!"}},{"$f":"IF(J532=\"\",\"\",VLOOKUP(A532,OFFSET([0]!_xlnm.Print_Area,3,0),6,FALSE))","v":{"$error":"#REF!"}},{"$f":"IF(J532=\"\",\"\",VLOOKUP(A532,OFFSET([0]!_xlnm.Print_Area,3,0,,7),7,FALSE))","v":{"$error":"#REF!"}}," ",{"$f":"INDEX(#REF!,SMALL(IF(#REF!<>\"\",ROW(#REF!)),ROWS(I$1:I532)-1))","v":{"$error":"#REF!"}},{"$f":"INDEX(#REF!,SMALL(IF(#REF!<>\"\",ROW(#REF!)),ROWS(J$1:J532)-1))","v":{"$error":"#REF!"}},{"$f":"INDEX(#REF!,SMALL(IF(#REF!<>\"\",ROW(#REF!)),ROWS(K$1:K532)-1))","v":{"$error":"#REF!"}}]
[{"$error":"#REF!"},{"$error":"#REF!"},{"$error":"#REF!"},{"$f":"IF(J533=\"\",VLOOKUP(C533,OFFSET([0]!_xlnm.Print_Area,3,2),2,FALSE),VLOOKUP(A533,OFFSET([0]!_xlnm.Print_Area,3,0),4,FALSE))","v":{"$error":"#REF!"}},{"$f":"IF(J533=\"\",\"\",VLOOKUP(A533,OFFSET([0]!_xlnm.Print_Area,3,0),5,FALSE))","v":{"$error":"#REF!"}},{"$f":"IF(J533=\"\",\"\",VLOOKUP(A533,OFFSET([0]!_xlnm.Print_Area,3,0),6,FALSE))","v":{"$error":"#REF!"}},{"$f":"IF(J533=\"\",\"\",VLOOKUP(A533,OFFSET([0]!_xlnm.Print_Area,3,0,,7),7,FALSE))","v":{"$error":"#REF!"}}," ",{"$f":"INDEX(#REF!,SMALL(IF(#REF!<>\"\",ROW(#REF!)),ROWS(I$1:I533)-1))","v":{"$error":"#REF!"}},{"$f":"INDEX(#REF!,SMALL(IF(#REF!<>\"\",ROW(#REF!)),ROWS(J$1:J533)-1))","v":{"$error":"#REF!"}},{"$f":"INDEX(#REF!,SMALL(IF(#REF!<>\"\",ROW(#REF!)),ROWS(K$1:K533)-1))","v":{"$error":"#REF!"}}]
[{"$error":"#REF!"},{"$error":"#REF!"},{"$error":"#REF!"},{"$f":"IF(J534=\"\",VLOOKUP(C534,OFFSET([0]!_xlnm.Print_Area,3,2),2,FALSE),VLOOKUP(A534,OFFSET([0]!_xlnm.Print_Area,3,0),4,FALSE))","v":{"$error":"#REF!"}},{"$f":"IF(J534=\"\",\"\",VLOOKUP(A534,OFFSET([0]!_xlnm.Print_Area,3,0),5,FALSE))","v":{"$error":"#REF!"}},{"$f":"IF(J534=\"\",\"\",VLOOKUP(A534,OFFSET([0]!_xlnm.Print_Area,3,0),6,FALSE))","v":{"$error":"#REF!"}},{"$f":"IF(J534=\"\",\"\",VLOOKUP(A534,OFFSET([0]!_xlnm.Print_Area,3,0,,7),7,FALSE))","v":{"$error":"#REF!"}}," ",{"$f":"INDEX(#REF!,SMALL(IF(#REF!<>\"\",ROW(#REF!)),ROWS(I$1:I534)-1))","v":{"$error":"#REF!"}},{"$f":"INDEX(#REF!,SMALL(IF(#REF!<>\"\",ROW(#REF!)),ROWS(J$1:J534)-1))","v":{"$error":"#REF!"}},{"$f":"INDEX(#REF!,SMALL(IF(#REF!<>\"\",ROW(#REF!)),ROWS(K$1:K534)-1))","v":{"$error":"#REF!"}}]
[{"$error":"#REF!"},{"$error":"#REF!"},{"$error":"#REF!"},{"$f":"IF(J535=\"\",VLOOKUP(C535,OFFSET([0]!_xlnm.Print_Area,3,2),2,FALSE),VLOOKUP(A535,OFFSET([0]!_xlnm.Print_Area,3,0),4,FALSE))","v":{"$error":"#REF!"}},{"$f":"IF(J535=\"\",\"\",VLOOKUP(A535,OFFSET([0]!_xlnm.Print_Area,3,0),5,FALSE))","v":{"$error":"#REF!"}},{"$f":"IF(J535=\"\",\"\",VLOOKUP(A535,OFFSET([0]!_xlnm.Print_Area,3,0),6,FALSE))","v":{"$error":"#REF!"}},{"$f":"IF(J535=\"\",\"\",VLOOKUP(A535,OFFSET([0]!_xlnm.Print_Area,3,0,,7),7,FALSE))","v":{"$error":"#REF!"}}," ",{"$f":"INDEX(#REF!,SMALL(IF(#REF!<>\"\",ROW(#REF!)),ROWS(I$1:I535)-1))","v":{"$error":"#REF!"}},{"$f":"INDEX(#REF!,SMALL(IF(#REF!<>\"\",ROW(#REF!)),ROWS(J$1:J535)-1))","v":{"$error":"#REF!"}},{"$f":"INDEX(#REF!,SMALL(IF(#REF!<>\"\",ROW(#REF!)),ROWS(K$1:K535)-1))","v":{"$error":"#REF!"}}]
[{"$error":"#REF!"},{"$error":"#REF!"},{"$error":"#REF!"},{"$f":"IF(J536=\"\",VLOOKUP(C536,OFFSET([0]!_xlnm.Print_Area,3,2),2,FALSE),VLOOKUP(A536,OFFSET([0]!_xlnm.Print_Area,3,0),4,FALSE))","v":{"$error":"#REF!"}},{"$f":"IF(J536=\"\",\"\",VLOOKUP(A536,OFFSET([0]!_xlnm.Print_Area,3,0),5,FALSE))","v":{"$error":"#REF!"}},{"$f":"IF(J536=\"\",\"\",VLOOKUP(A536,OFFSET([0]!_xlnm.Print_Area,3,0),6,FALSE))","v":{"$error":"#REF!"}},{"$f":"IF(J536=\"\",\"\",VLOOKUP(A536,OFFSET([0]!_xlnm.Print_Area,3,0,,7),7,FALSE))","v":{"$error":"#REF!"}}," ",{"$f":"INDEX(#REF!,SMALL(IF(#REF!<>\"\",ROW(#REF!)),ROWS(I$1:I536)-1))","v":{"$error":"#REF!"}},{"$f":"INDEX(#REF!,SMALL(IF(#REF!<>\"\",ROW(#REF!)),ROWS(J$1:J536)-1))","v":{"$error":"#REF!"}},{"$f":"INDEX(#REF!,SMALL(IF(#REF!<>\"\",ROW(#REF!)),ROWS(K$1:K536)-1))","v":{"$error":"#REF!"}}]
[{"$error":"#REF!"},{"$error":"#REF!"},{"$error":"#REF!"},{"$f":"IF(J537=\"\",VLOOKUP(C537,OFFSET([0]!_xlnm.Print_Area,3,2),2,FALSE),VLOOKUP(A537,OFFSET([0]!_xlnm.Print_Area,3,0),4,FALSE))","v":{"$error":"#REF!"}},{"$f":"IF(J537=\"\",\"\",VLOOKUP(A537,OFFSET([0]!_xlnm.Print_Area,3,0),5,FALSE))","v":{"$error":"#REF!"}},{"$f":"IF(J537=\"\",\"\",VLOOKUP(A537,OFFSET([0]!_xlnm.Print_Area,3,0),6,FALSE))","v":{"$error":"#REF!"}},{"$f":"IF(J537=\"\",\"\",VLOOKUP(A537,OFFSET([0]!_xlnm.Print_Area,3,0,,7),7,FALSE))","v":{"$error":"#REF!"}}," ",{"$f":"INDEX(#REF!,SMALL(IF(#REF!<>\"\",ROW(#REF!)),ROWS(I$1:I537)-1))","v":{"$error":"#REF!"}},{"$f":"INDEX(#REF!,SMALL(IF(#REF!<>\"\",ROW(#REF!)),ROWS(J$1:J537)-1))","v":{"$error":"#REF!"}},{"$f":"INDEX(#REF!,SMALL(IF(#REF!<>\"\",ROW(#REF!)),ROWS(K$1:K537)-1))","v":{"$error":"#REF!"}}]
[{"$error":"#REF!"},{"$error":"#REF!"},{"$error":"#REF!"},{"$f":"IF(J538=\"\",VLOOKUP(C538,OFFSET([0]!_xlnm.Print_Area,3,2),2,FALSE),VLOOKUP(A538,OFFSET([0]!_xlnm.Print_Area,3,0),4,FALSE))","v":{"$error":"#REF!"}},{"$f":"IF(J538=\"\",\"\",VLOOKUP(A538,OFFSET([0]!_xlnm.Print_Area,3,0),5,FALSE))","v":{"$error":"#REF!"}},{"$f":"IF(J538=\"\",\"\",VLOOKUP(A538,OFFSET([0]!_xlnm.Print_Area,3,0),6,FALSE))","v":{"$error":"#REF!"}},{"$f":"IF(J538=\"\",\"\",VLOOKUP(A538,OFFSET([0]!_xlnm.Print_Area,3,0,,7),7,FALSE))","v":{"$error":"#REF!"}}," ",{"$f":"INDEX(#REF!,SMALL(IF(#REF!<>\"\",ROW(#REF!)),ROWS(I$1:I538)-1))","v":{"$error":"#REF!"}},{"$f":"INDEX(#REF!,SMALL(IF(#REF!<>\"\",ROW(#REF!)),ROWS(J$1:J538)-1))","v":{"$error":"#REF!"}},{"$f":"INDEX(#REF!,SMALL(IF(#REF!<>\"\",ROW(#REF!)),ROWS(K$1:K538)-1))","v":{"$error":"#REF!"}}]
[{"$error":"#REF!"},{"$error":"#REF!"},{"$error":"#REF!"},{"$f":"IF(J539=\"\",VLOOKUP(C539,OFFSET([0]!_xlnm.Print_Area,3,2),2,FALSE),VLOOKUP(A539,OFFSET([0]!_xlnm.Print_Area,3,0),4,FALSE))","v":{"$error":"#REF!"}},{"$f":"IF(J539=\"\",\"\",VLOOKUP(A539,OFFSET([0]!_xlnm.Print_Area,3,0),5,FALSE))","v":{"$error":"#REF!"}},{"$f":"IF(J539=\"\",\"\",VLOOKUP(A539,OFFSET([0]!_xlnm.Print_Area,3,0),6,FALSE))","v":{"$error":"#REF!"}},{"$f":"IF(J539=\"\",\"\",VLOOKUP(A539,OFFSET([0]!_xlnm.Print_Area,3,0,,7),7,FALSE))","v":{"$error":"#REF!"}}," ",{"$f":"INDEX(#REF!,SMALL(IF(#REF!<>\"\",ROW(#REF!)),ROWS(I$1:I539)-1))","v":{"$error":"#REF!"}},{"$f":"INDEX(#REF!,SMALL(IF(#REF!<>\"\",ROW(#REF!)),ROWS(J$1:J539)-1))","v":{"$error":"#REF!"}},{"$f":"INDEX(#REF!,SMALL(IF(#REF!<>\"\",ROW(#REF!)),ROWS(K$1:K539)-1))","v":{"$error":"#REF!"}}]
[{"$error":"#REF!"},{"$error":"#REF!"},{"$error":"#REF!"},{"$f":"IF(J540=\"\",VLOOKUP(C540,OFFSET([0]!_xlnm.Print_Area,3,2),2,FALSE),VLOOKUP(A540,OFFSET([0]!_xlnm.Print_Area,3,0),4,FALSE))","v":{"$error":"#REF!"}},{"$f":"IF(J540=\"\",\"\",VLOOKUP(A540,OFFSET([0]!_xlnm.Print_Area,3,0),5,FALSE))","v":{"$error":"#REF!"}},{"$f":"IF(J540=\"\",\"\",VLOOKUP(A540,OFFSET([0]!_xlnm.Print_Area,3,0),6,FALSE))","v":{"$error":"#REF!"}},{"$f":"IF(J540=\"\",\"\",VLOOKUP(A540,OFFSET([0]!_xlnm.Print_Area,3,0,,7),7,FALSE))","v":{"$error":"#REF!"}}," ",{"$f":"INDEX(#REF!,SMALL(IF(#REF!<>\"\",ROW(#REF!)),ROWS(I$1:I540)-1))","v":{"$error":"#REF!"}},{"$f":"INDEX(#REF!,SMALL(IF(#REF!<>\"\",ROW(#REF!)),ROWS(J$1:J540)-1))","v":{"$error":"#REF!"}},{"$f":"INDEX(#REF!,SMALL(IF(#REF!<>\"\",ROW(#REF!)),ROWS(K$1:K540)-1))","v":{"$error":"#REF!"}}]
[{"$error":"#REF!"},{"$error":"#REF!"},{"$error":"#REF!"},{"$f":"IF(J541=\"\",VLOOKUP(C541,OFFSET([0]!_xlnm.Print_Area,3,2),2,FALSE),VLOOKUP(A541,OFFSET([0]!_xlnm.Print_Area,3,0),4,FALSE))","v":{"$error":"#REF!"}},{"$f":"IF(J541=\"\",\"\",VLOOKUP(A541,OFFSET([0]!_xlnm.Print_Area,3,0),5,FALSE))","v":{"$error":"#REF!"}},{"$f":"IF(J541=\"\",\"\",VLOOKUP(A541,OFFSET([0]!_xlnm.Print_Area,3,0),6,FALSE))","v":{"$error":"#REF!"}},{"$f":"IF(J541=\"\",\"\",VLOOKUP(A541,OFFSET([0]!_xlnm.Print_Area,3,0,,7),7,FALSE))","v":{"$error":"#REF!"}}," ",{"$f":"INDEX(#REF!,SMALL(IF(#REF!<>\"\",ROW(#REF!)),ROWS(I$1:I541)-1))","v":{"$error":"#REF!"}},{"$f":"INDEX(#REF!,SMALL(IF(#REF!<>\"\",ROW(#REF!)),ROWS(J$1:J541)-1))","v":{"$error":"#REF!"}},{"$f":"INDEX(#REF!,SMALL(IF(#REF!<>\"\",ROW(#REF!)),ROWS(K$1:K541)-1))","v":{"$error":"#REF!"}}]
[{"$error":"#REF!"},{"$error":"#REF!"},{"$error":"#REF!"},{"$f":"IF(J542=\"\",VLOOKUP(C542,OFFSET([0]!_xlnm.Print_Area,3,2),2,FALSE),VLOOKUP(A542,OFFSET([0]!_xlnm.Print_Area,3,0),4,FALSE))","v":{"$error":"#REF!"}},{"$f":"IF(J542=\"\",\"\",VLOOKUP(A542,OFFSET([0]!_xlnm.Print_Area,3,0),5,FALSE))","v":{"$error":"#REF!"}},{"$f":"IF(J542=\"\",\"\",VLOOKUP(A542,OFFSET([0]!_xlnm.Print_Area,3,0),6,FALSE))","v":{"$error":"#REF!"}},{"$f":"IF(J542=\"\",\"\",VLOOKUP(A542,OFFSET([0]!_xlnm.Print_Area,3,0,,7),7,FALSE))","v":{"$error":"#REF!"}}," ",{"$f":"INDEX(#REF!,SMALL(IF(#REF!<>\"\",ROW(#REF!)),ROWS(I$1:I542)-1))","v":{"$error":"#REF!"}},{"$f":"INDEX(#REF!,SMALL(IF(#REF!<>\"\",ROW(#REF!)),ROWS(J$1:J542)-1))","v":{"$error":"#REF!"}},{"$f":"INDEX(#REF!,SMALL(IF(#REF!<>\"\",ROW(#REF!)),ROWS(K$1:K542)-1))","v":{"$error":"#REF!"}}]
[{"$error":"#REF!"},{"$error":"#REF!"},{"$error":"#REF!"},{"$f":"IF(J543=\"\",VLOOKUP(C543,OFFSET([0]!_xlnm.Print_Area,3,2),2,FALSE),VLOOKUP(A543,OFFSET([0]!_xlnm.Print_Area,3,0),4,FALSE))","v":{"$error":"#REF!"}},{"$f":"IF(J543=\"\",\"\",VLOOKUP(A543,OFFSET([0]!_xlnm.Print_Area,3,0),5,FALSE))","v":{"$error":"#REF!"}},{"$f":"IF(J543=\"\",\"\",VLOOKUP(A543,OFFSET([0]!_xlnm.Print_Area,3,0),6,FALSE))","v":{"$error":"#REF!"}},{"$f":"IF(J543=\"\",\"\",VLOOKUP(A543,OFFSET([0]!_xlnm.Print_Area,3,0,,7),7,FALSE))","v":{"$error":"#REF!"}}," ",{"$f":"INDEX(#REF!,SMALL(IF(#REF!<>\"\",ROW(#REF!)),ROWS(I$1:I543)-1))","v":{"$error":"#REF!"}},{"$f":"INDEX(#REF!,SMALL(IF(#REF!<>\"\",ROW(#REF!)),ROWS(J$1:J543)-1))","v":{"$error":"#REF!"}},{"$f":"INDEX(#REF!,SMALL(IF(#REF!<>\"\",ROW(#REF!)),ROWS(K$1:K543)-1))","v":{"$error":"#REF!"}}]
[{"$error":"#REF!"},{"$error":"#REF!"},{"$error":"#REF!"},{"$f":"IF(J544=\"\",VLOOKUP(C544,OFFSET([0]!_xlnm.Print_Area,3,2),2,FALSE),VLOOKUP(A544,OFFSET([0]!_xlnm.Print_Area,3,0),4,FALSE))","v":{"$error":"#REF!"}},{"$f":"IF(J544=\"\",\"\",VLOOKUP(A544,OFFSET([0]!_xlnm.Print_Area,3,0),5,FALSE))","v":{"$error":"#REF!"}},{"$f":"IF(J544=\"\",\"\",VLOOKUP(A544,OFFSET([0]!_xlnm.Print_Area,3,0),6,FALSE))","v":{"$error":"#REF!"}},{"$f":"IF(J544=\"\",\"\",VLOOKUP(A544,OFFSET([0]!_xlnm.Print_Area,3,0,,7),7,FALSE))","v":{"$error":"#REF!"}}," ",{"$f":"INDEX(#REF!,SMALL(IF(#REF!<>\"\",ROW(#REF!)),ROWS(I$1:I544)-1))","v":{"$error":"#REF!"}},{"$f":"INDEX(#REF!,SMALL(IF(#REF!<>\"\",ROW(#REF!)),ROWS(J$1:J544)-1))","v":{"$error":"#REF!"}},{"$f":"INDEX(#REF!,SMALL(IF(#REF!<>\"\",ROW(#REF!)),ROWS(K$1:K544)-1))","v":{"$error":"#REF!"}}]
[{"$error":"#REF!"},{"$error":"#REF!"},{"$error":"#REF!"},{"$f":"IF(J545=\"\",VLOOKUP(C545,OFFSET([0]!_xlnm.Print_Area,3,2),2,FALSE),VLOOKUP(A545,OFFSET([0]!_xlnm.Print_Area,3,0),4,FALSE))","v":{"$error":"#REF!"}},{"$f":"IF(J545=\"\",\"\",VLOOKUP(A545,OFFSET([0]!_xlnm.Print_Area,3,0),5,FALSE))","v":{"$error":"#REF!"}},{"$f":"IF(J545=\"\",\"\",VLOOKUP(A545,OFFSET([0]!_xlnm.Print_Area,3,0),6,FALSE))","v":{"$error":"#REF!"}},{"$f":"IF(J545=\"\",\"\",VLOOKUP(A545,OFFSET([0]!_xlnm.Print_Area,3,0,,7),7,FALSE))","v":{"$error":"#REF!"}}," ",{"$f":"INDEX(#REF!,SMALL(IF(#REF!<>\"\",ROW(#REF!)),ROWS(I$1:I545)-1))","v":{"$error":"#REF!"}},{"$f":"INDEX(#REF!,SMALL(IF(#REF!<>\"\",ROW(#REF!)),ROWS(J$1:J545)-1))","v":{"$error":"#REF!"}},{"$f":"INDEX(#REF!,SMALL(IF(#REF!<>\"\",ROW(#REF!)),ROWS(K$1:K545)-1))","v":{"$error":"#REF!"}}]
[{"$error":"#REF!"},{"$error":"#REF!"},{"$error":"#REF!"},{"$f":"IF(J546=\"\",VLOOKUP(C546,OFFSET([0]!_xlnm.Print_Area,3,2),2,FALSE),VLOOKUP(A546,OFFSET([0]!_xlnm.Print_Area,3,0),4,FALSE))","v":{"$error":"#REF!"}},{"$f":"IF(J546=\"\",\"\",VLOOKUP(A546,OFFSET([0]!_xlnm.Print_Area,3,0),5,FALSE))","v":{"$error":"#REF!"}},{"$f":"IF(J546=\"\",\"\",VLOOKUP(A546,OFFSET([0]!_xlnm.Print_Area,3,0),6,FALSE))","v":{"$error":"#REF!"}},{"$f":"IF(J546=\"\",\"\",VLOOKUP(A546,OFFSET([0]!_xlnm.Print_Area,3,0,,7),7,FALSE))","v":{"$error":"#REF!"}}," ",{"$f":"INDEX(#REF!,SMALL(IF(#REF!<>\"\",ROW(#REF!)),ROWS(I$1:I546)-1))","v":{"$error":"#REF!"}},{"$f":"INDEX(#REF!,SMALL(IF(#REF!<>\"\",ROW(#REF!)),ROWS(J$1:J546)-1))","v":{"$error":"#REF!"}},{"$f":"INDEX(#REF!,SMALL(IF(#REF!<>\"\",ROW(#REF!)),ROWS(K$1:K546)-1))","v":{"$error":"#REF!"}}]
[{"$error":"#REF!"},{"$error":"#REF!"},{"$error":"#REF!"},{"$f":"IF(J547=\"\",VLOOKUP(C547,OFFSET([0]!_xlnm.Print_Area,3,2),2,FALSE),VLOOKUP(A547,OFFSET([0]!_xlnm.Print_Area,3,0),4,FALSE))","v":{"$error":"#REF!"}},{"$f":"IF(J547=\"\",\"\",VLOOKUP(A547,OFFSET([0]!_xlnm.Print_Area,3,0),5,FALSE))","v":{"$error":"#REF!"}},{"$f":"IF(J547=\"\",\"\",VLOOKUP(A547,OFFSET([0]!_xlnm.Print_Area,3,0),6,FALSE))","v":{"$error":"#REF!"}},{"$f":"IF(J547=\"\",\"\",VLOOKUP(A547,OFFSET([0]!_xlnm.Print_Area,3,0,,7),7,FALSE))","v":{"$error":"#REF!"}}," ",{"$f":"INDEX(#REF!,SMALL(IF(#REF!<>\"\",ROW(#REF!)),ROWS(I$1:I547)-1))","v":{"$error":"#REF!"}},{"$f":"INDEX(#REF!,SMALL(IF(#REF!<>\"\",ROW(#REF!)),ROWS(J$1:J547)-1))","v":{"$error":"#REF!"}},{"$f":"INDEX(#REF!,SMALL(IF(#REF!<>\"\",ROW(#REF!)),ROWS(K$1:K547)-1))","v":{"$error":"#REF!"}}]
[{"$error":"#REF!"},{"$error":"#REF!"},{"$error":"#REF!"},{"$f":"IF(J548=\"\",VLOOKUP(C548,OFFSET([0]!_xlnm.Print_Area,3,2),2,FALSE),VLOOKUP(A548,OFFSET([0]!_xlnm.Print_Area,3,0),4,FALSE))","v":{"$error":"#REF!"}},{"$f":"IF(J548=\"\",\"\",VLOOKUP(A548,OFFSET([0]!_xlnm.Print_Area,3,0),5,FALSE))","v":{"$error":"#REF!"}},{"$f":"IF(J548=\"\",\"\",VLOOKUP(A548,OFFSET([0]!_xlnm.Print_Area,3,0),6,FALSE))","v":{"$error":"#REF!"}},{"$f":"IF(J548=\"\",\"\",VLOOKUP(A548,OFFSET([0]!_xlnm.Print_Area,3,0,,7),7,FALSE))","v":{"$error":"#REF!"}}," ",{"$f":"INDEX(#REF!,SMALL(IF(#REF!<>\"\",ROW(#REF!)),ROWS(I$1:I548)-1))","v":{"$error":"#REF!"}},{"$f":"INDEX(#REF!,SMALL(IF(#REF!<>\"\",ROW(#REF!)),ROWS(J$1:J548)-1))","v":{"$error":"#REF!"}},{"$f":"INDEX(#REF!,SMALL(IF(#REF!<>\"\",ROW(#REF!)),ROWS(K$1:K548)-1))","v":{"$error":"#REF!"}}]
[{"$error":"#REF!"},{"$error":"#REF!"},{"$error":"#REF!"},{"$f":"IF(J549=\"\",VLOOKUP(C549,OFFSET([0]!_xlnm.Print_Area,3,2),2,FALSE),VLOOKUP(A549,OFFSET([0]!_xlnm.Print_Area,3,0),4,FALSE))","v":{"$error":"#REF!"}},{"$f":"IF(J549=\"\",\"\",VLOOKUP(A549,OFFSET([0]!_xlnm.Print_Area,3,0),5,FALSE))","v":{"$error":"#REF!"}},{"$f":"IF(J549=\"\",\"\",VLOOKUP(A549,OFFSET([0]!_xlnm.Print_Area,3,0),6,FALSE))","v":{"$error":"#REF!"}},{"$f":"IF(J549=\"\",\"\",VLOOKUP(A549,OFFSET([0]!_xlnm.Print_Area,3,0,,7),7,FALSE))","v":{"$error":"#REF!"}}," ",{"$f":"INDEX(#REF!,SMALL(IF(#REF!<>\"\",ROW(#REF!)),ROWS(I$1:I549)-1))","v":{"$error":"#REF!"}},{"$f":"INDEX(#REF!,SMALL(IF(#REF!<>\"\",ROW(#REF!)),ROWS(J$1:J549)-1))","v":{"$error":"#REF!"}},{"$f":"INDEX(#REF!,SMALL(IF(#REF!<>\"\",ROW(#REF!)),ROWS(K$1:K549)-1))","v":{"$error":"#REF!"}}]
[{"$error":"#REF!"},{"$error":"#REF!"},{"$error":"#REF!"},{"$f":"IF(J550=\"\",VLOOKUP(C550,OFFSET([0]!_xlnm.Print_Area,3,2),2,FALSE),VLOOKUP(A550,OFFSET([0]!_xlnm.Print_Area,3,0),4,FALSE))","v":{"$error":"#REF!"}},{"$f":"IF(J550=\"\",\"\",VLOOKUP(A550,OFFSET([0]!_xlnm.Print_Area,3,0),5,FALSE))","v":{"$error":"#REF!"}},{"$f":"IF(J550=\"\",\"\",VLOOKUP(A550,OFFSET([0]!_xlnm.Print_Area,3,0),6,FALSE))","v":{"$error":"#REF!"}},{"$f":"IF(J550=\"\",\"\",VLOOKUP(A550,OFFSET([0]!_xlnm.Print_Area,3,0,,7),7,FALSE))","v":{"$error":"#REF!"}}," ",{"$f":"INDEX(#REF!,SMALL(IF(#REF!<>\"\",ROW(#REF!)),ROWS(I$1:I550)-1))","v":{"$error":"#REF!"}},{"$f":"INDEX(#REF!,SMALL(IF(#REF!<>\"\",ROW(#REF!)),ROWS(J$1:J550)-1))","v":{"$error":"#REF!"}},{"$f":"INDEX(#REF!,SMALL(IF(#REF!<>\"\",ROW(#REF!)),ROWS(K$1:K550)-1))","v":{"$error":"#REF!"}}]
[{"$error":"#REF!"},{"$error":"#REF!"},{"$error":"#REF!"},{"$f":"IF(J551=\"\",VLOOKUP(C551,OFFSET([0]!_xlnm.Print_Area,3,2),2,FALSE),VLOOKUP(A551,OFFSET([0]!_xlnm.Print_Area,3,0),4,FALSE))","v":{"$error":"#REF!"}},{"$f":"IF(J551=\"\",\"\",VLOOKUP(A551,OFFSET([0]!_xlnm.Print_Area,3,0),5,FALSE))","v":{"$error":"#REF!"}},{"$f":"IF(J551=\"\",\"\",VLOOKUP(A551,OFFSET([0]!_xlnm.Print_Area,3,0),6,FALSE))","v":{"$error":"#REF!"}},{"$f":"IF(J551=\"\",\"\",VLOOKUP(A551,OFFSET([0]!_xlnm.Print_Area,3,0,,7),7,FALSE))","v":{"$error":"#REF!"}}," ",{"$f":"INDEX(#REF!,SMALL(IF(#REF!<>\"\",ROW(#REF!)),ROWS(I$1:I551)-1))","v":{"$error":"#REF!"}},{"$f":"INDEX(#REF!,SMALL(IF(#REF!<>\"\",ROW(#REF!)),ROWS(J$1:J551)-1))","v":{"$error":"#REF!"}},{"$f":"INDEX(#REF!,SMALL(IF(#REF!<>\"\",ROW(#REF!)),ROWS(K$1:K551)-1))","v":{"$error":"#REF!"}}]
[{"$error":"#REF!"},{"$error":"#REF!"},{"$error":"#REF!"},{"$f":"IF(J552=\"\",VLOOKUP(C552,OFFSET([0]!_xlnm.Print_Area,3,2),2,FALSE),VLOOKUP(A552,OFFSET([0]!_xlnm.Print_Area,3,0),4,FALSE))","v":{"$error":"#REF!"}},{"$f":"IF(J552=\"\",\"\",VLOOKUP(A552,OFFSET([0]!_xlnm.Print_Area,3,0),5,FALSE))","v":{"$error":"#REF!"}},{"$f":"IF(J552=\"\",\"\",VLOOKUP(A552,OFFSET([0]!_xlnm.Print_Area,3,0),6,FALSE))","v":{"$error":"#REF!"}},{"$f":"IF(J552=\"\",\"\",VLOOKUP(A552,OFFSET([0]!_xlnm.Print_Area,3,0,,7),7,FALSE))","v":{"$error":"#REF!"}}," ",{"$f":"INDEX(#REF!,SMALL(IF(#REF!<>\"\",ROW(#REF!)),ROWS(I$1:I552)-1))","v":{"$error":"#REF!"}},{"$f":"INDEX(#REF!,SMALL(IF(#REF!<>\"\",ROW(#REF!)),ROWS(J$1:J552)-1))","v":{"$error":"#REF!"}},{"$f":"INDEX(#REF!,SMALL(IF(#REF!<>\"\",ROW(#REF!)),ROWS(K$1:K552)-1))","v":{"$error":"#REF!"}}]
[{"$error":"#REF!"},{"$error":"#REF!"},{"$error":"#REF!"},{"$f":"IF(J553=\"\",VLOOKUP(C553,OFFSET([0]!_xlnm.Print_Area,3,2),2,FALSE),VLOOKUP(A553,OFFSET([0]!_xlnm.Print_Area,3,0),4,FALSE))","v":{"$error":"#REF!"}},{"$f":"IF(J553=\"\",\"\",VLOOKUP(A553,OFFSET([0]!_xlnm.Print_Area,3,0),5,FALSE))","v":{"$error":"#REF!"}},{"$f":"IF(J553=\"\",\"\",VLOOKUP(A553,OFFSET([0]!_xlnm.Print_Area,3,0),6,FALSE))","v":{"$error":"#REF!"}},{"$f":"IF(J553=\"\",\"\",VLOOKUP(A553,OFFSET([0]!_xlnm.Print_Area,3,0,,7),7,FALSE))","v":{"$error":"#REF!"}}," ",{"$f":"INDEX(#REF!,SMALL(IF(#REF!<>\"\",ROW(#REF!)),ROWS(I$1:I553)-1))","v":{"$error":"#REF!"}},{"$f":"INDEX(#REF!,SMALL(IF(#REF!<>\"\",ROW(#REF!)),ROWS(J$1:J553)-1))","v":{"$error":"#REF!"}},{"$f":"INDEX(#REF!,SMALL(IF(#REF!<>\"\",ROW(#REF!)),ROWS(K$1:K553)-1))","v":{"$error":"#REF!"}}]
[{"$error":"#REF!"},{"$error":"#REF!"},{"$error":"#REF!"},{"$f":"IF(J554=\"\",VLOOKUP(C554,OFFSET([0]!_xlnm.Print_Area,3,2),2,FALSE),VLOOKUP(A554,OFFSET([0]!_xlnm.Print_Area,3,0),4,FALSE))","v":{"$error":"#REF!"}},{"$f":"IF(J554=\"\",\"\",VLOOKUP(A554,OFFSET([0]!_xlnm.Print_Area,3,0),5,FALSE))","v":{"$error":"#REF!"}},{"$f":"IF(J554=\"\",\"\",VLOOKUP(A554,OFFSET([0]!_xlnm.Print_Area,3,0),6,FALSE))","v":{"$error":"#REF!"}},{"$f":"IF(J554=\"\",\"\",VLOOKUP(A554,OFFSET([0]!_xlnm.Print_Area,3,0,,7),7,FALSE))","v":{"$error":"#REF!"}}," ",{"$f":"INDEX(#REF!,SMALL(IF(#REF!<>\"\",ROW(#REF!)),ROWS(I$1:I554)-1))","v":{"$error":"#REF!"}},{"$f":"INDEX(#REF!,SMALL(IF(#REF!<>\"\",ROW(#REF!)),ROWS(J$1:J554)-1))","v":{"$error":"#REF!"}},{"$f":"INDEX(#REF!,SMALL(IF(#REF!<>\"\",ROW(#REF!)),ROWS(K$1:K554)-1))","v":{"$error":"#REF!"}}]
[{"$error":"#REF!"},{"$error":"#REF!"},{"$error":"#REF!"},{"$f":"IF(J555=\"\",VLOOKUP(C555,OFFSET([0]!_xlnm.Print_Area,3,2),2,FALSE),VLOOKUP(A555,OFFSET([0]!_xlnm.Print_Area,3,0),4,FALSE))","v":{"$error":"#REF!"}},{"$f":"IF(J555=\"\",\"\",VLOOKUP(A555,OFFSET([0]!_xlnm.Print_Area,3,0),5,FALSE))","v":{"$error":"#REF!"}},{"$f":"IF(J555=\"\",\"\",VLOOKUP(A555,OFFSET([0]!_xlnm.Print_Area,3,0),6,FALSE))","v":{"$error":"#REF!"}},{"$f":"IF(J555=\"\",\"\",VLOOKUP(A555,OFFSET([0]!_xlnm.Print_Area,3,0,,7),7,FALSE))","v":{"$error":"#REF!"}}," ",{"$f":"INDEX(#REF!,SMALL(IF(#REF!<>\"\",ROW(#REF!)),ROWS(I$1:I555)-1))","v":{"$error":"#REF!"}},{"$f":"INDEX(#REF!,SMALL(IF(#REF!<>\"\",ROW(#REF!)),ROWS(J$1:J555)-1))","v":{"$error":"#REF!"}},{"$f":"INDEX(#REF!,SMALL(IF(#REF!<>\"\",ROW(#REF!)),ROWS(K$1:K555)-1))","v":{"$error":"#REF!"}}]
[{"$error":"#REF!"},{"$error":"#REF!"},{"$error":"#REF!"},{"$f":"IF(J556=\"\",VLOOKUP(C556,OFFSET([0]!_xlnm.Print_Area,3,2),2,FALSE),VLOOKUP(A556,OFFSET([0]!_xlnm.Print_Area,3,0),4,FALSE))","v":{"$error":"#REF!"}},{"$f":"IF(J556=\"\",\"\",VLOOKUP(A556,OFFSET([0]!_xlnm.Print_Area,3,0),5,FALSE))","v":{"$error":"#REF!"}},{"$f":"IF(J556=\"\",\"\",VLOOKUP(A556,OFFSET([0]!_xlnm.Print_Area,3,0),6,FALSE))","v":{"$error":"#REF!"}},{"$f":"IF(J556=\"\",\"\",VLOOKUP(A556,OFFSET([0]!_xlnm.Print_Area,3,0,,7),7,FALSE))","v":{"$error":"#REF!"}}," ",{"$f":"INDEX(#REF!,SMALL(IF(#REF!<>\"\",ROW(#REF!)),ROWS(I$1:I556)-1))","v":{"$error":"#REF!"}},{"$f":"INDEX(#REF!,SMALL(IF(#REF!<>\"\",ROW(#REF!)),ROWS(J$1:J556)-1))","v":{"$error":"#REF!"}},{"$f":"INDEX(#REF!,SMALL(IF(#REF!<>\"\",ROW(#REF!)),ROWS(K$1:K556)-1))","v":{"$error":"#REF!"}}]
[{"$error":"#REF!"},{"$error":"#REF!"},{"$error":"#REF!"},{"$f":"IF(J557=\"\",VLOOKUP(C557,OFFSET([0]!_xlnm.Print_Area,3,2),2,FALSE),VLOOKUP(A557,OFFSET([0]!_xlnm.Print_Area,3,0),4,FALSE))","v":{"$error":"#REF!"}},{"$f":"IF(J557=\"\",\"\",VLOOKUP(A557,OFFSET([0]!_xlnm.Print_Area,3,0),5,FALSE))","v":{"$error":"#REF!"}},{"$f":"IF(J557=\"\",\"\",VLOOKUP(A557,OFFSET([0]!_xlnm.Print_Area,3,0),6,FALSE))","v":{"$error":"#REF!"}},{"$f":"IF(J557=\"\",\"\",VLOOKUP(A557,OFFSET([0]!_xlnm.Print_Area,3,0,,7),7,FALSE))","v":{"$error":"#REF!"}}," ",{"$f":"INDEX(#REF!,SMALL(IF(#REF!<>\"\",ROW(#REF!)),ROWS(I$1:I557)-1))","v":{"$error":"#REF!"}},{"$f":"INDEX(#REF!,SMALL(IF(#REF!<>\"\",ROW(#REF!)),ROWS(J$1:J557)-1))","v":{"$error":"#REF!"}},{"$f":"INDEX(#REF!,SMALL(IF(#REF!<>\"\",ROW(#REF!)),ROWS(K$1:K557)-1))","v":{"$error":"#REF!"}}]
[{"$error":"#REF!"},{"$error":"#REF!"},{"$error":"#REF!"},{"$f":"IF(J558=\"\",VLOOKUP(C558,OFFSET([0]!_xlnm.Print_Area,3,2),2,FALSE),VLOOKUP(A558,OFFSET([0]!_xlnm.Print_Area,3,0),4,FALSE))","v":{"$error":"#REF!"}},{"$f":"IF(J558=\"\",\"\",VLOOKUP(A558,OFFSET([0]!_xlnm.Print_Area,3,0),5,FALSE))","v":{"$error":"#REF!"}},{"$f":"IF(J558=\"\",\"\",VLOOKUP(A558,OFFSET([0]!_xlnm.Print_Area,3,0),6,FALSE))","v":{"$error":"#REF!"}},{"$f":"IF(J558=\"\",\"\",VLOOKUP(A558,OFFSET([0]!_xlnm.Print_Area,3,0,,7),7,FALSE))","v":{"$error":"#REF!"}}," ",{"$f":"INDEX(#REF!,SMALL(IF(#REF!<>\"\",ROW(#REF!)),ROWS(I$1:I558)-1))","v":{"$error":"#REF!"}},{"$f":"INDEX(#REF!,SMALL(IF(#REF!<>\"\",ROW(#REF!)),ROWS(J$1:J558)-1))","v":{"$error":"#REF!"}},{"$f":"INDEX(#REF!,SMALL(IF(#REF!<>\"\",ROW(#REF!)),ROWS(K$1:K558)-1))","v":{"$error":"#REF!"}}]
[{"$error":"#REF!"},{"$error":"#REF!"},{"$error":"#REF!"},{"$f":"IF(J559=\"\",VLOOKUP(C559,OFFSET([0]!_xlnm.Print_Area,3,2),2,FALSE),VLOOKUP(A559,OFFSET([0]!_xlnm.Print_Area,3,0),4,FALSE))","v":{"$error":"#REF!"}},{"$f":"IF(J559=\"\",\"\",VLOOKUP(A559,OFFSET([0]!_xlnm.Print_Area,3,0),5,FALSE))","v":{"$error":"#REF!"}},{"$f":"IF(J559=\"\",\"\",VLOOKUP(A559,OFFSET([0]!_xlnm.Print_Area,3,0),6,FALSE))","v":{"$error":"#REF!"}},{"$f":"IF(J559=\"\",\"\",VLOOKUP(A559,OFFSET([0]!_xlnm.Print_Area,3,0,,7),7,FALSE))","v":{"$error":"#REF!"}}," ",{"$f":"INDEX(#REF!,SMALL(IF(#REF!<>\"\",ROW(#REF!)),ROWS(I$1:I559)-1))","v":{"$error":"#REF!"}},{"$f":"INDEX(#REF!,SMALL(IF(#REF!<>\"\",ROW(#REF!)),ROWS(J$1:J559)-1))","v":{"$error":"#REF!"}},{"$f":"INDEX(#REF!,SMALL(IF(#REF!<>\"\",ROW(#REF!)),ROWS(K$1:K559)-1))","v":{"$error":"#REF!"}}]
[{"$error":"#REF!"},{"$error":"#REF!"},{"$error":"#REF!"},{"$f":"IF(J560=\"\",VLOOKUP(C560,OFFSET([0]!_xlnm.Print_Area,3,2),2,FALSE),VLOOKUP(A560,OFFSET([0]!_xlnm.Print_Area,3,0),4,FALSE))","v":{"$error":"#REF!"}},{"$f":"IF(J560=\"\",\"\",VLOOKUP(A560,OFFSET([0]!_xlnm.Print_Area,3,0),5,FALSE))","v":{"$error":"#REF!"}},{"$f":"IF(J560=\"\",\"\",VLOOKUP(A560,OFFSET([0]!_xlnm.Print_Area,3,0),6,FALSE))","v":{"$error":"#REF!"}},{"$f":"IF(J560=\"\",\"\",VLOOKUP(A560,OFFSET([0]!_xlnm.Print_Area,3,0,,7),7,FALSE))","v":{"$error":"#REF!"}}," ",{"$f":"INDEX(#REF!,SMALL(IF(#REF!<>\"\",ROW(#REF!)),ROWS(I$1:I560)-1))","v":{"$error":"#REF!"}},{"$f":"INDEX(#REF!,SMALL(IF(#REF!<>\"\",ROW(#REF!)),ROWS(J$1:J560)-1))","v":{"$error":"#REF!"}},{"$f":"INDEX(#REF!,SMALL(IF(#REF!<>\"\",ROW(#REF!)),ROWS(K$1:K560)-1))","v":{"$error":"#REF!"}}]
[{"$error":"#REF!"},{"$error":"#REF!"},{"$error":"#REF!"},{"$f":"IF(J561=\"\",VLOOKUP(C561,OFFSET([0]!_xlnm.Print_Area,3,2),2,FALSE),VLOOKUP(A561,OFFSET([0]!_xlnm.Print_Area,3,0),4,FALSE))","v":{"$error":"#REF!"}},{"$f":"IF(J561=\"\",\"\",VLOOKUP(A561,OFFSET([0]!_xlnm.Print_Area,3,0),5,FALSE))","v":{"$error":"#REF!"}},{"$f":"IF(J561=\"\",\"\",VLOOKUP(A561,OFFSET([0]!_xlnm.Print_Area,3,0),6,FALSE))","v":{"$error":"#REF!"}},{"$f":"IF(J561=\"\",\"\",VLOOKUP(A561,OFFSET([0]!_xlnm.Print_Area,3,0,,7),7,FALSE))","v":{"$error":"#REF!"}}," ",{"$f":"INDEX(#REF!,SMALL(IF(#REF!<>\"\",ROW(#REF!)),ROWS(I$1:I561)-1))","v":{"$error":"#REF!"}},{"$f":"INDEX(#REF!,SMALL(IF(#REF!<>\"\",ROW(#REF!)),ROWS(J$1:J561)-1))","v":{"$error":"#REF!"}},{"$f":"INDEX(#REF!,SMALL(IF(#REF!<>\"\",ROW(#REF!)),ROWS(K$1:K561)-1))","v":{"$error":"#REF!"}}]
[{"$error":"#REF!"},{"$error":"#REF!"},{"$error":"#REF!"},{"$f":"IF(J562=\"\",VLOOKUP(C562,OFFSET([0]!_xlnm.Print_Area,3,2),2,FALSE),VLOOKUP(A562,OFFSET([0]!_xlnm.Print_Area,3,0),4,FALSE))","v":{"$error":"#REF!"}},{"$f":"IF(J562=\"\",\"\",VLOOKUP(A562,OFFSET([0]!_xlnm.Print_Area,3,0),5,FALSE))","v":{"$error":"#REF!"}},{"$f":"IF(J562=\"\",\"\",VLOOKUP(A562,OFFSET([0]!_xlnm.Print_Area,3,0),6,FALSE))","v":{"$error":"#REF!"}},{"$f":"IF(J562=\"\",\"\",VLOOKUP(A562,OFFSET([0]!_xlnm.Print_Area,3,0,,7),7,FALSE))","v":{"$error":"#REF!"}}," ",{"$f":"INDEX(#REF!,SMALL(IF(#REF!<>\"\",ROW(#REF!)),ROWS(I$1:I562)-1))","v":{"$error":"#REF!"}},{"$f":"INDEX(#REF!,SMALL(IF(#REF!<>\"\",ROW(#REF!)),ROWS(J$1:J562)-1))","v":{"$error":"#REF!"}},{"$f":"INDEX(#REF!,SMALL(IF(#REF!<>\"\",ROW(#REF!)),ROWS(K$1:K562)-1))","v":{"$error":"#REF!"}}]
[{"$error":"#REF!"},{"$error":"#REF!"},{"$error":"#REF!"},{"$f":"IF(J563=\"\",VLOOKUP(C563,OFFSET([0]!_xlnm.Print_Area,3,2),2,FALSE),VLOOKUP(A563,OFFSET([0]!_xlnm.Print_Area,3,0),4,FALSE))","v":{"$error":"#REF!"}},{"$f":"IF(J563=\"\",\"\",VLOOKUP(A563,OFFSET([0]!_xlnm.Print_Area,3,0),5,FALSE))","v":{"$error":"#REF!"}},{"$f":"IF(J563=\"\",\"\",VLOOKUP(A563,OFFSET([0]!_xlnm.Print_Area,3,0),6,FALSE))","v":{"$error":"#REF!"}},{"$f":"IF(J563=\"\",\"\",VLOOKUP(A563,OFFSET([0]!_xlnm.Print_Area,3,0,,7),7,FALSE))","v":{"$error":"#REF!"}}," ",{"$f":"INDEX(#REF!,SMALL(IF(#REF!<>\"\",ROW(#REF!)),ROWS(I$1:I563)-1))","v":{"$error":"#REF!"}},{"$f":"INDEX(#REF!,SMALL(IF(#REF!<>\"\",ROW(#REF!)),ROWS(J$1:J563)-1))","v":{"$error":"#REF!"}},{"$f":"INDEX(#REF!,SMALL(IF(#REF!<>\"\",ROW(#REF!)),ROWS(K$1:K563)-1))","v":{"$error":"#REF!"}}]
[{"$error":"#REF!"},{"$error":"#REF!"},{"$error":"#REF!"},{"$f":"IF(J564=\"\",VLOOKUP(C564,OFFSET([0]!_xlnm.Print_Area,3,2),2,FALSE),VLOOKUP(A564,OFFSET([0]!_xlnm.Print_Area,3,0),4,FALSE))","v":{"$error":"#REF!"}},{"$f":"IF(J564=\"\",\"\",VLOOKUP(A564,OFFSET([0]!_xlnm.Print_Area,3,0),5,FALSE))","v":{"$error":"#REF!"}},{"$f":"IF(J564=\"\",\"\",VLOOKUP(A564,OFFSET([0]!_xlnm.Print_Area,3,0),6,FALSE))","v":{"$error":"#REF!"}},{"$f":"IF(J564=\"\",\"\",VLOOKUP(A564,OFFSET([0]!_xlnm.Print_Area,3,0,,7),7,FALSE))","v":{"$error":"#REF!"}}," ",{"$f":"INDEX(#REF!,SMALL(IF(#REF!<>\"\",ROW(#REF!)),ROWS(I$1:I564)-1))","v":{"$error":"#REF!"}},{"$f":"INDEX(#REF!,SMALL(IF(#REF!<>\"\",ROW(#REF!)),ROWS(J$1:J564)-1))","v":{"$error":"#REF!"}},{"$f":"INDEX(#REF!,SMALL(IF(#REF!<>\"\",ROW(#REF!)),ROWS(K$1:K564)-1))","v":{"$error":"#REF!"}}]
[{"$error":"#REF!"},{"$error":"#REF!"},{"$error":"#REF!"},{"$f":"IF(J565=\"\",VLOOKUP(C565,OFFSET([0]!_xlnm.Print_Area,3,2),2,FALSE),VLOOKUP(A565,OFFSET([0]!_xlnm.Print_Area,3,0),4,FALSE))","v":{"$error":"#REF!"}},{"$f":"IF(J565=\"\",\"\",VLOOKUP(A565,OFFSET([0]!_xlnm.Print_Area,3,0),5,FALSE))","v":{"$error":"#REF!"}},{"$f":"IF(J565=\"\",\"\",VLOOKUP(A565,OFFSET([0]!_xlnm.Print_Area,3,0),6,FALSE))","v":{"$error":"#REF!"}},{"$f":"IF(J565=\"\",\"\",VLOOKUP(A565,OFFSET([0]!_xlnm.Print_Area,3,0,,7),7,FALSE))","v":{"$error":"#REF!"}}," ",{"$f":"INDEX(#REF!,SMALL(IF(#REF!<>\"\",ROW(#REF!)),ROWS(I$1:I565)-1))","v":{"$error":"#REF!"}},{"$f":"INDEX(#REF!,SMALL(IF(#REF!<>\"\",ROW(#REF!)),ROWS(J$1:J565)-1))","v":{"$error":"#REF!"}},{"$f":"INDEX(#REF!,SMALL(IF(#REF!<>\"\",ROW(#REF!)),ROWS(K$1:K565)-1))","v":{"$error":"#REF!"}}]
[{"$error":"#REF!"},{"$error":"#REF!"},{"$error":"#REF!"},{"$f":"IF(J566=\"\",VLOOKUP(C566,OFFSET([0]!_xlnm.Print_Area,3,2),2,FALSE),VLOOKUP(A566,OFFSET([0]!_xlnm.Print_Area,3,0),4,FALSE))","v":{"$error":"#REF!"}},{"$f":"IF(J566=\"\",\"\",VLOOKUP(A566,OFFSET([0]!_xlnm.Print_Area,3,0),5,FALSE))","v":{"$error":"#REF!"}},{"$f":"IF(J566=\"\",\"\",VLOOKUP(A566,OFFSET([0]!_xlnm.Print_Area,3,0),6,FALSE))","v":{"$error":"#REF!"}},{"$f":"IF(J566=\"\",\"\",VLOOKUP(A566,OFFSET([0]!_xlnm.Print_Area,3,0,,7),7,FALSE))","v":{"$error":"#REF!"}}," ",{"$f":"INDEX(#REF!,SMALL(IF(#REF!<>\"\",ROW(#REF!)),ROWS(I$1:I566)-1))","v":{"$error":"#REF!"}},{"$f":"INDEX(#REF!,SMALL(IF(#REF!<>\"\",ROW(#REF!)),ROWS(J$1:J566)-1))","v":{"$error":"#REF!"}},{"$f":"INDEX(#REF!,SMALL(IF(#REF!<>\"\",ROW(#REF!)),ROWS(K$1:K566)-1))","v":{"$error":"#REF!"}}]
[{"$error":"#REF!"},{"$error":"#REF!"},{"$error":"#REF!"},{"$f":"IF(J567=\"\",VLOOKUP(C567,OFFSET([0]!_xlnm.Print_Area,3,2),2,FALSE),VLOOKUP(A567,OFFSET([0]!_xlnm.Print_Area,3,0),4,FALSE))","v":{"$error":"#REF!"}},{"$f":"IF(J567=\"\",\"\",VLOOKUP(A567,OFFSET([0]!_xlnm.Print_Area,3,0),5,FALSE))","v":{"$error":"#REF!"}},{"$f":"IF(J567=\"\",\"\",VLOOKUP(A567,OFFSET([0]!_xlnm.Print_Area,3,0),6,FALSE))","v":{"$error":"#REF!"}},{"$f":"IF(J567=\"\",\"\",VLOOKUP(A567,OFFSET([0]!_xlnm.Print_Area,3,0,,7),7,FALSE))","v":{"$error":"#REF!"}}," ",{"$f":"INDEX(#REF!,SMALL(IF(#REF!<>\"\",ROW(#REF!)),ROWS(I$1:I567)-1))","v":{"$error":"#REF!"}},{"$f":"INDEX(#REF!,SMALL(IF(#REF!<>\"\",ROW(#REF!)),ROWS(J$1:J567)-1))","v":{"$error":"#REF!"}},{"$f":"INDEX(#REF!,SMALL(IF(#REF!<>\"\",ROW(#REF!)),ROWS(K$1:K567)-1))","v":{"$error":"#REF!"}}]
[{"$error":"#REF!"},{"$error":"#REF!"},{"$error":"#REF!"},{"$f":"IF(J568=\"\",VLOOKUP(C568,OFFSET([0]!_xlnm.Print_Area,3,2),2,FALSE),VLOOKUP(A568,OFFSET([0]!_xlnm.Print_Area,3,0),4,FALSE))","v":{"$error":"#REF!"}},{"$f":"IF(J568=\"\",\"\",VLOOKUP(A568,OFFSET([0]!_xlnm.Print_Area,3,0),5,FALSE))","v":{"$error":"#REF!"}},{"$f":"IF(J568=\"\",\"\",VLOOKUP(A568,OFFSET([0]!_xlnm.Print_Area,3,0),6,FALSE))","v":{"$error":"#REF!"}},{"$f":"IF(J568=\"\",\"\",VLOOKUP(A568,OFFSET([0]!_xlnm.Print_Area,3,0,,7),7,FALSE))","v":{"$error":"#REF!"}}," ",{"$f":"INDEX(#REF!,SMALL(IF(#REF!<>\"\",ROW(#REF!)),ROWS(I$1:I568)-1))","v":{"$error":"#REF!"}},{"$f":"INDEX(#REF!,SMALL(IF(#REF!<>\"\",ROW(#REF!)),ROWS(J$1:J568)-1))","v":{"$error":"#REF!"}},{"$f":"INDEX(#REF!,SMALL(IF(#REF!<>\"\",ROW(#REF!)),ROWS(K$1:K568)-1))","v":{"$error":"#REF!"}}]
[{"$error":"#REF!"},{"$error":"#REF!"},{"$error":"#REF!"},{"$f":"IF(J569=\"\",VLOOKUP(C569,OFFSET([0]!_xlnm.Print_Area,3,2),2,FALSE),VLOOKUP(A569,OFFSET([0]!_xlnm.Print_Area,3,0),4,FALSE))","v":{"$error":"#REF!"}},{"$f":"IF(J569=\"\",\"\",VLOOKUP(A569,OFFSET([0]!_xlnm.Print_Area,3,0),5,FALSE))","v":{"$error":"#REF!"}},{"$f":"IF(J569=\"\",\"\",VLOOKUP(A569,OFFSET([0]!_xlnm.Print_Area,3,0),6,FALSE))","v":{"$error":"#REF!"}},{"$f":"IF(J569=\"\",\"\",VLOOKUP(A569,OFFSET([0]!_xlnm.Print_Area,3,0,,7),7,FALSE))","v":{"$error":"#REF!"}}," ",{"$f":"INDEX(#REF!,SMALL(IF(#REF!<>\"\",ROW(#REF!)),ROWS(I$1:I569)-1))","v":{"$error":"#REF!"}},{"$f":"INDEX(#REF!,SMALL(IF(#REF!<>\"\",ROW(#REF!)),ROWS(J$1:J569)-1))","v":{"$error":"#REF!"}},{"$f":"INDEX(#REF!,SMALL(IF(#REF!<>\"\",ROW(#REF!)),ROWS(K$1:K569)-1))","v":{"$error":"#REF!"}}]
[{"$error":"#REF!"},{"$error":"#REF!"},{"$error":"#REF!"},{"$f":"IF(J570=\"\",VLOOKUP(C570,OFFSET([0]!_xlnm.Print_Area,3,2),2,FALSE),VLOOKUP(A570,OFFSET([0]!_xlnm.Print_Area,3,0),4,FALSE))","v":{"$error":"#REF!"}},{"$f":"IF(J570=\"\",\"\",VLOOKUP(A570,OFFSET([0]!_xlnm.Print_Area,3,0),5,FALSE))","v":{"$error":"#REF!"}},{"$f":"IF(J570=\"\",\"\",VLOOKUP(A570,OFFSET([0]!_xlnm.Print_Area,3,0),6,FALSE))","v":{"$error":"#REF!"}},{"$f":"IF(J570=\"\",\"\",VLOOKUP(A570,OFFSET([0]!_xlnm.Print_Area,3,0,,7),7,FALSE))","v":{"$error":"#REF!"}}," ",{"$f":"INDEX(#REF!,SMALL(IF(#REF!<>\"\",ROW(#REF!)),ROWS(I$1:I570)-1))","v":{"$error":"#REF!"}},{"$f":"INDEX(#REF!,SMALL(IF(#REF!<>\"\",ROW(#REF!)),ROWS(J$1:J570)-1))","v":{"$error":"#REF!"}},{"$f":"INDEX(#REF!,SMALL(IF(#REF!<>\"\",ROW(#REF!)),ROWS(K$1:K570)-1))","v":{"$error":"#REF!"}}]
[{"$error":"#REF!"},{"$error":"#REF!"},{"$error":"#REF!"},{"$f":"IF(J571=\"\",VLOOKUP(C571,OFFSET([0]!_xlnm.Print_Area,3,2),2,FALSE),VLOOKUP(A571,OFFSET([0]!_xlnm.Print_Area,3,0),4,FALSE))","v":{"$error":"#REF!"}},{"$f":"IF(J571=\"\",\"\",VLOOKUP(A571,OFFSET([0]!_xlnm.Print_Area,3,0),5,FALSE))","v":{"$error":"#REF!"}},{"$f":"IF(J571=\"\",\"\",VLOOKUP(A571,OFFSET([0]!_xlnm.Print_Area,3,0),6,FALSE))","v":{"$error":"#REF!"}},{"$f":"IF(J571=\"\",\"\",VLOOKUP(A571,OFFSET([0]!_xlnm.Print_Area,3,0,,7),7,FALSE))","v":{"$error":"#REF!"}}," ",{"$f":"INDEX(#REF!,SMALL(IF(#REF!<>\"\",ROW(#REF!)),ROWS(I$1:I571)-1))","v":{"$error":"#REF!"}},{"$f":"INDEX(#REF!,SMALL(IF(#REF!<>\"\",ROW(#REF!)),ROWS(J$1:J571)-1))","v":{"$error":"#REF!"}},{"$f":"INDEX(#REF!,SMALL(IF(#REF!<>\"\",ROW(#REF!)),ROWS(K$1:K571)-1))","v":{"$error":"#REF!"}}]
[{"$error":"#REF!"},{"$error":"#REF!"},{"$error":"#REF!"},{"$f":"IF(J572=\"\",VLOOKUP(C572,OFFSET([0]!_xlnm.Print_Area,3,2),2,FALSE),VLOOKUP(A572,OFFSET([0]!_xlnm.Print_Area,3,0),4,FALSE))","v":{"$error":"#REF!"}},{"$f":"IF(J572=\"\",\"\",VLOOKUP(A572,OFFSET([0]!_xlnm.Print_Area,3,0),5,FALSE))","v":{"$error":"#REF!"}},{"$f":"IF(J572=\"\",\"\",VLOOKUP(A572,OFFSET([0]!_xlnm.Print_Area,3,0),6,FALSE))","v":{"$error":"#REF!"}},{"$f":"IF(J572=\"\",\"\",VLOOKUP(A572,OFFSET([0]!_xlnm.Print_Area,3,0,,7),7,FALSE))","v":{"$error":"#REF!"}}," ",{"$f":"INDEX(#REF!,SMALL(IF(#REF!<>\"\",ROW(#REF!)),ROWS(I$1:I572)-1))","v":{"$error":"#REF!"}},{"$f":"INDEX(#REF!,SMALL(IF(#REF!<>\"\",ROW(#REF!)),ROWS(J$1:J572)-1))","v":{"$error":"#REF!"}},{"$f":"INDEX(#REF!,SMALL(IF(#REF!<>\"\",ROW(#REF!)),ROWS(K$1:K572)-1))","v":{"$error":"#REF!"}}]
[{"$error":"#REF!"},{"$error":"#REF!"},{"$error":"#REF!"},{"$f":"IF(J573=\"\",VLOOKUP(C573,OFFSET([0]!_xlnm.Print_Area,3,2),2,FALSE),VLOOKUP(A573,OFFSET([0]!_xlnm.Print_Area,3,0),4,FALSE))","v":{"$error":"#REF!"}},{"$f":"IF(J573=\"\",\"\",VLOOKUP(A573,OFFSET([0]!_xlnm.Print_Area,3,0),5,FALSE))","v":{"$error":"#REF!"}},{"$f":"IF(J573=\"\",\"\",VLOOKUP(A573,OFFSET([0]!_xlnm.Print_Area,3,0),6,FALSE))","v":{"$error":"#REF!"}},{"$f":"IF(J573=\"\",\"\",VLOOKUP(A573,OFFSET([0]!_xlnm.Print_Area,3,0,,7),7,FALSE))","v":{"$error":"#REF!"}}," ",{"$f":"INDEX(#REF!,SMALL(IF(#REF!<>\"\",ROW(#REF!)),ROWS(I$1:I573)-1))","v":{"$error":"#REF!"}},{"$f":"INDEX(#REF!,SMALL(IF(#REF!<>\"\",ROW(#REF!)),ROWS(J$1:J573)-1))","v":{"$error":"#REF!"}},{"$f":"INDEX(#REF!,SMALL(IF(#REF!<>\"\",ROW(#REF!)),ROWS(K$1:K573)-1))","v":{"$error":"#REF!"}}]
[{"$error":"#REF!"},{"$error":"#REF!"},{"$error":"#REF!"},{"$f":"IF(J574=\"\",VLOOKUP(C574,OFFSET([0]!_xlnm.Print_Area,3,2),2,FALSE),VLOOKUP(A574,OFFSET([0]!_xlnm.Print_Area,3,0),4,FALSE))","v":{"$error":"#REF!"}},{"$f":"IF(J574=\"\",\"\",VLOOKUP(A574,OFFSET([0]!_xlnm.Print_Area,3,0),5,FALSE))","v":{"$error":"#REF!"}},{"$f":"IF(J574=\"\",\"\",VLOOKUP(A574,OFFSET([0]!_xlnm.Print_Area,3,0),6,FALSE))","v":{"$error":"#REF!"}},{"$f":"IF(J574=\"\",\"\",VLOOKUP(A574,OFFSET([0]!_xlnm.Print_Area,3,0,,7),7,FALSE))","v":{"$error":"#REF!"}}," ",{"$f":"INDEX(#REF!,SMALL(IF(#REF!<>\"\",ROW(#REF!)),ROWS(I$1:I574)-1))","v":{"$error":"#REF!"}},{"$f":"INDEX(#REF!,SMALL(IF(#REF!<>\"\",ROW(#REF!)),ROWS(J$1:J574)-1))","v":{"$error":"#REF!"}},{"$f":"INDEX(#REF!,SMALL(IF(#REF!<>\"\",ROW(#REF!)),ROWS(K$1:K574)-1))","v":{"$error":"#REF!"}}]
[{"$error":"#REF!"},{"$error":"#REF!"},{"$error":"#REF!"},{"$f":"IF(J575=\"\",VLOOKUP(C575,OFFSET([0]!_xlnm.Print_Area,3,2),2,FALSE),VLOOKUP(A575,OFFSET([0]!_xlnm.Print_Area,3,0),4,FALSE))","v":{"$error":"#REF!"}},{"$f":"IF(J575=\"\",\"\",VLOOKUP(A575,OFFSET([0]!_xlnm.Print_Area,3,0),5,FALSE))","v":{"$error":"#REF!"}},{"$f":"IF(J575=\"\",\"\",VLOOKUP(A575,OFFSET([0]!_xlnm.Print_Area,3,0),6,FALSE))","v":{"$error":"#REF!"}},{"$f":"IF(J575=\"\",\"\",VLOOKUP(A575,OFFSET([0]!_xlnm.Print_Area,3,0,,7),7,FALSE))","v":{"$error":"#REF!"}}," ",{"$f":"INDEX(#REF!,SMALL(IF(#REF!<>\"\",ROW(#REF!)),ROWS(I$1:I575)-1))","v":{"$error":"#REF!"}},{"$f":"INDEX(#REF!,SMALL(IF(#REF!<>\"\",ROW(#REF!)),ROWS(J$1:J575)-1))","v":{"$error":"#REF!"}},{"$f":"INDEX(#REF!,SMALL(IF(#REF!<>\"\",ROW(#REF!)),ROWS(K$1:K575)-1))","v":{"$error":"#REF!"}}]
[{"$error":"#REF!"},{"$error":"#REF!"},{"$error":"#REF!"},{"$f":"IF(J576=\"\",VLOOKUP(C576,OFFSET([0]!_xlnm.Print_Area,3,2),2,FALSE),VLOOKUP(A576,OFFSET([0]!_xlnm.Print_Area,3,0),4,FALSE))","v":{"$error":"#REF!"}},{"$f":"IF(J576=\"\",\"\",VLOOKUP(A576,OFFSET([0]!_xlnm.Print_Area,3,0),5,FALSE))","v":{"$error":"#REF!"}},{"$f":"IF(J576=\"\",\"\",VLOOKUP(A576,OFFSET([0]!_xlnm.Print_Area,3,0),6,FALSE))","v":{"$error":"#REF!"}},{"$f":"IF(J576=\"\",\"\",VLOOKUP(A576,OFFSET([0]!_xlnm.Print_Area,3,0,,7),7,FALSE))","v":{"$error":"#REF!"}}," ",{"$f":"INDEX(#REF!,SMALL(IF(#REF!<>\"\",ROW(#REF!)),ROWS(I$1:I576)-1))","v":{"$error":"#REF!"}},{"$f":"INDEX(#REF!,SMALL(IF(#REF!<>\"\",ROW(#REF!)),ROWS(J$1:J576)-1))","v":{"$error":"#REF!"}},{"$f":"INDEX(#REF!,SMALL(IF(#REF!<>\"\",ROW(#REF!)),ROWS(K$1:K576)-1))","v":{"$error":"#REF!"}}]
[{"$error":"#REF!"},{"$error":"#REF!"},{"$error":"#REF!"},{"$f":"IF(J577=\"\",VLOOKUP(C577,OFFSET([0]!_xlnm.Print_Area,3,2),2,FALSE),VLOOKUP(A577,OFFSET([0]!_xlnm.Print_Area,3,0),4,FALSE))","v":{"$error":"#REF!"}},{"$f":"IF(J577=\"\",\"\",VLOOKUP(A577,OFFSET([0]!_xlnm.Print_Area,3,0),5,FALSE))","v":{"$error":"#REF!"}},{"$f":"IF(J577=\"\",\"\",VLOOKUP(A577,OFFSET([0]!_xlnm.Print_Area,3,0),6,FALSE))","v":{"$error":"#REF!"}},{"$f":"IF(J577=\"\",\"\",VLOOKUP(A577,OFFSET([0]!_xlnm.Print_Area,3,0,,7),7,FALSE))","v":{"$error":"#REF!"}}," ",{"$f":"INDEX(#REF!,SMALL(IF(#REF!<>\"\",ROW(#REF!)),ROWS(I$1:I577)-1))","v":{"$error":"#REF!"}},{"$f":"INDEX(#REF!,SMALL(IF(#REF!<>\"\",ROW(#REF!)),ROWS(J$1:J577)-1))","v":{"$error":"#REF!"}},{"$f":"INDEX(#REF!,SMALL(IF(#REF!<>\"\",ROW(#REF!)),ROWS(K$1:K577)-1))","v":{"$error":"#REF!"}}]
[{"$error":"#REF!"},{"$error":"#REF!"},{"$error":"#REF!"},{"$f":"IF(J578=\"\",VLOOKUP(C578,OFFSET([0]!_xlnm.Print_Area,3,2),2,FALSE),VLOOKUP(A578,OFFSET([0]!_xlnm.Print_Area,3,0),4,FALSE))","v":{"$error":"#REF!"}},{"$f":"IF(J578=\"\",\"\",VLOOKUP(A578,OFFSET([0]!_xlnm.Print_Area,3,0),5,FALSE))","v":{"$error":"#REF!"}},{"$f":"IF(J578=\"\",\"\",VLOOKUP(A578,OFFSET([0]!_xlnm.Print_Area,3,0),6,FALSE))","v":{"$error":"#REF!"}},{"$f":"IF(J578=\"\",\"\",VLOOKUP(A578,OFFSET([0]!_xlnm.Print_Area,3,0,,7),7,FALSE))","v":{"$error":"#REF!"}}," ",{"$f":"INDEX(#REF!,SMALL(IF(#REF!<>\"\",ROW(#REF!)),ROWS(I$1:I578)-1))","v":{"$error":"#REF!"}},{"$f":"INDEX(#REF!,SMALL(IF(#REF!<>\"\",ROW(#REF!)),ROWS(J$1:J578)-1))","v":{"$error":"#REF!"}},{"$f":"INDEX(#REF!,SMALL(IF(#REF!<>\"\",ROW(#REF!)),ROWS(K$1:K578)-1))","v":{"$error":"#REF!"}}]
[{"$error":"#REF!"},{"$error":"#REF!"},{"$error":"#REF!"},{"$f":"IF(J579=\"\",VLOOKUP(C579,OFFSET([0]!_xlnm.Print_Area,3,2),2,FALSE),VLOOKUP(A579,OFFSET([0]!_xlnm.Print_Area,3,0),4,FALSE))","v":{"$error":"#REF!"}},{"$f":"IF(J579=\"\",\"\",VLOOKUP(A579,OFFSET([0]!_xlnm.Print_Area,3,0),5,FALSE))","v":{"$error":"#REF!"}},{"$f":"IF(J579=\"\",\"\",VLOOKUP(A579,OFFSET([0]!_xlnm.Print_Area,3,0),6,FALSE))","v":{"$error":"#REF!"}},{"$f":"IF(J579=\"\",\"\",VLOOKUP(A579,OFFSET([0]!_xlnm.Print_Area,3,0,,7),7,FALSE))","v":{"$error":"#REF!"}}," ",{"$f":"INDEX(#REF!,SMALL(IF(#REF!<>\"\",ROW(#REF!)),ROWS(I$1:I579)-1))","v":{"$error":"#REF!"}},{"$f":"INDEX(#REF!,SMALL(IF(#REF!<>\"\",ROW(#REF!)),ROWS(J$1:J579)-1))","v":{"$error":"#REF!"}},{"$f":"INDEX(#REF!,SMALL(IF(#REF!<>\"\",ROW(#REF!)),ROWS(K$1:K579)-1))","v":{"$error":"#REF!"}}]
[{"$error":"#REF!"},{"$error":"#REF!"},{"$error":"#REF!"},{"$f":"IF(J580=\"\",VLOOKUP(C580,OFFSET([0]!_xlnm.Print_Area,3,2),2,FALSE),VLOOKUP(A580,OFFSET([0]!_xlnm.Print_Area,3,0),4,FALSE))","v":{"$error":"#REF!"}},{"$f":"IF(J580=\"\",\"\",VLOOKUP(A580,OFFSET([0]!_xlnm.Print_Area,3,0),5,FALSE))","v":{"$error":"#REF!"}},{"$f":"IF(J580=\"\",\"\",VLOOKUP(A580,OFFSET([0]!_xlnm.Print_Area,3,0),6,FALSE))","v":{"$error":"#REF!"}},{"$f":"IF(J580=\"\",\"\",VLOOKUP(A580,OFFSET([0]!_xlnm.Print_Area,3,0,,7),7,FALSE))","v":{"$error":"#REF!"}}," ",{"$f":"INDEX(#REF!,SMALL(IF(#REF!<>\"\",ROW(#REF!)),ROWS(I$1:I580)-1))","v":{"$error":"#REF!"}},{"$f":"INDEX(#REF!,SMALL(IF(#REF!<>\"\",ROW(#REF!)),ROWS(J$1:J580)-1))","v":{"$error":"#REF!"}},{"$f":"INDEX(#REF!,SMALL(IF(#REF!<>\"\",ROW(#REF!)),ROWS(K$1:K580)-1))","v":{"$error":"#REF!"}}]
[{"$f":"IF(J581=0,\"\",J581)","v":{"$error":"#REF!"}},{"$f":"IF(K581=0,\"\",K581)","v":{"$error":"#REF!"}},{"$f":"I581","v":{"$error":"#REF!"}},{"$f":"IF(J581=\"\",VLOOKUP(C581,OFFSET([0]!_xlnm.Print_Area,3,2),2,FALSE),VLOOKUP(A581,OFFSET([0]!_xlnm.Print_Area,3,0),4,FALSE))","v":{"$error":"#REF!"}},{"$f":"IF(J581=\"\",\"\",VLOOKUP(A581,OFFSET([0]!_xlnm.Print_Area,3,0),5,FALSE))","v":{"$error":"#REF!"}},{"$f":"IF(J581=\"\",\"\",VLOOKUP(A581,OFFSET([0]!_xlnm.Print_Area,3,0),6,FALSE))","v":{"$error":"#REF!"}},{"$f":"IF(J581=\"\",\"\",VLOOKUP(A581,OFFSET([0]!_xlnm.Print_Area,3,0,,7),7,FALSE))","v":{"$error":"#REF!"}},{"$f":"IFERROR(ROUND(F581*G581,2),\" \")","v":" "},{"$f":"INDEX(#REF!,SMALL(IF(#REF!<>\"\",ROW(#REF!)),ROWS(I$1:I581)-1))","v":{"$error":"#REF!"}},{"$f":"INDEX(#REF!,SMALL(IF(#REF!<>\"\",ROW(#REF!)),ROWS(J$1:J581)-1))","v":{"$error":"#REF!"}},{"$f":"INDEX(#REF!,SMALL(IF(#REF!<>\"\",ROW(#REF!)),ROWS(K$1:K581)-1))","v":{"$error":"#REF!"}}]
[{"$error":"#REF!"},{"$error":"#REF!"},{"$error":"#REF!"},{"$f":"IF(J582=\"\",VLOOKUP(C582,OFFSET([0]!_xlnm.Print_Area,3,2),2,FALSE),VLOOKUP(A582,OFFSET([0]!_xlnm.Print_Area,3,0),4,FALSE))","v":{"$error":"#REF!"}},{"$f":"IF(J582=\"\",\"\",VLOOKUP(A582,OFFSET([0]!_xlnm.Print_Area,3,0),5,FALSE))","v":{"$error":"#REF!"}},{"$f":"IF(J582=\"\",\"\",VLOOKUP(A582,OFFSET([0]!_xlnm.Print_Area,3,0),6,FALSE))","v":{"$error":"#REF!"}},{"$f":"IF(J582=\"\",\"\",VLOOKUP(A582,OFFSET([0]!_xlnm.Print_Area,3,0,,7),7,FALSE))","v":{"$error":"#REF!"}}," ",{"$f":"INDEX(#REF!,SMALL(IF(#REF!<>\"\",ROW(#REF!)),ROWS(I$1:I582)-1))","v":{"$error":"#REF!"}},{"$f":"INDEX(#REF!,SMALL(IF(#REF!<>\"\",ROW(#REF!)),ROWS(J$1:J582)-1))","v":{"$error":"#REF!"}},{"$f":"INDEX(#REF!,SMALL(IF(#REF!<>\"\",ROW(#REF!)),ROWS(K$1:K582)-1))","v":{"$error":"#REF!"}}]
[{"$error":"#REF!"},{"$error":"#REF!"},{"$error":"#REF!"},{"$f":"IF(J583=\"\",VLOOKUP(C583,OFFSET([0]!_xlnm.Print_Area,3,2),2,FALSE),VLOOKUP(A583,OFFSET([0]!_xlnm.Print_Area,3,0),4,FALSE))","v":{"$error":"#REF!"}},{"$f":"IF(J583=\"\",\"\",VLOOKUP(A583,OFFSET([0]!_xlnm.Print_Area,3,0),5,FALSE))","v":{"$error":"#REF!"}},{"$f":"IF(J583=\"\",\"\",VLOOKUP(A583,OFFSET([0]!_xlnm.Print_Area,3,0),6,FALSE))","v":{"$error":"#REF!"}},{"$f":"IF(J583=\"\",\"\",VLOOKUP(A583,OFFSET([0]!_xlnm.Print_Area,3,0,,7),7,FALSE))","v":{"$error":"#REF!"}}," ",{"$f":"INDEX(#REF!,SMALL(IF(#REF!<>\"\",ROW(#REF!)),ROWS(I$1:I583)-1))","v":{"$error":"#REF!"}},{"$f":"INDEX(#REF!,SMALL(IF(#REF!<>\"\",ROW(#REF!)),ROWS(J$1:J583)-1))","v":{"$error":"#REF!"}},{"$f":"INDEX(#REF!,SMALL(IF(#REF!<>\"\",ROW(#REF!)),ROWS(K$1:K583)-1))","v":{"$error":"#REF!"}}]
[{"$error":"#REF!"},{"$error":"#REF!"},{"$error":"#REF!"},{"$f":"IF(J584=\"\",VLOOKUP(C584,OFFSET([0]!_xlnm.Print_Area,3,2),2,FALSE),VLOOKUP(A584,OFFSET([0]!_xlnm.Print_Area,3,0),4,FALSE))","v":{"$error":"#REF!"}},{"$f":"IF(J584=\"\",\"\",VLOOKUP(A584,OFFSET([0]!_xlnm.Print_Area,3,0),5,FALSE))","v":{"$error":"#REF!"}},{"$f":"IF(J584=\"\",\"\",VLOOKUP(A584,OFFSET([0]!_xlnm.Print_Area,3,0),6,FALSE))","v":{"$error":"#REF!"}},{"$f":"IF(J584=\"\",\"\",VLOOKUP(A584,OFFSET([0]!_xlnm.Print_Area,3,0,,7),7,FALSE))","v":{"$error":"#REF!"}}," ",{"$f":"INDEX(#REF!,SMALL(IF(#REF!<>\"\",ROW(#REF!)),ROWS(I$1:I584)-1))","v":{"$error":"#REF!"}},{"$f":"INDEX(#REF!,SMALL(IF(#REF!<>\"\",ROW(#REF!)),ROWS(J$1:J584)-1))","v":{"$error":"#REF!"}},{"$f":"INDEX(#REF!,SMALL(IF(#REF!<>\"\",ROW(#REF!)),ROWS(K$1:K584)-1))","v":{"$error":"#REF!"}}]
[{"$error":"#REF!"},{"$error":"#REF!"},{"$error":"#REF!"},{"$f":"IF(J585=\"\",VLOOKUP(C585,OFFSET([0]!_xlnm.Print_Area,3,2),2,FALSE),VLOOKUP(A585,OFFSET([0]!_xlnm.Print_Area,3,0),4,FALSE))","v":{"$error":"#REF!"}},{"$f":"IF(J585=\"\",\"\",VLOOKUP(A585,OFFSET([0]!_xlnm.Print_Area,3,0),5,FALSE))","v":{"$error":"#REF!"}},{"$f":"IF(J585=\"\",\"\",VLOOKUP(A585,OFFSET([0]!_xlnm.Print_Area,3,0),6,FALSE))","v":{"$error":"#REF!"}},{"$f":"IF(J585=\"\",\"\",VLOOKUP(A585,OFFSET([0]!_xlnm.Print_Area,3,0,,7),7,FALSE))","v":{"$error":"#REF!"}}," ",{"$f":"INDEX(#REF!,SMALL(IF(#REF!<>\"\",ROW(#REF!)),ROWS(I$1:I585)-1))","v":{"$error":"#REF!"}},{"$f":"INDEX(#REF!,SMALL(IF(#REF!<>\"\",ROW(#REF!)),ROWS(J$1:J585)-1))","v":{"$error":"#REF!"}},{"$f":"INDEX(#REF!,SMALL(IF(#REF!<>\"\",ROW(#REF!)),ROWS(K$1:K585)-1))","v":{"$error":"#REF!"}}]
[{"$error":"#REF!"},{"$error":"#REF!"},{"$error":"#REF!"},{"$f":"IF(J586=\"\",VLOOKUP(C586,OFFSET([0]!_xlnm.Print_Area,3,2),2,FALSE),VLOOKUP(A586,OFFSET([0]!_xlnm.Print_Area,3,0),4,FALSE))","v":{"$error":"#REF!"}},{"$f":"IF(J586=\"\",\"\",VLOOKUP(A586,OFFSET([0]!_xlnm.Print_Area,3,0),5,FALSE))","v":{"$error":"#REF!"}},{"$f":"IF(J586=\"\",\"\",VLOOKUP(A586,OFFSET([0]!_xlnm.Print_Area,3,0),6,FALSE))","v":{"$error":"#REF!"}},{"$f":"IF(J586=\"\",\"\",VLOOKUP(A586,OFFSET([0]!_xlnm.Print_Area,3,0,,7),7,FALSE))","v":{"$error":"#REF!"}}," ",{"$f":"INDEX(#REF!,SMALL(IF(#REF!<>\"\",ROW(#REF!)),ROWS(I$1:I586)-1))","v":{"$error":"#REF!"}},{"$f":"INDEX(#REF!,SMALL(IF(#REF!<>\"\",ROW(#REF!)),ROWS(J$1:J586)-1))","v":{"$error":"#REF!"}},{"$f":"INDEX(#REF!,SMALL(IF(#REF!<>\"\",ROW(#REF!)),ROWS(K$1:K586)-1))","v":{"$error":"#REF!"}}]
[{"$error":"#REF!"},{"$error":"#REF!"},{"$error":"#REF!"},{"$f":"IF(J587=\"\",VLOOKUP(C587,OFFSET([0]!_xlnm.Print_Area,3,2),2,FALSE),VLOOKUP(A587,OFFSET([0]!_xlnm.Print_Area,3,0),4,FALSE))","v":{"$error":"#REF!"}},{"$f":"IF(J587=\"\",\"\",VLOOKUP(A587,OFFSET([0]!_xlnm.Print_Area,3,0),5,FALSE))","v":{"$error":"#REF!"}},{"$f":"IF(J587=\"\",\"\",VLOOKUP(A587,OFFSET([0]!_xlnm.Print_Area,3,0),6,FALSE))","v":{"$error":"#REF!"}},{"$f":"IF(J587=\"\",\"\",VLOOKUP(A587,OFFSET([0]!_xlnm.Print_Area,3,0,,7),7,FALSE))","v":{"$error":"#REF!"}}," ",{"$f":"INDEX(#REF!,SMALL(IF(#REF!<>\"\",ROW(#REF!)),ROWS(I$1:I587)-1))","v":{"$error":"#REF!"}},{"$f":"INDEX(#REF!,SMALL(IF(#REF!<>\"\",ROW(#REF!)),ROWS(J$1:J587)-1))","v":{"$error":"#REF!"}},{"$f":"INDEX(#REF!,SMALL(IF(#REF!<>\"\",ROW(#REF!)),ROWS(K$1:K587)-1))","v":{"$error":"#REF!"}}]
[{"$error":"#REF!"},{"$error":"#REF!"},{"$error":"#REF!"},{"$f":"IF(J588=\"\",VLOOKUP(C588,OFFSET([0]!_xlnm.Print_Area,3,2),2,FALSE),VLOOKUP(A588,OFFSET([0]!_xlnm.Print_Area,3,0),4,FALSE))","v":{"$error":"#REF!"}},{"$f":"IF(J588=\"\",\"\",VLOOKUP(A588,OFFSET([0]!_xlnm.Print_Area,3,0),5,FALSE))","v":{"$error":"#REF!"}},{"$f":"IF(J588=\"\",\"\",VLOOKUP(A588,OFFSET([0]!_xlnm.Print_Area,3,0),6,FALSE))","v":{"$error":"#REF!"}},{"$f":"IF(J588=\"\",\"\",VLOOKUP(A588,OFFSET([0]!_xlnm.Print_Area,3,0,,7),7,FALSE))","v":{"$error":"#REF!"}}," ",{"$f":"INDEX(#REF!,SMALL(IF(#REF!<>\"\",ROW(#REF!)),ROWS(I$1:I588)-1))","v":{"$error":"#REF!"}},{"$f":"INDEX(#REF!,SMALL(IF(#REF!<>\"\",ROW(#REF!)),ROWS(J$1:J588)-1))","v":{"$error":"#REF!"}},{"$f":"INDEX(#REF!,SMALL(IF(#REF!<>\"\",ROW(#REF!)),ROWS(K$1:K588)-1))","v":{"$error":"#REF!"}}]
[{"$error":"#REF!"},{"$error":"#REF!"},{"$error":"#REF!"},{"$f":"IF(J589=\"\",VLOOKUP(C589,OFFSET([0]!_xlnm.Print_Area,3,2),2,FALSE),VLOOKUP(A589,OFFSET([0]!_xlnm.Print_Area,3,0),4,FALSE))","v":{"$error":"#REF!"}},{"$f":"IF(J589=\"\",\"\",VLOOKUP(A589,OFFSET([0]!_xlnm.Print_Area,3,0),5,FALSE))","v":{"$error":"#REF!"}},{"$f":"IF(J589=\"\",\"\",VLOOKUP(A589,OFFSET([0]!_xlnm.Print_Area,3,0),6,FALSE))","v":{"$error":"#REF!"}},{"$f":"IF(J589=\"\",\"\",VLOOKUP(A589,OFFSET([0]!_xlnm.Print_Area,3,0,,7),7,FALSE))","v":{"$error":"#REF!"}}," ",{"$f":"INDEX(#REF!,SMALL(IF(#REF!<>\"\",ROW(#REF!)),ROWS(I$1:I589)-1))","v":{"$error":"#REF!"}},{"$f":"INDEX(#REF!,SMALL(IF(#REF!<>\"\",ROW(#REF!)),ROWS(J$1:J589)-1))","v":{"$error":"#REF!"}},{"$f":"INDEX(#REF!,SMALL(IF(#REF!<>\"\",ROW(#REF!)),ROWS(K$1:K589)-1))","v":{"$error":"#REF!"}}]
[{"$error":"#REF!"},{"$error":"#REF!"},{"$error":"#REF!"},{"$f":"IF(J590=\"\",VLOOKUP(C590,OFFSET([0]!_xlnm.Print_Area,3,2),2,FALSE),VLOOKUP(A590,OFFSET([0]!_xlnm.Print_Area,3,0),4,FALSE))","v":{"$error":"#REF!"}},{"$f":"IF(J590=\"\",\"\",VLOOKUP(A590,OFFSET([0]!_xlnm.Print_Area,3,0),5,FALSE))","v":{"$error":"#REF!"}},{"$f":"IF(J590=\"\",\"\",VLOOKUP(A590,OFFSET([0]!_xlnm.Print_Area,3,0),6,FALSE))","v":{"$error":"#REF!"}},{"$f":"IF(J590=\"\",\"\",VLOOKUP(A590,OFFSET([0]!_xlnm.Print_Area,3,0,,7),7,FALSE))","v":{"$error":"#REF!"}}," ",{"$f":"INDEX(#REF!,SMALL(IF(#REF!<>\"\",ROW(#REF!)),ROWS(I$1:I590)-1))","v":{"$error":"#REF!"}},{"$f":"INDEX(#REF!,SMALL(IF(#REF!<>\"\",ROW(#REF!)),ROWS(J$1:J590)-1))","v":{"$error":"#REF!"}},{"$f":"INDEX(#REF!,SMALL(IF(#REF!<>\"\",ROW(#REF!)),ROWS(K$1:K590)-1))","v":{"$error":"#REF!"}}]
[{"$error":"#REF!"},{"$error":"#REF!"},{"$error":"#REF!"},{"$f":"IF(J591=\"\",VLOOKUP(C591,OFFSET([0]!_xlnm.Print_Area,3,2),2,FALSE),VLOOKUP(A591,OFFSET([0]!_xlnm.Print_Area,3,0),4,FALSE))","v":{"$error":"#REF!"}},{"$f":"IF(J591=\"\",\"\",VLOOKUP(A591,OFFSET([0]!_xlnm.Print_Area,3,0),5,FALSE))","v":{"$error":"#REF!"}},{"$f":"IF(J591=\"\",\"\",VLOOKUP(A591,OFFSET([0]!_xlnm.Print_Area,3,0),6,FALSE))","v":{"$error":"#REF!"}},{"$f":"IF(J591=\"\",\"\",VLOOKUP(A591,OFFSET([0]!_xlnm.Print_Area,3,0,,7),7,FALSE))","v":{"$error":"#REF!"}}," ",{"$f":"INDEX(#REF!,SMALL(IF(#REF!<>\"\",ROW(#REF!)),ROWS(I$1:I591)-1))","v":{"$error":"#REF!"}},{"$f":"INDEX(#REF!,SMALL(IF(#REF!<>\"\",ROW(#REF!)),ROWS(J$1:J591)-1))","v":{"$error":"#REF!"}},{"$f":"INDEX(#REF!,SMALL(IF(#REF!<>\"\",ROW(#REF!)),ROWS(K$1:K591)-1))","v":{"$error":"#REF!"}}]
[{"$error":"#REF!"},{"$error":"#REF!"},{"$error":"#REF!"},{"$f":"IF(J592=\"\",VLOOKUP(C592,OFFSET([0]!_xlnm.Print_Area,3,2),2,FALSE),VLOOKUP(A592,OFFSET([0]!_xlnm.Print_Area,3,0),4,FALSE))","v":{"$error":"#REF!"}},{"$f":"IF(J592=\"\",\"\",VLOOKUP(A592,OFFSET([0]!_xlnm.Print_Area,3,0),5,FALSE))","v":{"$error":"#REF!"}},{"$f":"IF(J592=\"\",\"\",VLOOKUP(A592,OFFSET([0]!_xlnm.Print_Area,3,0),6,FALSE))","v":{"$error":"#REF!"}},{"$f":"IF(J592=\"\",\"\",VLOOKUP(A592,OFFSET([0]!_xlnm.Print_Area,3,0,,7),7,FALSE))","v":{"$error":"#REF!"}}," ",{"$f":"INDEX(#REF!,SMALL(IF(#REF!<>\"\",ROW(#REF!)),ROWS(I$1:I592)-1))","v":{"$error":"#REF!"}},{"$f":"INDEX(#REF!,SMALL(IF(#REF!<>\"\",ROW(#REF!)),ROWS(J$1:J592)-1))","v":{"$error":"#REF!"}},{"$f":"INDEX(#REF!,SMALL(IF(#REF!<>\"\",ROW(#REF!)),ROWS(K$1:K592)-1))","v":{"$error":"#REF!"}}]
[{"$error":"#REF!"},{"$error":"#REF!"},{"$error":"#REF!"},{"$f":"IF(J593=\"\",VLOOKUP(C593,OFFSET([0]!_xlnm.Print_Area,3,2),2,FALSE),VLOOKUP(A593,OFFSET([0]!_xlnm.Print_Area,3,0),4,FALSE))","v":{"$error":"#REF!"}},{"$f":"IF(J593=\"\",\"\",VLOOKUP(A593,OFFSET([0]!_xlnm.Print_Area,3,0),5,FALSE))","v":{"$error":"#REF!"}},{"$f":"IF(J593=\"\",\"\",VLOOKUP(A593,OFFSET([0]!_xlnm.Print_Area,3,0),6,FALSE))","v":{"$error":"#REF!"}},{"$f":"IF(J593=\"\",\"\",VLOOKUP(A593,OFFSET([0]!_xlnm.Print_Area,3,0,,7),7,FALSE))","v":{"$error":"#REF!"}}," ",{"$f":"INDEX(#REF!,SMALL(IF(#REF!<>\"\",ROW(#REF!)),ROWS(I$1:I593)-1))","v":{"$error":"#REF!"}},{"$f":"INDEX(#REF!,SMALL(IF(#REF!<>\"\",ROW(#REF!)),ROWS(J$1:J593)-1))","v":{"$error":"#REF!"}},{"$f":"INDEX(#REF!,SMALL(IF(#REF!<>\"\",ROW(#REF!)),ROWS(K$1:K593)-1))","v":{"$error":"#REF!"}}]
[{"$error":"#REF!"},{"$error":"#REF!"},{"$error":"#REF!"},{"$f":"IF(J594=\"\",VLOOKUP(C594,OFFSET([0]!_xlnm.Print_Area,3,2),2,FALSE),VLOOKUP(A594,OFFSET([0]!_xlnm.Print_Area,3,0),4,FALSE))","v":{"$error":"#REF!"}},{"$f":"IF(J594=\"\",\"\",VLOOKUP(A594,OFFSET([0]!_xlnm.Print_Area,3,0),5,FALSE))","v":{"$error":"#REF!"}},{"$f":"IF(J594=\"\",\"\",VLOOKUP(A594,OFFSET([0]!_xlnm.Print_Area,3,0),6,FALSE))","v":{"$error":"#REF!"}},{"$f":"IF(J594=\"\",\"\",VLOOKUP(A594,OFFSET([0]!_xlnm.Print_Area,3,0,,7),7,FALSE))","v":{"$error":"#REF!"}}," ",{"$f":"INDEX(#REF!,SMALL(IF(#REF!<>\"\",ROW(#REF!)),ROWS(I$1:I594)-1))","v":{"$error":"#REF!"}},{"$f":"INDEX(#REF!,SMALL(IF(#REF!<>\"\",ROW(#REF!)),ROWS(J$1:J594)-1))","v":{"$error":"#REF!"}},{"$f":"INDEX(#REF!,SMALL(IF(#REF!<>\"\",ROW(#REF!)),ROWS(K$1:K594)-1))","v":{"$error":"#REF!"}}]
[{"$error":"#REF!"},{"$error":"#REF!"},{"$error":"#REF!"},{"$f":"IF(J595=\"\",VLOOKUP(C595,OFFSET([0]!_xlnm.Print_Area,3,2),2,FALSE),VLOOKUP(A595,OFFSET([0]!_xlnm.Print_Area,3,0),4,FALSE))","v":{"$error":"#REF!"}},{"$f":"IF(J595=\"\",\"\",VLOOKUP(A595,OFFSET([0]!_xlnm.Print_Area,3,0),5,FALSE))","v":{"$error":"#REF!"}},{"$f":"IF(J595=\"\",\"\",VLOOKUP(A595,OFFSET([0]!_xlnm.Print_Area,3,0),6,FALSE))","v":{"$error":"#REF!"}},{"$f":"IF(J595=\"\",\"\",VLOOKUP(A595,OFFSET([0]!_xlnm.Print_Area,3,0,,7),7,FALSE))","v":{"$error":"#REF!"}}," ",{"$f":"INDEX(#REF!,SMALL(IF(#REF!<>\"\",ROW(#REF!)),ROWS(I$1:I595)-1))","v":{"$error":"#REF!"}},{"$f":"INDEX(#REF!,SMALL(IF(#REF!<>\"\",ROW(#REF!)),ROWS(J$1:J595)-1))","v":{"$error":"#REF!"}},{"$f":"INDEX(#REF!,SMALL(IF(#REF!<>\"\",ROW(#REF!)),ROWS(K$1:K595)-1))","v":{"$error":"#REF!"}}]
[{"$error":"#REF!"},{"$error":"#REF!"},{"$error":"#REF!"},{"$f":"IF(J596=\"\",VLOOKUP(C596,OFFSET([0]!_xlnm.Print_Area,3,2),2,FALSE),VLOOKUP(A596,OFFSET([0]!_xlnm.Print_Area,3,0),4,FALSE))","v":{"$error":"#REF!"}},{"$f":"IF(J596=\"\",\"\",VLOOKUP(A596,OFFSET([0]!_xlnm.Print_Area,3,0),5,FALSE))","v":{"$error":"#REF!"}},{"$f":"IF(J596=\"\",\"\",VLOOKUP(A596,OFFSET([0]!_xlnm.Print_Area,3,0),6,FALSE))","v":{"$error":"#REF!"}},{"$f":"IF(J596=\"\",\"\",VLOOKUP(A596,OFFSET([0]!_xlnm.Print_Area,3,0,,7),7,FALSE))","v":{"$error":"#REF!"}}," ",{"$f":"INDEX(#REF!,SMALL(IF(#REF!<>\"\",ROW(#REF!)),ROWS(I$1:I596)-1))","v":{"$error":"#REF!"}},{"$f":"INDEX(#REF!,SMALL(IF(#REF!<>\"\",ROW(#REF!)),ROWS(J$1:J596)-1))","v":{"$error":"#REF!"}},{"$f":"INDEX(#REF!,SMALL(IF(#REF!<>\"\",ROW(#REF!)),ROWS(K$1:K596)-1))","v":{"$error":"#REF!"}}]
[{"$error":"#REF!"},{"$error":"#REF!"},{"$error":"#REF!"},{"$f":"IF(J597=\"\",VLOOKUP(C597,OFFSET([0]!_xlnm.Print_Area,3,2),2,FALSE),VLOOKUP(A597,OFFSET([0]!_xlnm.Print_Area,3,0),4,FALSE))","v":{"$error":"#REF!"}},{"$f":"IF(J597=\"\",\"\",VLOOKUP(A597,OFFSET([0]!_xlnm.Print_Area,3,0),5,FALSE))","v":{"$error":"#REF!"}},{"$f":"IF(J597=\"\",\"\",VLOOKUP(A597,OFFSET([0]!_xlnm.Print_Area,3,0),6,FALSE))","v":{"$error":"#REF!"}},{"$f":"IF(J597=\"\",\"\",VLOOKUP(A597,OFFSET([0]!_xlnm.Print_Area,3,0,,7),7,FALSE))","v":{"$error":"#REF!"}}," ",{"$f":"INDEX(#REF!,SMALL(IF(#REF!<>\"\",ROW(#REF!)),ROWS(I$1:I597)-1))","v":{"$error":"#REF!"}},{"$f":"INDEX(#REF!,SMALL(IF(#REF!<>\"\",ROW(#REF!)),ROWS(J$1:J597)-1))","v":{"$error":"#REF!"}},{"$f":"INDEX(#REF!,SMALL(IF(#REF!<>\"\",ROW(#REF!)),ROWS(K$1:K597)-1))","v":{"$error":"#REF!"}}]
[{"$error":"#REF!"},{"$error":"#REF!"},{"$error":"#REF!"},{"$f":"IF(J598=\"\",VLOOKUP(C598,OFFSET([0]!_xlnm.Print_Area,3,2),2,FALSE),VLOOKUP(A598,OFFSET([0]!_xlnm.Print_Area,3,0),4,FALSE))","v":{"$error":"#REF!"}},{"$f":"IF(J598=\"\",\"\",VLOOKUP(A598,OFFSET([0]!_xlnm.Print_Area,3,0),5,FALSE))","v":{"$error":"#REF!"}},{"$f":"IF(J598=\"\",\"\",VLOOKUP(A598,OFFSET([0]!_xlnm.Print_Area,3,0),6,FALSE))","v":{"$error":"#REF!"}},{"$f":"IF(J598=\"\",\"\",VLOOKUP(A598,OFFSET([0]!_xlnm.Print_Area,3,0,,7),7,FALSE))","v":{"$error":"#REF!"}}," ",{"$f":"INDEX(#REF!,SMALL(IF(#REF!<>\"\",ROW(#REF!)),ROWS(I$1:I598)-1))","v":{"$error":"#REF!"}},{"$f":"INDEX(#REF!,SMALL(IF(#REF!<>\"\",ROW(#REF!)),ROWS(J$1:J598)-1))","v":{"$error":"#REF!"}},{"$f":"INDEX(#REF!,SMALL(IF(#REF!<>\"\",ROW(#REF!)),ROWS(K$1:K598)-1))","v":{"$error":"#REF!"}}]
[{"$error":"#REF!"},{"$error":"#REF!"},{"$error":"#REF!"},{"$f":"IF(J599=\"\",VLOOKUP(C599,OFFSET([0]!_xlnm.Print_Area,3,2),2,FALSE),VLOOKUP(A599,OFFSET([0]!_xlnm.Print_Area,3,0),4,FALSE))","v":{"$error":"#REF!"}},{"$f":"IF(J599=\"\",\"\",VLOOKUP(A599,OFFSET([0]!_xlnm.Print_Area,3,0),5,FALSE))","v":{"$error":"#REF!"}},{"$f":"IF(J599=\"\",\"\",VLOOKUP(A599,OFFSET([0]!_xlnm.Print_Area,3,0),6,FALSE))","v":{"$error":"#REF!"}},{"$f":"IF(J599=\"\",\"\",VLOOKUP(A599,OFFSET([0]!_xlnm.Print_Area,3,0,,7),7,FALSE))","v":{"$error":"#REF!"}}," ",{"$f":"INDEX(#REF!,SMALL(IF(#REF!<>\"\",ROW(#REF!)),ROWS(I$1:I599)-1))","v":{"$error":"#REF!"}},{"$f":"INDEX(#REF!,SMALL(IF(#REF!<>\"\",ROW(#REF!)),ROWS(J$1:J599)-1))","v":{"$error":"#REF!"}},{"$f":"INDEX(#REF!,SMALL(IF(#REF!<>\"\",ROW(#REF!)),ROWS(K$1:K599)-1))","v":{"$error":"#REF!"}}]
[{"$error":"#REF!"},{"$error":"#REF!"},{"$error":"#REF!"},{"$f":"IF(J600=\"\",VLOOKUP(C600,OFFSET([0]!_xlnm.Print_Area,3,2),2,FALSE),VLOOKUP(A600,OFFSET([0]!_xlnm.Print_Area,3,0),4,FALSE))","v":{"$error":"#REF!"}},{"$f":"IF(J600=\"\",\"\",VLOOKUP(A600,OFFSET([0]!_xlnm.Print_Area,3,0),5,FALSE))","v":{"$error":"#REF!"}},{"$f":"IF(J600=\"\",\"\",VLOOKUP(A600,OFFSET([0]!_xlnm.Print_Area,3,0),6,FALSE))","v":{"$error":"#REF!"}},{"$f":"IF(J600=\"\",\"\",VLOOKUP(A600,OFFSET([0]!_xlnm.Print_Area,3,0,,7),7,FALSE))","v":{"$error":"#REF!"}}," ",{"$f":"INDEX(#REF!,SMALL(IF(#REF!<>\"\",ROW(#REF!)),ROWS(I$1:I600)-1))","v":{"$error":"#REF!"}},{"$f":"INDEX(#REF!,SMALL(IF(#REF!<>\"\",ROW(#REF!)),ROWS(J$1:J600)-1))","v":{"$error":"#REF!"}},{"$f":"INDEX(#REF!,SMALL(IF(#REF!<>\"\",ROW(#REF!)),ROWS(K$1:K600)-1))","v":{"$error":"#REF!"}}]
[{"$error":"#REF!"},{"$error":"#REF!"},{"$error":"#REF!"},{"$f":"IF(J601=\"\",VLOOKUP(C601,OFFSET([0]!_xlnm.Print_Area,3,2),2,FALSE),VLOOKUP(A601,OFFSET([0]!_xlnm.Print_Area,3,0),4,FALSE))","v":{"$error":"#REF!"}},{"$f":"IF(J601=\"\",\"\",VLOOKUP(A601,OFFSET([0]!_xlnm.Print_Area,3,0),5,FALSE))","v":{"$error":"#REF!"}},{"$f":"IF(J601=\"\",\"\",VLOOKUP(A601,OFFSET([0]!_xlnm.Print_Area,3,0),6,FALSE))","v":{"$error":"#REF!"}},{"$f":"IF(J601=\"\",\"\",VLOOKUP(A601,OFFSET([0]!_xlnm.Print_Area,3,0,,7),7,FALSE))","v":{"$error":"#REF!"}}," ",{"$f":"INDEX(#REF!,SMALL(IF(#REF!<>\"\",ROW(#REF!)),ROWS(I$1:I601)-1))","v":{"$error":"#REF!"}},{"$f":"INDEX(#REF!,SMALL(IF(#REF!<>\"\",ROW(#REF!)),ROWS(J$1:J601)-1))","v":{"$error":"#REF!"}},{"$f":"INDEX(#REF!,SMALL(IF(#REF!<>\"\",ROW(#REF!)),ROWS(K$1:K601)-1))","v":{"$error":"#REF!"}}]
[{"$error":"#REF!"},{"$error":"#REF!"},{"$error":"#REF!"},{"$f":"IF(J602=\"\",VLOOKUP(C602,OFFSET([0]!_xlnm.Print_Area,3,2),2,FALSE),VLOOKUP(A602,OFFSET([0]!_xlnm.Print_Area,3,0),4,FALSE))","v":{"$error":"#REF!"}},{"$f":"IF(J602=\"\",\"\",VLOOKUP(A602,OFFSET([0]!_xlnm.Print_Area,3,0),5,FALSE))","v":{"$error":"#REF!"}},{"$f":"IF(J602=\"\",\"\",VLOOKUP(A602,OFFSET([0]!_xlnm.Print_Area,3,0),6,FALSE))","v":{"$error":"#REF!"}},{"$f":"IF(J602=\"\",\"\",VLOOKUP(A602,OFFSET([0]!_xlnm.Print_Area,3,0,,7),7,FALSE))","v":{"$error":"#REF!"}}," ",{"$f":"INDEX(#REF!,SMALL(IF(#REF!<>\"\",ROW(#REF!)),ROWS(I$1:I602)-1))","v":{"$error":"#REF!"}},{"$f":"INDEX(#REF!,SMALL(IF(#REF!<>\"\",ROW(#REF!)),ROWS(J$1:J602)-1))","v":{"$error":"#REF!"}},{"$f":"INDEX(#REF!,SMALL(IF(#REF!<>\"\",ROW(#REF!)),ROWS(K$1:K602)-1))","v":{"$error":"#REF!"}}]
[{"$error":"#REF!"},{"$error":"#REF!"},{"$error":"#REF!"},{"$f":"IF(J603=\"\",VLOOKUP(C603,OFFSET([0]!_xlnm.Print_Area,3,2),2,FALSE),VLOOKUP(A603,OFFSET([0]!_xlnm.Print_Area,3,0),4,FALSE))","v":{"$error":"#REF!"}},{"$f":"IF(J603=\"\",\"\",VLOOKUP(A603,OFFSET([0]!_xlnm.Print_Area,3,0),5,FALSE))","v":{"$error":"#REF!"}},{"$f":"IF(J603=\"\",\"\",VLOOKUP(A603,OFFSET([0]!_xlnm.Print_Area,3,0),6,FALSE))","v":{"$error":"#REF!"}},{"$f":"IF(J603=\"\",\"\",VLOOKUP(A603,OFFSET([0]!_xlnm.Print_Area,3,0,,7),7,FALSE))","v":{"$error":"#REF!"}}," ",{"$f":"INDEX(#REF!,SMALL(IF(#REF!<>\"\",ROW(#REF!)),ROWS(I$1:I603)-1))","v":{"$error":"#REF!"}},{"$f":"INDEX(#REF!,SMALL(IF(#REF!<>\"\",ROW(#REF!)),ROWS(J$1:J603)-1))","v":{"$error":"#REF!"}},{"$f":"INDEX(#REF!,SMALL(IF(#REF!<>\"\",ROW(#REF!)),ROWS(K$1:K603)-1))","v":{"$error":"#REF!"}}]
[{"$error":"#REF!"},{"$error":"#REF!"},{"$error":"#REF!"},{"$f":"IF(J604=\"\",VLOOKUP(C604,OFFSET([0]!_xlnm.Print_Area,3,2),2,FALSE),VLOOKUP(A604,OFFSET([0]!_xlnm.Print_Area,3,0),4,FALSE))","v":{"$error":"#REF!"}},{"$f":"IF(J604=\"\",\"\",VLOOKUP(A604,OFFSET([0]!_xlnm.Print_Area,3,0),5,FALSE))","v":{"$error":"#REF!"}},{"$f":"IF(J604=\"\",\"\",VLOOKUP(A604,OFFSET([0]!_xlnm.Print_Area,3,0),6,FALSE))","v":{"$error":"#REF!"}},{"$f":"IF(J604=\"\",\"\",VLOOKUP(A604,OFFSET([0]!_xlnm.Print_Area,3,0,,7),7,FALSE))","v":{"$error":"#REF!"}}," ",{"$f":"INDEX(#REF!,SMALL(IF(#REF!<>\"\",ROW(#REF!)),ROWS(I$1:I604)-1))","v":{"$error":"#REF!"}},{"$f":"INDEX(#REF!,SMALL(IF(#REF!<>\"\",ROW(#REF!)),ROWS(J$1:J604)-1))","v":{"$error":"#REF!"}},{"$f":"INDEX(#REF!,SMALL(IF(#REF!<>\"\",ROW(#REF!)),ROWS(K$1:K604)-1))","v":{"$error":"#REF!"}}]
[{"$error":"#REF!"},{"$error":"#REF!"},{"$error":"#REF!"},{"$f":"IF(J605=\"\",VLOOKUP(C605,OFFSET([0]!_xlnm.Print_Area,3,2),2,FALSE),VLOOKUP(A605,OFFSET([0]!_xlnm.Print_Area,3,0),4,FALSE))","v":{"$error":"#REF!"}},{"$f":"IF(J605=\"\",\"\",VLOOKUP(A605,OFFSET([0]!_xlnm.Print_Area,3,0),5,FALSE))","v":{"$error":"#REF!"}},{"$f":"IF(J605=\"\",\"\",VLOOKUP(A605,OFFSET([0]!_xlnm.Print_Area,3,0),6,FALSE))","v":{"$error":"#REF!"}},{"$f":"IF(J605=\"\",\"\",VLOOKUP(A605,OFFSET([0]!_xlnm.Print_Area,3,0,,7),7,FALSE))","v":{"$error":"#REF!"}}," ",{"$f":"INDEX(#REF!,SMALL(IF(#REF!<>\"\",ROW(#REF!)),ROWS(I$1:I605)-1))","v":{"$error":"#REF!"}},{"$f":"INDEX(#REF!,SMALL(IF(#REF!<>\"\",ROW(#REF!)),ROWS(J$1:J605)-1))","v":{"$error":"#REF!"}},{"$f":"INDEX(#REF!,SMALL(IF(#REF!<>\"\",ROW(#REF!)),ROWS(K$1:K605)-1))","v":{"$error":"#REF!"}}]
[{"$error":"#REF!"},{"$error":"#REF!"},{"$error":"#REF!"},{"$f":"IF(J606=\"\",VLOOKUP(C606,OFFSET([0]!_xlnm.Print_Area,3,2),2,FALSE),VLOOKUP(A606,OFFSET([0]!_xlnm.Print_Area,3,0),4,FALSE))","v":{"$error":"#REF!"}},{"$f":"IF(J606=\"\",\"\",VLOOKUP(A606,OFFSET([0]!_xlnm.Print_Area,3,0),5,FALSE))","v":{"$error":"#REF!"}},{"$f":"IF(J606=\"\",\"\",VLOOKUP(A606,OFFSET([0]!_xlnm.Print_Area,3,0),6,FALSE))","v":{"$error":"#REF!"}},{"$f":"IF(J606=\"\",\"\",VLOOKUP(A606,OFFSET([0]!_xlnm.Print_Area,3,0,,7),7,FALSE))","v":{"$error":"#REF!"}}," ",{"$f":"INDEX(#REF!,SMALL(IF(#REF!<>\"\",ROW(#REF!)),ROWS(I$1:I606)-1))","v":{"$error":"#REF!"}},{"$f":"INDEX(#REF!,SMALL(IF(#REF!<>\"\",ROW(#REF!)),ROWS(J$1:J606)-1))","v":{"$error":"#REF!"}},{"$f":"INDEX(#REF!,SMALL(IF(#REF!<>\"\",ROW(#REF!)),ROWS(K$1:K606)-1))","v":{"$error":"#REF!"}}]
[{"$error":"#REF!"},{"$error":"#REF!"},{"$error":"#REF!"},{"$f":"IF(J607=\"\",VLOOKUP(C607,OFFSET([0]!_xlnm.Print_Area,3,2),2,FALSE),VLOOKUP(A607,OFFSET([0]!_xlnm.Print_Area,3,0),4,FALSE))","v":{"$error":"#REF!"}},{"$f":"IF(J607=\"\",\"\",VLOOKUP(A607,OFFSET([0]!_xlnm.Print_Area,3,0),5,FALSE))","v":{"$error":"#REF!"}},{"$f":"IF(J607=\"\",\"\",VLOOKUP(A607,OFFSET([0]!_xlnm.Print_Area,3,0),6,FALSE))","v":{"$error":"#REF!"}},{"$f":"IF(J607=\"\",\"\",VLOOKUP(A607,OFFSET([0]!_xlnm.Print_Area,3,0,,7),7,FALSE))","v":{"$error":"#REF!"}}," ",{"$f":"INDEX(#REF!,SMALL(IF(#REF!<>\"\",ROW(#REF!)),ROWS(I$1:I607)-1))","v":{"$error":"#REF!"}},{"$f":"INDEX(#REF!,SMALL(IF(#REF!<>\"\",ROW(#REF!)),ROWS(J$1:J607)-1))","v":{"$error":"#REF!"}},{"$f":"INDEX(#REF!,SMALL(IF(#REF!<>\"\",ROW(#REF!)),ROWS(K$1:K607)-1))","v":{"$error":"#REF!"}}]
[{"$error":"#REF!"},{"$error":"#REF!"},{"$error":"#REF!"},{"$f":"IF(J608=\"\",VLOOKUP(C608,OFFSET([0]!_xlnm.Print_Area,3,2),2,FALSE),VLOOKUP(A608,OFFSET([0]!_xlnm.Print_Area,3,0),4,FALSE))","v":{"$error":"#REF!"}},{"$f":"IF(J608=\"\",\"\",VLOOKUP(A608,OFFSET([0]!_xlnm.Print_Area,3,0),5,FALSE))","v":{"$error":"#REF!"}},{"$f":"IF(J608=\"\",\"\",VLOOKUP(A608,OFFSET([0]!_xlnm.Print_Area,3,0),6,FALSE))","v":{"$error":"#REF!"}},{"$f":"IF(J608=\"\",\"\",VLOOKUP(A608,OFFSET([0]!_xlnm.Print_Area,3,0,,7),7,FALSE))","v":{"$error":"#REF!"}}," ",{"$f":"INDEX(#REF!,SMALL(IF(#REF!<>\"\",ROW(#REF!)),ROWS(I$1:I608)-1))","v":{"$error":"#REF!"}},{"$f":"INDEX(#REF!,SMALL(IF(#REF!<>\"\",ROW(#REF!)),ROWS(J$1:J608)-1))","v":{"$error":"#REF!"}},{"$f":"INDEX(#REF!,SMALL(IF(#REF!<>\"\",ROW(#REF!)),ROWS(K$1:K608)-1))","v":{"$error":"#REF!"}}]
[{"$error":"#REF!"},{"$error":"#REF!"},{"$error":"#REF!"},{"$f":"IF(J609=\"\",VLOOKUP(C609,OFFSET([0]!_xlnm.Print_Area,3,2),2,FALSE),VLOOKUP(A609,OFFSET([0]!_xlnm.Print_Area,3,0),4,FALSE))","v":{"$error":"#REF!"}},{"$f":"IF(J609=\"\",\"\",VLOOKUP(A609,OFFSET([0]!_xlnm.Print_Area,3,0),5,FALSE))","v":{"$error":"#REF!"}},{"$f":"IF(J609=\"\",\"\",VLOOKUP(A609,OFFSET([0]!_xlnm.Print_Area,3,0),6,FALSE))","v":{"$error":"#REF!"}},{"$f":"IF(J609=\"\",\"\",VLOOKUP(A609,OFFSET([0]!_xlnm.Print_Area,3,0,,7),7,FALSE))","v":{"$error":"#REF!"}}," ",{"$f":"INDEX(#REF!,SMALL(IF(#REF!<>\"\",ROW(#REF!)),ROWS(I$1:I609)-1))","v":{"$error":"#REF!"}},{"$f":"INDEX(#REF!,SMALL(IF(#REF!<>\"\",ROW(#REF!)),ROWS(J$1:J609)-1))","v":{"$error":"#REF!"}},{"$f":"INDEX(#REF!,SMALL(IF(#REF!<>\"\",ROW(#REF!)),ROWS(K$1:K609)-1))","v":{"$error":"#REF!"}}]
[{"$error":"#REF!"},{"$error":"#REF!"},{"$error":"#REF!"},{"$f":"IF(J610=\"\",VLOOKUP(C610,OFFSET([0]!_xlnm.Print_Area,3,2),2,FALSE),VLOOKUP(A610,OFFSET([0]!_xlnm.Print_Area,3,0),4,FALSE))","v":{"$error":"#REF!"}},{"$f":"IF(J610=\"\",\"\",VLOOKUP(A610,OFFSET([0]!_xlnm.Print_Area,3,0),5,FALSE))","v":{"$error":"#REF!"}},{"$f":"IF(J610=\"\",\"\",VLOOKUP(A610,OFFSET([0]!_xlnm.Print_Area,3,0),6,FALSE))","v":{"$error":"#REF!"}},{"$f":"IF(J610=\"\",\"\",VLOOKUP(A610,OFFSET([0]!_xlnm.Print_Area,3,0,,7),7,FALSE))","v":{"$error":"#REF!"}}," ",{"$f":"INDEX(#REF!,SMALL(IF(#REF!<>\"\",ROW(#REF!)),ROWS(I$1:I610)-1))","v":{"$error":"#REF!"}},{"$f":"INDEX(#REF!,SMALL(IF(#REF!<>\"\",ROW(#REF!)),ROWS(J$1:J610)-1))","v":{"$error":"#REF!"}},{"$f":"INDEX(#REF!,SMALL(IF(#REF!<>\"\",ROW(#REF!)),ROWS(K$1:K610)-1))","v":{"$error":"#REF!"}}]
[{"$error":"#REF!"},{"$error":"#REF!"},{"$error":"#REF!"},{"$f":"IF(J611=\"\",VLOOKUP(C611,OFFSET([0]!_xlnm.Print_Area,3,2),2,FALSE),VLOOKUP(A611,OFFSET([0]!_xlnm.Print_Area,3,0),4,FALSE))","v":{"$error":"#REF!"}},{"$f":"IF(J611=\"\",\"\",VLOOKUP(A611,OFFSET([0]!_xlnm.Print_Area,3,0),5,FALSE))","v":{"$error":"#REF!"}},{"$f":"IF(J611=\"\",\"\",VLOOKUP(A611,OFFSET([0]!_xlnm.Print_Area,3,0),6,FALSE))","v":{"$error":"#REF!"}},{"$f":"IF(J611=\"\",\"\",VLOOKUP(A611,OFFSET([0]!_xlnm.Print_Area,3,0,,7),7,FALSE))","v":{"$error":"#REF!"}}," ",{"$f":"INDEX(#REF!,SMALL(IF(#REF!<>\"\",ROW(#REF!)),ROWS(I$1:I611)-1))","v":{"$error":"#REF!"}},{"$f":"INDEX(#REF!,SMALL(IF(#REF!<>\"\",ROW(#REF!)),ROWS(J$1:J611)-1))","v":{"$error":"#REF!"}},{"$f":"INDEX(#REF!,SMALL(IF(#REF!<>\"\",ROW(#REF!)),ROWS(K$1:K611)-1))","v":{"$error":"#REF!"}}]
[{"$error":"#REF!"},{"$error":"#REF!"},{"$error":"#REF!"},{"$f":"IF(J612=\"\",VLOOKUP(C612,OFFSET([0]!_xlnm.Print_Area,3,2),2,FALSE),VLOOKUP(A612,OFFSET([0]!_xlnm.Print_Area,3,0),4,FALSE))","v":{"$error":"#REF!"}},{"$f":"IF(J612=\"\",\"\",VLOOKUP(A612,OFFSET([0]!_xlnm.Print_Area,3,0),5,FALSE))","v":{"$error":"#REF!"}},{"$f":"IF(J612=\"\",\"\",VLOOKUP(A612,OFFSET([0]!_xlnm.Print_Area,3,0),6,FALSE))","v":{"$error":"#REF!"}},{"$f":"IF(J612=\"\",\"\",VLOOKUP(A612,OFFSET([0]!_xlnm.Print_Area,3,0,,7),7,FALSE))","v":{"$error":"#REF!"}}," ",{"$f":"INDEX(#REF!,SMALL(IF(#REF!<>\"\",ROW(#REF!)),ROWS(I$1:I612)-1))","v":{"$error":"#REF!"}},{"$f":"INDEX(#REF!,SMALL(IF(#REF!<>\"\",ROW(#REF!)),ROWS(J$1:J612)-1))","v":{"$error":"#REF!"}},{"$f":"INDEX(#REF!,SMALL(IF(#REF!<>\"\",ROW(#REF!)),ROWS(K$1:K612)-1))","v":{"$error":"#REF!"}}]
[{"$error":"#REF!"},{"$error":"#REF!"},{"$error":"#REF!"},{"$f":"IF(J613=\"\",VLOOKUP(C613,OFFSET([0]!_xlnm.Print_Area,3,2),2,FALSE),VLOOKUP(A613,OFFSET([0]!_xlnm.Print_Area,3,0),4,FALSE))","v":{"$error":"#REF!"}},{"$f":"IF(J613=\"\",\"\",VLOOKUP(A613,OFFSET([0]!_xlnm.Print_Area,3,0),5,FALSE))","v":{"$error":"#REF!"}},{"$f":"IF(J613=\"\",\"\",VLOOKUP(A613,OFFSET([0]!_xlnm.Print_Area,3,0),6,FALSE))","v":{"$error":"#REF!"}},{"$f":"IF(J613=\"\",\"\",VLOOKUP(A613,OFFSET([0]!_xlnm.Print_Area,3,0,,7),7,FALSE))","v":{"$error":"#REF!"}}," ",{"$f":"INDEX(#REF!,SMALL(IF(#REF!<>\"\",ROW(#REF!)),ROWS(I$1:I613)-1))","v":{"$error":"#REF!"}},{"$f":"INDEX(#REF!,SMALL(IF(#REF!<>\"\",ROW(#REF!)),ROWS(J$1:J613)-1))","v":{"$error":"#REF!"}},{"$f":"INDEX(#REF!,SMALL(IF(#REF!<>\"\",ROW(#REF!)),ROWS(K$1:K613)-1))","v":{"$error":"#REF!"}}]
[{"$error":"#REF!"},{"$error":"#REF!"},{"$error":"#REF!"},{"$f":"IF(J614=\"\",VLOOKUP(C614,OFFSET([0]!_xlnm.Print_Area,3,2),2,FALSE),VLOOKUP(A614,OFFSET([0]!_xlnm.Print_Area,3,0),4,FALSE))","v":{"$error":"#REF!"}},{"$f":"IF(J614=\"\",\"\",VLOOKUP(A614,OFFSET([0]!_xlnm.Print_Area,3,0),5,FALSE))","v":{"$error":"#REF!"}},{"$f":"IF(J614=\"\",\"\",VLOOKUP(A614,OFFSET([0]!_xlnm.Print_Area,3,0),6,FALSE))","v":{"$error":"#REF!"}},{"$f":"IF(J614=\"\",\"\",VLOOKUP(A614,OFFSET([0]!_xlnm.Print_Area,3,0,,7),7,FALSE))","v":{"$error":"#REF!"}}," ",{"$f":"INDEX(#REF!,SMALL(IF(#REF!<>\"\",ROW(#REF!)),ROWS(I$1:I614)-1))","v":{"$error":"#REF!"}},{"$f":"INDEX(#REF!,SMALL(IF(#REF!<>\"\",ROW(#REF!)),ROWS(J$1:J614)-1))","v":{"$error":"#REF!"}},{"$f":"INDEX(#REF!,SMALL(IF(#REF!<>\"\",ROW(#REF!)),ROWS(K$1:K614)-1))","v":{"$error":"#REF!"}}]
[{"$error":"#REF!"},{"$error":"#REF!"},{"$error":"#REF!"},{"$f":"IF(J615=\"\",VLOOKUP(C615,OFFSET([0]!_xlnm.Print_Area,3,2),2,FALSE),VLOOKUP(A615,OFFSET([0]!_xlnm.Print_Area,3,0),4,FALSE))","v":{"$error":"#REF!"}},{"$f":"IF(J615=\"\",\"\",VLOOKUP(A615,OFFSET([0]!_xlnm.Print_Area,3,0),5,FALSE))","v":{"$error":"#REF!"}},{"$f":"IF(J615=\"\",\"\",VLOOKUP(A615,OFFSET([0]!_xlnm.Print_Area,3,0),6,FALSE))","v":{"$error":"#REF!"}},{"$f":"IF(J615=\"\",\"\",VLOOKUP(A615,OFFSET([0]!_xlnm.Print_Area,3,0,,7),7,FALSE))","v":{"$error":"#REF!"}}," ",{"$f":"INDEX(#REF!,SMALL(IF(#REF!<>\"\",ROW(#REF!)),ROWS(I$1:I615)-1))","v":{"$error":"#REF!"}},{"$f":"INDEX(#REF!,SMALL(IF(#REF!<>\"\",ROW(#REF!)),ROWS(J$1:J615)-1))","v":{"$error":"#REF!"}},{"$f":"INDEX(#REF!,SMALL(IF(#REF!<>\"\",ROW(#REF!)),ROWS(K$1:K615)-1))","v":{"$error":"#REF!"}}]
[{"$error":"#REF!"},{"$error":"#REF!"},{"$error":"#REF!"},{"$f":"IF(J616=\"\",VLOOKUP(C616,OFFSET([0]!_xlnm.Print_Area,3,2),2,FALSE),VLOOKUP(A616,OFFSET([0]!_xlnm.Print_Area,3,0),4,FALSE))","v":{"$error":"#REF!"}},{"$f":"IF(J616=\"\",\"\",VLOOKUP(A616,OFFSET([0]!_xlnm.Print_Area,3,0),5,FALSE))","v":{"$error":"#REF!"}},{"$f":"IF(J616=\"\",\"\",VLOOKUP(A616,OFFSET([0]!_xlnm.Print_Area,3,0),6,FALSE))","v":{"$error":"#REF!"}},{"$f":"IF(J616=\"\",\"\",VLOOKUP(A616,OFFSET([0]!_xlnm.Print_Area,3,0,,7),7,FALSE))","v":{"$error":"#REF!"}}," ",{"$f":"INDEX(#REF!,SMALL(IF(#REF!<>\"\",ROW(#REF!)),ROWS(I$1:I616)-1))","v":{"$error":"#REF!"}},{"$f":"INDEX(#REF!,SMALL(IF(#REF!<>\"\",ROW(#REF!)),ROWS(J$1:J616)-1))","v":{"$error":"#REF!"}},{"$f":"INDEX(#REF!,SMALL(IF(#REF!<>\"\",ROW(#REF!)),ROWS(K$1:K616)-1))","v":{"$error":"#REF!"}}]
[{"$error":"#REF!"},{"$error":"#REF!"},{"$error":"#REF!"},{"$f":"IF(J617=\"\",VLOOKUP(C617,OFFSET([0]!_xlnm.Print_Area,3,2),2,FALSE),VLOOKUP(A617,OFFSET([0]!_xlnm.Print_Area,3,0),4,FALSE))","v":{"$error":"#REF!"}},{"$f":"IF(J617=\"\",\"\",VLOOKUP(A617,OFFSET([0]!_xlnm.Print_Area,3,0),5,FALSE))","v":{"$error":"#REF!"}},{"$f":"IF(J617=\"\",\"\",VLOOKUP(A617,OFFSET([0]!_xlnm.Print_Area,3,0),6,FALSE))","v":{"$error":"#REF!"}},{"$f":"IF(J617=\"\",\"\",VLOOKUP(A617,OFFSET([0]!_xlnm.Print_Area,3,0,,7),7,FALSE))","v":{"$error":"#REF!"}}," ",{"$f":"INDEX(#REF!,SMALL(IF(#REF!<>\"\",ROW(#REF!)),ROWS(I$1:I617)-1))","v":{"$error":"#REF!"}},{"$f":"INDEX(#REF!,SMALL(IF(#REF!<>\"\",ROW(#REF!)),ROWS(J$1:J617)-1))","v":{"$error":"#REF!"}},{"$f":"INDEX(#REF!,SMALL(IF(#REF!<>\"\",ROW(#REF!)),ROWS(K$1:K617)-1))","v":{"$error":"#REF!"}}]
[{"$error":"#REF!"},{"$error":"#REF!"},{"$error":"#REF!"},{"$f":"IF(J618=\"\",VLOOKUP(C618,OFFSET([0]!_xlnm.Print_Area,3,2),2,FALSE),VLOOKUP(A618,OFFSET([0]!_xlnm.Print_Area,3,0),4,FALSE))","v":{"$error":"#REF!"}},{"$f":"IF(J618=\"\",\"\",VLOOKUP(A618,OFFSET([0]!_xlnm.Print_Area,3,0),5,FALSE))","v":{"$error":"#REF!"}},{"$f":"IF(J618=\"\",\"\",VLOOKUP(A618,OFFSET([0]!_xlnm.Print_Area,3,0),6,FALSE))","v":{"$error":"#REF!"}},{"$f":"IF(J618=\"\",\"\",VLOOKUP(A618,OFFSET([0]!_xlnm.Print_Area,3,0,,7),7,FALSE))","v":{"$error":"#REF!"}}," ",{"$f":"INDEX(#REF!,SMALL(IF(#REF!<>\"\",ROW(#REF!)),ROWS(I$1:I618)-1))","v":{"$error":"#REF!"}},{"$f":"INDEX(#REF!,SMALL(IF(#REF!<>\"\",ROW(#REF!)),ROWS(J$1:J618)-1))","v":{"$error":"#REF!"}},{"$f":"INDEX(#REF!,SMALL(IF(#REF!<>\"\",ROW(#REF!)),ROWS(K$1:K618)-1))","v":{"$error":"#REF!"}}]
[{"$error":"#REF!"},{"$error":"#REF!"},{"$error":"#REF!"},{"$f":"IF(J619=\"\",VLOOKUP(C619,OFFSET([0]!_xlnm.Print_Area,3,2),2,FALSE),VLOOKUP(A619,OFFSET([0]!_xlnm.Print_Area,3,0),4,FALSE))","v":{"$error":"#REF!"}},{"$f":"IF(J619=\"\",\"\",VLOOKUP(A619,OFFSET([0]!_xlnm.Print_Area,3,0),5,FALSE))","v":{"$error":"#REF!"}},{"$f":"IF(J619=\"\",\"\",VLOOKUP(A619,OFFSET([0]!_xlnm.Print_Area,3,0),6,FALSE))","v":{"$error":"#REF!"}},{"$f":"IF(J619=\"\",\"\",VLOOKUP(A619,OFFSET([0]!_xlnm.Print_Area,3,0,,7),7,FALSE))","v":{"$error":"#REF!"}}," ",{"$f":"INDEX(#REF!,SMALL(IF(#REF!<>\"\",ROW(#REF!)),ROWS(I$1:I619)-1))","v":{"$error":"#REF!"}},{"$f":"INDEX(#REF!,SMALL(IF(#REF!<>\"\",ROW(#REF!)),ROWS(J$1:J619)-1))","v":{"$error":"#REF!"}},{"$f":"INDEX(#REF!,SMALL(IF(#REF!<>\"\",ROW(#REF!)),ROWS(K$1:K619)-1))","v":{"$error":"#REF!"}}]
[{"$error":"#REF!"},{"$error":"#REF!"},{"$error":"#REF!"},{"$f":"IF(J620=\"\",VLOOKUP(C620,OFFSET([0]!_xlnm.Print_Area,3,2),2,FALSE),VLOOKUP(A620,OFFSET([0]!_xlnm.Print_Area,3,0),4,FALSE))","v":{"$error":"#REF!"}},{"$f":"IF(J620=\"\",\"\",VLOOKUP(A620,OFFSET([0]!_xlnm.Print_Area,3,0),5,FALSE))","v":{"$error":"#REF!"}},{"$f":"IF(J620=\"\",\"\",VLOOKUP(A620,OFFSET([0]!_xlnm.Print_Area,3,0),6,FALSE))","v":{"$error":"#REF!"}},{"$f":"IF(J620=\"\",\"\",VLOOKUP(A620,OFFSET([0]!_xlnm.Print_Area,3,0,,7),7,FALSE))","v":{"$error":"#REF!"}}," ",{"$f":"INDEX(#REF!,SMALL(IF(#REF!<>\"\",ROW(#REF!)),ROWS(I$1:I620)-1))","v":{"$error":"#REF!"}},{"$f":"INDEX(#REF!,SMALL(IF(#REF!<>\"\",ROW(#REF!)),ROWS(J$1:J620)-1))","v":{"$error":"#REF!"}},{"$f":"INDEX(#REF!,SMALL(IF(#REF!<>\"\",ROW(#REF!)),ROWS(K$1:K620)-1))","v":{"$error":"#REF!"}}]
[{"$error":"#REF!"},{"$error":"#REF!"},{"$error":"#REF!"},{"$f":"IF(J621=\"\",VLOOKUP(C621,OFFSET([0]!_xlnm.Print_Area,3,2),2,FALSE),VLOOKUP(A621,OFFSET([0]!_xlnm.Print_Area,3,0),4,FALSE))","v":{"$error":"#REF!"}},{"$f":"IF(J621=\"\",\"\",VLOOKUP(A621,OFFSET([0]!_xlnm.Print_Area,3,0),5,FALSE))","v":{"$error":"#REF!"}},{"$f":"IF(J621=\"\",\"\",VLOOKUP(A621,OFFSET([0]!_xlnm.Print_Area,3,0),6,FALSE))","v":{"$error":"#REF!"}},{"$f":"IF(J621=\"\",\"\",VLOOKUP(A621,OFFSET([0]!_xlnm.Print_Area,3,0,,7),7,FALSE))","v":{"$error":"#REF!"}}," ",{"$f":"INDEX(#REF!,SMALL(IF(#REF!<>\"\",ROW(#REF!)),ROWS(I$1:I621)-1))","v":{"$error":"#REF!"}},{"$f":"INDEX(#REF!,SMALL(IF(#REF!<>\"\",ROW(#REF!)),ROWS(J$1:J621)-1))","v":{"$error":"#REF!"}},{"$f":"INDEX(#REF!,SMALL(IF(#REF!<>\"\",ROW(#REF!)),ROWS(K$1:K621)-1))","v":{"$error":"#REF!"}}]
[{"$error":"#REF!"},{"$error":"#REF!"},{"$error":"#REF!"},{"$f":"IF(J622=\"\",VLOOKUP(C622,OFFSET([0]!_xlnm.Print_Area,3,2),2,FALSE),VLOOKUP(A622,OFFSET([0]!_xlnm.Print_Area,3,0),4,FALSE))","v":{"$error":"#REF!"}},{"$f":"IF(J622=\"\",\"\",VLOOKUP(A622,OFFSET([0]!_xlnm.Print_Area,3,0),5,FALSE))","v":{"$error":"#REF!"}},{"$f":"IF(J622=\"\",\"\",VLOOKUP(A622,OFFSET([0]!_xlnm.Print_Area,3,0),6,FALSE))","v":{"$error":"#REF!"}},{"$f":"IF(J622=\"\",\"\",VLOOKUP(A622,OFFSET([0]!_xlnm.Print_Area,3,0,,7),7,FALSE))","v":{"$error":"#REF!"}}," ",{"$f":"INDEX(#REF!,SMALL(IF(#REF!<>\"\",ROW(#REF!)),ROWS(I$1:I622)-1))","v":{"$error":"#REF!"}},{"$f":"INDEX(#REF!,SMALL(IF(#REF!<>\"\",ROW(#REF!)),ROWS(J$1:J622)-1))","v":{"$error":"#REF!"}},{"$f":"INDEX(#REF!,SMALL(IF(#REF!<>\"\",ROW(#REF!)),ROWS(K$1:K622)-1))","v":{"$error":"#REF!"}}]
[{"$error":"#REF!"},{"$error":"#REF!"},{"$error":"#REF!"},{"$f":"IF(J623=\"\",VLOOKUP(C623,OFFSET([0]!_xlnm.Print_Area,3,2),2,FALSE),VLOOKUP(A623,OFFSET([0]!_xlnm.Print_Area,3,0),4,FALSE))","v":{"$error":"#REF!"}},{"$f":"IF(J623=\"\",\"\",VLOOKUP(A623,OFFSET([0]!_xlnm.Print_Area,3,0),5,FALSE))","v":{"$error":"#REF!"}},{"$f":"IF(J623=\"\",\"\",VLOOKUP(A623,OFFSET([0]!_xlnm.Print_Area,3,0),6,FALSE))","v":{"$error":"#REF!"}},{"$f":"IF(J623=\"\",\"\",VLOOKUP(A623,OFFSET([0]!_xlnm.Print_Area,3,0,,7),7,FALSE))","v":{"$error":"#REF!"}}," ",{"$f":"INDEX(#REF!,SMALL(IF(#REF!<>\"\",ROW(#REF!)),ROWS(I$1:I623)-1))","v":{"$error":"#REF!"}},{"$f":"INDEX(#REF!,SMALL(IF(#REF!<>\"\",ROW(#REF!)),ROWS(J$1:J623)-1))","v":{"$error":"#REF!"}},{"$f":"INDEX(#REF!,SMALL(IF(#REF!<>\"\",ROW(#REF!)),ROWS(K$1:K623)-1))","v":{"$error":"#REF!"}}]
[{"$error":"#REF!"},{"$error":"#REF!"},{"$error":"#REF!"},{"$f":"IF(J624=\"\",VLOOKUP(C624,OFFSET([0]!_xlnm.Print_Area,3,2),2,FALSE),VLOOKUP(A624,OFFSET([0]!_xlnm.Print_Area,3,0),4,FALSE))","v":{"$error":"#REF!"}},{"$f":"IF(J624=\"\",\"\",VLOOKUP(A624,OFFSET([0]!_xlnm.Print_Area,3,0),5,FALSE))","v":{"$error":"#REF!"}},{"$f":"IF(J624=\"\",\"\",VLOOKUP(A624,OFFSET([0]!_xlnm.Print_Area,3,0),6,FALSE))","v":{"$error":"#REF!"}},{"$f":"IF(J624=\"\",\"\",VLOOKUP(A624,OFFSET([0]!_xlnm.Print_Area,3,0,,7),7,FALSE))","v":{"$error":"#REF!"}}," ",{"$f":"INDEX(#REF!,SMALL(IF(#REF!<>\"\",ROW(#REF!)),ROWS(I$1:I624)-1))","v":{"$error":"#REF!"}},{"$f":"INDEX(#REF!,SMALL(IF(#REF!<>\"\",ROW(#REF!)),ROWS(J$1:J624)-1))","v":{"$error":"#REF!"}},{"$f":"INDEX(#REF!,SMALL(IF(#REF!<>\"\",ROW(#REF!)),ROWS(K$1:K624)-1))","v":{"$error":"#REF!"}}]
[{"$error":"#REF!"},{"$error":"#REF!"},{"$error":"#REF!"},{"$f":"IF(J625=\"\",VLOOKUP(C625,OFFSET([0]!_xlnm.Print_Area,3,2),2,FALSE),VLOOKUP(A625,OFFSET([0]!_xlnm.Print_Area,3,0),4,FALSE))","v":{"$error":"#REF!"}},{"$f":"IF(J625=\"\",\"\",VLOOKUP(A625,OFFSET([0]!_xlnm.Print_Area,3,0),5,FALSE))","v":{"$error":"#REF!"}},{"$f":"IF(J625=\"\",\"\",VLOOKUP(A625,OFFSET([0]!_xlnm.Print_Area,3,0),6,FALSE))","v":{"$error":"#REF!"}},{"$f":"IF(J625=\"\",\"\",VLOOKUP(A625,OFFSET([0]!_xlnm.Print_Area,3,0,,7),7,FALSE))","v":{"$error":"#REF!"}}," ",{"$f":"INDEX(#REF!,SMALL(IF(#REF!<>\"\",ROW(#REF!)),ROWS(I$1:I625)-1))","v":{"$error":"#REF!"}},{"$f":"INDEX(#REF!,SMALL(IF(#REF!<>\"\",ROW(#REF!)),ROWS(J$1:J625)-1))","v":{"$error":"#REF!"}},{"$f":"INDEX(#REF!,SMALL(IF(#REF!<>\"\",ROW(#REF!)),ROWS(K$1:K625)-1))","v":{"$error":"#REF!"}}]
[{"$error":"#REF!"},{"$error":"#REF!"},{"$error":"#REF!"},{"$f":"IF(J626=\"\",VLOOKUP(C626,OFFSET([0]!_xlnm.Print_Area,3,2),2,FALSE),VLOOKUP(A626,OFFSET([0]!_xlnm.Print_Area,3,0),4,FALSE))","v":{"$error":"#REF!"}},{"$f":"IF(J626=\"\",\"\",VLOOKUP(A626,OFFSET([0]!_xlnm.Print_Area,3,0),5,FALSE))","v":{"$error":"#REF!"}},{"$f":"IF(J626=\"\",\"\",VLOOKUP(A626,OFFSET([0]!_xlnm.Print_Area,3,0),6,FALSE))","v":{"$error":"#REF!"}},{"$f":"IF(J626=\"\",\"\",VLOOKUP(A626,OFFSET([0]!_xlnm.Print_Area,3,0,,7),7,FALSE))","v":{"$error":"#REF!"}}," ",{"$f":"INDEX(#REF!,SMALL(IF(#REF!<>\"\",ROW(#REF!)),ROWS(I$1:I626)-1))","v":{"$error":"#REF!"}},{"$f":"INDEX(#REF!,SMALL(IF(#REF!<>\"\",ROW(#REF!)),ROWS(J$1:J626)-1))","v":{"$error":"#REF!"}},{"$f":"INDEX(#REF!,SMALL(IF(#REF!<>\"\",ROW(#REF!)),ROWS(K$1:K626)-1))","v":{"$error":"#REF!"}}]
[{"$error":"#REF!"},{"$error":"#REF!"},{"$error":"#REF!"},{"$f":"IF(J627=\"\",VLOOKUP(C627,OFFSET([0]!_xlnm.Print_Area,3,2),2,FALSE),VLOOKUP(A627,OFFSET([0]!_xlnm.Print_Area,3,0),4,FALSE))","v":{"$error":"#REF!"}},{"$f":"IF(J627=\"\",\"\",VLOOKUP(A627,OFFSET([0]!_xlnm.Print_Area,3,0),5,FALSE))","v":{"$error":"#REF!"}},{"$f":"IF(J627=\"\",\"\",VLOOKUP(A627,OFFSET([0]!_xlnm.Print_Area,3,0),6,FALSE))","v":{"$error":"#REF!"}},{"$f":"IF(J627=\"\",\"\",VLOOKUP(A627,OFFSET([0]!_xlnm.Print_Area,3,0,,7),7,FALSE))","v":{"$error":"#REF!"}}," ",{"$f":"INDEX(#REF!,SMALL(IF(#REF!<>\"\",ROW(#REF!)),ROWS(I$1:I627)-1))","v":{"$error":"#REF!"}},{"$f":"INDEX(#REF!,SMALL(IF(#REF!<>\"\",ROW(#REF!)),ROWS(J$1:J627)-1))","v":{"$error":"#REF!"}},{"$f":"INDEX(#REF!,SMALL(IF(#REF!<>\"\",ROW(#REF!)),ROWS(K$1:K627)-1))","v":{"$error":"#REF!"}}]
[{"$error":"#REF!"},{"$error":"#REF!"},{"$error":"#REF!"},{"$f":"IF(J628=\"\",VLOOKUP(C628,OFFSET([0]!_xlnm.Print_Area,3,2),2,FALSE),VLOOKUP(A628,OFFSET([0]!_xlnm.Print_Area,3,0),4,FALSE))","v":{"$error":"#REF!"}},{"$f":"IF(J628=\"\",\"\",VLOOKUP(A628,OFFSET([0]!_xlnm.Print_Area,3,0),5,FALSE))","v":{"$error":"#REF!"}},{"$f":"IF(J628=\"\",\"\",VLOOKUP(A628,OFFSET([0]!_xlnm.Print_Area,3,0),6,FALSE))","v":{"$error":"#REF!"}},{"$f":"IF(J628=\"\",\"\",VLOOKUP(A628,OFFSET([0]!_xlnm.Print_Area,3,0,,7),7,FALSE))","v":{"$error":"#REF!"}}," ",{"$f":"INDEX(#REF!,SMALL(IF(#REF!<>\"\",ROW(#REF!)),ROWS(I$1:I628)-1))","v":{"$error":"#REF!"}},{"$f":"INDEX(#REF!,SMALL(IF(#REF!<>\"\",ROW(#REF!)),ROWS(J$1:J628)-1))","v":{"$error":"#REF!"}},{"$f":"INDEX(#REF!,SMALL(IF(#REF!<>\"\",ROW(#REF!)),ROWS(K$1:K628)-1))","v":{"$error":"#REF!"}}]
[{"$error":"#REF!"},{"$error":"#REF!"},{"$error":"#REF!"},{"$f":"IF(J629=\"\",VLOOKUP(C629,OFFSET([0]!_xlnm.Print_Area,3,2),2,FALSE),VLOOKUP(A629,OFFSET([0]!_xlnm.Print_Area,3,0),4,FALSE))","v":{"$error":"#REF!"}},{"$f":"IF(J629=\"\",\"\",VLOOKUP(A629,OFFSET([0]!_xlnm.Print_Area,3,0),5,FALSE))","v":{"$error":"#REF!"}},{"$f":"IF(J629=\"\",\"\",VLOOKUP(A629,OFFSET([0]!_xlnm.Print_Area,3,0),6,FALSE))","v":{"$error":"#REF!"}},{"$f":"IF(J629=\"\",\"\",VLOOKUP(A629,OFFSET([0]!_xlnm.Print_Area,3,0,,7),7,FALSE))","v":{"$error":"#REF!"}}," ",{"$f":"INDEX(#REF!,SMALL(IF(#REF!<>\"\",ROW(#REF!)),ROWS(I$1:I629)-1))","v":{"$error":"#REF!"}},{"$f":"INDEX(#REF!,SMALL(IF(#REF!<>\"\",ROW(#REF!)),ROWS(J$1:J629)-1))","v":{"$error":"#REF!"}},{"$f":"INDEX(#REF!,SMALL(IF(#REF!<>\"\",ROW(#REF!)),ROWS(K$1:K629)-1))","v":{"$error":"#REF!"}}]
[{"$error":"#REF!"},{"$error":"#REF!"},{"$error":"#REF!"},{"$f":"IF(J630=\"\",VLOOKUP(C630,OFFSET([0]!_xlnm.Print_Area,3,2),2,FALSE),VLOOKUP(A630,OFFSET([0]!_xlnm.Print_Area,3,0),4,FALSE))","v":{"$error":"#REF!"}},{"$f":"IF(J630=\"\",\"\",VLOOKUP(A630,OFFSET([0]!_xlnm.Print_Area,3,0),5,FALSE))","v":{"$error":"#REF!"}},{"$f":"IF(J630=\"\",\"\",VLOOKUP(A630,OFFSET([0]!_xlnm.Print_Area,3,0),6,FALSE))","v":{"$error":"#REF!"}},{"$f":"IF(J630=\"\",\"\",VLOOKUP(A630,OFFSET([0]!_xlnm.Print_Area,3,0,,7),7,FALSE))","v":{"$error":"#REF!"}}," ",{"$f":"INDEX(#REF!,SMALL(IF(#REF!<>\"\",ROW(#REF!)),ROWS(I$1:I630)-1))","v":{"$error":"#REF!"}},{"$f":"INDEX(#REF!,SMALL(IF(#REF!<>\"\",ROW(#REF!)),ROWS(J$1:J630)-1))","v":{"$error":"#REF!"}},{"$f":"INDEX(#REF!,SMALL(IF(#REF!<>\"\",ROW(#REF!)),ROWS(K$1:K630)-1))","v":{"$error":"#REF!"}}]
[{"$error":"#REF!"},{"$error":"#REF!"},{"$error":"#REF!"},{"$f":"IF(J631=\"\",VLOOKUP(C631,OFFSET([0]!_xlnm.Print_Area,3,2),2,FALSE),VLOOKUP(A631,OFFSET([0]!_xlnm.Print_Area,3,0),4,FALSE))","v":{"$error":"#REF!"}},{"$f":"IF(J631=\"\",\"\",VLOOKUP(A631,OFFSET([0]!_xlnm.Print_Area,3,0),5,FALSE))","v":{"$error":"#REF!"}},{"$f":"IF(J631=\"\",\"\",VLOOKUP(A631,OFFSET([0]!_xlnm.Print_Area,3,0),6,FALSE))","v":{"$error":"#REF!"}},{"$f":"IF(J631=\"\",\"\",VLOOKUP(A631,OFFSET([0]!_xlnm.Print_Area,3,0,,7),7,FALSE))","v":{"$error":"#REF!"}}," ",{"$f":"INDEX(#REF!,SMALL(IF(#REF!<>\"\",ROW(#REF!)),ROWS(I$1:I631)-1))","v":{"$error":"#REF!"}},{"$f":"INDEX(#REF!,SMALL(IF(#REF!<>\"\",ROW(#REF!)),ROWS(J$1:J631)-1))","v":{"$error":"#REF!"}},{"$f":"INDEX(#REF!,SMALL(IF(#REF!<>\"\",ROW(#REF!)),ROWS(K$1:K631)-1))","v":{"$error":"#REF!"}}]
[{"$error":"#REF!"},{"$error":"#REF!"},{"$error":"#REF!"},{"$f":"IF(J632=\"\",VLOOKUP(C632,OFFSET([0]!_xlnm.Print_Area,3,2),2,FALSE),VLOOKUP(A632,OFFSET([0]!_xlnm.Print_Area,3,0),4,FALSE))","v":{"$error":"#REF!"}},{"$f":"IF(J632=\"\",\"\",VLOOKUP(A632,OFFSET([0]!_xlnm.Print_Area,3,0),5,FALSE))","v":{"$error":"#REF!"}},{"$f":"IF(J632=\"\",\"\",VLOOKUP(A632,OFFSET([0]!_xlnm.Print_Area,3,0),6,FALSE))","v":{"$error":"#REF!"}},{"$f":"IF(J632=\"\",\"\",VLOOKUP(A632,OFFSET([0]!_xlnm.Print_Area,3,0,,7),7,FALSE))","v":{"$error":"#REF!"}}," ",{"$f":"INDEX(#REF!,SMALL(IF(#REF!<>\"\",ROW(#REF!)),ROWS(I$1:I632)-1))","v":{"$error":"#REF!"}},{"$f":"INDEX(#REF!,SMALL(IF(#REF!<>\"\",ROW(#REF!)),ROWS(J$1:J632)-1))","v":{"$error":"#REF!"}},{"$f":"INDEX(#REF!,SMALL(IF(#REF!<>\"\",ROW(#REF!)),ROWS(K$1:K632)-1))","v":{"$error":"#REF!"}}]
[{"$error":"#REF!"},{"$error":"#REF!"},{"$error":"#REF!"},{"$f":"IF(J633=\"\",VLOOKUP(C633,OFFSET([0]!_xlnm.Print_Area,3,2),2,FALSE),VLOOKUP(A633,OFFSET([0]!_xlnm.Print_Area,3,0),4,FALSE))","v":{"$error":"#REF!"}},{"$f":"IF(J633=\"\",\"\",VLOOKUP(A633,OFFSET([0]!_xlnm.Print_Area,3,0),5,FALSE))","v":{"$error":"#REF!"}},{"$f":"IF(J633=\"\",\"\",VLOOKUP(A633,OFFSET([0]!_xlnm.Print_Area,3,0),6,FALSE))","v":{"$error":"#REF!"}},{"$f":"IF(J633=\"\",\"\",VLOOKUP(A633,OFFSET([0]!_xlnm.Print_Area,3,0,,7),7,FALSE))","v":{"$error":"#REF!"}}," ",{"$f":"INDEX(#REF!,SMALL(IF(#REF!<>\"\",ROW(#REF!)),ROWS(I$1:I633)-1))","v":{"$error":"#REF!"}},{"$f":"INDEX(#REF!,SMALL(IF(#REF!<>\"\",ROW(#REF!)),ROWS(J$1:J633)-1))","v":{"$error":"#REF!"}},{"$f":"INDEX(#REF!,SMALL(IF(#REF!<>\"\",ROW(#REF!)),ROWS(K$1:K633)-1))","v":{"$error":"#REF!"}}]
[{"$error":"#REF!"},{"$error":"#REF!"},{"$error":"#REF!"},{"$f":"IF(J634=\"\",VLOOKUP(C634,OFFSET([0]!_xlnm.Print_Area,3,2),2,FALSE),VLOOKUP(A634,OFFSET([0]!_xlnm.Print_Area,3,0),4,FALSE))","v":{"$error":"#REF!"}},{"$f":"IF(J634=\"\",\"\",VLOOKUP(A634,OFFSET([0]!_xlnm.Print_Area,3,0),5,FALSE))","v":{"$error":"#REF!"}},{"$f":"IF(J634=\"\",\"\",VLOOKUP(A634,OFFSET([0]!_xlnm.Print_Area,3,0),6,FALSE))","v":{"$error":"#REF!"}},{"$f":"IF(J634=\"\",\"\",VLOOKUP(A634,OFFSET([0]!_xlnm.Print_Area,3,0,,7),7,FALSE))","v":{"$error":"#REF!"}}," ",{"$f":"INDEX(#REF!,SMALL(IF(#REF!<>\"\",ROW(#REF!)),ROWS(I$1:I634)-1))","v":{"$error":"#REF!"}},{"$f":"INDEX(#REF!,SMALL(IF(#REF!<>\"\",ROW(#REF!)),ROWS(J$1:J634)-1))","v":{"$error":"#REF!"}},{"$f":"INDEX(#REF!,SMALL(IF(#REF!<>\"\",ROW(#REF!)),ROWS(K$1:K634)-1))","v":{"$error":"#REF!"}}]
[{"$error":"#REF!"},{"$error":"#REF!"},{"$error":"#REF!"},{"$f":"IF(J635=\"\",VLOOKUP(C635,OFFSET([0]!_xlnm.Print_Area,3,2),2,FALSE),VLOOKUP(A635,OFFSET([0]!_xlnm.Print_Area,3,0),4,FALSE))","v":{"$error":"#REF!"}},{"$f":"IF(J635=\"\",\"\",VLOOKUP(A635,OFFSET([0]!_xlnm.Print_Area,3,0),5,FALSE))","v":{"$error":"#REF!"}},{"$f":"IF(J635=\"\",\"\",VLOOKUP(A635,OFFSET([0]!_xlnm.Print_Area,3,0),6,FALSE))","v":{"$error":"#REF!"}},{"$f":"IF(J635=\"\",\"\",VLOOKUP(A635,OFFSET([0]!_xlnm.Print_Area,3,0,,7),7,FALSE))","v":{"$error":"#REF!"}}," ",{"$f":"INDEX(#REF!,SMALL(IF(#REF!<>\"\",ROW(#REF!)),ROWS(I$1:I635)-1))","v":{"$error":"#REF!"}},{"$f":"INDEX(#REF!,SMALL(IF(#REF!<>\"\",ROW(#REF!)),ROWS(J$1:J635)-1))","v":{"$error":"#REF!"}},{"$f":"INDEX(#REF!,SMALL(IF(#REF!<>\"\",ROW(#REF!)),ROWS(K$1:K635)-1))","v":{"$error":"#REF!"}}]
[{"$error":"#REF!"},{"$error":"#REF!"},{"$error":"#REF!"},{"$f":"IF(J636=\"\",VLOOKUP(C636,OFFSET([0]!_xlnm.Print_Area,3,2),2,FALSE),VLOOKUP(A636,OFFSET([0]!_xlnm.Print_Area,3,0),4,FALSE))","v":{"$error":"#REF!"}},{"$f":"IF(J636=\"\",\"\",VLOOKUP(A636,OFFSET([0]!_xlnm.Print_Area,3,0),5,FALSE))","v":{"$error":"#REF!"}},{"$f":"IF(J636=\"\",\"\",VLOOKUP(A636,OFFSET([0]!_xlnm.Print_Area,3,0),6,FALSE))","v":{"$error":"#REF!"}},{"$f":"IF(J636=\"\",\"\",VLOOKUP(A636,OFFSET([0]!_xlnm.Print_Area,3,0,,7),7,FALSE))","v":{"$error":"#REF!"}}," ",{"$f":"INDEX(#REF!,SMALL(IF(#REF!<>\"\",ROW(#REF!)),ROWS(I$1:I636)-1))","v":{"$error":"#REF!"}},{"$f":"INDEX(#REF!,SMALL(IF(#REF!<>\"\",ROW(#REF!)),ROWS(J$1:J636)-1))","v":{"$error":"#REF!"}},{"$f":"INDEX(#REF!,SMALL(IF(#REF!<>\"\",ROW(#REF!)),ROWS(K$1:K636)-1))","v":{"$error":"#REF!"}}]
[{"$error":"#REF!"},{"$error":"#REF!"},{"$error":"#REF!"},{"$f":"IF(J637=\"\",VLOOKUP(C637,OFFSET([0]!_xlnm.Print_Area,3,2),2,FALSE),VLOOKUP(A637,OFFSET([0]!_xlnm.Print_Area,3,0),4,FALSE))","v":{"$error":"#REF!"}},{"$f":"IF(J637=\"\",\"\",VLOOKUP(A637,OFFSET([0]!_xlnm.Print_Area,3,0),5,FALSE))","v":{"$error":"#REF!"}},{"$f":"IF(J637=\"\",\"\",VLOOKUP(A637,OFFSET([0]!_xlnm.Print_Area,3,0),6,FALSE))","v":{"$error":"#REF!"}},{"$f":"IF(J637=\"\",\"\",VLOOKUP(A637,OFFSET([0]!_xlnm.Print_Area,3,0,,7),7,FALSE))","v":{"$error":"#REF!"}}," ",{"$f":"INDEX(#REF!,SMALL(IF(#REF!<>\"\",ROW(#REF!)),ROWS(I$1:I637)-1))","v":{"$error":"#REF!"}},{"$f":"INDEX(#REF!,SMALL(IF(#REF!<>\"\",ROW(#REF!)),ROWS(J$1:J637)-1))","v":{"$error":"#REF!"}},{"$f":"INDEX(#REF!,SMALL(IF(#REF!<>\"\",ROW(#REF!)),ROWS(K$1:K637)-1))","v":{"$error":"#REF!"}}]
[{"$error":"#REF!"},{"$error":"#REF!"},{"$error":"#REF!"},{"$f":"IF(J638=\"\",VLOOKUP(C638,OFFSET([0]!_xlnm.Print_Area,3,2),2,FALSE),VLOOKUP(A638,OFFSET([0]!_xlnm.Print_Area,3,0),4,FALSE))","v":{"$error":"#REF!"}},{"$f":"IF(J638=\"\",\"\",VLOOKUP(A638,OFFSET([0]!_xlnm.Print_Area,3,0),5,FALSE))","v":{"$error":"#REF!"}},{"$f":"IF(J638=\"\",\"\",VLOOKUP(A638,OFFSET([0]!_xlnm.Print_Area,3,0),6,FALSE))","v":{"$error":"#REF!"}},{"$f":"IF(J638=\"\",\"\",VLOOKUP(A638,OFFSET([0]!_xlnm.Print_Area,3,0,,7),7,FALSE))","v":{"$error":"#REF!"}}," ",{"$f":"INDEX(#REF!,SMALL(IF(#REF!<>\"\",ROW(#REF!)),ROWS(I$1:I638)-1))","v":{"$error":"#REF!"}},{"$f":"INDEX(#REF!,SMALL(IF(#REF!<>\"\",ROW(#REF!)),ROWS(J$1:J638)-1))","v":{"$error":"#REF!"}},{"$f":"INDEX(#REF!,SMALL(IF(#REF!<>\"\",ROW(#REF!)),ROWS(K$1:K638)-1))","v":{"$error":"#REF!"}}]
[{"$error":"#REF!"},{"$error":"#REF!"},{"$error":"#REF!"},{"$f":"IF(J639=\"\",VLOOKUP(C639,OFFSET([0]!_xlnm.Print_Area,3,2),2,FALSE),VLOOKUP(A639,OFFSET([0]!_xlnm.Print_Area,3,0),4,FALSE))","v":{"$error":"#REF!"}},{"$f":"IF(J639=\"\",\"\",VLOOKUP(A639,OFFSET([0]!_xlnm.Print_Area,3,0),5,FALSE))","v":{"$error":"#REF!"}},{"$f":"IF(J639=\"\",\"\",VLOOKUP(A639,OFFSET([0]!_xlnm.Print_Area,3,0),6,FALSE))","v":{"$error":"#REF!"}},{"$f":"IF(J639=\"\",\"\",VLOOKUP(A639,OFFSET([0]!_xlnm.Print_Area,3,0,,7),7,FALSE))","v":{"$error":"#REF!"}}," ",{"$f":"INDEX(#REF!,SMALL(IF(#REF!<>\"\",ROW(#REF!)),ROWS(I$1:I639)-1))","v":{"$error":"#REF!"}},{"$f":"INDEX(#REF!,SMALL(IF(#REF!<>\"\",ROW(#REF!)),ROWS(J$1:J639)-1))","v":{"$error":"#REF!"}},{"$f":"INDEX(#REF!,SMALL(IF(#REF!<>\"\",ROW(#REF!)),ROWS(K$1:K639)-1))","v":{"$error":"#REF!"}}]
[{"$error":"#REF!"},{"$error":"#REF!"},{"$error":"#REF!"},{"$f":"IF(J640=\"\",VLOOKUP(C640,OFFSET([0]!_xlnm.Print_Area,3,2),2,FALSE),VLOOKUP(A640,OFFSET([0]!_xlnm.Print_Area,3,0),4,FALSE))","v":{"$error":"#REF!"}},{"$f":"IF(J640=\"\",\"\",VLOOKUP(A640,OFFSET([0]!_xlnm.Print_Area,3,0),5,FALSE))","v":{"$error":"#REF!"}},{"$f":"IF(J640=\"\",\"\",VLOOKUP(A640,OFFSET([0]!_xlnm.Print_Area,3,0),6,FALSE))","v":{"$error":"#REF!"}},{"$f":"IF(J640=\"\",\"\",VLOOKUP(A640,OFFSET([0]!_xlnm.Print_Area,3,0,,7),7,FALSE))","v":{"$error":"#REF!"}}," ",{"$f":"INDEX(#REF!,SMALL(IF(#REF!<>\"\",ROW(#REF!)),ROWS(I$1:I640)-1))","v":{"$error":"#REF!"}},{"$f":"INDEX(#REF!,SMALL(IF(#REF!<>\"\",ROW(#REF!)),ROWS(J$1:J640)-1))","v":{"$error":"#REF!"}},{"$f":"INDEX(#REF!,SMALL(IF(#REF!<>\"\",ROW(#REF!)),ROWS(K$1:K640)-1))","v":{"$error":"#REF!"}}]
[{"$error":"#REF!"},{"$error":"#REF!"},{"$error":"#REF!"},{"$f":"IF(J641=\"\",VLOOKUP(C641,OFFSET([0]!_xlnm.Print_Area,3,2),2,FALSE),VLOOKUP(A641,OFFSET([0]!_xlnm.Print_Area,3,0),4,FALSE))","v":{"$error":"#REF!"}},{"$f":"IF(J641=\"\",\"\",VLOOKUP(A641,OFFSET([0]!_xlnm.Print_Area,3,0),5,FALSE))","v":{"$error":"#REF!"}},{"$f":"IF(J641=\"\",\"\",VLOOKUP(A641,OFFSET([0]!_xlnm.Print_Area,3,0),6,FALSE))","v":{"$error":"#REF!"}},{"$f":"IF(J641=\"\",\"\",VLOOKUP(A641,OFFSET([0]!_xlnm.Print_Area,3,0,,7),7,FALSE))","v":{"$error":"#REF!"}}," ",{"$f":"INDEX(#REF!,SMALL(IF(#REF!<>\"\",ROW(#REF!)),ROWS(I$1:I641)-1))","v":{"$error":"#REF!"}},{"$f":"INDEX(#REF!,SMALL(IF(#REF!<>\"\",ROW(#REF!)),ROWS(J$1:J641)-1))","v":{"$error":"#REF!"}},{"$f":"INDEX(#REF!,SMALL(IF(#REF!<>\"\",ROW(#REF!)),ROWS(K$1:K641)-1))","v":{"$error":"#REF!"}}]
[{"$error":"#REF!"},{"$error":"#REF!"},{"$error":"#REF!"},{"$f":"IF(J642=\"\",VLOOKUP(C642,OFFSET([0]!_xlnm.Print_Area,3,2),2,FALSE),VLOOKUP(A642,OFFSET([0]!_xlnm.Print_Area,3,0),4,FALSE))","v":{"$error":"#REF!"}},{"$f":"IF(J642=\"\",\"\",VLOOKUP(A642,OFFSET([0]!_xlnm.Print_Area,3,0),5,FALSE))","v":{"$error":"#REF!"}},{"$f":"IF(J642=\"\",\"\",VLOOKUP(A642,OFFSET([0]!_xlnm.Print_Area,3,0),6,FALSE))","v":{"$error":"#REF!"}},{"$f":"IF(J642=\"\",\"\",VLOOKUP(A642,OFFSET([0]!_xlnm.Print_Area,3,0,,7),7,FALSE))","v":{"$error":"#REF!"}}," ",{"$f":"INDEX(#REF!,SMALL(IF(#REF!<>\"\",ROW(#REF!)),ROWS(I$1:I642)-1))","v":{"$error":"#REF!"}},{"$f":"INDEX(#REF!,SMALL(IF(#REF!<>\"\",ROW(#REF!)),ROWS(J$1:J642)-1))","v":{"$error":"#REF!"}},{"$f":"INDEX(#REF!,SMALL(IF(#REF!<>\"\",ROW(#REF!)),ROWS(K$1:K642)-1))","v":{"$error":"#REF!"}}]
[{"$error":"#REF!"},{"$error":"#REF!"},{"$error":"#REF!"},{"$f":"IF(J643=\"\",VLOOKUP(C643,OFFSET([0]!_xlnm.Print_Area,3,2),2,FALSE),VLOOKUP(A643,OFFSET([0]!_xlnm.Print_Area,3,0),4,FALSE))","v":{"$error":"#REF!"}},{"$f":"IF(J643=\"\",\"\",VLOOKUP(A643,OFFSET([0]!_xlnm.Print_Area,3,0),5,FALSE))","v":{"$error":"#REF!"}},{"$f":"IF(J643=\"\",\"\",VLOOKUP(A643,OFFSET([0]!_xlnm.Print_Area,3,0),6,FALSE))","v":{"$error":"#REF!"}},{"$f":"IF(J643=\"\",\"\",VLOOKUP(A643,OFFSET([0]!_xlnm.Print_Area,3,0,,7),7,FALSE))","v":{"$error":"#REF!"}}," ",{"$f":"INDEX(#REF!,SMALL(IF(#REF!<>\"\",ROW(#REF!)),ROWS(I$1:I643)-1))","v":{"$error":"#REF!"}},{"$f":"INDEX(#REF!,SMALL(IF(#REF!<>\"\",ROW(#REF!)),ROWS(J$1:J643)-1))","v":{"$error":"#REF!"}},{"$f":"INDEX(#REF!,SMALL(IF(#REF!<>\"\",ROW(#REF!)),ROWS(K$1:K643)-1))","v":{"$error":"#REF!"}}]
[{"$error":"#REF!"},{"$error":"#REF!"},{"$error":"#REF!"},{"$f":"IF(J644=\"\",VLOOKUP(C644,OFFSET([0]!_xlnm.Print_Area,3,2),2,FALSE),VLOOKUP(A644,OFFSET([0]!_xlnm.Print_Area,3,0),4,FALSE))","v":{"$error":"#REF!"}},{"$f":"IF(J644=\"\",\"\",VLOOKUP(A644,OFFSET([0]!_xlnm.Print_Area,3,0),5,FALSE))","v":{"$error":"#REF!"}},{"$f":"IF(J644=\"\",\"\",VLOOKUP(A644,OFFSET([0]!_xlnm.Print_Area,3,0),6,FALSE))","v":{"$error":"#REF!"}},{"$f":"IF(J644=\"\",\"\",VLOOKUP(A644,OFFSET([0]!_xlnm.Print_Area,3,0,,7),7,FALSE))","v":{"$error":"#REF!"}}," ",{"$f":"INDEX(#REF!,SMALL(IF(#REF!<>\"\",ROW(#REF!)),ROWS(I$1:I644)-1))","v":{"$error":"#REF!"}},{"$f":"INDEX(#REF!,SMALL(IF(#REF!<>\"\",ROW(#REF!)),ROWS(J$1:J644)-1))","v":{"$error":"#REF!"}},{"$f":"INDEX(#REF!,SMALL(IF(#REF!<>\"\",ROW(#REF!)),ROWS(K$1:K644)-1))","v":{"$error":"#REF!"}}]
[{"$f":"IF(J645=0,\"\",J645)","v":{"$error":"#REF!"}},{"$f":"IF(K645=0,\"\",K645)","v":{"$error":"#REF!"}},{"$f":"I645","v":{"$error":"#REF!"}},{"$f":"IF(J645=\"\",VLOOKUP(C645,OFFSET([0]!_xlnm.Print_Area,3,2),2,FALSE),VLOOKUP(A645,OFFSET([0]!_xlnm.Print_Area,3,0),4,FALSE))","v":{"$error":"#REF!"}},{"$f":"IF(J645=\"\",\"\",VLOOKUP(A645,OFFSET([0]!_xlnm.Print_Area,3,0),5,FALSE))","v":{"$error":"#REF!"}},{"$f":"IF(J645=\"\",\"\",VLOOKUP(A645,OFFSET([0]!_xlnm.Print_Area,3,0),6,FALSE))","v":{"$error":"#REF!"}},{"$f":"IF(J645=\"\",\"\",VLOOKUP(A645,OFFSET([0]!_xlnm.Print_Area,3,0,,7),7,FALSE))","v":{"$error":"#REF!"}},{"$f":"IFERROR(ROUND(F645*G645,2),\" \")","v":" "},{"$f":"INDEX(#REF!,SMALL(IF(#REF!<>\"\",ROW(#REF!)),ROWS(I$1:I645)-1))","v":{"$error":"#REF!"}},{"$f":"INDEX(#REF!,SMALL(IF(#REF!<>\"\",ROW(#REF!)),ROWS(J$1:J645)-1))","v":{"$error":"#REF!"}},{"$f":"INDEX(#REF!,SMALL(IF(#REF!<>\"\",ROW(#REF!)),ROWS(K$1:K645)-1))","v":{"$error":"#REF!"}}]
[{"$error":"#REF!"},{"$error":"#REF!"},{"$error":"#REF!"},{"$f":"IF(J646=\"\",VLOOKUP(C646,OFFSET([0]!_xlnm.Print_Area,3,2),2,FALSE),VLOOKUP(A646,OFFSET([0]!_xlnm.Print_Area,3,0),4,FALSE))","v":{"$error":"#REF!"}},{"$f":"IF(J646=\"\",\"\",VLOOKUP(A646,OFFSET([0]!_xlnm.Print_Area,3,0),5,FALSE))","v":{"$error":"#REF!"}},{"$f":"IF(J646=\"\",\"\",VLOOKUP(A646,OFFSET([0]!_xlnm.Print_Area,3,0),6,FALSE))","v":{"$error":"#REF!"}},{"$f":"IF(J646=\"\",\"\",VLOOKUP(A646,OFFSET([0]!_xlnm.Print_Area,3,0,,7),7,FALSE))","v":{"$error":"#REF!"}}," ",{"$f":"INDEX(#REF!,SMALL(IF(#REF!<>\"\",ROW(#REF!)),ROWS(I$1:I646)-1))","v":{"$error":"#REF!"}},{"$f":"INDEX(#REF!,SMALL(IF(#REF!<>\"\",ROW(#REF!)),ROWS(J$1:J646)-1))","v":{"$error":"#REF!"}},{"$f":"INDEX(#REF!,SMALL(IF(#REF!<>\"\",ROW(#REF!)),ROWS(K$1:K646)-1))","v":{"$error":"#REF!"}}]
[{"$error":"#REF!"},{"$error":"#REF!"},{"$error":"#REF!"},{"$f":"IF(J647=\"\",VLOOKUP(C647,OFFSET([0]!_xlnm.Print_Area,3,2),2,FALSE),VLOOKUP(A647,OFFSET([0]!_xlnm.Print_Area,3,0),4,FALSE))","v":{"$error":"#REF!"}},{"$f":"IF(J647=\"\",\"\",VLOOKUP(A647,OFFSET([0]!_xlnm.Print_Area,3,0),5,FALSE))","v":{"$error":"#REF!"}},{"$f":"IF(J647=\"\",\"\",VLOOKUP(A647,OFFSET([0]!_xlnm.Print_Area,3,0),6,FALSE))","v":{"$error":"#REF!"}},{"$f":"IF(J647=\"\",\"\",VLOOKUP(A647,OFFSET([0]!_xlnm.Print_Area,3,0,,7),7,FALSE))","v":{"$error":"#REF!"}}," ",{"$f":"INDEX(#REF!,SMALL(IF(#REF!<>\"\",ROW(#REF!)),ROWS(I$1:I647)-1))","v":{"$error":"#REF!"}},{"$f":"INDEX(#REF!,SMALL(IF(#REF!<>\"\",ROW(#REF!)),ROWS(J$1:J647)-1))","v":{"$error":"#REF!"}},{"$f":"INDEX(#REF!,SMALL(IF(#REF!<>\"\",ROW(#REF!)),ROWS(K$1:K647)-1))","v":{"$error":"#REF!"}}]
[{"$error":"#REF!"},{"$error":"#REF!"},{"$error":"#REF!"},{"$f":"IF(J648=\"\",VLOOKUP(C648,OFFSET([0]!_xlnm.Print_Area,3,2),2,FALSE),VLOOKUP(A648,OFFSET([0]!_xlnm.Print_Area,3,0),4,FALSE))","v":{"$error":"#REF!"}},{"$f":"IF(J648=\"\",\"\",VLOOKUP(A648,OFFSET([0]!_xlnm.Print_Area,3,0),5,FALSE))","v":{"$error":"#REF!"}},{"$f":"IF(J648=\"\",\"\",VLOOKUP(A648,OFFSET([0]!_xlnm.Print_Area,3,0),6,FALSE))","v":{"$error":"#REF!"}},{"$f":"IF(J648=\"\",\"\",VLOOKUP(A648,OFFSET([0]!_xlnm.Print_Area,3,0,,7),7,FALSE))","v":{"$error":"#REF!"}}," ",{"$f":"INDEX(#REF!,SMALL(IF(#REF!<>\"\",ROW(#REF!)),ROWS(I$1:I648)-1))","v":{"$error":"#REF!"}},{"$f":"INDEX(#REF!,SMALL(IF(#REF!<>\"\",ROW(#REF!)),ROWS(J$1:J648)-1))","v":{"$error":"#REF!"}},{"$f":"INDEX(#REF!,SMALL(IF(#REF!<>\"\",ROW(#REF!)),ROWS(K$1:K648)-1))","v":{"$error":"#REF!"}}]
[{"$error":"#REF!"},{"$error":"#REF!"},{"$error":"#REF!"},{"$f":"IF(J649=\"\",VLOOKUP(C649,OFFSET([0]!_xlnm.Print_Area,3,2),2,FALSE),VLOOKUP(A649,OFFSET([0]!_xlnm.Print_Area,3,0),4,FALSE))","v":{"$error":"#REF!"}},{"$f":"IF(J649=\"\",\"\",VLOOKUP(A649,OFFSET([0]!_xlnm.Print_Area,3,0),5,FALSE))","v":{"$error":"#REF!"}},{"$f":"IF(J649=\"\",\"\",VLOOKUP(A649,OFFSET([0]!_xlnm.Print_Area,3,0),6,FALSE))","v":{"$error":"#REF!"}},{"$f":"IF(J649=\"\",\"\",VLOOKUP(A649,OFFSET([0]!_xlnm.Print_Area,3,0,,7),7,FALSE))","v":{"$error":"#REF!"}}," ",{"$f":"INDEX(#REF!,SMALL(IF(#REF!<>\"\",ROW(#REF!)),ROWS(I$1:I649)-1))","v":{"$error":"#REF!"}},{"$f":"INDEX(#REF!,SMALL(IF(#REF!<>\"\",ROW(#REF!)),ROWS(J$1:J649)-1))","v":{"$error":"#REF!"}},{"$f":"INDEX(#REF!,SMALL(IF(#REF!<>\"\",ROW(#REF!)),ROWS(K$1:K649)-1))","v":{"$error":"#REF!"}}]
[{"$error":"#REF!"},{"$error":"#REF!"},{"$error":"#REF!"},{"$f":"IF(J650=\"\",VLOOKUP(C650,OFFSET([0]!_xlnm.Print_Area,3,2),2,FALSE),VLOOKUP(A650,OFFSET([0]!_xlnm.Print_Area,3,0),4,FALSE))","v":{"$error":"#REF!"}},{"$f":"IF(J650=\"\",\"\",VLOOKUP(A650,OFFSET([0]!_xlnm.Print_Area,3,0),5,FALSE))","v":{"$error":"#REF!"}},{"$f":"IF(J650=\"\",\"\",VLOOKUP(A650,OFFSET([0]!_xlnm.Print_Area,3,0),6,FALSE))","v":{"$error":"#REF!"}},{"$f":"IF(J650=\"\",\"\",VLOOKUP(A650,OFFSET([0]!_xlnm.Print_Area,3,0,,7),7,FALSE))","v":{"$error":"#REF!"}}," ",{"$f":"INDEX(#REF!,SMALL(IF(#REF!<>\"\",ROW(#REF!)),ROWS(I$1:I650)-1))","v":{"$error":"#REF!"}},{"$f":"INDEX(#REF!,SMALL(IF(#REF!<>\"\",ROW(#REF!)),ROWS(J$1:J650)-1))","v":{"$error":"#REF!"}},{"$f":"INDEX(#REF!,SMALL(IF(#REF!<>\"\",ROW(#REF!)),ROWS(K$1:K650)-1))","v":{"$error":"#REF!"}}]
[{"$error":"#REF!"},{"$error":"#REF!"},{"$error":"#REF!"},{"$f":"IF(J651=\"\",VLOOKUP(C651,OFFSET([0]!_xlnm.Print_Area,3,2),2,FALSE),VLOOKUP(A651,OFFSET([0]!_xlnm.Print_Area,3,0),4,FALSE))","v":{"$error":"#REF!"}},{"$f":"IF(J651=\"\",\"\",VLOOKUP(A651,OFFSET([0]!_xlnm.Print_Area,3,0),5,FALSE))","v":{"$error":"#REF!"}},{"$f":"IF(J651=\"\",\"\",VLOOKUP(A651,OFFSET([0]!_xlnm.Print_Area,3,0),6,FALSE))","v":{"$error":"#REF!"}},{"$f":"IF(J651=\"\",\"\",VLOOKUP(A651,OFFSET([0]!_xlnm.Print_Area,3,0,,7),7,FALSE))","v":{"$error":"#REF!"}}," ",{"$f":"INDEX(#REF!,SMALL(IF(#REF!<>\"\",ROW(#REF!)),ROWS(I$1:I651)-1))","v":{"$error":"#REF!"}},{"$f":"INDEX(#REF!,SMALL(IF(#REF!<>\"\",ROW(#REF!)),ROWS(J$1:J651)-1))","v":{"$error":"#REF!"}},{"$f":"INDEX(#REF!,SMALL(IF(#REF!<>\"\",ROW(#REF!)),ROWS(K$1:K651)-1))","v":{"$error":"#REF!"}}]
[{"$error":"#REF!"},{"$error":"#REF!"},{"$error":"#REF!"},{"$f":"IF(J652=\"\",VLOOKUP(C652,OFFSET([0]!_xlnm.Print_Area,3,2),2,FALSE),VLOOKUP(A652,OFFSET([0]!_xlnm.Print_Area,3,0),4,FALSE))","v":{"$error":"#REF!"}},{"$f":"IF(J652=\"\",\"\",VLOOKUP(A652,OFFSET([0]!_xlnm.Print_Area,3,0),5,FALSE))","v":{"$error":"#REF!"}},{"$f":"IF(J652=\"\",\"\",VLOOKUP(A652,OFFSET([0]!_xlnm.Print_Area,3,0),6,FALSE))","v":{"$error":"#REF!"}},{"$f":"IF(J652=\"\",\"\",VLOOKUP(A652,OFFSET([0]!_xlnm.Print_Area,3,0,,7),7,FALSE))","v":{"$error":"#REF!"}}," ",{"$f":"INDEX(#REF!,SMALL(IF(#REF!<>\"\",ROW(#REF!)),ROWS(I$1:I652)-1))","v":{"$error":"#REF!"}},{"$f":"INDEX(#REF!,SMALL(IF(#REF!<>\"\",ROW(#REF!)),ROWS(J$1:J652)-1))","v":{"$error":"#REF!"}},{"$f":"INDEX(#REF!,SMALL(IF(#REF!<>\"\",ROW(#REF!)),ROWS(K$1:K652)-1))","v":{"$error":"#REF!"}}]
[{"$error":"#REF!"},{"$error":"#REF!"},{"$error":"#REF!"},{"$f":"IF(J653=\"\",VLOOKUP(C653,OFFSET([0]!_xlnm.Print_Area,3,2),2,FALSE),VLOOKUP(A653,OFFSET([0]!_xlnm.Print_Area,3,0),4,FALSE))","v":{"$error":"#REF!"}},{"$f":"IF(J653=\"\",\"\",VLOOKUP(A653,OFFSET([0]!_xlnm.Print_Area,3,0),5,FALSE))","v":{"$error":"#REF!"}},{"$f":"IF(J653=\"\",\"\",VLOOKUP(A653,OFFSET([0]!_xlnm.Print_Area,3,0),6,FALSE))","v":{"$error":"#REF!"}},{"$f":"IF(J653=\"\",\"\",VLOOKUP(A653,OFFSET([0]!_xlnm.Print_Area,3,0,,7),7,FALSE))","v":{"$error":"#REF!"}}," ",{"$f":"INDEX(#REF!,SMALL(IF(#REF!<>\"\",ROW(#REF!)),ROWS(I$1:I653)-1))","v":{"$error":"#REF!"}},{"$f":"INDEX(#REF!,SMALL(IF(#REF!<>\"\",ROW(#REF!)),ROWS(J$1:J653)-1))","v":{"$error":"#REF!"}},{"$f":"INDEX(#REF!,SMALL(IF(#REF!<>\"\",ROW(#REF!)),ROWS(K$1:K653)-1))","v":{"$error":"#REF!"}}]
[{"$error":"#REF!"},{"$error":"#REF!"},{"$error":"#REF!"},{"$f":"IF(J654=\"\",VLOOKUP(C654,OFFSET([0]!_xlnm.Print_Area,3,2),2,FALSE),VLOOKUP(A654,OFFSET([0]!_xlnm.Print_Area,3,0),4,FALSE))","v":{"$error":"#REF!"}},{"$f":"IF(J654=\"\",\"\",VLOOKUP(A654,OFFSET([0]!_xlnm.Print_Area,3,0),5,FALSE))","v":{"$error":"#REF!"}},{"$f":"IF(J654=\"\",\"\",VLOOKUP(A654,OFFSET([0]!_xlnm.Print_Area,3,0),6,FALSE))","v":{"$error":"#REF!"}},{"$f":"IF(J654=\"\",\"\",VLOOKUP(A654,OFFSET([0]!_xlnm.Print_Area,3,0,,7),7,FALSE))","v":{"$error":"#REF!"}}," ",{"$f":"INDEX(#REF!,SMALL(IF(#REF!<>\"\",ROW(#REF!)),ROWS(I$1:I654)-1))","v":{"$error":"#REF!"}},{"$f":"INDEX(#REF!,SMALL(IF(#REF!<>\"\",ROW(#REF!)),ROWS(J$1:J654)-1))","v":{"$error":"#REF!"}},{"$f":"INDEX(#REF!,SMALL(IF(#REF!<>\"\",ROW(#REF!)),ROWS(K$1:K654)-1))","v":{"$error":"#REF!"}}]
[{"$error":"#REF!"},{"$error":"#REF!"},{"$error":"#REF!"},{"$f":"IF(J655=\"\",VLOOKUP(C655,OFFSET([0]!_xlnm.Print_Area,3,2),2,FALSE),VLOOKUP(A655,OFFSET([0]!_xlnm.Print_Area,3,0),4,FALSE))","v":{"$error":"#REF!"}},{"$f":"IF(J655=\"\",\"\",VLOOKUP(A655,OFFSET([0]!_xlnm.Print_Area,3,0),5,FALSE))","v":{"$error":"#REF!"}},{"$f":"IF(J655=\"\",\"\",VLOOKUP(A655,OFFSET([0]!_xlnm.Print_Area,3,0),6,FALSE))","v":{"$error":"#REF!"}},{"$f":"IF(J655=\"\",\"\",VLOOKUP(A655,OFFSET([0]!_xlnm.Print_Area,3,0,,7),7,FALSE))","v":{"$error":"#REF!"}}," ",{"$f":"INDEX(#REF!,SMALL(IF(#REF!<>\"\",ROW(#REF!)),ROWS(I$1:I655)-1))","v":{"$error":"#REF!"}},{"$f":"INDEX(#REF!,SMALL(IF(#REF!<>\"\",ROW(#REF!)),ROWS(J$1:J655)-1))","v":{"$error":"#REF!"}},{"$f":"INDEX(#REF!,SMALL(IF(#REF!<>\"\",ROW(#REF!)),ROWS(K$1:K655)-1))","v":{"$error":"#REF!"}}]
[{"$error":"#REF!"},{"$error":"#REF!"},{"$error":"#REF!"},{"$f":"IF(J656=\"\",VLOOKUP(C656,OFFSET([0]!_xlnm.Print_Area,3,2),2,FALSE),VLOOKUP(A656,OFFSET([0]!_xlnm.Print_Area,3,0),4,FALSE))","v":{"$error":"#REF!"}},{"$f":"IF(J656=\"\",\"\",VLOOKUP(A656,OFFSET([0]!_xlnm.Print_Area,3,0),5,FALSE))","v":{"$error":"#REF!"}},{"$f":"IF(J656=\"\",\"\",VLOOKUP(A656,OFFSET([0]!_xlnm.Print_Area,3,0),6,FALSE))","v":{"$error":"#REF!"}},{"$f":"IF(J656=\"\",\"\",VLOOKUP(A656,OFFSET([0]!_xlnm.Print_Area,3,0,,7),7,FALSE))","v":{"$error":"#REF!"}}," ",{"$f":"INDEX(#REF!,SMALL(IF(#REF!<>\"\",ROW(#REF!)),ROWS(I$1:I656)-1))","v":{"$error":"#REF!"}},{"$f":"INDEX(#REF!,SMALL(IF(#REF!<>\"\",ROW(#REF!)),ROWS(J$1:J656)-1))","v":{"$error":"#REF!"}},{"$f":"INDEX(#REF!,SMALL(IF(#REF!<>\"\",ROW(#REF!)),ROWS(K$1:K656)-1))","v":{"$error":"#REF!"}}]
[{"$error":"#REF!"},{"$error":"#REF!"},{"$error":"#REF!"},{"$f":"IF(J657=\"\",VLOOKUP(C657,OFFSET([0]!_xlnm.Print_Area,3,2),2,FALSE),VLOOKUP(A657,OFFSET([0]!_xlnm.Print_Area,3,0),4,FALSE))","v":{"$error":"#REF!"}},{"$f":"IF(J657=\"\",\"\",VLOOKUP(A657,OFFSET([0]!_xlnm.Print_Area,3,0),5,FALSE))","v":{"$error":"#REF!"}},{"$f":"IF(J657=\"\",\"\",VLOOKUP(A657,OFFSET([0]!_xlnm.Print_Area,3,0),6,FALSE))","v":{"$error":"#REF!"}},{"$f":"IF(J657=\"\",\"\",VLOOKUP(A657,OFFSET([0]!_xlnm.Print_Area,3,0,,7),7,FALSE))","v":{"$error":"#REF!"}}," ",{"$f":"INDEX(#REF!,SMALL(IF(#REF!<>\"\",ROW(#REF!)),ROWS(I$1:I657)-1))","v":{"$error":"#REF!"}},{"$f":"INDEX(#REF!,SMALL(IF(#REF!<>\"\",ROW(#REF!)),ROWS(J$1:J657)-1))","v":{"$error":"#REF!"}},{"$f":"INDEX(#REF!,SMALL(IF(#REF!<>\"\",ROW(#REF!)),ROWS(K$1:K657)-1))","v":{"$error":"#REF!"}}]
[{"$error":"#REF!"},{"$error":"#REF!"},{"$error":"#REF!"},{"$f":"IF(J658=\"\",VLOOKUP(C658,OFFSET([0]!_xlnm.Print_Area,3,2),2,FALSE),VLOOKUP(A658,OFFSET([0]!_xlnm.Print_Area,3,0),4,FALSE))","v":{"$error":"#REF!"}},{"$f":"IF(J658=\"\",\"\",VLOOKUP(A658,OFFSET([0]!_xlnm.Print_Area,3,0),5,FALSE))","v":{"$error":"#REF!"}},{"$f":"IF(J658=\"\",\"\",VLOOKUP(A658,OFFSET([0]!_xlnm.Print_Area,3,0),6,FALSE))","v":{"$error":"#REF!"}},{"$f":"IF(J658=\"\",\"\",VLOOKUP(A658,OFFSET([0]!_xlnm.Print_Area,3,0,,7),7,FALSE))","v":{"$error":"#REF!"}}," ",{"$f":"INDEX(#REF!,SMALL(IF(#REF!<>\"\",ROW(#REF!)),ROWS(I$1:I658)-1))","v":{"$error":"#REF!"}},{"$f":"INDEX(#REF!,SMALL(IF(#REF!<>\"\",ROW(#REF!)),ROWS(J$1:J658)-1))","v":{"$error":"#REF!"}},{"$f":"INDEX(#REF!,SMALL(IF(#REF!<>\"\",ROW(#REF!)),ROWS(K$1:K658)-1))","v":{"$error":"#REF!"}}]
[{"$error":"#REF!"},{"$error":"#REF!"},{"$error":"#REF!"},{"$f":"IF(J659=\"\",VLOOKUP(C659,OFFSET([0]!_xlnm.Print_Area,3,2),2,FALSE),VLOOKUP(A659,OFFSET([0]!_xlnm.Print_Area,3,0),4,FALSE))","v":{"$error":"#REF!"}},{"$f":"IF(J659=\"\",\"\",VLOOKUP(A659,OFFSET([0]!_xlnm.Print_Area,3,0),5,FALSE))","v":{"$error":"#REF!"}},{"$f":"IF(J659=\"\",\"\",VLOOKUP(A659,OFFSET([0]!_xlnm.Print_Area,3,0),6,FALSE))","v":{"$error":"#REF!"}},{"$f":"IF(J659=\"\",\"\",VLOOKUP(A659,OFFSET([0]!_xlnm.Print_Area,3,0,,7),7,FALSE))","v":{"$error":"#REF!"}}," ",{"$f":"INDEX(#REF!,SMALL(IF(#REF!<>\"\",ROW(#REF!)),ROWS(I$1:I659)-1))","v":{"$error":"#REF!"}},{"$f":"INDEX(#REF!,SMALL(IF(#REF!<>\"\",ROW(#REF!)),ROWS(J$1:J659)-1))","v":{"$error":"#REF!"}},{"$f":"INDEX(#REF!,SMALL(IF(#REF!<>\"\",ROW(#REF!)),ROWS(K$1:K659)-1))","v":{"$error":"#REF!"}}]
[{"$error":"#REF!"},{"$error":"#REF!"},{"$error":"#REF!"},{"$f":"IF(J660=\"\",VLOOKUP(C660,OFFSET([0]!_xlnm.Print_Area,3,2),2,FALSE),VLOOKUP(A660,OFFSET([0]!_xlnm.Print_Area,3,0),4,FALSE))","v":{"$error":"#REF!"}},{"$f":"IF(J660=\"\",\"\",VLOOKUP(A660,OFFSET([0]!_xlnm.Print_Area,3,0),5,FALSE))","v":{"$error":"#REF!"}},{"$f":"IF(J660=\"\",\"\",VLOOKUP(A660,OFFSET([0]!_xlnm.Print_Area,3,0),6,FALSE))","v":{"$error":"#REF!"}},{"$f":"IF(J660=\"\",\"\",VLOOKUP(A660,OFFSET([0]!_xlnm.Print_Area,3,0,,7),7,FALSE))","v":{"$error":"#REF!"}}," ",{"$f":"INDEX(#REF!,SMALL(IF(#REF!<>\"\",ROW(#REF!)),ROWS(I$1:I660)-1))","v":{"$error":"#REF!"}},{"$f":"INDEX(#REF!,SMALL(IF(#REF!<>\"\",ROW(#REF!)),ROWS(J$1:J660)-1))","v":{"$error":"#REF!"}},{"$f":"INDEX(#REF!,SMALL(IF(#REF!<>\"\",ROW(#REF!)),ROWS(K$1:K660)-1))","v":{"$error":"#REF!"}}]
[{"$error":"#REF!"},{"$error":"#REF!"},{"$error":"#REF!"},{"$f":"IF(J661=\"\",VLOOKUP(C661,OFFSET([0]!_xlnm.Print_Area,3,2),2,FALSE),VLOOKUP(A661,OFFSET([0]!_xlnm.Print_Area,3,0),4,FALSE))","v":{"$error":"#REF!"}},{"$f":"IF(J661=\"\",\"\",VLOOKUP(A661,OFFSET([0]!_xlnm.Print_Area,3,0),5,FALSE))","v":{"$error":"#REF!"}},{"$f":"IF(J661=\"\",\"\",VLOOKUP(A661,OFFSET([0]!_xlnm.Print_Area,3,0),6,FALSE))","v":{"$error":"#REF!"}},{"$f":"IF(J661=\"\",\"\",VLOOKUP(A661,OFFSET([0]!_xlnm.Print_Area,3,0,,7),7,FALSE))","v":{"$error":"#REF!"}}," ",{"$f":"INDEX(#REF!,SMALL(IF(#REF!<>\"\",ROW(#REF!)),ROWS(I$1:I661)-1))","v":{"$error":"#REF!"}},{"$f":"INDEX(#REF!,SMALL(IF(#REF!<>\"\",ROW(#REF!)),ROWS(J$1:J661)-1))","v":{"$error":"#REF!"}},{"$f":"INDEX(#REF!,SMALL(IF(#REF!<>\"\",ROW(#REF!)),ROWS(K$1:K661)-1))","v":{"$error":"#REF!"}}]
[{"$error":"#REF!"},{"$error":"#REF!"},{"$error":"#REF!"},{"$f":"IF(J662=\"\",VLOOKUP(C662,OFFSET([0]!_xlnm.Print_Area,3,2),2,FALSE),VLOOKUP(A662,OFFSET([0]!_xlnm.Print_Area,3,0),4,FALSE))","v":{"$error":"#REF!"}},{"$f":"IF(J662=\"\",\"\",VLOOKUP(A662,OFFSET([0]!_xlnm.Print_Area,3,0),5,FALSE))","v":{"$error":"#REF!"}},{"$f":"IF(J662=\"\",\"\",VLOOKUP(A662,OFFSET([0]!_xlnm.Print_Area,3,0),6,FALSE))","v":{"$error":"#REF!"}},{"$f":"IF(J662=\"\",\"\",VLOOKUP(A662,OFFSET([0]!_xlnm.Print_Area,3,0,,7),7,FALSE))","v":{"$error":"#REF!"}}," ",{"$f":"INDEX(#REF!,SMALL(IF(#REF!<>\"\",ROW(#REF!)),ROWS(I$1:I662)-1))","v":{"$error":"#REF!"}},{"$f":"INDEX(#REF!,SMALL(IF(#REF!<>\"\",ROW(#REF!)),ROWS(J$1:J662)-1))","v":{"$error":"#REF!"}},{"$f":"INDEX(#REF!,SMALL(IF(#REF!<>\"\",ROW(#REF!)),ROWS(K$1:K662)-1))","v":{"$error":"#REF!"}}]
[{"$error":"#REF!"},{"$error":"#REF!"},{"$error":"#REF!"},{"$f":"IF(J663=\"\",VLOOKUP(C663,OFFSET([0]!_xlnm.Print_Area,3,2),2,FALSE),VLOOKUP(A663,OFFSET([0]!_xlnm.Print_Area,3,0),4,FALSE))","v":{"$error":"#REF!"}},{"$f":"IF(J663=\"\",\"\",VLOOKUP(A663,OFFSET([0]!_xlnm.Print_Area,3,0),5,FALSE))","v":{"$error":"#REF!"}},{"$f":"IF(J663=\"\",\"\",VLOOKUP(A663,OFFSET([0]!_xlnm.Print_Area,3,0),6,FALSE))","v":{"$error":"#REF!"}},{"$f":"IF(J663=\"\",\"\",VLOOKUP(A663,OFFSET([0]!_xlnm.Print_Area,3,0,,7),7,FALSE))","v":{"$error":"#REF!"}}," ",{"$f":"INDEX(#REF!,SMALL(IF(#REF!<>\"\",ROW(#REF!)),ROWS(I$1:I663)-1))","v":{"$error":"#REF!"}},{"$f":"INDEX(#REF!,SMALL(IF(#REF!<>\"\",ROW(#REF!)),ROWS(J$1:J663)-1))","v":{"$error":"#REF!"}},{"$f":"INDEX(#REF!,SMALL(IF(#REF!<>\"\",ROW(#REF!)),ROWS(K$1:K663)-1))","v":{"$error":"#REF!"}}]
[{"$error":"#REF!"},{"$error":"#REF!"},{"$error":"#REF!"},{"$f":"IF(J664=\"\",VLOOKUP(C664,OFFSET([0]!_xlnm.Print_Area,3,2),2,FALSE),VLOOKUP(A664,OFFSET([0]!_xlnm.Print_Area,3,0),4,FALSE))","v":{"$error":"#REF!"}},{"$f":"IF(J664=\"\",\"\",VLOOKUP(A664,OFFSET([0]!_xlnm.Print_Area,3,0),5,FALSE))","v":{"$error":"#REF!"}},{"$f":"IF(J664=\"\",\"\",VLOOKUP(A664,OFFSET([0]!_xlnm.Print_Area,3,0),6,FALSE))","v":{"$error":"#REF!"}},{"$f":"IF(J664=\"\",\"\",VLOOKUP(A664,OFFSET([0]!_xlnm.Print_Area,3,0,,7),7,FALSE))","v":{"$error":"#REF!"}}," ",{"$f":"INDEX(#REF!,SMALL(IF(#REF!<>\"\",ROW(#REF!)),ROWS(I$1:I664)-1))","v":{"$error":"#REF!"}},{"$f":"INDEX(#REF!,SMALL(IF(#REF!<>\"\",ROW(#REF!)),ROWS(J$1:J664)-1))","v":{"$error":"#REF!"}},{"$f":"INDEX(#REF!,SMALL(IF(#REF!<>\"\",ROW(#REF!)),ROWS(K$1:K664)-1))","v":{"$error":"#REF!"}}]
[{"$error":"#REF!"},{"$error":"#REF!"},{"$error":"#REF!"},{"$f":"IF(J665=\"\",VLOOKUP(C665,OFFSET([0]!_xlnm.Print_Area,3,2),2,FALSE),VLOOKUP(A665,OFFSET([0]!_xlnm.Print_Area,3,0),4,FALSE))","v":{"$error":"#REF!"}},{"$f":"IF(J665=\"\",\"\",VLOOKUP(A665,OFFSET([0]!_xlnm.Print_Area,3,0),5,FALSE))","v":{"$error":"#REF!"}},{"$f":"IF(J665=\"\",\"\",VLOOKUP(A665,OFFSET([0]!_xlnm.Print_Area,3,0),6,FALSE))","v":{"$error":"#REF!"}},{"$f":"IF(J665=\"\",\"\",VLOOKUP(A665,OFFSET([0]!_xlnm.Print_Area,3,0,,7),7,FALSE))","v":{"$error":"#REF!"}}," ",{"$f":"INDEX(#REF!,SMALL(IF(#REF!<>\"\",ROW(#REF!)),ROWS(I$1:I665)-1))","v":{"$error":"#REF!"}},{"$f":"INDEX(#REF!,SMALL(IF(#REF!<>\"\",ROW(#REF!)),ROWS(J$1:J665)-1))","v":{"$error":"#REF!"}},{"$f":"INDEX(#REF!,SMALL(IF(#REF!<>\"\",ROW(#REF!)),ROWS(K$1:K665)-1))","v":{"$error":"#REF!"}}]
[{"$error":"#REF!"},{"$error":"#REF!"},{"$error":"#REF!"},{"$f":"IF(J666=\"\",VLOOKUP(C666,OFFSET([0]!_xlnm.Print_Area,3,2),2,FALSE),VLOOKUP(A666,OFFSET([0]!_xlnm.Print_Area,3,0),4,FALSE))","v":{"$error":"#REF!"}},{"$f":"IF(J666=\"\",\"\",VLOOKUP(A666,OFFSET([0]!_xlnm.Print_Area,3,0),5,FALSE))","v":{"$error":"#REF!"}},{"$f":"IF(J666=\"\",\"\",VLOOKUP(A666,OFFSET([0]!_xlnm.Print_Area,3,0),6,FALSE))","v":{"$error":"#REF!"}},{"$f":"IF(J666=\"\",\"\",VLOOKUP(A666,OFFSET([0]!_xlnm.Print_Area,3,0,,7),7,FALSE))","v":{"$error":"#REF!"}}," ",{"$f":"INDEX(#REF!,SMALL(IF(#REF!<>\"\",ROW(#REF!)),ROWS(I$1:I666)-1))","v":{"$error":"#REF!"}},{"$f":"INDEX(#REF!,SMALL(IF(#REF!<>\"\",ROW(#REF!)),ROWS(J$1:J666)-1))","v":{"$error":"#REF!"}},{"$f":"INDEX(#REF!,SMALL(IF(#REF!<>\"\",ROW(#REF!)),ROWS(K$1:K666)-1))","v":{"$error":"#REF!"}}]
[{"$error":"#REF!"},{"$error":"#REF!"},{"$error":"#REF!"},{"$f":"IF(J667=\"\",VLOOKUP(C667,OFFSET([0]!_xlnm.Print_Area,3,2),2,FALSE),VLOOKUP(A667,OFFSET([0]!_xlnm.Print_Area,3,0),4,FALSE))","v":{"$error":"#REF!"}},{"$f":"IF(J667=\"\",\"\",VLOOKUP(A667,OFFSET([0]!_xlnm.Print_Area,3,0),5,FALSE))","v":{"$error":"#REF!"}},{"$f":"IF(J667=\"\",\"\",VLOOKUP(A667,OFFSET([0]!_xlnm.Print_Area,3,0),6,FALSE))","v":{"$error":"#REF!"}},{"$f":"IF(J667=\"\",\"\",VLOOKUP(A667,OFFSET([0]!_xlnm.Print_Area,3,0,,7),7,FALSE))","v":{"$error":"#REF!"}}," ",{"$f":"INDEX(#REF!,SMALL(IF(#REF!<>\"\",ROW(#REF!)),ROWS(I$1:I667)-1))","v":{"$error":"#REF!"}},{"$f":"INDEX(#REF!,SMALL(IF(#REF!<>\"\",ROW(#REF!)),ROWS(J$1:J667)-1))","v":{"$error":"#REF!"}},{"$f":"INDEX(#REF!,SMALL(IF(#REF!<>\"\",ROW(#REF!)),ROWS(K$1:K667)-1))","v":{"$error":"#REF!"}}]
[{"$error":"#REF!"},{"$error":"#REF!"},{"$error":"#REF!"},{"$f":"IF(J668=\"\",VLOOKUP(C668,OFFSET([0]!_xlnm.Print_Area,3,2),2,FALSE),VLOOKUP(A668,OFFSET([0]!_xlnm.Print_Area,3,0),4,FALSE))","v":{"$error":"#REF!"}},{"$f":"IF(J668=\"\",\"\",VLOOKUP(A668,OFFSET([0]!_xlnm.Print_Area,3,0),5,FALSE))","v":{"$error":"#REF!"}},{"$f":"IF(J668=\"\",\"\",VLOOKUP(A668,OFFSET([0]!_xlnm.Print_Area,3,0),6,FALSE))","v":{"$error":"#REF!"}},{"$f":"IF(J668=\"\",\"\",VLOOKUP(A668,OFFSET([0]!_xlnm.Print_Area,3,0,,7),7,FALSE))","v":{"$error":"#REF!"}}," ",{"$f":"INDEX(#REF!,SMALL(IF(#REF!<>\"\",ROW(#REF!)),ROWS(I$1:I668)-1))","v":{"$error":"#REF!"}},{"$f":"INDEX(#REF!,SMALL(IF(#REF!<>\"\",ROW(#REF!)),ROWS(J$1:J668)-1))","v":{"$error":"#REF!"}},{"$f":"INDEX(#REF!,SMALL(IF(#REF!<>\"\",ROW(#REF!)),ROWS(K$1:K668)-1))","v":{"$error":"#REF!"}}]
[{"$error":"#REF!"},{"$error":"#REF!"},{"$error":"#REF!"},{"$f":"IF(J669=\"\",VLOOKUP(C669,OFFSET([0]!_xlnm.Print_Area,3,2),2,FALSE),VLOOKUP(A669,OFFSET([0]!_xlnm.Print_Area,3,0),4,FALSE))","v":{"$error":"#REF!"}},{"$f":"IF(J669=\"\",\"\",VLOOKUP(A669,OFFSET([0]!_xlnm.Print_Area,3,0),5,FALSE))","v":{"$error":"#REF!"}},{"$f":"IF(J669=\"\",\"\",VLOOKUP(A669,OFFSET([0]!_xlnm.Print_Area,3,0),6,FALSE))","v":{"$error":"#REF!"}},{"$f":"IF(J669=\"\",\"\",VLOOKUP(A669,OFFSET([0]!_xlnm.Print_Area,3,0,,7),7,FALSE))","v":{"$error":"#REF!"}}," ",{"$f":"INDEX(#REF!,SMALL(IF(#REF!<>\"\",ROW(#REF!)),ROWS(I$1:I669)-1))","v":{"$error":"#REF!"}},{"$f":"INDEX(#REF!,SMALL(IF(#REF!<>\"\",ROW(#REF!)),ROWS(J$1:J669)-1))","v":{"$error":"#REF!"}},{"$f":"INDEX(#REF!,SMALL(IF(#REF!<>\"\",ROW(#REF!)),ROWS(K$1:K669)-1))","v":{"$error":"#REF!"}}]
[{"$error":"#REF!"},{"$error":"#REF!"},{"$error":"#REF!"},{"$f":"IF(J670=\"\",VLOOKUP(C670,OFFSET([0]!_xlnm.Print_Area,3,2),2,FALSE),VLOOKUP(A670,OFFSET([0]!_xlnm.Print_Area,3,0),4,FALSE))","v":{"$error":"#REF!"}},{"$f":"IF(J670=\"\",\"\",VLOOKUP(A670,OFFSET([0]!_xlnm.Print_Area,3,0),5,FALSE))","v":{"$error":"#REF!"}},{"$f":"IF(J670=\"\",\"\",VLOOKUP(A670,OFFSET([0]!_xlnm.Print_Area,3,0),6,FALSE))","v":{"$error":"#REF!"}},{"$f":"IF(J670=\"\",\"\",VLOOKUP(A670,OFFSET([0]!_xlnm.Print_Area,3,0,,7),7,FALSE))","v":{"$error":"#REF!"}}," ",{"$f":"INDEX(#REF!,SMALL(IF(#REF!<>\"\",ROW(#REF!)),ROWS(I$1:I670)-1))","v":{"$error":"#REF!"}},{"$f":"INDEX(#REF!,SMALL(IF(#REF!<>\"\",ROW(#REF!)),ROWS(J$1:J670)-1))","v":{"$error":"#REF!"}},{"$f":"INDEX(#REF!,SMALL(IF(#REF!<>\"\",ROW(#REF!)),ROWS(K$1:K670)-1))","v":{"$error":"#REF!"}}]
[{"$error":"#REF!"},{"$error":"#REF!"},{"$error":"#REF!"},{"$f":"IF(J671=\"\",VLOOKUP(C671,OFFSET([0]!_xlnm.Print_Area,3,2),2,FALSE),VLOOKUP(A671,OFFSET([0]!_xlnm.Print_Area,3,0),4,FALSE))","v":{"$error":"#REF!"}},{"$f":"IF(J671=\"\",\"\",VLOOKUP(A671,OFFSET([0]!_xlnm.Print_Area,3,0),5,FALSE))","v":{"$error":"#REF!"}},{"$f":"IF(J671=\"\",\"\",VLOOKUP(A671,OFFSET([0]!_xlnm.Print_Area,3,0),6,FALSE))","v":{"$error":"#REF!"}},{"$f":"IF(J671=\"\",\"\",VLOOKUP(A671,OFFSET([0]!_xlnm.Print_Area,3,0,,7),7,FALSE))","v":{"$error":"#REF!"}}," ",{"$f":"INDEX(#REF!,SMALL(IF(#REF!<>\"\",ROW(#REF!)),ROWS(I$1:I671)-1))","v":{"$error":"#REF!"}},{"$f":"INDEX(#REF!,SMALL(IF(#REF!<>\"\",ROW(#REF!)),ROWS(J$1:J671)-1))","v":{"$error":"#REF!"}},{"$f":"INDEX(#REF!,SMALL(IF(#REF!<>\"\",ROW(#REF!)),ROWS(K$1:K671)-1))","v":{"$error":"#REF!"}}]
[{"$error":"#REF!"},{"$error":"#REF!"},{"$error":"#REF!"},{"$f":"IF(J672=\"\",VLOOKUP(C672,OFFSET([0]!_xlnm.Print_Area,3,2),2,FALSE),VLOOKUP(A672,OFFSET([0]!_xlnm.Print_Area,3,0),4,FALSE))","v":{"$error":"#REF!"}},{"$f":"IF(J672=\"\",\"\",VLOOKUP(A672,OFFSET([0]!_xlnm.Print_Area,3,0),5,FALSE))","v":{"$error":"#REF!"}},{"$f":"IF(J672=\"\",\"\",VLOOKUP(A672,OFFSET([0]!_xlnm.Print_Area,3,0),6,FALSE))","v":{"$error":"#REF!"}},{"$f":"IF(J672=\"\",\"\",VLOOKUP(A672,OFFSET([0]!_xlnm.Print_Area,3,0,,7),7,FALSE))","v":{"$error":"#REF!"}}," ",{"$f":"INDEX(#REF!,SMALL(IF(#REF!<>\"\",ROW(#REF!)),ROWS(I$1:I672)-1))","v":{"$error":"#REF!"}},{"$f":"INDEX(#REF!,SMALL(IF(#REF!<>\"\",ROW(#REF!)),ROWS(J$1:J672)-1))","v":{"$error":"#REF!"}},{"$f":"INDEX(#REF!,SMALL(IF(#REF!<>\"\",ROW(#REF!)),ROWS(K$1:K672)-1))","v":{"$error":"#REF!"}}]
[{"$error":"#REF!"},{"$error":"#REF!"},{"$error":"#REF!"},{"$f":"IF(J673=\"\",VLOOKUP(C673,OFFSET([0]!_xlnm.Print_Area,3,2),2,FALSE),VLOOKUP(A673,OFFSET([0]!_xlnm.Print_Area,3,0),4,FALSE))","v":{"$error":"#REF!"}},{"$f":"IF(J673=\"\",\"\",VLOOKUP(A673,OFFSET([0]!_xlnm.Print_Area,3,0),5,FALSE))","v":{"$error":"#REF!"}},{"$f":"IF(J673=\"\",\"\",VLOOKUP(A673,OFFSET([0]!_xlnm.Print_Area,3,0),6,FALSE))","v":{"$error":"#REF!"}},{"$f":"IF(J673=\"\",\"\",VLOOKUP(A673,OFFSET([0]!_xlnm.Print_Area,3,0,,7),7,FALSE))","v":{"$error":"#REF!"}}," ",{"$f":"INDEX(#REF!,SMALL(IF(#REF!<>\"\",ROW(#REF!)),ROWS(I$1:I673)-1))","v":{"$error":"#REF!"}},{"$f":"INDEX(#REF!,SMALL(IF(#REF!<>\"\",ROW(#REF!)),ROWS(J$1:J673)-1))","v":{"$error":"#REF!"}},{"$f":"INDEX(#REF!,SMALL(IF(#REF!<>\"\",ROW(#REF!)),ROWS(K$1:K673)-1))","v":{"$error":"#REF!"}}]
[{"$error":"#REF!"},{"$error":"#REF!"},{"$error":"#REF!"},{"$f":"IF(J674=\"\",VLOOKUP(C674,OFFSET([0]!_xlnm.Print_Area,3,2),2,FALSE),VLOOKUP(A674,OFFSET([0]!_xlnm.Print_Area,3,0),4,FALSE))","v":{"$error":"#REF!"}},{"$f":"IF(J674=\"\",\"\",VLOOKUP(A674,OFFSET([0]!_xlnm.Print_Area,3,0),5,FALSE))","v":{"$error":"#REF!"}},{"$f":"IF(J674=\"\",\"\",VLOOKUP(A674,OFFSET([0]!_xlnm.Print_Area,3,0),6,FALSE))","v":{"$error":"#REF!"}},{"$f":"IF(J674=\"\",\"\",VLOOKUP(A674,OFFSET([0]!_xlnm.Print_Area,3,0,,7),7,FALSE))","v":{"$error":"#REF!"}}," ",{"$f":"INDEX(#REF!,SMALL(IF(#REF!<>\"\",ROW(#REF!)),ROWS(I$1:I674)-1))","v":{"$error":"#REF!"}},{"$f":"INDEX(#REF!,SMALL(IF(#REF!<>\"\",ROW(#REF!)),ROWS(J$1:J674)-1))","v":{"$error":"#REF!"}},{"$f":"INDEX(#REF!,SMALL(IF(#REF!<>\"\",ROW(#REF!)),ROWS(K$1:K674)-1))","v":{"$error":"#REF!"}}]
[{"$error":"#REF!"},{"$error":"#REF!"},{"$error":"#REF!"},{"$f":"IF(J675=\"\",VLOOKUP(C675,OFFSET([0]!_xlnm.Print_Area,3,2),2,FALSE),VLOOKUP(A675,OFFSET([0]!_xlnm.Print_Area,3,0),4,FALSE))","v":{"$error":"#REF!"}},{"$f":"IF(J675=\"\",\"\",VLOOKUP(A675,OFFSET([0]!_xlnm.Print_Area,3,0),5,FALSE))","v":{"$error":"#REF!"}},{"$f":"IF(J675=\"\",\"\",VLOOKUP(A675,OFFSET([0]!_xlnm.Print_Area,3,0),6,FALSE))","v":{"$error":"#REF!"}},{"$f":"IF(J675=\"\",\"\",VLOOKUP(A675,OFFSET([0]!_xlnm.Print_Area,3,0,,7),7,FALSE))","v":{"$error":"#REF!"}}," ",{"$f":"INDEX(#REF!,SMALL(IF(#REF!<>\"\",ROW(#REF!)),ROWS(I$1:I675)-1))","v":{"$error":"#REF!"}},{"$f":"INDEX(#REF!,SMALL(IF(#REF!<>\"\",ROW(#REF!)),ROWS(J$1:J675)-1))","v":{"$error":"#REF!"}},{"$f":"INDEX(#REF!,SMALL(IF(#REF!<>\"\",ROW(#REF!)),ROWS(K$1:K675)-1))","v":{"$error":"#REF!"}}]
[{"$error":"#REF!"},{"$error":"#REF!"},{"$error":"#REF!"},{"$f":"IF(J676=\"\",VLOOKUP(C676,OFFSET([0]!_xlnm.Print_Area,3,2),2,FALSE),VLOOKUP(A676,OFFSET([0]!_xlnm.Print_Area,3,0),4,FALSE))","v":{"$error":"#REF!"}},{"$f":"IF(J676=\"\",\"\",VLOOKUP(A676,OFFSET([0]!_xlnm.Print_Area,3,0),5,FALSE))","v":{"$error":"#REF!"}},{"$f":"IF(J676=\"\",\"\",VLOOKUP(A676,OFFSET([0]!_xlnm.Print_Area,3,0),6,FALSE))","v":{"$error":"#REF!"}},{"$f":"IF(J676=\"\",\"\",VLOOKUP(A676,OFFSET([0]!_xlnm.Print_Area,3,0,,7),7,FALSE))","v":{"$error":"#REF!"}}," ",{"$f":"INDEX(#REF!,SMALL(IF(#REF!<>\"\",ROW(#REF!)),ROWS(I$1:I676)-1))","v":{"$error":"#REF!"}},{"$f":"INDEX(#REF!,SMALL(IF(#REF!<>\"\",ROW(#REF!)),ROWS(J$1:J676)-1))","v":{"$error":"#REF!"}},{"$f":"INDEX(#REF!,SMALL(IF(#REF!<>\"\",ROW(#REF!)),ROWS(K$1:K676)-1))","v":{"$error":"#REF!"}}]
[{"$error":"#REF!"},{"$error":"#REF!"},{"$error":"#REF!"},{"$f":"IF(J677=\"\",VLOOKUP(C677,OFFSET([0]!_xlnm.Print_Area,3,2),2,FALSE),VLOOKUP(A677,OFFSET([0]!_xlnm.Print_Area,3,0),4,FALSE))","v":{"$error":"#REF!"}},{"$f":"IF(J677=\"\",\"\",VLOOKUP(A677,OFFSET([0]!_xlnm.Print_Area,3,0),5,FALSE))","v":{"$error":"#REF!"}},{"$f":"IF(J677=\"\",\"\",VLOOKUP(A677,OFFSET([0]!_xlnm.Print_Area,3,0),6,FALSE))","v":{"$error":"#REF!"}},{"$f":"IF(J677=\"\",\"\",VLOOKUP(A677,OFFSET([0]!_xlnm.Print_Area,3,0,,7),7,FALSE))","v":{"$error":"#REF!"}}," ",{"$f":"INDEX(#REF!,SMALL(IF(#REF!<>\"\",ROW(#REF!)),ROWS(I$1:I677)-1))","v":{"$error":"#REF!"}},{"$f":"INDEX(#REF!,SMALL(IF(#REF!<>\"\",ROW(#REF!)),ROWS(J$1:J677)-1))","v":{"$error":"#REF!"}},{"$f":"INDEX(#REF!,SMALL(IF(#REF!<>\"\",ROW(#REF!)),ROWS(K$1:K677)-1))","v":{"$error":"#REF!"}}]
[{"$error":"#REF!"},{"$error":"#REF!"},{"$error":"#REF!"},{"$f":"IF(J678=\"\",VLOOKUP(C678,OFFSET([0]!_xlnm.Print_Area,3,2),2,FALSE),VLOOKUP(A678,OFFSET([0]!_xlnm.Print_Area,3,0),4,FALSE))","v":{"$error":"#REF!"}},{"$f":"IF(J678=\"\",\"\",VLOOKUP(A678,OFFSET([0]!_xlnm.Print_Area,3,0),5,FALSE))","v":{"$error":"#REF!"}},{"$f":"IF(J678=\"\",\"\",VLOOKUP(A678,OFFSET([0]!_xlnm.Print_Area,3,0),6,FALSE))","v":{"$error":"#REF!"}},{"$f":"IF(J678=\"\",\"\",VLOOKUP(A678,OFFSET([0]!_xlnm.Print_Area,3,0,,7),7,FALSE))","v":{"$error":"#REF!"}}," ",{"$f":"INDEX(#REF!,SMALL(IF(#REF!<>\"\",ROW(#REF!)),ROWS(I$1:I678)-1))","v":{"$error":"#REF!"}},{"$f":"INDEX(#REF!,SMALL(IF(#REF!<>\"\",ROW(#REF!)),ROWS(J$1:J678)-1))","v":{"$error":"#REF!"}},{"$f":"INDEX(#REF!,SMALL(IF(#REF!<>\"\",ROW(#REF!)),ROWS(K$1:K678)-1))","v":{"$error":"#REF!"}}]
[{"$error":"#REF!"},{"$error":"#REF!"},{"$error":"#REF!"},{"$f":"IF(J679=\"\",VLOOKUP(C679,OFFSET([0]!_xlnm.Print_Area,3,2),2,FALSE),VLOOKUP(A679,OFFSET([0]!_xlnm.Print_Area,3,0),4,FALSE))","v":{"$error":"#REF!"}},{"$f":"IF(J679=\"\",\"\",VLOOKUP(A679,OFFSET([0]!_xlnm.Print_Area,3,0),5,FALSE))","v":{"$error":"#REF!"}},{"$f":"IF(J679=\"\",\"\",VLOOKUP(A679,OFFSET([0]!_xlnm.Print_Area,3,0),6,FALSE))","v":{"$error":"#REF!"}},{"$f":"IF(J679=\"\",\"\",VLOOKUP(A679,OFFSET([0]!_xlnm.Print_Area,3,0,,7),7,FALSE))","v":{"$error":"#REF!"}}," ",{"$f":"INDEX(#REF!,SMALL(IF(#REF!<>\"\",ROW(#REF!)),ROWS(I$1:I679)-1))","v":{"$error":"#REF!"}},{"$f":"INDEX(#REF!,SMALL(IF(#REF!<>\"\",ROW(#REF!)),ROWS(J$1:J679)-1))","v":{"$error":"#REF!"}},{"$f":"INDEX(#REF!,SMALL(IF(#REF!<>\"\",ROW(#REF!)),ROWS(K$1:K679)-1))","v":{"$error":"#REF!"}}]
[{"$error":"#REF!"},{"$error":"#REF!"},{"$error":"#REF!"},{"$f":"IF(J680=\"\",VLOOKUP(C680,OFFSET([0]!_xlnm.Print_Area,3,2),2,FALSE),VLOOKUP(A680,OFFSET([0]!_xlnm.Print_Area,3,0),4,FALSE))","v":{"$error":"#REF!"}},{"$f":"IF(J680=\"\",\"\",VLOOKUP(A680,OFFSET([0]!_xlnm.Print_Area,3,0),5,FALSE))","v":{"$error":"#REF!"}},{"$f":"IF(J680=\"\",\"\",VLOOKUP(A680,OFFSET([0]!_xlnm.Print_Area,3,0),6,FALSE))","v":{"$error":"#REF!"}},{"$f":"IF(J680=\"\",\"\",VLOOKUP(A680,OFFSET([0]!_xlnm.Print_Area,3,0,,7),7,FALSE))","v":{"$error":"#REF!"}}," ",{"$f":"INDEX(#REF!,SMALL(IF(#REF!<>\"\",ROW(#REF!)),ROWS(I$1:I680)-1))","v":{"$error":"#REF!"}},{"$f":"INDEX(#REF!,SMALL(IF(#REF!<>\"\",ROW(#REF!)),ROWS(J$1:J680)-1))","v":{"$error":"#REF!"}},{"$f":"INDEX(#REF!,SMALL(IF(#REF!<>\"\",ROW(#REF!)),ROWS(K$1:K680)-1))","v":{"$error":"#REF!"}}]
[{"$error":"#REF!"},{"$error":"#REF!"},{"$error":"#REF!"},{"$f":"IF(J681=\"\",VLOOKUP(C681,OFFSET([0]!_xlnm.Print_Area,3,2),2,FALSE),VLOOKUP(A681,OFFSET([0]!_xlnm.Print_Area,3,0),4,FALSE))","v":{"$error":"#REF!"}},{"$f":"IF(J681=\"\",\"\",VLOOKUP(A681,OFFSET([0]!_xlnm.Print_Area,3,0),5,FALSE))","v":{"$error":"#REF!"}},{"$f":"IF(J681=\"\",\"\",VLOOKUP(A681,OFFSET([0]!_xlnm.Print_Area,3,0),6,FALSE))","v":{"$error":"#REF!"}},{"$f":"IF(J681=\"\",\"\",VLOOKUP(A681,OFFSET([0]!_xlnm.Print_Area,3,0,,7),7,FALSE))","v":{"$error":"#REF!"}}," ",{"$f":"INDEX(#REF!,SMALL(IF(#REF!<>\"\",ROW(#REF!)),ROWS(I$1:I681)-1))","v":{"$error":"#REF!"}},{"$f":"INDEX(#REF!,SMALL(IF(#REF!<>\"\",ROW(#REF!)),ROWS(J$1:J681)-1))","v":{"$error":"#REF!"}},{"$f":"INDEX(#REF!,SMALL(IF(#REF!<>\"\",ROW(#REF!)),ROWS(K$1:K681)-1))","v":{"$error":"#REF!"}}]
[{"$error":"#REF!"},{"$error":"#REF!"},{"$error":"#REF!"},{"$f":"IF(J682=\"\",VLOOKUP(C682,OFFSET([0]!_xlnm.Print_Area,3,2),2,FALSE),VLOOKUP(A682,OFFSET([0]!_xlnm.Print_Area,3,0),4,FALSE))","v":{"$error":"#REF!"}},{"$f":"IF(J682=\"\",\"\",VLOOKUP(A682,OFFSET([0]!_xlnm.Print_Area,3,0),5,FALSE))","v":{"$error":"#REF!"}},{"$f":"IF(J682=\"\",\"\",VLOOKUP(A682,OFFSET([0]!_xlnm.Print_Area,3,0),6,FALSE))","v":{"$error":"#REF!"}},{"$f":"IF(J682=\"\",\"\",VLOOKUP(A682,OFFSET([0]!_xlnm.Print_Area,3,0,,7),7,FALSE))","v":{"$error":"#REF!"}}," ",{"$f":"INDEX(#REF!,SMALL(IF(#REF!<>\"\",ROW(#REF!)),ROWS(I$1:I682)-1))","v":{"$error":"#REF!"}},{"$f":"INDEX(#REF!,SMALL(IF(#REF!<>\"\",ROW(#REF!)),ROWS(J$1:J682)-1))","v":{"$error":"#REF!"}},{"$f":"INDEX(#REF!,SMALL(IF(#REF!<>\"\",ROW(#REF!)),ROWS(K$1:K682)-1))","v":{"$error":"#REF!"}}]
[{"$error":"#REF!"},{"$error":"#REF!"},{"$error":"#REF!"},{"$f":"IF(J683=\"\",VLOOKUP(C683,OFFSET([0]!_xlnm.Print_Area,3,2),2,FALSE),VLOOKUP(A683,OFFSET([0]!_xlnm.Print_Area,3,0),4,FALSE))","v":{"$error":"#REF!"}},{"$f":"IF(J683=\"\",\"\",VLOOKUP(A683,OFFSET([0]!_xlnm.Print_Area,3,0),5,FALSE))","v":{"$error":"#REF!"}},{"$f":"IF(J683=\"\",\"\",VLOOKUP(A683,OFFSET([0]!_xlnm.Print_Area,3,0),6,FALSE))","v":{"$error":"#REF!"}},{"$f":"IF(J683=\"\",\"\",VLOOKUP(A683,OFFSET([0]!_xlnm.Print_Area,3,0,,7),7,FALSE))","v":{"$error":"#REF!"}}," ",{"$f":"INDEX(#REF!,SMALL(IF(#REF!<>\"\",ROW(#REF!)),ROWS(I$1:I683)-1))","v":{"$error":"#REF!"}},{"$f":"INDEX(#REF!,SMALL(IF(#REF!<>\"\",ROW(#REF!)),ROWS(J$1:J683)-1))","v":{"$error":"#REF!"}},{"$f":"INDEX(#REF!,SMALL(IF(#REF!<>\"\",ROW(#REF!)),ROWS(K$1:K683)-1))","v":{"$error":"#REF!"}}]
[{"$error":"#REF!"},{"$error":"#REF!"},{"$error":"#REF!"},{"$f":"IF(J684=\"\",VLOOKUP(C684,OFFSET([0]!_xlnm.Print_Area,3,2),2,FALSE),VLOOKUP(A684,OFFSET([0]!_xlnm.Print_Area,3,0),4,FALSE))","v":{"$error":"#REF!"}},{"$f":"IF(J684=\"\",\"\",VLOOKUP(A684,OFFSET([0]!_xlnm.Print_Area,3,0),5,FALSE))","v":{"$error":"#REF!"}},{"$f":"IF(J684=\"\",\"\",VLOOKUP(A684,OFFSET([0]!_xlnm.Print_Area,3,0),6,FALSE))","v":{"$error":"#REF!"}},{"$f":"IF(J684=\"\",\"\",VLOOKUP(A684,OFFSET([0]!_xlnm.Print_Area,3,0,,7),7,FALSE))","v":{"$error":"#REF!"}}," ",{"$f":"INDEX(#REF!,SMALL(IF(#REF!<>\"\",ROW(#REF!)),ROWS(I$1:I684)-1))","v":{"$error":"#REF!"}},{"$f":"INDEX(#REF!,SMALL(IF(#REF!<>\"\",ROW(#REF!)),ROWS(J$1:J684)-1))","v":{"$error":"#REF!"}},{"$f":"INDEX(#REF!,SMALL(IF(#REF!<>\"\",ROW(#REF!)),ROWS(K$1:K684)-1))","v":{"$error":"#REF!"}}]
[{"$error":"#REF!"},{"$error":"#REF!"},{"$error":"#REF!"},{"$f":"IF(J685=\"\",VLOOKUP(C685,OFFSET([0]!_xlnm.Print_Area,3,2),2,FALSE),VLOOKUP(A685,OFFSET([0]!_xlnm.Print_Area,3,0),4,FALSE))","v":{"$error":"#REF!"}},{"$f":"IF(J685=\"\",\"\",VLOOKUP(A685,OFFSET([0]!_xlnm.Print_Area,3,0),5,FALSE))","v":{"$error":"#REF!"}},{"$f":"IF(J685=\"\",\"\",VLOOKUP(A685,OFFSET([0]!_xlnm.Print_Area,3,0),6,FALSE))","v":{"$error":"#REF!"}},{"$f":"IF(J685=\"\",\"\",VLOOKUP(A685,OFFSET([0]!_xlnm.Print_Area,3,0,,7),7,FALSE))","v":{"$error":"#REF!"}}," ",{"$f":"INDEX(#REF!,SMALL(IF(#REF!<>\"\",ROW(#REF!)),ROWS(I$1:I685)-1))","v":{"$error":"#REF!"}},{"$f":"INDEX(#REF!,SMALL(IF(#REF!<>\"\",ROW(#REF!)),ROWS(J$1:J685)-1))","v":{"$error":"#REF!"}},{"$f":"INDEX(#REF!,SMALL(IF(#REF!<>\"\",ROW(#REF!)),ROWS(K$1:K685)-1))","v":{"$error":"#REF!"}}]
[{"$error":"#REF!"},{"$error":"#REF!"},{"$error":"#REF!"},{"$f":"IF(J686=\"\",VLOOKUP(C686,OFFSET([0]!_xlnm.Print_Area,3,2),2,FALSE),VLOOKUP(A686,OFFSET([0]!_xlnm.Print_Area,3,0),4,FALSE))","v":{"$error":"#REF!"}},{"$f":"IF(J686=\"\",\"\",VLOOKUP(A686,OFFSET([0]!_xlnm.Print_Area,3,0),5,FALSE))","v":{"$error":"#REF!"}},{"$f":"IF(J686=\"\",\"\",VLOOKUP(A686,OFFSET([0]!_xlnm.Print_Area,3,0),6,FALSE))","v":{"$error":"#REF!"}},{"$f":"IF(J686=\"\",\"\",VLOOKUP(A686,OFFSET([0]!_xlnm.Print_Area,3,0,,7),7,FALSE))","v":{"$error":"#REF!"}}," ",{"$f":"INDEX(#REF!,SMALL(IF(#REF!<>\"\",ROW(#REF!)),ROWS(I$1:I686)-1))","v":{"$error":"#REF!"}},{"$f":"INDEX(#REF!,SMALL(IF(#REF!<>\"\",ROW(#REF!)),ROWS(J$1:J686)-1))","v":{"$error":"#REF!"}},{"$f":"INDEX(#REF!,SMALL(IF(#REF!<>\"\",ROW(#REF!)),ROWS(K$1:K686)-1))","v":{"$error":"#REF!"}}]
[{"$error":"#REF!"},{"$error":"#REF!"},{"$error":"#REF!"},{"$f":"IF(J687=\"\",VLOOKUP(C687,OFFSET([0]!_xlnm.Print_Area,3,2),2,FALSE),VLOOKUP(A687,OFFSET([0]!_xlnm.Print_Area,3,0),4,FALSE))","v":{"$error":"#REF!"}},{"$f":"IF(J687=\"\",\"\",VLOOKUP(A687,OFFSET([0]!_xlnm.Print_Area,3,0),5,FALSE))","v":{"$error":"#REF!"}},{"$f":"IF(J687=\"\",\"\",VLOOKUP(A687,OFFSET([0]!_xlnm.Print_Area,3,0),6,FALSE))","v":{"$error":"#REF!"}},{"$f":"IF(J687=\"\",\"\",VLOOKUP(A687,OFFSET([0]!_xlnm.Print_Area,3,0,,7),7,FALSE))","v":{"$error":"#REF!"}}," ",{"$f":"INDEX(#REF!,SMALL(IF(#REF!<>\"\",ROW(#REF!)),ROWS(I$1:I687)-1))","v":{"$error":"#REF!"}},{"$f":"INDEX(#REF!,SMALL(IF(#REF!<>\"\",ROW(#REF!)),ROWS(J$1:J687)-1))","v":{"$error":"#REF!"}},{"$f":"INDEX(#REF!,SMALL(IF(#REF!<>\"\",ROW(#REF!)),ROWS(K$1:K687)-1))","v":{"$error":"#REF!"}}]
[{"$error":"#REF!"},{"$error":"#REF!"},{"$error":"#REF!"},{"$f":"IF(J688=\"\",VLOOKUP(C688,OFFSET([0]!_xlnm.Print_Area,3,2),2,FALSE),VLOOKUP(A688,OFFSET([0]!_xlnm.Print_Area,3,0),4,FALSE))","v":{"$error":"#REF!"}},{"$f":"IF(J688=\"\",\"\",VLOOKUP(A688,OFFSET([0]!_xlnm.Print_Area,3,0),5,FALSE))","v":{"$error":"#REF!"}},{"$f":"IF(J688=\"\",\"\",VLOOKUP(A688,OFFSET([0]!_xlnm.Print_Area,3,0),6,FALSE))","v":{"$error":"#REF!"}},{"$f":"IF(J688=\"\",\"\",VLOOKUP(A688,OFFSET([0]!_xlnm.Print_Area,3,0,,7),7,FALSE))","v":{"$error":"#REF!"}}," ",{"$f":"INDEX(#REF!,SMALL(IF(#REF!<>\"\",ROW(#REF!)),ROWS(I$1:I688)-1))","v":{"$error":"#REF!"}},{"$f":"INDEX(#REF!,SMALL(IF(#REF!<>\"\",ROW(#REF!)),ROWS(J$1:J688)-1))","v":{"$error":"#REF!"}},{"$f":"INDEX(#REF!,SMALL(IF(#REF!<>\"\",ROW(#REF!)),ROWS(K$1:K688)-1))","v":{"$error":"#REF!"}}]
[{"$error":"#REF!"},{"$error":"#REF!"},{"$error":"#REF!"},{"$f":"IF(J689=\"\",VLOOKUP(C689,OFFSET([0]!_xlnm.Print_Area,3,2),2,FALSE),VLOOKUP(A689,OFFSET([0]!_xlnm.Print_Area,3,0),4,FALSE))","v":{"$error":"#REF!"}},{"$f":"IF(J689=\"\",\"\",VLOOKUP(A689,OFFSET([0]!_xlnm.Print_Area,3,0),5,FALSE))","v":{"$error":"#REF!"}},{"$f":"IF(J689=\"\",\"\",VLOOKUP(A689,OFFSET([0]!_xlnm.Print_Area,3,0),6,FALSE))","v":{"$error":"#REF!"}},{"$f":"IF(J689=\"\",\"\",VLOOKUP(A689,OFFSET([0]!_xlnm.Print_Area,3,0,,7),7,FALSE))","v":{"$error":"#REF!"}}," ",{"$f":"INDEX(#REF!,SMALL(IF(#REF!<>\"\",ROW(#REF!)),ROWS(I$1:I689)-1))","v":{"$error":"#REF!"}},{"$f":"INDEX(#REF!,SMALL(IF(#REF!<>\"\",ROW(#REF!)),ROWS(J$1:J689)-1))","v":{"$error":"#REF!"}},{"$f":"INDEX(#REF!,SMALL(IF(#REF!<>\"\",ROW(#REF!)),ROWS(K$1:K689)-1))","v":{"$error":"#REF!"}}]
[{"$error":"#REF!"},{"$error":"#REF!"},{"$error":"#REF!"},{"$f":"IF(J690=\"\",VLOOKUP(C690,OFFSET([0]!_xlnm.Print_Area,3,2),2,FALSE),VLOOKUP(A690,OFFSET([0]!_xlnm.Print_Area,3,0),4,FALSE))","v":{"$error":"#REF!"}},{"$f":"IF(J690=\"\",\"\",VLOOKUP(A690,OFFSET([0]!_xlnm.Print_Area,3,0),5,FALSE))","v":{"$error":"#REF!"}},{"$f":"IF(J690=\"\",\"\",VLOOKUP(A690,OFFSET([0]!_xlnm.Print_Area,3,0),6,FALSE))","v":{"$error":"#REF!"}},{"$f":"IF(J690=\"\",\"\",VLOOKUP(A690,OFFSET([0]!_xlnm.Print_Area,3,0,,7),7,FALSE))","v":{"$error":"#REF!"}}," ",{"$f":"INDEX(#REF!,SMALL(IF(#REF!<>\"\",ROW(#REF!)),ROWS(I$1:I690)-1))","v":{"$error":"#REF!"}},{"$f":"INDEX(#REF!,SMALL(IF(#REF!<>\"\",ROW(#REF!)),ROWS(J$1:J690)-1))","v":{"$error":"#REF!"}},{"$f":"INDEX(#REF!,SMALL(IF(#REF!<>\"\",ROW(#REF!)),ROWS(K$1:K690)-1))","v":{"$error":"#REF!"}}]
[{"$error":"#REF!"},{"$error":"#REF!"},{"$error":"#REF!"},{"$f":"IF(J691=\"\",VLOOKUP(C691,OFFSET([0]!_xlnm.Print_Area,3,2),2,FALSE),VLOOKUP(A691,OFFSET([0]!_xlnm.Print_Area,3,0),4,FALSE))","v":{"$error":"#REF!"}},{"$f":"IF(J691=\"\",\"\",VLOOKUP(A691,OFFSET([0]!_xlnm.Print_Area,3,0),5,FALSE))","v":{"$error":"#REF!"}},{"$f":"IF(J691=\"\",\"\",VLOOKUP(A691,OFFSET([0]!_xlnm.Print_Area,3,0),6,FALSE))","v":{"$error":"#REF!"}},{"$f":"IF(J691=\"\",\"\",VLOOKUP(A691,OFFSET([0]!_xlnm.Print_Area,3,0,,7),7,FALSE))","v":{"$error":"#REF!"}}," ",{"$f":"INDEX(#REF!,SMALL(IF(#REF!<>\"\",ROW(#REF!)),ROWS(I$1:I691)-1))","v":{"$error":"#REF!"}},{"$f":"INDEX(#REF!,SMALL(IF(#REF!<>\"\",ROW(#REF!)),ROWS(J$1:J691)-1))","v":{"$error":"#REF!"}},{"$f":"INDEX(#REF!,SMALL(IF(#REF!<>\"\",ROW(#REF!)),ROWS(K$1:K691)-1))","v":{"$error":"#REF!"}}]
[{"$error":"#REF!"},{"$error":"#REF!"},{"$error":"#REF!"},{"$f":"IF(J692=\"\",VLOOKUP(C692,OFFSET([0]!_xlnm.Print_Area,3,2),2,FALSE),VLOOKUP(A692,OFFSET([0]!_xlnm.Print_Area,3,0),4,FALSE))","v":{"$error":"#REF!"}},{"$f":"IF(J692=\"\",\"\",VLOOKUP(A692,OFFSET([0]!_xlnm.Print_Area,3,0),5,FALSE))","v":{"$error":"#REF!"}},{"$f":"IF(J692=\"\",\"\",VLOOKUP(A692,OFFSET([0]!_xlnm.Print_Area,3,0),6,FALSE))","v":{"$error":"#REF!"}},{"$f":"IF(J692=\"\",\"\",VLOOKUP(A692,OFFSET([0]!_xlnm.Print_Area,3,0,,7),7,FALSE))","v":{"$error":"#REF!"}}," ",{"$f":"INDEX(#REF!,SMALL(IF(#REF!<>\"\",ROW(#REF!)),ROWS(I$1:I692)-1))","v":{"$error":"#REF!"}},{"$f":"INDEX(#REF!,SMALL(IF(#REF!<>\"\",ROW(#REF!)),ROWS(J$1:J692)-1))","v":{"$error":"#REF!"}},{"$f":"INDEX(#REF!,SMALL(IF(#REF!<>\"\",ROW(#REF!)),ROWS(K$1:K692)-1))","v":{"$error":"#REF!"}}]
[{"$error":"#REF!"},{"$error":"#REF!"},{"$error":"#REF!"},{"$f":"IF(J693=\"\",VLOOKUP(C693,OFFSET([0]!_xlnm.Print_Area,3,2),2,FALSE),VLOOKUP(A693,OFFSET([0]!_xlnm.Print_Area,3,0),4,FALSE))","v":{"$error":"#REF!"}},{"$f":"IF(J693=\"\",\"\",VLOOKUP(A693,OFFSET([0]!_xlnm.Print_Area,3,0),5,FALSE))","v":{"$error":"#REF!"}},{"$f":"IF(J693=\"\",\"\",VLOOKUP(A693,OFFSET([0]!_xlnm.Print_Area,3,0),6,FALSE))","v":{"$error":"#REF!"}},{"$f":"IF(J693=\"\",\"\",VLOOKUP(A693,OFFSET([0]!_xlnm.Print_Area,3,0,,7),7,FALSE))","v":{"$error":"#REF!"}}," ",{"$f":"INDEX(#REF!,SMALL(IF(#REF!<>\"\",ROW(#REF!)),ROWS(I$1:I693)-1))","v":{"$error":"#REF!"}},{"$f":"INDEX(#REF!,SMALL(IF(#REF!<>\"\",ROW(#REF!)),ROWS(J$1:J693)-1))","v":{"$error":"#REF!"}},{"$f":"INDEX(#REF!,SMALL(IF(#REF!<>\"\",ROW(#REF!)),ROWS(K$1:K693)-1))","v":{"$error":"#REF!"}}]
[{"$error":"#REF!"},{"$error":"#REF!"},{"$error":"#REF!"},{"$f":"IF(J694=\"\",VLOOKUP(C694,OFFSET([0]!_xlnm.Print_Area,3,2),2,FALSE),VLOOKUP(A694,OFFSET([0]!_xlnm.Print_Area,3,0),4,FALSE))","v":{"$error":"#REF!"}},{"$f":"IF(J694=\"\",\"\",VLOOKUP(A694,OFFSET([0]!_xlnm.Print_Area,3,0),5,FALSE))","v":{"$error":"#REF!"}},{"$f":"IF(J694=\"\",\"\",VLOOKUP(A694,OFFSET([0]!_xlnm.Print_Area,3,0),6,FALSE))","v":{"$error":"#REF!"}},{"$f":"IF(J694=\"\",\"\",VLOOKUP(A694,OFFSET([0]!_xlnm.Print_Area,3,0,,7),7,FALSE))","v":{"$error":"#REF!"}}," ",{"$f":"INDEX(#REF!,SMALL(IF(#REF!<>\"\",ROW(#REF!)),ROWS(I$1:I694)-1))","v":{"$error":"#REF!"}},{"$f":"INDEX(#REF!,SMALL(IF(#REF!<>\"\",ROW(#REF!)),ROWS(J$1:J694)-1))","v":{"$error":"#REF!"}},{"$f":"INDEX(#REF!,SMALL(IF(#REF!<>\"\",ROW(#REF!)),ROWS(K$1:K694)-1))","v":{"$error":"#REF!"}}]
[{"$error":"#REF!"},{"$error":"#REF!"},{"$error":"#REF!"},{"$f":"IF(J695=\"\",VLOOKUP(C695,OFFSET([0]!_xlnm.Print_Area,3,2),2,FALSE),VLOOKUP(A695,OFFSET([0]!_xlnm.Print_Area,3,0),4,FALSE))","v":{"$error":"#REF!"}},{"$f":"IF(J695=\"\",\"\",VLOOKUP(A695,OFFSET([0]!_xlnm.Print_Area,3,0),5,FALSE))","v":{"$error":"#REF!"}},{"$f":"IF(J695=\"\",\"\",VLOOKUP(A695,OFFSET([0]!_xlnm.Print_Area,3,0),6,FALSE))","v":{"$error":"#REF!"}},{"$f":"IF(J695=\"\",\"\",VLOOKUP(A695,OFFSET([0]!_xlnm.Print_Area,3,0,,7),7,FALSE))","v":{"$error":"#REF!"}}," ",{"$f":"INDEX(#REF!,SMALL(IF(#REF!<>\"\",ROW(#REF!)),ROWS(I$1:I695)-1))","v":{"$error":"#REF!"}},{"$f":"INDEX(#REF!,SMALL(IF(#REF!<>\"\",ROW(#REF!)),ROWS(J$1:J695)-1))","v":{"$error":"#REF!"}},{"$f":"INDEX(#REF!,SMALL(IF(#REF!<>\"\",ROW(#REF!)),ROWS(K$1:K695)-1))","v":{"$error":"#REF!"}}]
[{"$error":"#REF!"},{"$error":"#REF!"},{"$error":"#REF!"},{"$f":"IF(J696=\"\",VLOOKUP(C696,OFFSET([0]!_xlnm.Print_Area,3,2),2,FALSE),VLOOKUP(A696,OFFSET([0]!_xlnm.Print_Area,3,0),4,FALSE))","v":{"$error":"#REF!"}},{"$f":"IF(J696=\"\",\"\",VLOOKUP(A696,OFFSET([0]!_xlnm.Print_Area,3,0),5,FALSE))","v":{"$error":"#REF!"}},{"$f":"IF(J696=\"\",\"\",VLOOKUP(A696,OFFSET([0]!_xlnm.Print_Area,3,0),6,FALSE))","v":{"$error":"#REF!"}},{"$f":"IF(J696=\"\",\"\",VLOOKUP(A696,OFFSET([0]!_xlnm.Print_Area,3,0,,7),7,FALSE))","v":{"$error":"#REF!"}}," ",{"$f":"INDEX(#REF!,SMALL(IF(#REF!<>\"\",ROW(#REF!)),ROWS(I$1:I696)-1))","v":{"$error":"#REF!"}},{"$f":"INDEX(#REF!,SMALL(IF(#REF!<>\"\",ROW(#REF!)),ROWS(J$1:J696)-1))","v":{"$error":"#REF!"}},{"$f":"INDEX(#REF!,SMALL(IF(#REF!<>\"\",ROW(#REF!)),ROWS(K$1:K696)-1))","v":{"$error":"#REF!"}}]
[{"$error":"#REF!"},{"$error":"#REF!"},{"$error":"#REF!"},{"$f":"IF(J697=\"\",VLOOKUP(C697,OFFSET([0]!_xlnm.Print_Area,3,2),2,FALSE),VLOOKUP(A697,OFFSET([0]!_xlnm.Print_Area,3,0),4,FALSE))","v":{"$error":"#REF!"}},{"$f":"IF(J697=\"\",\"\",VLOOKUP(A697,OFFSET([0]!_xlnm.Print_Area,3,0),5,FALSE))","v":{"$error":"#REF!"}},{"$f":"IF(J697=\"\",\"\",VLOOKUP(A697,OFFSET([0]!_xlnm.Print_Area,3,0),6,FALSE))","v":{"$error":"#REF!"}},{"$f":"IF(J697=\"\",\"\",VLOOKUP(A697,OFFSET([0]!_xlnm.Print_Area,3,0,,7),7,FALSE))","v":{"$error":"#REF!"}}," ",{"$f":"INDEX(#REF!,SMALL(IF(#REF!<>\"\",ROW(#REF!)),ROWS(I$1:I697)-1))","v":{"$error":"#REF!"}},{"$f":"INDEX(#REF!,SMALL(IF(#REF!<>\"\",ROW(#REF!)),ROWS(J$1:J697)-1))","v":{"$error":"#REF!"}},{"$f":"INDEX(#REF!,SMALL(IF(#REF!<>\"\",ROW(#REF!)),ROWS(K$1:K697)-1))","v":{"$error":"#REF!"}}]
[{"$error":"#REF!"},{"$error":"#REF!"},{"$error":"#REF!"},{"$f":"IF(J698=\"\",VLOOKUP(C698,OFFSET([0]!_xlnm.Print_Area,3,2),2,FALSE),VLOOKUP(A698,OFFSET([0]!_xlnm.Print_Area,3,0),4,FALSE))","v":{"$error":"#REF!"}},{"$f":"IF(J698=\"\",\"\",VLOOKUP(A698,OFFSET([0]!_xlnm.Print_Area,3,0),5,FALSE))","v":{"$error":"#REF!"}},{"$f":"IF(J698=\"\",\"\",VLOOKUP(A698,OFFSET([0]!_xlnm.Print_Area,3,0),6,FALSE))","v":{"$error":"#REF!"}},{"$f":"IF(J698=\"\",\"\",VLOOKUP(A698,OFFSET([0]!_xlnm.Print_Area,3,0,,7),7,FALSE))","v":{"$error":"#REF!"}}," ",{"$f":"INDEX(#REF!,SMALL(IF(#REF!<>\"\",ROW(#REF!)),ROWS(I$1:I698)-1))","v":{"$error":"#REF!"}},{"$f":"INDEX(#REF!,SMALL(IF(#REF!<>\"\",ROW(#REF!)),ROWS(J$1:J698)-1))","v":{"$error":"#REF!"}},{"$f":"INDEX(#REF!,SMALL(IF(#REF!<>\"\",ROW(#REF!)),ROWS(K$1:K698)-1))","v":{"$error":"#REF!"}}]
[{"$error":"#REF!"},{"$error":"#REF!"},{"$error":"#REF!"},{"$f":"IF(J699=\"\",VLOOKUP(C699,OFFSET([0]!_xlnm.Print_Area,3,2),2,FALSE),VLOOKUP(A699,OFFSET([0]!_xlnm.Print_Area,3,0),4,FALSE))","v":{"$error":"#REF!"}},{"$f":"IF(J699=\"\",\"\",VLOOKUP(A699,OFFSET([0]!_xlnm.Print_Area,3,0),5,FALSE))","v":{"$error":"#REF!"}},{"$f":"IF(J699=\"\",\"\",VLOOKUP(A699,OFFSET([0]!_xlnm.Print_Area,3,0),6,FALSE))","v":{"$error":"#REF!"}},{"$f":"IF(J699=\"\",\"\",VLOOKUP(A699,OFFSET([0]!_xlnm.Print_Area,3,0,,7),7,FALSE))","v":{"$error":"#REF!"}}," ",{"$f":"INDEX(#REF!,SMALL(IF(#REF!<>\"\",ROW(#REF!)),ROWS(I$1:I699)-1))","v":{"$error":"#REF!"}},{"$f":"INDEX(#REF!,SMALL(IF(#REF!<>\"\",ROW(#REF!)),ROWS(J$1:J699)-1))","v":{"$error":"#REF!"}},{"$f":"INDEX(#REF!,SMALL(IF(#REF!<>\"\",ROW(#REF!)),ROWS(K$1:K699)-1))","v":{"$error":"#REF!"}}]
[{"$error":"#REF!"},{"$error":"#REF!"},{"$error":"#REF!"},{"$f":"IF(J700=\"\",VLOOKUP(C700,OFFSET([0]!_xlnm.Print_Area,3,2),2,FALSE),VLOOKUP(A700,OFFSET([0]!_xlnm.Print_Area,3,0),4,FALSE))","v":{"$error":"#REF!"}},{"$f":"IF(J700=\"\",\"\",VLOOKUP(A700,OFFSET([0]!_xlnm.Print_Area,3,0),5,FALSE))","v":{"$error":"#REF!"}},{"$f":"IF(J700=\"\",\"\",VLOOKUP(A700,OFFSET([0]!_xlnm.Print_Area,3,0),6,FALSE))","v":{"$error":"#REF!"}},{"$f":"IF(J700=\"\",\"\",VLOOKUP(A700,OFFSET([0]!_xlnm.Print_Area,3,0,,7),7,FALSE))","v":{"$error":"#REF!"}}," ",{"$f":"INDEX(#REF!,SMALL(IF(#REF!<>\"\",ROW(#REF!)),ROWS(I$1:I700)-1))","v":{"$error":"#REF!"}},{"$f":"INDEX(#REF!,SMALL(IF(#REF!<>\"\",ROW(#REF!)),ROWS(J$1:J700)-1))","v":{"$error":"#REF!"}},{"$f":"INDEX(#REF!,SMALL(IF(#REF!<>\"\",ROW(#REF!)),ROWS(K$1:K700)-1))","v":{"$error":"#REF!"}}]
[{"$error":"#REF!"},{"$error":"#REF!"},{"$error":"#REF!"},{"$f":"IF(J701=\"\",VLOOKUP(C701,OFFSET([0]!_xlnm.Print_Area,3,2),2,FALSE),VLOOKUP(A701,OFFSET([0]!_xlnm.Print_Area,3,0),4,FALSE))","v":{"$error":"#REF!"}},{"$f":"IF(J701=\"\",\"\",VLOOKUP(A701,OFFSET([0]!_xlnm.Print_Area,3,0),5,FALSE))","v":{"$error":"#REF!"}},{"$f":"IF(J701=\"\",\"\",VLOOKUP(A701,OFFSET([0]!_xlnm.Print_Area,3,0),6,FALSE))","v":{"$error":"#REF!"}},{"$f":"IF(J701=\"\",\"\",VLOOKUP(A701,OFFSET([0]!_xlnm.Print_Area,3,0,,7),7,FALSE))","v":{"$error":"#REF!"}}," ",{"$f":"INDEX(#REF!,SMALL(IF(#REF!<>\"\",ROW(#REF!)),ROWS(I$1:I701)-1))","v":{"$error":"#REF!"}},{"$f":"INDEX(#REF!,SMALL(IF(#REF!<>\"\",ROW(#REF!)),ROWS(J$1:J701)-1))","v":{"$error":"#REF!"}},{"$f":"INDEX(#REF!,SMALL(IF(#REF!<>\"\",ROW(#REF!)),ROWS(K$1:K701)-1))","v":{"$error":"#REF!"}}]
[{"$error":"#REF!"},{"$error":"#REF!"},{"$error":"#REF!"},{"$f":"IF(J702=\"\",VLOOKUP(C702,OFFSET([0]!_xlnm.Print_Area,3,2),2,FALSE),VLOOKUP(A702,OFFSET([0]!_xlnm.Print_Area,3,0),4,FALSE))","v":{"$error":"#REF!"}},{"$f":"IF(J702=\"\",\"\",VLOOKUP(A702,OFFSET([0]!_xlnm.Print_Area,3,0),5,FALSE))","v":{"$error":"#REF!"}},{"$f":"IF(J702=\"\",\"\",VLOOKUP(A702,OFFSET([0]!_xlnm.Print_Area,3,0),6,FALSE))","v":{"$error":"#REF!"}},{"$f":"IF(J702=\"\",\"\",VLOOKUP(A702,OFFSET([0]!_xlnm.Print_Area,3,0,,7),7,FALSE))","v":{"$error":"#REF!"}}," ",{"$f":"INDEX(#REF!,SMALL(IF(#REF!<>\"\",ROW(#REF!)),ROWS(I$1:I702)-1))","v":{"$error":"#REF!"}},{"$f":"INDEX(#REF!,SMALL(IF(#REF!<>\"\",ROW(#REF!)),ROWS(J$1:J702)-1))","v":{"$error":"#REF!"}},{"$f":"INDEX(#REF!,SMALL(IF(#REF!<>\"\",ROW(#REF!)),ROWS(K$1:K702)-1))","v":{"$error":"#REF!"}}]
[{"$error":"#REF!"},{"$error":"#REF!"},{"$error":"#REF!"},{"$f":"IF(J703=\"\",VLOOKUP(C703,OFFSET([0]!_xlnm.Print_Area,3,2),2,FALSE),VLOOKUP(A703,OFFSET([0]!_xlnm.Print_Area,3,0),4,FALSE))","v":{"$error":"#REF!"}},{"$f":"IF(J703=\"\",\"\",VLOOKUP(A703,OFFSET([0]!_xlnm.Print_Area,3,0),5,FALSE))","v":{"$error":"#REF!"}},{"$f":"IF(J703=\"\",\"\",VLOOKUP(A703,OFFSET([0]!_xlnm.Print_Area,3,0),6,FALSE))","v":{"$error":"#REF!"}},{"$f":"IF(J703=\"\",\"\",VLOOKUP(A703,OFFSET([0]!_xlnm.Print_Area,3,0,,7),7,FALSE))","v":{"$error":"#REF!"}}," ",{"$f":"INDEX(#REF!,SMALL(IF(#REF!<>\"\",ROW(#REF!)),ROWS(I$1:I703)-1))","v":{"$error":"#REF!"}},{"$f":"INDEX(#REF!,SMALL(IF(#REF!<>\"\",ROW(#REF!)),ROWS(J$1:J703)-1))","v":{"$error":"#REF!"}},{"$f":"INDEX(#REF!,SMALL(IF(#REF!<>\"\",ROW(#REF!)),ROWS(K$1:K703)-1))","v":{"$error":"#REF!"}}]
[{"$error":"#REF!"},{"$error":"#REF!"},{"$error":"#REF!"},{"$f":"IF(J704=\"\",VLOOKUP(C704,OFFSET([0]!_xlnm.Print_Area,3,2),2,FALSE),VLOOKUP(A704,OFFSET([0]!_xlnm.Print_Area,3,0),4,FALSE))","v":{"$error":"#REF!"}},{"$f":"IF(J704=\"\",\"\",VLOOKUP(A704,OFFSET([0]!_xlnm.Print_Area,3,0),5,FALSE))","v":{"$error":"#REF!"}},{"$f":"IF(J704=\"\",\"\",VLOOKUP(A704,OFFSET([0]!_xlnm.Print_Area,3,0),6,FALSE))","v":{"$error":"#REF!"}},{"$f":"IF(J704=\"\",\"\",VLOOKUP(A704,OFFSET([0]!_xlnm.Print_Area,3,0,,7),7,FALSE))","v":{"$error":"#REF!"}}," ",{"$f":"INDEX(#REF!,SMALL(IF(#REF!<>\"\",ROW(#REF!)),ROWS(I$1:I704)-1))","v":{"$error":"#REF!"}},{"$f":"INDEX(#REF!,SMALL(IF(#REF!<>\"\",ROW(#REF!)),ROWS(J$1:J704)-1))","v":{"$error":"#REF!"}},{"$f":"INDEX(#REF!,SMALL(IF(#REF!<>\"\",ROW(#REF!)),ROWS(K$1:K704)-1))","v":{"$error":"#REF!"}}]
[{"$error":"#REF!"},{"$error":"#REF!"},{"$error":"#REF!"},{"$f":"IF(J705=\"\",VLOOKUP(C705,OFFSET([0]!_xlnm.Print_Area,3,2),2,FALSE),VLOOKUP(A705,OFFSET([0]!_xlnm.Print_Area,3,0),4,FALSE))","v":{"$error":"#REF!"}},{"$f":"IF(J705=\"\",\"\",VLOOKUP(A705,OFFSET([0]!_xlnm.Print_Area,3,0),5,FALSE))","v":{"$error":"#REF!"}},{"$f":"IF(J705=\"\",\"\",VLOOKUP(A705,OFFSET([0]!_xlnm.Print_Area,3,0),6,FALSE))","v":{"$error":"#REF!"}},{"$f":"IF(J705=\"\",\"\",VLOOKUP(A705,OFFSET([0]!_xlnm.Print_Area,3,0,,7),7,FALSE))","v":{"$error":"#REF!"}}," ",{"$f":"INDEX(#REF!,SMALL(IF(#REF!<>\"\",ROW(#REF!)),ROWS(I$1:I705)-1))","v":{"$error":"#REF!"}},{"$f":"INDEX(#REF!,SMALL(IF(#REF!<>\"\",ROW(#REF!)),ROWS(J$1:J705)-1))","v":{"$error":"#REF!"}},{"$f":"INDEX(#REF!,SMALL(IF(#REF!<>\"\",ROW(#REF!)),ROWS(K$1:K705)-1))","v":{"$error":"#REF!"}}]
[{"$error":"#REF!"},{"$error":"#REF!"},{"$error":"#REF!"},{"$f":"IF(J706=\"\",VLOOKUP(C706,OFFSET([0]!_xlnm.Print_Area,3,2),2,FALSE),VLOOKUP(A706,OFFSET([0]!_xlnm.Print_Area,3,0),4,FALSE))","v":{"$error":"#REF!"}},{"$f":"IF(J706=\"\",\"\",VLOOKUP(A706,OFFSET([0]!_xlnm.Print_Area,3,0),5,FALSE))","v":{"$error":"#REF!"}},{"$f":"IF(J706=\"\",\"\",VLOOKUP(A706,OFFSET([0]!_xlnm.Print_Area,3,0),6,FALSE))","v":{"$error":"#REF!"}},{"$f":"IF(J706=\"\",\"\",VLOOKUP(A706,OFFSET([0]!_xlnm.Print_Area,3,0,,7),7,FALSE))","v":{"$error":"#REF!"}}," ",{"$f":"INDEX(#REF!,SMALL(IF(#REF!<>\"\",ROW(#REF!)),ROWS(I$1:I706)-1))","v":{"$error":"#REF!"}},{"$f":"INDEX(#REF!,SMALL(IF(#REF!<>\"\",ROW(#REF!)),ROWS(J$1:J706)-1))","v":{"$error":"#REF!"}},{"$f":"INDEX(#REF!,SMALL(IF(#REF!<>\"\",ROW(#REF!)),ROWS(K$1:K706)-1))","v":{"$error":"#REF!"}}]
[{"$error":"#REF!"},{"$error":"#REF!"},{"$error":"#REF!"},{"$f":"IF(J707=\"\",VLOOKUP(C707,OFFSET([0]!_xlnm.Print_Area,3,2),2,FALSE),VLOOKUP(A707,OFFSET([0]!_xlnm.Print_Area,3,0),4,FALSE))","v":{"$error":"#REF!"}},{"$f":"IF(J707=\"\",\"\",VLOOKUP(A707,OFFSET([0]!_xlnm.Print_Area,3,0),5,FALSE))","v":{"$error":"#REF!"}},{"$f":"IF(J707=\"\",\"\",VLOOKUP(A707,OFFSET([0]!_xlnm.Print_Area,3,0),6,FALSE))","v":{"$error":"#REF!"}},{"$f":"IF(J707=\"\",\"\",VLOOKUP(A707,OFFSET([0]!_xlnm.Print_Area,3,0,,7),7,FALSE))","v":{"$error":"#REF!"}}," ",{"$f":"INDEX(#REF!,SMALL(IF(#REF!<>\"\",ROW(#REF!)),ROWS(I$1:I707)-1))","v":{"$error":"#REF!"}},{"$f":"INDEX(#REF!,SMALL(IF(#REF!<>\"\",ROW(#REF!)),ROWS(J$1:J707)-1))","v":{"$error":"#REF!"}},{"$f":"INDEX(#REF!,SMALL(IF(#REF!<>\"\",ROW(#REF!)),ROWS(K$1:K707)-1))","v":{"$error":"#REF!"}}]
[{"$error":"#REF!"},{"$error":"#REF!"},{"$error":"#REF!"},{"$f":"IF(J708=\"\",VLOOKUP(C708,OFFSET([0]!_xlnm.Print_Area,3,2),2,FALSE),VLOOKUP(A708,OFFSET([0]!_xlnm.Print_Area,3,0),4,FALSE))","v":{"$error":"#REF!"}},{"$f":"IF(J708=\"\",\"\",VLOOKUP(A708,OFFSET([0]!_xlnm.Print_Area,3,0),5,FALSE))","v":{"$error":"#REF!"}},{"$f":"IF(J708=\"\",\"\",VLOOKUP(A708,OFFSET([0]!_xlnm.Print_Area,3,0),6,FALSE))","v":{"$error":"#REF!"}},{"$f":"IF(J708=\"\",\"\",VLOOKUP(A708,OFFSET([0]!_xlnm.Print_Area,3,0,,7),7,FALSE))","v":{"$error":"#REF!"}}," ",{"$f":"INDEX(#REF!,SMALL(IF(#REF!<>\"\",ROW(#REF!)),ROWS(I$1:I708)-1))","v":{"$error":"#REF!"}},{"$f":"INDEX(#REF!,SMALL(IF(#REF!<>\"\",ROW(#REF!)),ROWS(J$1:J708)-1))","v":{"$error":"#REF!"}},{"$f":"INDEX(#REF!,SMALL(IF(#REF!<>\"\",ROW(#REF!)),ROWS(K$1:K708)-1))","v":{"$error":"#REF!"}}]
[{"$f":"IF(J709=0,\"\",J709)","v":{"$error":"#REF!"}},{"$f":"IF(K709=0,\"\",K709)","v":{"$error":"#REF!"}},{"$f":"I709","v":{"$error":"#REF!"}},{"$f":"IF(J709=\"\",VLOOKUP(C709,OFFSET([0]!_xlnm.Print_Area,3,2),2,FALSE),VLOOKUP(A709,OFFSET([0]!_xlnm.Print_Area,3,0),4,FALSE))","v":{"$error":"#REF!"}},{"$f":"IF(J709=\"\",\"\",VLOOKUP(A709,OFFSET([0]!_xlnm.Print_Area,3,0),5,FALSE))","v":{"$error":"#REF!"}},{"$f":"IF(J709=\"\",\"\",VLOOKUP(A709,OFFSET([0]!_xlnm.Print_Area,3,0),6,FALSE))","v":{"$error":"#REF!"}},{"$f":"IF(J709=\"\",\"\",VLOOKUP(A709,OFFSET([0]!_xlnm.Print_Area,3,0,,7),7,FALSE))","v":{"$error":"#REF!"}},{"$f":"IFERROR(ROUND(F709*G709,2),\" \")","v":" "},{"$f":"INDEX(#REF!,SMALL(IF(#REF!<>\"\",ROW(#REF!)),ROWS(I$1:I709)-1))","v":{"$error":"#REF!"}},{"$f":"INDEX(#REF!,SMALL(IF(#REF!<>\"\",ROW(#REF!)),ROWS(J$1:J709)-1))","v":{"$error":"#REF!"}},{"$f":"INDEX(#REF!,SMALL(IF(#REF!<>\"\",ROW(#REF!)),ROWS(K$1:K709)-1))","v":{"$error":"#REF!"}}]
[{"$error":"#REF!"},{"$error":"#REF!"},{"$error":"#REF!"},{"$f":"IF(J710=\"\",VLOOKUP(C710,OFFSET([0]!_xlnm.Print_Area,3,2),2,FALSE),VLOOKUP(A710,OFFSET([0]!_xlnm.Print_Area,3,0),4,FALSE))","v":{"$error":"#REF!"}},{"$f":"IF(J710=\"\",\"\",VLOOKUP(A710,OFFSET([0]!_xlnm.Print_Area,3,0),5,FALSE))","v":{"$error":"#REF!"}},{"$f":"IF(J710=\"\",\"\",VLOOKUP(A710,OFFSET([0]!_xlnm.Print_Area,3,0),6,FALSE))","v":{"$error":"#REF!"}},{"$f":"IF(J710=\"\",\"\",VLOOKUP(A710,OFFSET([0]!_xlnm.Print_Area,3,0,,7),7,FALSE))","v":{"$error":"#REF!"}}," ",{"$f":"INDEX(#REF!,SMALL(IF(#REF!<>\"\",ROW(#REF!)),ROWS(I$1:I710)-1))","v":{"$error":"#REF!"}},{"$f":"INDEX(#REF!,SMALL(IF(#REF!<>\"\",ROW(#REF!)),ROWS(J$1:J710)-1))","v":{"$error":"#REF!"}},{"$f":"INDEX(#REF!,SMALL(IF(#REF!<>\"\",ROW(#REF!)),ROWS(K$1:K710)-1))","v":{"$error":"#REF!"}}]
[{"$error":"#REF!"},{"$error":"#REF!"},{"$error":"#REF!"},{"$f":"IF(J711=\"\",VLOOKUP(C711,OFFSET([0]!_xlnm.Print_Area,3,2),2,FALSE),VLOOKUP(A711,OFFSET([0]!_xlnm.Print_Area,3,0),4,FALSE))","v":{"$error":"#REF!"}},{"$f":"IF(J711=\"\",\"\",VLOOKUP(A711,OFFSET([0]!_xlnm.Print_Area,3,0),5,FALSE))","v":{"$error":"#REF!"}},{"$f":"IF(J711=\"\",\"\",VLOOKUP(A711,OFFSET([0]!_xlnm.Print_Area,3,0),6,FALSE))","v":{"$error":"#REF!"}},{"$f":"IF(J711=\"\",\"\",VLOOKUP(A711,OFFSET([0]!_xlnm.Print_Area,3,0,,7),7,FALSE))","v":{"$error":"#REF!"}}," ",{"$f":"INDEX(#REF!,SMALL(IF(#REF!<>\"\",ROW(#REF!)),ROWS(I$1:I711)-1))","v":{"$error":"#REF!"}},{"$f":"INDEX(#REF!,SMALL(IF(#REF!<>\"\",ROW(#REF!)),ROWS(J$1:J711)-1))","v":{"$error":"#REF!"}},{"$f":"INDEX(#REF!,SMALL(IF(#REF!<>\"\",ROW(#REF!)),ROWS(K$1:K711)-1))","v":{"$error":"#REF!"}}]
[{"$error":"#REF!"},{"$error":"#REF!"},{"$error":"#REF!"},{"$f":"IF(J712=\"\",VLOOKUP(C712,OFFSET([0]!_xlnm.Print_Area,3,2),2,FALSE),VLOOKUP(A712,OFFSET([0]!_xlnm.Print_Area,3,0),4,FALSE))","v":{"$error":"#REF!"}},{"$f":"IF(J712=\"\",\"\",VLOOKUP(A712,OFFSET([0]!_xlnm.Print_Area,3,0),5,FALSE))","v":{"$error":"#REF!"}},{"$f":"IF(J712=\"\",\"\",VLOOKUP(A712,OFFSET([0]!_xlnm.Print_Area,3,0),6,FALSE))","v":{"$error":"#REF!"}},{"$f":"IF(J712=\"\",\"\",VLOOKUP(A712,OFFSET([0]!_xlnm.Print_Area,3,0,,7),7,FALSE))","v":{"$error":"#REF!"}}," ",{"$f":"INDEX(#REF!,SMALL(IF(#REF!<>\"\",ROW(#REF!)),ROWS(I$1:I712)-1))","v":{"$error":"#REF!"}},{"$f":"INDEX(#REF!,SMALL(IF(#REF!<>\"\",ROW(#REF!)),ROWS(J$1:J712)-1))","v":{"$error":"#REF!"}},{"$f":"INDEX(#REF!,SMALL(IF(#REF!<>\"\",ROW(#REF!)),ROWS(K$1:K712)-1))","v":{"$error":"#REF!"}}]
[{"$error":"#REF!"},{"$error":"#REF!"},{"$error":"#REF!"},{"$f":"IF(J713=\"\",VLOOKUP(C713,OFFSET([0]!_xlnm.Print_Area,3,2),2,FALSE),VLOOKUP(A713,OFFSET([0]!_xlnm.Print_Area,3,0),4,FALSE))","v":{"$error":"#REF!"}},{"$f":"IF(J713=\"\",\"\",VLOOKUP(A713,OFFSET([0]!_xlnm.Print_Area,3,0),5,FALSE))","v":{"$error":"#REF!"}},{"$f":"IF(J713=\"\",\"\",VLOOKUP(A713,OFFSET([0]!_xlnm.Print_Area,3,0),6,FALSE))","v":{"$error":"#REF!"}},{"$f":"IF(J713=\"\",\"\",VLOOKUP(A713,OFFSET([0]!_xlnm.Print_Area,3,0,,7),7,FALSE))","v":{"$error":"#REF!"}}," ",{"$f":"INDEX(#REF!,SMALL(IF(#REF!<>\"\",ROW(#REF!)),ROWS(I$1:I713)-1))","v":{"$error":"#REF!"}},{"$f":"INDEX(#REF!,SMALL(IF(#REF!<>\"\",ROW(#REF!)),ROWS(J$1:J713)-1))","v":{"$error":"#REF!"}},{"$f":"INDEX(#REF!,SMALL(IF(#REF!<>\"\",ROW(#REF!)),ROWS(K$1:K713)-1))","v":{"$error":"#REF!"}}]
[{"$error":"#REF!"},{"$error":"#REF!"},{"$error":"#REF!"},{"$f":"IF(J714=\"\",VLOOKUP(C714,OFFSET([0]!_xlnm.Print_Area,3,2),2,FALSE),VLOOKUP(A714,OFFSET([0]!_xlnm.Print_Area,3,0),4,FALSE))","v":{"$error":"#REF!"}},{"$f":"IF(J714=\"\",\"\",VLOOKUP(A714,OFFSET([0]!_xlnm.Print_Area,3,0),5,FALSE))","v":{"$error":"#REF!"}},{"$f":"IF(J714=\"\",\"\",VLOOKUP(A714,OFFSET([0]!_xlnm.Print_Area,3,0),6,FALSE))","v":{"$error":"#REF!"}},{"$f":"IF(J714=\"\",\"\",VLOOKUP(A714,OFFSET([0]!_xlnm.Print_Area,3,0,,7),7,FALSE))","v":{"$error":"#REF!"}}," ",{"$f":"INDEX(#REF!,SMALL(IF(#REF!<>\"\",ROW(#REF!)),ROWS(I$1:I714)-1))","v":{"$error":"#REF!"}},{"$f":"INDEX(#REF!,SMALL(IF(#REF!<>\"\",ROW(#REF!)),ROWS(J$1:J714)-1))","v":{"$error":"#REF!"}},{"$f":"INDEX(#REF!,SMALL(IF(#REF!<>\"\",ROW(#REF!)),ROWS(K$1:K714)-1))","v":{"$error":"#REF!"}}]
[{"$error":"#REF!"},{"$error":"#REF!"},{"$error":"#REF!"},{"$f":"IF(J715=\"\",VLOOKUP(C715,OFFSET([0]!_xlnm.Print_Area,3,2),2,FALSE),VLOOKUP(A715,OFFSET([0]!_xlnm.Print_Area,3,0),4,FALSE))","v":{"$error":"#REF!"}},{"$f":"IF(J715=\"\",\"\",VLOOKUP(A715,OFFSET([0]!_xlnm.Print_Area,3,0),5,FALSE))","v":{"$error":"#REF!"}},{"$f":"IF(J715=\"\",\"\",VLOOKUP(A715,OFFSET([0]!_xlnm.Print_Area,3,0),6,FALSE))","v":{"$error":"#REF!"}},{"$f":"IF(J715=\"\",\"\",VLOOKUP(A715,OFFSET([0]!_xlnm.Print_Area,3,0,,7),7,FALSE))","v":{"$error":"#REF!"}}," ",{"$f":"INDEX(#REF!,SMALL(IF(#REF!<>\"\",ROW(#REF!)),ROWS(I$1:I715)-1))","v":{"$error":"#REF!"}},{"$f":"INDEX(#REF!,SMALL(IF(#REF!<>\"\",ROW(#REF!)),ROWS(J$1:J715)-1))","v":{"$error":"#REF!"}},{"$f":"INDEX(#REF!,SMALL(IF(#REF!<>\"\",ROW(#REF!)),ROWS(K$1:K715)-1))","v":{"$error":"#REF!"}}]
[{"$error":"#REF!"},{"$error":"#REF!"},{"$error":"#REF!"},{"$f":"IF(J716=\"\",VLOOKUP(C716,OFFSET([0]!_xlnm.Print_Area,3,2),2,FALSE),VLOOKUP(A716,OFFSET([0]!_xlnm.Print_Area,3,0),4,FALSE))","v":{"$error":"#REF!"}},{"$f":"IF(J716=\"\",\"\",VLOOKUP(A716,OFFSET([0]!_xlnm.Print_Area,3,0),5,FALSE))","v":{"$error":"#REF!"}},{"$f":"IF(J716=\"\",\"\",VLOOKUP(A716,OFFSET([0]!_xlnm.Print_Area,3,0),6,FALSE))","v":{"$error":"#REF!"}},{"$f":"IF(J716=\"\",\"\",VLOOKUP(A716,OFFSET([0]!_xlnm.Print_Area,3,0,,7),7,FALSE))","v":{"$error":"#REF!"}}," ",{"$f":"INDEX(#REF!,SMALL(IF(#REF!<>\"\",ROW(#REF!)),ROWS(I$1:I716)-1))","v":{"$error":"#REF!"}},{"$f":"INDEX(#REF!,SMALL(IF(#REF!<>\"\",ROW(#REF!)),ROWS(J$1:J716)-1))","v":{"$error":"#REF!"}},{"$f":"INDEX(#REF!,SMALL(IF(#REF!<>\"\",ROW(#REF!)),ROWS(K$1:K716)-1))","v":{"$error":"#REF!"}}]
[{"$error":"#REF!"},{"$error":"#REF!"},{"$error":"#REF!"},{"$f":"IF(J717=\"\",VLOOKUP(C717,OFFSET([0]!_xlnm.Print_Area,3,2),2,FALSE),VLOOKUP(A717,OFFSET([0]!_xlnm.Print_Area,3,0),4,FALSE))","v":{"$error":"#REF!"}},{"$f":"IF(J717=\"\",\"\",VLOOKUP(A717,OFFSET([0]!_xlnm.Print_Area,3,0),5,FALSE))","v":{"$error":"#REF!"}},{"$f":"IF(J717=\"\",\"\",VLOOKUP(A717,OFFSET([0]!_xlnm.Print_Area,3,0),6,FALSE))","v":{"$error":"#REF!"}},{"$f":"IF(J717=\"\",\"\",VLOOKUP(A717,OFFSET([0]!_xlnm.Print_Area,3,0,,7),7,FALSE))","v":{"$error":"#REF!"}}," ",{"$f":"INDEX(#REF!,SMALL(IF(#REF!<>\"\",ROW(#REF!)),ROWS(I$1:I717)-1))","v":{"$error":"#REF!"}},{"$f":"INDEX(#REF!,SMALL(IF(#REF!<>\"\",ROW(#REF!)),ROWS(J$1:J717)-1))","v":{"$error":"#REF!"}},{"$f":"INDEX(#REF!,SMALL(IF(#REF!<>\"\",ROW(#REF!)),ROWS(K$1:K717)-1))","v":{"$error":"#REF!"}}]
[{"$error":"#REF!"},{"$error":"#REF!"},{"$error":"#REF!"},{"$f":"IF(J718=\"\",VLOOKUP(C718,OFFSET([0]!_xlnm.Print_Area,3,2),2,FALSE),VLOOKUP(A718,OFFSET([0]!_xlnm.Print_Area,3,0),4,FALSE))","v":{"$error":"#REF!"}},{"$f":"IF(J718=\"\",\"\",VLOOKUP(A718,OFFSET([0]!_xlnm.Print_Area,3,0),5,FALSE))","v":{"$error":"#REF!"}},{"$f":"IF(J718=\"\",\"\",VLOOKUP(A718,OFFSET([0]!_xlnm.Print_Area,3,0),6,FALSE))","v":{"$error":"#REF!"}},{"$f":"IF(J718=\"\",\"\",VLOOKUP(A718,OFFSET([0]!_xlnm.Print_Area,3,0,,7),7,FALSE))","v":{"$error":"#REF!"}}," ",{"$f":"INDEX(#REF!,SMALL(IF(#REF!<>\"\",ROW(#REF!)),ROWS(I$1:I718)-1))","v":{"$error":"#REF!"}},{"$f":"INDEX(#REF!,SMALL(IF(#REF!<>\"\",ROW(#REF!)),ROWS(J$1:J718)-1))","v":{"$error":"#REF!"}},{"$f":"INDEX(#REF!,SMALL(IF(#REF!<>\"\",ROW(#REF!)),ROWS(K$1:K718)-1))","v":{"$error":"#REF!"}}]
[{"$error":"#REF!"},{"$error":"#REF!"},{"$error":"#REF!"},{"$f":"IF(J719=\"\",VLOOKUP(C719,OFFSET([0]!_xlnm.Print_Area,3,2),2,FALSE),VLOOKUP(A719,OFFSET([0]!_xlnm.Print_Area,3,0),4,FALSE))","v":{"$error":"#REF!"}},{"$f":"IF(J719=\"\",\"\",VLOOKUP(A719,OFFSET([0]!_xlnm.Print_Area,3,0),5,FALSE))","v":{"$error":"#REF!"}},{"$f":"IF(J719=\"\",\"\",VLOOKUP(A719,OFFSET([0]!_xlnm.Print_Area,3,0),6,FALSE))","v":{"$error":"#REF!"}},{"$f":"IF(J719=\"\",\"\",VLOOKUP(A719,OFFSET([0]!_xlnm.Print_Area,3,0,,7),7,FALSE))","v":{"$error":"#REF!"}}," ",{"$f":"INDEX(#REF!,SMALL(IF(#REF!<>\"\",ROW(#REF!)),ROWS(I$1:I719)-1))","v":{"$error":"#REF!"}},{"$f":"INDEX(#REF!,SMALL(IF(#REF!<>\"\",ROW(#REF!)),ROWS(J$1:J719)-1))","v":{"$error":"#REF!"}},{"$f":"INDEX(#REF!,SMALL(IF(#REF!<>\"\",ROW(#REF!)),ROWS(K$1:K719)-1))","v":{"$error":"#REF!"}}]
[{"$error":"#REF!"},{"$error":"#REF!"},{"$error":"#REF!"},{"$f":"IF(J720=\"\",VLOOKUP(C720,OFFSET([0]!_xlnm.Print_Area,3,2),2,FALSE),VLOOKUP(A720,OFFSET([0]!_xlnm.Print_Area,3,0),4,FALSE))","v":{"$error":"#REF!"}},{"$f":"IF(J720=\"\",\"\",VLOOKUP(A720,OFFSET([0]!_xlnm.Print_Area,3,0),5,FALSE))","v":{"$error":"#REF!"}},{"$f":"IF(J720=\"\",\"\",VLOOKUP(A720,OFFSET([0]!_xlnm.Print_Area,3,0),6,FALSE))","v":{"$error":"#REF!"}},{"$f":"IF(J720=\"\",\"\",VLOOKUP(A720,OFFSET([0]!_xlnm.Print_Area,3,0,,7),7,FALSE))","v":{"$error":"#REF!"}}," ",{"$f":"INDEX(#REF!,SMALL(IF(#REF!<>\"\",ROW(#REF!)),ROWS(I$1:I720)-1))","v":{"$error":"#REF!"}},{"$f":"INDEX(#REF!,SMALL(IF(#REF!<>\"\",ROW(#REF!)),ROWS(J$1:J720)-1))","v":{"$error":"#REF!"}},{"$f":"INDEX(#REF!,SMALL(IF(#REF!<>\"\",ROW(#REF!)),ROWS(K$1:K720)-1))","v":{"$error":"#REF!"}}]
[{"$error":"#REF!"},{"$error":"#REF!"},{"$error":"#REF!"},{"$f":"IF(J721=\"\",VLOOKUP(C721,OFFSET([0]!_xlnm.Print_Area,3,2),2,FALSE),VLOOKUP(A721,OFFSET([0]!_xlnm.Print_Area,3,0),4,FALSE))","v":{"$error":"#REF!"}},{"$f":"IF(J721=\"\",\"\",VLOOKUP(A721,OFFSET([0]!_xlnm.Print_Area,3,0),5,FALSE))","v":{"$error":"#REF!"}},{"$f":"IF(J721=\"\",\"\",VLOOKUP(A721,OFFSET([0]!_xlnm.Print_Area,3,0),6,FALSE))","v":{"$error":"#REF!"}},{"$f":"IF(J721=\"\",\"\",VLOOKUP(A721,OFFSET([0]!_xlnm.Print_Area,3,0,,7),7,FALSE))","v":{"$error":"#REF!"}}," ",{"$f":"INDEX(#REF!,SMALL(IF(#REF!<>\"\",ROW(#REF!)),ROWS(I$1:I721)-1))","v":{"$error":"#REF!"}},{"$f":"INDEX(#REF!,SMALL(IF(#REF!<>\"\",ROW(#REF!)),ROWS(J$1:J721)-1))","v":{"$error":"#REF!"}},{"$f":"INDEX(#REF!,SMALL(IF(#REF!<>\"\",ROW(#REF!)),ROWS(K$1:K721)-1))","v":{"$error":"#REF!"}}]
[{"$error":"#REF!"},{"$error":"#REF!"},{"$error":"#REF!"},{"$f":"IF(J722=\"\",VLOOKUP(C722,OFFSET([0]!_xlnm.Print_Area,3,2),2,FALSE),VLOOKUP(A722,OFFSET([0]!_xlnm.Print_Area,3,0),4,FALSE))","v":{"$error":"#REF!"}},{"$f":"IF(J722=\"\",\"\",VLOOKUP(A722,OFFSET([0]!_xlnm.Print_Area,3,0),5,FALSE))","v":{"$error":"#REF!"}},{"$f":"IF(J722=\"\",\"\",VLOOKUP(A722,OFFSET([0]!_xlnm.Print_Area,3,0),6,FALSE))","v":{"$error":"#REF!"}},{"$f":"IF(J722=\"\",\"\",VLOOKUP(A722,OFFSET([0]!_xlnm.Print_Area,3,0,,7),7,FALSE))","v":{"$error":"#REF!"}}," ",{"$f":"INDEX(#REF!,SMALL(IF(#REF!<>\"\",ROW(#REF!)),ROWS(I$1:I722)-1))","v":{"$error":"#REF!"}},{"$f":"INDEX(#REF!,SMALL(IF(#REF!<>\"\",ROW(#REF!)),ROWS(J$1:J722)-1))","v":{"$error":"#REF!"}},{"$f":"INDEX(#REF!,SMALL(IF(#REF!<>\"\",ROW(#REF!)),ROWS(K$1:K722)-1))","v":{"$error":"#REF!"}}]
[{"$error":"#REF!"},{"$error":"#REF!"},{"$error":"#REF!"},{"$f":"IF(J723=\"\",VLOOKUP(C723,OFFSET([0]!_xlnm.Print_Area,3,2),2,FALSE),VLOOKUP(A723,OFFSET([0]!_xlnm.Print_Area,3,0),4,FALSE))","v":{"$error":"#REF!"}},{"$f":"IF(J723=\"\",\"\",VLOOKUP(A723,OFFSET([0]!_xlnm.Print_Area,3,0),5,FALSE))","v":{"$error":"#REF!"}},{"$f":"IF(J723=\"\",\"\",VLOOKUP(A723,OFFSET([0]!_xlnm.Print_Area,3,0),6,FALSE))","v":{"$error":"#REF!"}},{"$f":"IF(J723=\"\",\"\",VLOOKUP(A723,OFFSET([0]!_xlnm.Print_Area,3,0,,7),7,FALSE))","v":{"$error":"#REF!"}}," ",{"$f":"INDEX(#REF!,SMALL(IF(#REF!<>\"\",ROW(#REF!)),ROWS(I$1:I723)-1))","v":{"$error":"#REF!"}},{"$f":"INDEX(#REF!,SMALL(IF(#REF!<>\"\",ROW(#REF!)),ROWS(J$1:J723)-1))","v":{"$error":"#REF!"}},{"$f":"INDEX(#REF!,SMALL(IF(#REF!<>\"\",ROW(#REF!)),ROWS(K$1:K723)-1))","v":{"$error":"#REF!"}}]
[{"$error":"#REF!"},{"$error":"#REF!"},{"$error":"#REF!"},{"$f":"IF(J724=\"\",VLOOKUP(C724,OFFSET([0]!_xlnm.Print_Area,3,2),2,FALSE),VLOOKUP(A724,OFFSET([0]!_xlnm.Print_Area,3,0),4,FALSE))","v":{"$error":"#REF!"}},{"$f":"IF(J724=\"\",\"\",VLOOKUP(A724,OFFSET([0]!_xlnm.Print_Area,3,0),5,FALSE))","v":{"$error":"#REF!"}},{"$f":"IF(J724=\"\",\"\",VLOOKUP(A724,OFFSET([0]!_xlnm.Print_Area,3,0),6,FALSE))","v":{"$error":"#REF!"}},{"$f":"IF(J724=\"\",\"\",VLOOKUP(A724,OFFSET([0]!_xlnm.Print_Area,3,0,,7),7,FALSE))","v":{"$error":"#REF!"}}," ",{"$f":"INDEX(#REF!,SMALL(IF(#REF!<>\"\",ROW(#REF!)),ROWS(I$1:I724)-1))","v":{"$error":"#REF!"}},{"$f":"INDEX(#REF!,SMALL(IF(#REF!<>\"\",ROW(#REF!)),ROWS(J$1:J724)-1))","v":{"$error":"#REF!"}},{"$f":"INDEX(#REF!,SMALL(IF(#REF!<>\"\",ROW(#REF!)),ROWS(K$1:K724)-1))","v":{"$error":"#REF!"}}]
[{"$error":"#REF!"},{"$error":"#REF!"},{"$error":"#REF!"},{"$f":"IF(J725=\"\",VLOOKUP(C725,OFFSET([0]!_xlnm.Print_Area,3,2),2,FALSE),VLOOKUP(A725,OFFSET([0]!_xlnm.Print_Area,3,0),4,FALSE))","v":{"$error":"#REF!"}},{"$f":"IF(J725=\"\",\"\",VLOOKUP(A725,OFFSET([0]!_xlnm.Print_Area,3,0),5,FALSE))","v":{"$error":"#REF!"}},{"$f":"IF(J725=\"\",\"\",VLOOKUP(A725,OFFSET([0]!_xlnm.Print_Area,3,0),6,FALSE))","v":{"$error":"#REF!"}},{"$f":"IF(J725=\"\",\"\",VLOOKUP(A725,OFFSET([0]!_xlnm.Print_Area,3,0,,7),7,FALSE))","v":{"$error":"#REF!"}}," ",{"$f":"INDEX(#REF!,SMALL(IF(#REF!<>\"\",ROW(#REF!)),ROWS(I$1:I725)-1))","v":{"$error":"#REF!"}},{"$f":"INDEX(#REF!,SMALL(IF(#REF!<>\"\",ROW(#REF!)),ROWS(J$1:J725)-1))","v":{"$error":"#REF!"}},{"$f":"INDEX(#REF!,SMALL(IF(#REF!<>\"\",ROW(#REF!)),ROWS(K$1:K725)-1))","v":{"$error":"#REF!"}}]
[{"$error":"#REF!"},{"$error":"#REF!"},{"$error":"#REF!"},{"$f":"IF(J726=\"\",VLOOKUP(C726,OFFSET([0]!_xlnm.Print_Area,3,2),2,FALSE),VLOOKUP(A726,OFFSET([0]!_xlnm.Print_Area,3,0),4,FALSE))","v":{"$error":"#REF!"}},{"$f":"IF(J726=\"\",\"\",VLOOKUP(A726,OFFSET([0]!_xlnm.Print_Area,3,0),5,FALSE))","v":{"$error":"#REF!"}},{"$f":"IF(J726=\"\",\"\",VLOOKUP(A726,OFFSET([0]!_xlnm.Print_Area,3,0),6,FALSE))","v":{"$error":"#REF!"}},{"$f":"IF(J726=\"\",\"\",VLOOKUP(A726,OFFSET([0]!_xlnm.Print_Area,3,0,,7),7,FALSE))","v":{"$error":"#REF!"}}," ",{"$f":"INDEX(#REF!,SMALL(IF(#REF!<>\"\",ROW(#REF!)),ROWS(I$1:I726)-1))","v":{"$error":"#REF!"}},{"$f":"INDEX(#REF!,SMALL(IF(#REF!<>\"\",ROW(#REF!)),ROWS(J$1:J726)-1))","v":{"$error":"#REF!"}},{"$f":"INDEX(#REF!,SMALL(IF(#REF!<>\"\",ROW(#REF!)),ROWS(K$1:K726)-1))","v":{"$error":"#REF!"}}]
[{"$error":"#REF!"},{"$error":"#REF!"},{"$error":"#REF!"},{"$f":"IF(J727=\"\",VLOOKUP(C727,OFFSET([0]!_xlnm.Print_Area,3,2),2,FALSE),VLOOKUP(A727,OFFSET([0]!_xlnm.Print_Area,3,0),4,FALSE))","v":{"$error":"#REF!"}},{"$f":"IF(J727=\"\",\"\",VLOOKUP(A727,OFFSET([0]!_xlnm.Print_Area,3,0),5,FALSE))","v":{"$error":"#REF!"}},{"$f":"IF(J727=\"\",\"\",VLOOKUP(A727,OFFSET([0]!_xlnm.Print_Area,3,0),6,FALSE))","v":{"$error":"#REF!"}},{"$f":"IF(J727=\"\",\"\",VLOOKUP(A727,OFFSET([0]!_xlnm.Print_Area,3,0,,7),7,FALSE))","v":{"$error":"#REF!"}}," ",{"$f":"INDEX(#REF!,SMALL(IF(#REF!<>\"\",ROW(#REF!)),ROWS(I$1:I727)-1))","v":{"$error":"#REF!"}},{"$f":"INDEX(#REF!,SMALL(IF(#REF!<>\"\",ROW(#REF!)),ROWS(J$1:J727)-1))","v":{"$error":"#REF!"}},{"$f":"INDEX(#REF!,SMALL(IF(#REF!<>\"\",ROW(#REF!)),ROWS(K$1:K727)-1))","v":{"$error":"#REF!"}}]
[{"$error":"#REF!"},{"$error":"#REF!"},{"$error":"#REF!"},{"$f":"IF(J728=\"\",VLOOKUP(C728,OFFSET([0]!_xlnm.Print_Area,3,2),2,FALSE),VLOOKUP(A728,OFFSET([0]!_xlnm.Print_Area,3,0),4,FALSE))","v":{"$error":"#REF!"}},{"$f":"IF(J728=\"\",\"\",VLOOKUP(A728,OFFSET([0]!_xlnm.Print_Area,3,0),5,FALSE))","v":{"$error":"#REF!"}},{"$f":"IF(J728=\"\",\"\",VLOOKUP(A728,OFFSET([0]!_xlnm.Print_Area,3,0),6,FALSE))","v":{"$error":"#REF!"}},{"$f":"IF(J728=\"\",\"\",VLOOKUP(A728,OFFSET([0]!_xlnm.Print_Area,3,0,,7),7,FALSE))","v":{"$error":"#REF!"}}," ",{"$f":"INDEX(#REF!,SMALL(IF(#REF!<>\"\",ROW(#REF!)),ROWS(I$1:I728)-1))","v":{"$error":"#REF!"}},{"$f":"INDEX(#REF!,SMALL(IF(#REF!<>\"\",ROW(#REF!)),ROWS(J$1:J728)-1))","v":{"$error":"#REF!"}},{"$f":"INDEX(#REF!,SMALL(IF(#REF!<>\"\",ROW(#REF!)),ROWS(K$1:K728)-1))","v":{"$error":"#REF!"}}]
[{"$error":"#REF!"},{"$error":"#REF!"},{"$error":"#REF!"},{"$f":"IF(J729=\"\",VLOOKUP(C729,OFFSET([0]!_xlnm.Print_Area,3,2),2,FALSE),VLOOKUP(A729,OFFSET([0]!_xlnm.Print_Area,3,0),4,FALSE))","v":{"$error":"#REF!"}},{"$f":"IF(J729=\"\",\"\",VLOOKUP(A729,OFFSET([0]!_xlnm.Print_Area,3,0),5,FALSE))","v":{"$error":"#REF!"}},{"$f":"IF(J729=\"\",\"\",VLOOKUP(A729,OFFSET([0]!_xlnm.Print_Area,3,0),6,FALSE))","v":{"$error":"#REF!"}},{"$f":"IF(J729=\"\",\"\",VLOOKUP(A729,OFFSET([0]!_xlnm.Print_Area,3,0,,7),7,FALSE))","v":{"$error":"#REF!"}}," ",{"$f":"INDEX(#REF!,SMALL(IF(#REF!<>\"\",ROW(#REF!)),ROWS(I$1:I729)-1))","v":{"$error":"#REF!"}},{"$f":"INDEX(#REF!,SMALL(IF(#REF!<>\"\",ROW(#REF!)),ROWS(J$1:J729)-1))","v":{"$error":"#REF!"}},{"$f":"INDEX(#REF!,SMALL(IF(#REF!<>\"\",ROW(#REF!)),ROWS(K$1:K729)-1))","v":{"$error":"#REF!"}}]
[{"$error":"#REF!"},{"$error":"#REF!"},{"$error":"#REF!"},{"$f":"IF(J730=\"\",VLOOKUP(C730,OFFSET([0]!_xlnm.Print_Area,3,2),2,FALSE),VLOOKUP(A730,OFFSET([0]!_xlnm.Print_Area,3,0),4,FALSE))","v":{"$error":"#REF!"}},{"$f":"IF(J730=\"\",\"\",VLOOKUP(A730,OFFSET([0]!_xlnm.Print_Area,3,0),5,FALSE))","v":{"$error":"#REF!"}},{"$f":"IF(J730=\"\",\"\",VLOOKUP(A730,OFFSET([0]!_xlnm.Print_Area,3,0),6,FALSE))","v":{"$error":"#REF!"}},{"$f":"IF(J730=\"\",\"\",VLOOKUP(A730,OFFSET([0]!_xlnm.Print_Area,3,0,,7),7,FALSE))","v":{"$error":"#REF!"}}," ",{"$f":"INDEX(#REF!,SMALL(IF(#REF!<>\"\",ROW(#REF!)),ROWS(I$1:I730)-1))","v":{"$error":"#REF!"}},{"$f":"INDEX(#REF!,SMALL(IF(#REF!<>\"\",ROW(#REF!)),ROWS(J$1:J730)-1))","v":{"$error":"#REF!"}},{"$f":"INDEX(#REF!,SMALL(IF(#REF!<>\"\",ROW(#REF!)),ROWS(K$1:K730)-1))","v":{"$error":"#REF!"}}]
[{"$error":"#REF!"},{"$error":"#REF!"},{"$error":"#REF!"},{"$f":"IF(J731=\"\",VLOOKUP(C731,OFFSET([0]!_xlnm.Print_Area,3,2),2,FALSE),VLOOKUP(A731,OFFSET([0]!_xlnm.Print_Area,3,0),4,FALSE))","v":{"$error":"#REF!"}},{"$f":"IF(J731=\"\",\"\",VLOOKUP(A731,OFFSET([0]!_xlnm.Print_Area,3,0),5,FALSE))","v":{"$error":"#REF!"}},{"$f":"IF(J731=\"\",\"\",VLOOKUP(A731,OFFSET([0]!_xlnm.Print_Area,3,0),6,FALSE))","v":{"$error":"#REF!"}},{"$f":"IF(J731=\"\",\"\",VLOOKUP(A731,OFFSET([0]!_xlnm.Print_Area,3,0,,7),7,FALSE))","v":{"$error":"#REF!"}}," ",{"$f":"INDEX(#REF!,SMALL(IF(#REF!<>\"\",ROW(#REF!)),ROWS(I$1:I731)-1))","v":{"$error":"#REF!"}},{"$f":"INDEX(#REF!,SMALL(IF(#REF!<>\"\",ROW(#REF!)),ROWS(J$1:J731)-1))","v":{"$error":"#REF!"}},{"$f":"INDEX(#REF!,SMALL(IF(#REF!<>\"\",ROW(#REF!)),ROWS(K$1:K731)-1))","v":{"$error":"#REF!"}}]
[{"$error":"#REF!"},{"$error":"#REF!"},{"$error":"#REF!"},{"$f":"IF(J732=\"\",VLOOKUP(C732,OFFSET([0]!_xlnm.Print_Area,3,2),2,FALSE),VLOOKUP(A732,OFFSET([0]!_xlnm.Print_Area,3,0),4,FALSE))","v":{"$error":"#REF!"}},{"$f":"IF(J732=\"\",\"\",VLOOKUP(A732,OFFSET([0]!_xlnm.Print_Area,3,0),5,FALSE))","v":{"$error":"#REF!"}},{"$f":"IF(J732=\"\",\"\",VLOOKUP(A732,OFFSET([0]!_xlnm.Print_Area,3,0),6,FALSE))","v":{"$error":"#REF!"}},{"$f":"IF(J732=\"\",\"\",VLOOKUP(A732,OFFSET([0]!_xlnm.Print_Area,3,0,,7),7,FALSE))","v":{"$error":"#REF!"}}," ",{"$f":"INDEX(#REF!,SMALL(IF(#REF!<>\"\",ROW(#REF!)),ROWS(I$1:I732)-1))","v":{"$error":"#REF!"}},{"$f":"INDEX(#REF!,SMALL(IF(#REF!<>\"\",ROW(#REF!)),ROWS(J$1:J732)-1))","v":{"$error":"#REF!"}},{"$f":"INDEX(#REF!,SMALL(IF(#REF!<>\"\",ROW(#REF!)),ROWS(K$1:K732)-1))","v":{"$error":"#REF!"}}]
[{"$error":"#REF!"},{"$error":"#REF!"},{"$error":"#REF!"},{"$f":"IF(J733=\"\",VLOOKUP(C733,OFFSET([0]!_xlnm.Print_Area,3,2),2,FALSE),VLOOKUP(A733,OFFSET([0]!_xlnm.Print_Area,3,0),4,FALSE))","v":{"$error":"#REF!"}},{"$f":"IF(J733=\"\",\"\",VLOOKUP(A733,OFFSET([0]!_xlnm.Print_Area,3,0),5,FALSE))","v":{"$error":"#REF!"}},{"$f":"IF(J733=\"\",\"\",VLOOKUP(A733,OFFSET([0]!_xlnm.Print_Area,3,0),6,FALSE))","v":{"$error":"#REF!"}},{"$f":"IF(J733=\"\",\"\",VLOOKUP(A733,OFFSET([0]!_xlnm.Print_Area,3,0,,7),7,FALSE))","v":{"$error":"#REF!"}}," ",{"$f":"INDEX(#REF!,SMALL(IF(#REF!<>\"\",ROW(#REF!)),ROWS(I$1:I733)-1))","v":{"$error":"#REF!"}},{"$f":"INDEX(#REF!,SMALL(IF(#REF!<>\"\",ROW(#REF!)),ROWS(J$1:J733)-1))","v":{"$error":"#REF!"}},{"$f":"INDEX(#REF!,SMALL(IF(#REF!<>\"\",ROW(#REF!)),ROWS(K$1:K733)-1))","v":{"$error":"#REF!"}}]
[{"$error":"#REF!"},{"$error":"#REF!"},{"$error":"#REF!"},{"$f":"IF(J734=\"\",VLOOKUP(C734,OFFSET([0]!_xlnm.Print_Area,3,2),2,FALSE),VLOOKUP(A734,OFFSET([0]!_xlnm.Print_Area,3,0),4,FALSE))","v":{"$error":"#REF!"}},{"$f":"IF(J734=\"\",\"\",VLOOKUP(A734,OFFSET([0]!_xlnm.Print_Area,3,0),5,FALSE))","v":{"$error":"#REF!"}},{"$f":"IF(J734=\"\",\"\",VLOOKUP(A734,OFFSET([0]!_xlnm.Print_Area,3,0),6,FALSE))","v":{"$error":"#REF!"}},{"$f":"IF(J734=\"\",\"\",VLOOKUP(A734,OFFSET([0]!_xlnm.Print_Area,3,0,,7),7,FALSE))","v":{"$error":"#REF!"}}," ",{"$f":"INDEX(#REF!,SMALL(IF(#REF!<>\"\",ROW(#REF!)),ROWS(I$1:I734)-1))","v":{"$error":"#REF!"}},{"$f":"INDEX(#REF!,SMALL(IF(#REF!<>\"\",ROW(#REF!)),ROWS(J$1:J734)-1))","v":{"$error":"#REF!"}},{"$f":"INDEX(#REF!,SMALL(IF(#REF!<>\"\",ROW(#REF!)),ROWS(K$1:K734)-1))","v":{"$error":"#REF!"}}]
[{"$error":"#REF!"},{"$error":"#REF!"},{"$error":"#REF!"},{"$f":"IF(J735=\"\",VLOOKUP(C735,OFFSET([0]!_xlnm.Print_Area,3,2),2,FALSE),VLOOKUP(A735,OFFSET([0]!_xlnm.Print_Area,3,0),4,FALSE))","v":{"$error":"#REF!"}},{"$f":"IF(J735=\"\",\"\",VLOOKUP(A735,OFFSET([0]!_xlnm.Print_Area,3,0),5,FALSE))","v":{"$error":"#REF!"}},{"$f":"IF(J735=\"\",\"\",VLOOKUP(A735,OFFSET([0]!_xlnm.Print_Area,3,0),6,FALSE))","v":{"$error":"#REF!"}},{"$f":"IF(J735=\"\",\"\",VLOOKUP(A735,OFFSET([0]!_xlnm.Print_Area,3,0,,7),7,FALSE))","v":{"$error":"#REF!"}}," ",{"$f":"INDEX(#REF!,SMALL(IF(#REF!<>\"\",ROW(#REF!)),ROWS(I$1:I735)-1))","v":{"$error":"#REF!"}},{"$f":"INDEX(#REF!,SMALL(IF(#REF!<>\"\",ROW(#REF!)),ROWS(J$1:J735)-1))","v":{"$error":"#REF!"}},{"$f":"INDEX(#REF!,SMALL(IF(#REF!<>\"\",ROW(#REF!)),ROWS(K$1:K735)-1))","v":{"$error":"#REF!"}}]
[{"$error":"#REF!"},{"$error":"#REF!"},{"$error":"#REF!"},{"$f":"IF(J736=\"\",VLOOKUP(C736,OFFSET([0]!_xlnm.Print_Area,3,2),2,FALSE),VLOOKUP(A736,OFFSET([0]!_xlnm.Print_Area,3,0),4,FALSE))","v":{"$error":"#REF!"}},{"$f":"IF(J736=\"\",\"\",VLOOKUP(A736,OFFSET([0]!_xlnm.Print_Area,3,0),5,FALSE))","v":{"$error":"#REF!"}},{"$f":"IF(J736=\"\",\"\",VLOOKUP(A736,OFFSET([0]!_xlnm.Print_Area,3,0),6,FALSE))","v":{"$error":"#REF!"}},{"$f":"IF(J736=\"\",\"\",VLOOKUP(A736,OFFSET([0]!_xlnm.Print_Area,3,0,,7),7,FALSE))","v":{"$error":"#REF!"}}," ",{"$f":"INDEX(#REF!,SMALL(IF(#REF!<>\"\",ROW(#REF!)),ROWS(I$1:I736)-1))","v":{"$error":"#REF!"}},{"$f":"INDEX(#REF!,SMALL(IF(#REF!<>\"\",ROW(#REF!)),ROWS(J$1:J736)-1))","v":{"$error":"#REF!"}},{"$f":"INDEX(#REF!,SMALL(IF(#REF!<>\"\",ROW(#REF!)),ROWS(K$1:K736)-1))","v":{"$error":"#REF!"}}]
[{"$error":"#REF!"},{"$error":"#REF!"},{"$error":"#REF!"},{"$f":"IF(J737=\"\",VLOOKUP(C737,OFFSET([0]!_xlnm.Print_Area,3,2),2,FALSE),VLOOKUP(A737,OFFSET([0]!_xlnm.Print_Area,3,0),4,FALSE))","v":{"$error":"#REF!"}},{"$f":"IF(J737=\"\",\"\",VLOOKUP(A737,OFFSET([0]!_xlnm.Print_Area,3,0),5,FALSE))","v":{"$error":"#REF!"}},{"$f":"IF(J737=\"\",\"\",VLOOKUP(A737,OFFSET([0]!_xlnm.Print_Area,3,0),6,FALSE))","v":{"$error":"#REF!"}},{"$f":"IF(J737=\"\",\"\",VLOOKUP(A737,OFFSET([0]!_xlnm.Print_Area,3,0,,7),7,FALSE))","v":{"$error":"#REF!"}}," ",{"$f":"INDEX(#REF!,SMALL(IF(#REF!<>\"\",ROW(#REF!)),ROWS(I$1:I737)-1))","v":{"$error":"#REF!"}},{"$f":"INDEX(#REF!,SMALL(IF(#REF!<>\"\",ROW(#REF!)),ROWS(J$1:J737)-1))","v":{"$error":"#REF!"}},{"$f":"INDEX(#REF!,SMALL(IF(#REF!<>\"\",ROW(#REF!)),ROWS(K$1:K737)-1))","v":{"$error":"#REF!"}}]
[{"$error":"#REF!"},{"$error":"#REF!"},{"$error":"#REF!"},{"$f":"IF(J738=\"\",VLOOKUP(C738,OFFSET([0]!_xlnm.Print_Area,3,2),2,FALSE),VLOOKUP(A738,OFFSET([0]!_xlnm.Print_Area,3,0),4,FALSE))","v":{"$error":"#REF!"}},{"$f":"IF(J738=\"\",\"\",VLOOKUP(A738,OFFSET([0]!_xlnm.Print_Area,3,0),5,FALSE))","v":{"$error":"#REF!"}},{"$f":"IF(J738=\"\",\"\",VLOOKUP(A738,OFFSET([0]!_xlnm.Print_Area,3,0),6,FALSE))","v":{"$error":"#REF!"}},{"$f":"IF(J738=\"\",\"\",VLOOKUP(A738,OFFSET([0]!_xlnm.Print_Area,3,0,,7),7,FALSE))","v":{"$error":"#REF!"}}," ",{"$f":"INDEX(#REF!,SMALL(IF(#REF!<>\"\",ROW(#REF!)),ROWS(I$1:I738)-1))","v":{"$error":"#REF!"}},{"$f":"INDEX(#REF!,SMALL(IF(#REF!<>\"\",ROW(#REF!)),ROWS(J$1:J738)-1))","v":{"$error":"#REF!"}},{"$f":"INDEX(#REF!,SMALL(IF(#REF!<>\"\",ROW(#REF!)),ROWS(K$1:K738)-1))","v":{"$error":"#REF!"}}]
[{"$error":"#REF!"},{"$error":"#REF!"},{"$error":"#REF!"},{"$f":"IF(J739=\"\",VLOOKUP(C739,OFFSET([0]!_xlnm.Print_Area,3,2),2,FALSE),VLOOKUP(A739,OFFSET([0]!_xlnm.Print_Area,3,0),4,FALSE))","v":{"$error":"#REF!"}},{"$f":"IF(J739=\"\",\"\",VLOOKUP(A739,OFFSET([0]!_xlnm.Print_Area,3,0),5,FALSE))","v":{"$error":"#REF!"}},{"$f":"IF(J739=\"\",\"\",VLOOKUP(A739,OFFSET([0]!_xlnm.Print_Area,3,0),6,FALSE))","v":{"$error":"#REF!"}},{"$f":"IF(J739=\"\",\"\",VLOOKUP(A739,OFFSET([0]!_xlnm.Print_Area,3,0,,7),7,FALSE))","v":{"$error":"#REF!"}}," ",{"$f":"INDEX(#REF!,SMALL(IF(#REF!<>\"\",ROW(#REF!)),ROWS(I$1:I739)-1))","v":{"$error":"#REF!"}},{"$f":"INDEX(#REF!,SMALL(IF(#REF!<>\"\",ROW(#REF!)),ROWS(J$1:J739)-1))","v":{"$error":"#REF!"}},{"$f":"INDEX(#REF!,SMALL(IF(#REF!<>\"\",ROW(#REF!)),ROWS(K$1:K739)-1))","v":{"$error":"#REF!"}}]
[{"$error":"#REF!"},{"$error":"#REF!"},{"$error":"#REF!"},{"$f":"IF(J740=\"\",VLOOKUP(C740,OFFSET([0]!_xlnm.Print_Area,3,2),2,FALSE),VLOOKUP(A740,OFFSET([0]!_xlnm.Print_Area,3,0),4,FALSE))","v":{"$error":"#REF!"}},{"$f":"IF(J740=\"\",\"\",VLOOKUP(A740,OFFSET([0]!_xlnm.Print_Area,3,0),5,FALSE))","v":{"$error":"#REF!"}},{"$f":"IF(J740=\"\",\"\",VLOOKUP(A740,OFFSET([0]!_xlnm.Print_Area,3,0),6,FALSE))","v":{"$error":"#REF!"}},{"$f":"IF(J740=\"\",\"\",VLOOKUP(A740,OFFSET([0]!_xlnm.Print_Area,3,0,,7),7,FALSE))","v":{"$error":"#REF!"}}," ",{"$f":"INDEX(#REF!,SMALL(IF(#REF!<>\"\",ROW(#REF!)),ROWS(I$1:I740)-1))","v":{"$error":"#REF!"}},{"$f":"INDEX(#REF!,SMALL(IF(#REF!<>\"\",ROW(#REF!)),ROWS(J$1:J740)-1))","v":{"$error":"#REF!"}},{"$f":"INDEX(#REF!,SMALL(IF(#REF!<>\"\",ROW(#REF!)),ROWS(K$1:K740)-1))","v":{"$error":"#REF!"}}]
[{"$error":"#REF!"},{"$error":"#REF!"},{"$error":"#REF!"},{"$f":"IF(J741=\"\",VLOOKUP(C741,OFFSET([0]!_xlnm.Print_Area,3,2),2,FALSE),VLOOKUP(A741,OFFSET([0]!_xlnm.Print_Area,3,0),4,FALSE))","v":{"$error":"#REF!"}},{"$f":"IF(J741=\"\",\"\",VLOOKUP(A741,OFFSET([0]!_xlnm.Print_Area,3,0),5,FALSE))","v":{"$error":"#REF!"}},{"$f":"IF(J741=\"\",\"\",VLOOKUP(A741,OFFSET([0]!_xlnm.Print_Area,3,0),6,FALSE))","v":{"$error":"#REF!"}},{"$f":"IF(J741=\"\",\"\",VLOOKUP(A741,OFFSET([0]!_xlnm.Print_Area,3,0,,7),7,FALSE))","v":{"$error":"#REF!"}}," ",{"$f":"INDEX(#REF!,SMALL(IF(#REF!<>\"\",ROW(#REF!)),ROWS(I$1:I741)-1))","v":{"$error":"#REF!"}},{"$f":"INDEX(#REF!,SMALL(IF(#REF!<>\"\",ROW(#REF!)),ROWS(J$1:J741)-1))","v":{"$error":"#REF!"}},{"$f":"INDEX(#REF!,SMALL(IF(#REF!<>\"\",ROW(#REF!)),ROWS(K$1:K741)-1))","v":{"$error":"#REF!"}}]
[{"$error":"#REF!"},{"$error":"#REF!"},{"$error":"#REF!"},{"$f":"IF(J742=\"\",VLOOKUP(C742,OFFSET([0]!_xlnm.Print_Area,3,2),2,FALSE),VLOOKUP(A742,OFFSET([0]!_xlnm.Print_Area,3,0),4,FALSE))","v":{"$error":"#REF!"}},{"$f":"IF(J742=\"\",\"\",VLOOKUP(A742,OFFSET([0]!_xlnm.Print_Area,3,0),5,FALSE))","v":{"$error":"#REF!"}},{"$f":"IF(J742=\"\",\"\",VLOOKUP(A742,OFFSET([0]!_xlnm.Print_Area,3,0),6,FALSE))","v":{"$error":"#REF!"}},{"$f":"IF(J742=\"\",\"\",VLOOKUP(A742,OFFSET([0]!_xlnm.Print_Area,3,0,,7),7,FALSE))","v":{"$error":"#REF!"}}," ",{"$f":"INDEX(#REF!,SMALL(IF(#REF!<>\"\",ROW(#REF!)),ROWS(I$1:I742)-1))","v":{"$error":"#REF!"}},{"$f":"INDEX(#REF!,SMALL(IF(#REF!<>\"\",ROW(#REF!)),ROWS(J$1:J742)-1))","v":{"$error":"#REF!"}},{"$f":"INDEX(#REF!,SMALL(IF(#REF!<>\"\",ROW(#REF!)),ROWS(K$1:K742)-1))","v":{"$error":"#REF!"}}]
[{"$error":"#REF!"},{"$error":"#REF!"},{"$error":"#REF!"},{"$f":"IF(J743=\"\",VLOOKUP(C743,OFFSET([0]!_xlnm.Print_Area,3,2),2,FALSE),VLOOKUP(A743,OFFSET([0]!_xlnm.Print_Area,3,0),4,FALSE))","v":{"$error":"#REF!"}},{"$f":"IF(J743=\"\",\"\",VLOOKUP(A743,OFFSET([0]!_xlnm.Print_Area,3,0),5,FALSE))","v":{"$error":"#REF!"}},{"$f":"IF(J743=\"\",\"\",VLOOKUP(A743,OFFSET([0]!_xlnm.Print_Area,3,0),6,FALSE))","v":{"$error":"#REF!"}},{"$f":"IF(J743=\"\",\"\",VLOOKUP(A743,OFFSET([0]!_xlnm.Print_Area,3,0,,7),7,FALSE))","v":{"$error":"#REF!"}}," ",{"$f":"INDEX(#REF!,SMALL(IF(#REF!<>\"\",ROW(#REF!)),ROWS(I$1:I743)-1))","v":{"$error":"#REF!"}},{"$f":"INDEX(#REF!,SMALL(IF(#REF!<>\"\",ROW(#REF!)),ROWS(J$1:J743)-1))","v":{"$error":"#REF!"}},{"$f":"INDEX(#REF!,SMALL(IF(#REF!<>\"\",ROW(#REF!)),ROWS(K$1:K743)-1))","v":{"$error":"#REF!"}}]
[{"$error":"#REF!"},{"$error":"#REF!"},{"$error":"#REF!"},{"$f":"IF(J744=\"\",VLOOKUP(C744,OFFSET([0]!_xlnm.Print_Area,3,2),2,FALSE),VLOOKUP(A744,OFFSET([0]!_xlnm.Print_Area,3,0),4,FALSE))","v":{"$error":"#REF!"}},{"$f":"IF(J744=\"\",\"\",VLOOKUP(A744,OFFSET([0]!_xlnm.Print_Area,3,0),5,FALSE))","v":{"$error":"#REF!"}},{"$f":"IF(J744=\"\",\"\",VLOOKUP(A744,OFFSET([0]!_xlnm.Print_Area,3,0),6,FALSE))","v":{"$error":"#REF!"}},{"$f":"IF(J744=\"\",\"\",VLOOKUP(A744,OFFSET([0]!_xlnm.Print_Area,3,0,,7),7,FALSE))","v":{"$error":"#REF!"}}," ",{"$f":"INDEX(#REF!,SMALL(IF(#REF!<>\"\",ROW(#REF!)),ROWS(I$1:I744)-1))","v":{"$error":"#REF!"}},{"$f":"INDEX(#REF!,SMALL(IF(#REF!<>\"\",ROW(#REF!)),ROWS(J$1:J744)-1))","v":{"$error":"#REF!"}},{"$f":"INDEX(#REF!,SMALL(IF(#REF!<>\"\",ROW(#REF!)),ROWS(K$1:K744)-1))","v":{"$error":"#REF!"}}]
[{"$error":"#REF!"},{"$error":"#REF!"},{"$error":"#REF!"},{"$f":"IF(J745=\"\",VLOOKUP(C745,OFFSET([0]!_xlnm.Print_Area,3,2),2,FALSE),VLOOKUP(A745,OFFSET([0]!_xlnm.Print_Area,3,0),4,FALSE))","v":{"$error":"#REF!"}},{"$f":"IF(J745=\"\",\"\",VLOOKUP(A745,OFFSET([0]!_xlnm.Print_Area,3,0),5,FALSE))","v":{"$error":"#REF!"}},{"$f":"IF(J745=\"\",\"\",VLOOKUP(A745,OFFSET([0]!_xlnm.Print_Area,3,0),6,FALSE))","v":{"$error":"#REF!"}},{"$f":"IF(J745=\"\",\"\",VLOOKUP(A745,OFFSET([0]!_xlnm.Print_Area,3,0,,7),7,FALSE))","v":{"$error":"#REF!"}}," ",{"$f":"INDEX(#REF!,SMALL(IF(#REF!<>\"\",ROW(#REF!)),ROWS(I$1:I745)-1))","v":{"$error":"#REF!"}},{"$f":"INDEX(#REF!,SMALL(IF(#REF!<>\"\",ROW(#REF!)),ROWS(J$1:J745)-1))","v":{"$error":"#REF!"}},{"$f":"INDEX(#REF!,SMALL(IF(#REF!<>\"\",ROW(#REF!)),ROWS(K$1:K745)-1))","v":{"$error":"#REF!"}}]
[{"$error":"#REF!"},{"$error":"#REF!"},{"$error":"#REF!"},{"$f":"IF(J746=\"\",VLOOKUP(C746,OFFSET([0]!_xlnm.Print_Area,3,2),2,FALSE),VLOOKUP(A746,OFFSET([0]!_xlnm.Print_Area,3,0),4,FALSE))","v":{"$error":"#REF!"}},{"$f":"IF(J746=\"\",\"\",VLOOKUP(A746,OFFSET([0]!_xlnm.Print_Area,3,0),5,FALSE))","v":{"$error":"#REF!"}},{"$f":"IF(J746=\"\",\"\",VLOOKUP(A746,OFFSET([0]!_xlnm.Print_Area,3,0),6,FALSE))","v":{"$error":"#REF!"}},{"$f":"IF(J746=\"\",\"\",VLOOKUP(A746,OFFSET([0]!_xlnm.Print_Area,3,0,,7),7,FALSE))","v":{"$error":"#REF!"}}," ",{"$f":"INDEX(#REF!,SMALL(IF(#REF!<>\"\",ROW(#REF!)),ROWS(I$1:I746)-1))","v":{"$error":"#REF!"}},{"$f":"INDEX(#REF!,SMALL(IF(#REF!<>\"\",ROW(#REF!)),ROWS(J$1:J746)-1))","v":{"$error":"#REF!"}},{"$f":"INDEX(#REF!,SMALL(IF(#REF!<>\"\",ROW(#REF!)),ROWS(K$1:K746)-1))","v":{"$error":"#REF!"}}]
[{"$error":"#REF!"},{"$error":"#REF!"},{"$error":"#REF!"},{"$f":"IF(J747=\"\",VLOOKUP(C747,OFFSET([0]!_xlnm.Print_Area,3,2),2,FALSE),VLOOKUP(A747,OFFSET([0]!_xlnm.Print_Area,3,0),4,FALSE))","v":{"$error":"#REF!"}},{"$f":"IF(J747=\"\",\"\",VLOOKUP(A747,OFFSET([0]!_xlnm.Print_Area,3,0),5,FALSE))","v":{"$error":"#REF!"}},{"$f":"IF(J747=\"\",\"\",VLOOKUP(A747,OFFSET([0]!_xlnm.Print_Area,3,0),6,FALSE))","v":{"$error":"#REF!"}},{"$f":"IF(J747=\"\",\"\",VLOOKUP(A747,OFFSET([0]!_xlnm.Print_Area,3,0,,7),7,FALSE))","v":{"$error":"#REF!"}}," ",{"$f":"INDEX(#REF!,SMALL(IF(#REF!<>\"\",ROW(#REF!)),ROWS(I$1:I747)-1))","v":{"$error":"#REF!"}},{"$f":"INDEX(#REF!,SMALL(IF(#REF!<>\"\",ROW(#REF!)),ROWS(J$1:J747)-1))","v":{"$error":"#REF!"}},{"$f":"INDEX(#REF!,SMALL(IF(#REF!<>\"\",ROW(#REF!)),ROWS(K$1:K747)-1))","v":{"$error":"#REF!"}}]
[{"$error":"#REF!"},{"$error":"#REF!"},{"$error":"#REF!"},{"$f":"IF(J748=\"\",VLOOKUP(C748,OFFSET([0]!_xlnm.Print_Area,3,2),2,FALSE),VLOOKUP(A748,OFFSET([0]!_xlnm.Print_Area,3,0),4,FALSE))","v":{"$error":"#REF!"}},{"$f":"IF(J748=\"\",\"\",VLOOKUP(A748,OFFSET([0]!_xlnm.Print_Area,3,0),5,FALSE))","v":{"$error":"#REF!"}},{"$f":"IF(J748=\"\",\"\",VLOOKUP(A748,OFFSET([0]!_xlnm.Print_Area,3,0),6,FALSE))","v":{"$error":"#REF!"}},{"$f":"IF(J748=\"\",\"\",VLOOKUP(A748,OFFSET([0]!_xlnm.Print_Area,3,0,,7),7,FALSE))","v":{"$error":"#REF!"}}," ",{"$f":"INDEX(#REF!,SMALL(IF(#REF!<>\"\",ROW(#REF!)),ROWS(I$1:I748)-1))","v":{"$error":"#REF!"}},{"$f":"INDEX(#REF!,SMALL(IF(#REF!<>\"\",ROW(#REF!)),ROWS(J$1:J748)-1))","v":{"$error":"#REF!"}},{"$f":"INDEX(#REF!,SMALL(IF(#REF!<>\"\",ROW(#REF!)),ROWS(K$1:K748)-1))","v":{"$error":"#REF!"}}]
[{"$error":"#REF!"},{"$error":"#REF!"},{"$error":"#REF!"},{"$f":"IF(J749=\"\",VLOOKUP(C749,OFFSET([0]!_xlnm.Print_Area,3,2),2,FALSE),VLOOKUP(A749,OFFSET([0]!_xlnm.Print_Area,3,0),4,FALSE))","v":{"$error":"#REF!"}},{"$f":"IF(J749=\"\",\"\",VLOOKUP(A749,OFFSET([0]!_xlnm.Print_Area,3,0),5,FALSE))","v":{"$error":"#REF!"}},{"$f":"IF(J749=\"\",\"\",VLOOKUP(A749,OFFSET([0]!_xlnm.Print_Area,3,0),6,FALSE))","v":{"$error":"#REF!"}},{"$f":"IF(J749=\"\",\"\",VLOOKUP(A749,OFFSET([0]!_xlnm.Print_Area,3,0,,7),7,FALSE))","v":{"$error":"#REF!"}}," ",{"$f":"INDEX(#REF!,SMALL(IF(#REF!<>\"\",ROW(#REF!)),ROWS(I$1:I749)-1))","v":{"$error":"#REF!"}},{"$f":"INDEX(#REF!,SMALL(IF(#REF!<>\"\",ROW(#REF!)),ROWS(J$1:J749)-1))","v":{"$error":"#REF!"}},{"$f":"INDEX(#REF!,SMALL(IF(#REF!<>\"\",ROW(#REF!)),ROWS(K$1:K749)-1))","v":{"$error":"#REF!"}}]
[{"$error":"#REF!"},{"$error":"#REF!"},{"$error":"#REF!"},{"$f":"IF(J750=\"\",VLOOKUP(C750,OFFSET([0]!_xlnm.Print_Area,3,2),2,FALSE),VLOOKUP(A750,OFFSET([0]!_xlnm.Print_Area,3,0),4,FALSE))","v":{"$error":"#REF!"}},{"$f":"IF(J750=\"\",\"\",VLOOKUP(A750,OFFSET([0]!_xlnm.Print_Area,3,0),5,FALSE))","v":{"$error":"#REF!"}},{"$f":"IF(J750=\"\",\"\",VLOOKUP(A750,OFFSET([0]!_xlnm.Print_Area,3,0),6,FALSE))","v":{"$error":"#REF!"}},{"$f":"IF(J750=\"\",\"\",VLOOKUP(A750,OFFSET([0]!_xlnm.Print_Area,3,0,,7),7,FALSE))","v":{"$error":"#REF!"}}," ",{"$f":"INDEX(#REF!,SMALL(IF(#REF!<>\"\",ROW(#REF!)),ROWS(I$1:I750)-1))","v":{"$error":"#REF!"}},{"$f":"INDEX(#REF!,SMALL(IF(#REF!<>\"\",ROW(#REF!)),ROWS(J$1:J750)-1))","v":{"$error":"#REF!"}},{"$f":"INDEX(#REF!,SMALL(IF(#REF!<>\"\",ROW(#REF!)),ROWS(K$1:K750)-1))","v":{"$error":"#REF!"}}]
[{"$error":"#REF!"},{"$error":"#REF!"},{"$error":"#REF!"},{"$f":"IF(J751=\"\",VLOOKUP(C751,OFFSET([0]!_xlnm.Print_Area,3,2),2,FALSE),VLOOKUP(A751,OFFSET([0]!_xlnm.Print_Area,3,0),4,FALSE))","v":{"$error":"#REF!"}},{"$f":"IF(J751=\"\",\"\",VLOOKUP(A751,OFFSET([0]!_xlnm.Print_Area,3,0),5,FALSE))","v":{"$error":"#REF!"}},{"$f":"IF(J751=\"\",\"\",VLOOKUP(A751,OFFSET([0]!_xlnm.Print_Area,3,0),6,FALSE))","v":{"$error":"#REF!"}},{"$f":"IF(J751=\"\",\"\",VLOOKUP(A751,OFFSET([0]!_xlnm.Print_Area,3,0,,7),7,FALSE))","v":{"$error":"#REF!"}}," ",{"$f":"INDEX(#REF!,SMALL(IF(#REF!<>\"\",ROW(#REF!)),ROWS(I$1:I751)-1))","v":{"$error":"#REF!"}},{"$f":"INDEX(#REF!,SMALL(IF(#REF!<>\"\",ROW(#REF!)),ROWS(J$1:J751)-1))","v":{"$error":"#REF!"}},{"$f":"INDEX(#REF!,SMALL(IF(#REF!<>\"\",ROW(#REF!)),ROWS(K$1:K751)-1))","v":{"$error":"#REF!"}}]
[{"$error":"#REF!"},{"$error":"#REF!"},{"$error":"#REF!"},{"$f":"IF(J752=\"\",VLOOKUP(C752,OFFSET([0]!_xlnm.Print_Area,3,2),2,FALSE),VLOOKUP(A752,OFFSET([0]!_xlnm.Print_Area,3,0),4,FALSE))","v":{"$error":"#REF!"}},{"$f":"IF(J752=\"\",\"\",VLOOKUP(A752,OFFSET([0]!_xlnm.Print_Area,3,0),5,FALSE))","v":{"$error":"#REF!"}},{"$f":"IF(J752=\"\",\"\",VLOOKUP(A752,OFFSET([0]!_xlnm.Print_Area,3,0),6,FALSE))","v":{"$error":"#REF!"}},{"$f":"IF(J752=\"\",\"\",VLOOKUP(A752,OFFSET([0]!_xlnm.Print_Area,3,0,,7),7,FALSE))","v":{"$error":"#REF!"}}," ",{"$f":"INDEX(#REF!,SMALL(IF(#REF!<>\"\",ROW(#REF!)),ROWS(I$1:I752)-1))","v":{"$error":"#REF!"}},{"$f":"INDEX(#REF!,SMALL(IF(#REF!<>\"\",ROW(#REF!)),ROWS(J$1:J752)-1))","v":{"$error":"#REF!"}},{"$f":"INDEX(#REF!,SMALL(IF(#REF!<>\"\",ROW(#REF!)),ROWS(K$1:K752)-1))","v":{"$error":"#REF!"}}]
[{"$error":"#REF!"},{"$error":"#REF!"},{"$error":"#REF!"},{"$f":"IF(J753=\"\",VLOOKUP(C753,OFFSET([0]!_xlnm.Print_Area,3,2),2,FALSE),VLOOKUP(A753,OFFSET([0]!_xlnm.Print_Area,3,0),4,FALSE))","v":{"$error":"#REF!"}},{"$f":"IF(J753=\"\",\"\",VLOOKUP(A753,OFFSET([0]!_xlnm.Print_Area,3,0),5,FALSE))","v":{"$error":"#REF!"}},{"$f":"IF(J753=\"\",\"\",VLOOKUP(A753,OFFSET([0]!_xlnm.Print_Area,3,0),6,FALSE))","v":{"$error":"#REF!"}},{"$f":"IF(J753=\"\",\"\",VLOOKUP(A753,OFFSET([0]!_xlnm.Print_Area,3,0,,7),7,FALSE))","v":{"$error":"#REF!"}}," ",{"$f":"INDEX(#REF!,SMALL(IF(#REF!<>\"\",ROW(#REF!)),ROWS(I$1:I753)-1))","v":{"$error":"#REF!"}},{"$f":"INDEX(#REF!,SMALL(IF(#REF!<>\"\",ROW(#REF!)),ROWS(J$1:J753)-1))","v":{"$error":"#REF!"}},{"$f":"INDEX(#REF!,SMALL(IF(#REF!<>\"\",ROW(#REF!)),ROWS(K$1:K753)-1))","v":{"$error":"#REF!"}}]
[{"$error":"#REF!"},{"$error":"#REF!"},{"$error":"#REF!"},{"$f":"IF(J754=\"\",VLOOKUP(C754,OFFSET([0]!_xlnm.Print_Area,3,2),2,FALSE),VLOOKUP(A754,OFFSET([0]!_xlnm.Print_Area,3,0),4,FALSE))","v":{"$error":"#REF!"}},{"$f":"IF(J754=\"\",\"\",VLOOKUP(A754,OFFSET([0]!_xlnm.Print_Area,3,0),5,FALSE))","v":{"$error":"#REF!"}},{"$f":"IF(J754=\"\",\"\",VLOOKUP(A754,OFFSET([0]!_xlnm.Print_Area,3,0),6,FALSE))","v":{"$error":"#REF!"}},{"$f":"IF(J754=\"\",\"\",VLOOKUP(A754,OFFSET([0]!_xlnm.Print_Area,3,0,,7),7,FALSE))","v":{"$error":"#REF!"}}," ",{"$f":"INDEX(#REF!,SMALL(IF(#REF!<>\"\",ROW(#REF!)),ROWS(I$1:I754)-1))","v":{"$error":"#REF!"}},{"$f":"INDEX(#REF!,SMALL(IF(#REF!<>\"\",ROW(#REF!)),ROWS(J$1:J754)-1))","v":{"$error":"#REF!"}},{"$f":"INDEX(#REF!,SMALL(IF(#REF!<>\"\",ROW(#REF!)),ROWS(K$1:K754)-1))","v":{"$error":"#REF!"}}]
[{"$error":"#REF!"},{"$error":"#REF!"},{"$error":"#REF!"},{"$f":"IF(J755=\"\",VLOOKUP(C755,OFFSET([0]!_xlnm.Print_Area,3,2),2,FALSE),VLOOKUP(A755,OFFSET([0]!_xlnm.Print_Area,3,0),4,FALSE))","v":{"$error":"#REF!"}},{"$f":"IF(J755=\"\",\"\",VLOOKUP(A755,OFFSET([0]!_xlnm.Print_Area,3,0),5,FALSE))","v":{"$error":"#REF!"}},{"$f":"IF(J755=\"\",\"\",VLOOKUP(A755,OFFSET([0]!_xlnm.Print_Area,3,0),6,FALSE))","v":{"$error":"#REF!"}},{"$f":"IF(J755=\"\",\"\",VLOOKUP(A755,OFFSET([0]!_xlnm.Print_Area,3,0,,7),7,FALSE))","v":{"$error":"#REF!"}}," ",{"$f":"INDEX(#REF!,SMALL(IF(#REF!<>\"\",ROW(#REF!)),ROWS(I$1:I755)-1))","v":{"$error":"#REF!"}},{"$f":"INDEX(#REF!,SMALL(IF(#REF!<>\"\",ROW(#REF!)),ROWS(J$1:J755)-1))","v":{"$error":"#REF!"}},{"$f":"INDEX(#REF!,SMALL(IF(#REF!<>\"\",ROW(#REF!)),ROWS(K$1:K755)-1))","v":{"$error":"#REF!"}}]
[{"$error":"#REF!"},{"$error":"#REF!"},{"$error":"#REF!"},{"$f":"IF(J756=\"\",VLOOKUP(C756,OFFSET([0]!_xlnm.Print_Area,3,2),2,FALSE),VLOOKUP(A756,OFFSET([0]!_xlnm.Print_Area,3,0),4,FALSE))","v":{"$error":"#REF!"}},{"$f":"IF(J756=\"\",\"\",VLOOKUP(A756,OFFSET([0]!_xlnm.Print_Area,3,0),5,FALSE))","v":{"$error":"#REF!"}},{"$f":"IF(J756=\"\",\"\",VLOOKUP(A756,OFFSET([0]!_xlnm.Print_Area,3,0),6,FALSE))","v":{"$error":"#REF!"}},{"$f":"IF(J756=\"\",\"\",VLOOKUP(A756,OFFSET([0]!_xlnm.Print_Area,3,0,,7),7,FALSE))","v":{"$error":"#REF!"}}," ",{"$f":"INDEX(#REF!,SMALL(IF(#REF!<>\"\",ROW(#REF!)),ROWS(I$1:I756)-1))","v":{"$error":"#REF!"}},{"$f":"INDEX(#REF!,SMALL(IF(#REF!<>\"\",ROW(#REF!)),ROWS(J$1:J756)-1))","v":{"$error":"#REF!"}},{"$f":"INDEX(#REF!,SMALL(IF(#REF!<>\"\",ROW(#REF!)),ROWS(K$1:K756)-1))","v":{"$error":"#REF!"}}]
[{"$error":"#REF!"},{"$error":"#REF!"},{"$error":"#REF!"},{"$f":"IF(J757=\"\",VLOOKUP(C757,OFFSET([0]!_xlnm.Print_Area,3,2),2,FALSE),VLOOKUP(A757,OFFSET([0]!_xlnm.Print_Area,3,0),4,FALSE))","v":{"$error":"#REF!"}},{"$f":"IF(J757=\"\",\"\",VLOOKUP(A757,OFFSET([0]!_xlnm.Print_Area,3,0),5,FALSE))","v":{"$error":"#REF!"}},{"$f":"IF(J757=\"\",\"\",VLOOKUP(A757,OFFSET([0]!_xlnm.Print_Area,3,0),6,FALSE))","v":{"$error":"#REF!"}},{"$f":"IF(J757=\"\",\"\",VLOOKUP(A757,OFFSET([0]!_xlnm.Print_Area,3,0,,7),7,FALSE))","v":{"$error":"#REF!"}}," ",{"$f":"INDEX(#REF!,SMALL(IF(#REF!<>\"\",ROW(#REF!)),ROWS(I$1:I757)-1))","v":{"$error":"#REF!"}},{"$f":"INDEX(#REF!,SMALL(IF(#REF!<>\"\",ROW(#REF!)),ROWS(J$1:J757)-1))","v":{"$error":"#REF!"}},{"$f":"INDEX(#REF!,SMALL(IF(#REF!<>\"\",ROW(#REF!)),ROWS(K$1:K757)-1))","v":{"$error":"#REF!"}}]
[{"$error":"#REF!"},{"$error":"#REF!"},{"$error":"#REF!"},{"$f":"IF(J758=\"\",VLOOKUP(C758,OFFSET([0]!_xlnm.Print_Area,3,2),2,FALSE),VLOOKUP(A758,OFFSET([0]!_xlnm.Print_Area,3,0),4,FALSE))","v":{"$error":"#REF!"}},{"$f":"IF(J758=\"\",\"\",VLOOKUP(A758,OFFSET([0]!_xlnm.Print_Area,3,0),5,FALSE))","v":{"$error":"#REF!"}},{"$f":"IF(J758=\"\",\"\",VLOOKUP(A758,OFFSET([0]!_xlnm.Print_Area,3,0),6,FALSE))","v":{"$error":"#REF!"}},{"$f":"IF(J758=\"\",\"\",VLOOKUP(A758,OFFSET([0]!_xlnm.Print_Area,3,0,,7),7,FALSE))","v":{"$error":"#REF!"}}," ",{"$f":"INDEX(#REF!,SMALL(IF(#REF!<>\"\",ROW(#REF!)),ROWS(I$1:I758)-1))","v":{"$error":"#REF!"}},{"$f":"INDEX(#REF!,SMALL(IF(#REF!<>\"\",ROW(#REF!)),ROWS(J$1:J758)-1))","v":{"$error":"#REF!"}},{"$f":"INDEX(#REF!,SMALL(IF(#REF!<>\"\",ROW(#REF!)),ROWS(K$1:K758)-1))","v":{"$error":"#REF!"}}]
[{"$error":"#REF!"},{"$error":"#REF!"},{"$error":"#REF!"},{"$f":"IF(J759=\"\",VLOOKUP(C759,OFFSET([0]!_xlnm.Print_Area,3,2),2,FALSE),VLOOKUP(A759,OFFSET([0]!_xlnm.Print_Area,3,0),4,FALSE))","v":{"$error":"#REF!"}},{"$f":"IF(J759=\"\",\"\",VLOOKUP(A759,OFFSET([0]!_xlnm.Print_Area,3,0),5,FALSE))","v":{"$error":"#REF!"}},{"$f":"IF(J759=\"\",\"\",VLOOKUP(A759,OFFSET([0]!_xlnm.Print_Area,3,0),6,FALSE))","v":{"$error":"#REF!"}},{"$f":"IF(J759=\"\",\"\",VLOOKUP(A759,OFFSET([0]!_xlnm.Print_Area,3,0,,7),7,FALSE))","v":{"$error":"#REF!"}}," ",{"$f":"INDEX(#REF!,SMALL(IF(#REF!<>\"\",ROW(#REF!)),ROWS(I$1:I759)-1))","v":{"$error":"#REF!"}},{"$f":"INDEX(#REF!,SMALL(IF(#REF!<>\"\",ROW(#REF!)),ROWS(J$1:J759)-1))","v":{"$error":"#REF!"}},{"$f":"INDEX(#REF!,SMALL(IF(#REF!<>\"\",ROW(#REF!)),ROWS(K$1:K759)-1))","v":{"$error":"#REF!"}}]
[{"$error":"#REF!"},{"$error":"#REF!"},{"$error":"#REF!"},{"$f":"IF(J760=\"\",VLOOKUP(C760,OFFSET([0]!_xlnm.Print_Area,3,2),2,FALSE),VLOOKUP(A760,OFFSET([0]!_xlnm.Print_Area,3,0),4,FALSE))","v":{"$error":"#REF!"}},{"$f":"IF(J760=\"\",\"\",VLOOKUP(A760,OFFSET([0]!_xlnm.Print_Area,3,0),5,FALSE))","v":{"$error":"#REF!"}},{"$f":"IF(J760=\"\",\"\",VLOOKUP(A760,OFFSET([0]!_xlnm.Print_Area,3,0),6,FALSE))","v":{"$error":"#REF!"}},{"$f":"IF(J760=\"\",\"\",VLOOKUP(A760,OFFSET([0]!_xlnm.Print_Area,3,0,,7),7,FALSE))","v":{"$error":"#REF!"}}," ",{"$f":"INDEX(#REF!,SMALL(IF(#REF!<>\"\",ROW(#REF!)),ROWS(I$1:I760)-1))","v":{"$error":"#REF!"}},{"$f":"INDEX(#REF!,SMALL(IF(#REF!<>\"\",ROW(#REF!)),ROWS(J$1:J760)-1))","v":{"$error":"#REF!"}},{"$f":"INDEX(#REF!,SMALL(IF(#REF!<>\"\",ROW(#REF!)),ROWS(K$1:K760)-1))","v":{"$error":"#REF!"}}]
[{"$error":"#REF!"},{"$error":"#REF!"},{"$error":"#REF!"},{"$f":"IF(J761=\"\",VLOOKUP(C761,OFFSET([0]!_xlnm.Print_Area,3,2),2,FALSE),VLOOKUP(A761,OFFSET([0]!_xlnm.Print_Area,3,0),4,FALSE))","v":{"$error":"#REF!"}},{"$f":"IF(J761=\"\",\"\",VLOOKUP(A761,OFFSET([0]!_xlnm.Print_Area,3,0),5,FALSE))","v":{"$error":"#REF!"}},{"$f":"IF(J761=\"\",\"\",VLOOKUP(A761,OFFSET([0]!_xlnm.Print_Area,3,0),6,FALSE))","v":{"$error":"#REF!"}},{"$f":"IF(J761=\"\",\"\",VLOOKUP(A761,OFFSET([0]!_xlnm.Print_Area,3,0,,7),7,FALSE))","v":{"$error":"#REF!"}}," ",{"$f":"INDEX(#REF!,SMALL(IF(#REF!<>\"\",ROW(#REF!)),ROWS(I$1:I761)-1))","v":{"$error":"#REF!"}},{"$f":"INDEX(#REF!,SMALL(IF(#REF!<>\"\",ROW(#REF!)),ROWS(J$1:J761)-1))","v":{"$error":"#REF!"}},{"$f":"INDEX(#REF!,SMALL(IF(#REF!<>\"\",ROW(#REF!)),ROWS(K$1:K761)-1))","v":{"$error":"#REF!"}}]
[{"$error":"#REF!"},{"$error":"#REF!"},{"$error":"#REF!"},{"$f":"IF(J762=\"\",VLOOKUP(C762,OFFSET([0]!_xlnm.Print_Area,3,2),2,FALSE),VLOOKUP(A762,OFFSET([0]!_xlnm.Print_Area,3,0),4,FALSE))","v":{"$error":"#REF!"}},{"$f":"IF(J762=\"\",\"\",VLOOKUP(A762,OFFSET([0]!_xlnm.Print_Area,3,0),5,FALSE))","v":{"$error":"#REF!"}},{"$f":"IF(J762=\"\",\"\",VLOOKUP(A762,OFFSET([0]!_xlnm.Print_Area,3,0),6,FALSE))","v":{"$error":"#REF!"}},{"$f":"IF(J762=\"\",\"\",VLOOKUP(A762,OFFSET([0]!_xlnm.Print_Area,3,0,,7),7,FALSE))","v":{"$error":"#REF!"}}," ",{"$f":"INDEX(#REF!,SMALL(IF(#REF!<>\"\",ROW(#REF!)),ROWS(I$1:I762)-1))","v":{"$error":"#REF!"}},{"$f":"INDEX(#REF!,SMALL(IF(#REF!<>\"\",ROW(#REF!)),ROWS(J$1:J762)-1))","v":{"$error":"#REF!"}},{"$f":"INDEX(#REF!,SMALL(IF(#REF!<>\"\",ROW(#REF!)),ROWS(K$1:K762)-1))","v":{"$error":"#REF!"}}]
[{"$error":"#REF!"},{"$error":"#REF!"},{"$error":"#REF!"},{"$f":"IF(J763=\"\",VLOOKUP(C763,OFFSET([0]!_xlnm.Print_Area,3,2),2,FALSE),VLOOKUP(A763,OFFSET([0]!_xlnm.Print_Area,3,0),4,FALSE))","v":{"$error":"#REF!"}},{"$f":"IF(J763=\"\",\"\",VLOOKUP(A763,OFFSET([0]!_xlnm.Print_Area,3,0),5,FALSE))","v":{"$error":"#REF!"}},{"$f":"IF(J763=\"\",\"\",VLOOKUP(A763,OFFSET([0]!_xlnm.Print_Area,3,0),6,FALSE))","v":{"$error":"#REF!"}},{"$f":"IF(J763=\"\",\"\",VLOOKUP(A763,OFFSET([0]!_xlnm.Print_Area,3,0,,7),7,FALSE))","v":{"$error":"#REF!"}}," ",{"$f":"INDEX(#REF!,SMALL(IF(#REF!<>\"\",ROW(#REF!)),ROWS(I$1:I763)-1))","v":{"$error":"#REF!"}},{"$f":"INDEX(#REF!,SMALL(IF(#REF!<>\"\",ROW(#REF!)),ROWS(J$1:J763)-1))","v":{"$error":"#REF!"}},{"$f":"INDEX(#REF!,SMALL(IF(#REF!<>\"\",ROW(#REF!)),ROWS(K$1:K763)-1))","v":{"$error":"#REF!"}}]
[{"$error":"#REF!"},{"$error":"#REF!"},{"$error":"#REF!"},{"$f":"IF(J764=\"\",VLOOKUP(C764,OFFSET([0]!_xlnm.Print_Area,3,2),2,FALSE),VLOOKUP(A764,OFFSET([0]!_xlnm.Print_Area,3,0),4,FALSE))","v":{"$error":"#REF!"}},{"$f":"IF(J764=\"\",\"\",VLOOKUP(A764,OFFSET([0]!_xlnm.Print_Area,3,0),5,FALSE))","v":{"$error":"#REF!"}},{"$f":"IF(J764=\"\",\"\",VLOOKUP(A764,OFFSET([0]!_xlnm.Print_Area,3,0),6,FALSE))","v":{"$error":"#REF!"}},{"$f":"IF(J764=\"\",\"\",VLOOKUP(A764,OFFSET([0]!_xlnm.Print_Area,3,0,,7),7,FALSE))","v":{"$error":"#REF!"}}," ",{"$f":"INDEX(#REF!,SMALL(IF(#REF!<>\"\",ROW(#REF!)),ROWS(I$1:I764)-1))","v":{"$error":"#REF!"}},{"$f":"INDEX(#REF!,SMALL(IF(#REF!<>\"\",ROW(#REF!)),ROWS(J$1:J764)-1))","v":{"$error":"#REF!"}},{"$f":"INDEX(#REF!,SMALL(IF(#REF!<>\"\",ROW(#REF!)),ROWS(K$1:K764)-1))","v":{"$error":"#REF!"}}]
[{"$error":"#REF!"},{"$error":"#REF!"},{"$error":"#REF!"},{"$f":"IF(J765=\"\",VLOOKUP(C765,OFFSET([0]!_xlnm.Print_Area,3,2),2,FALSE),VLOOKUP(A765,OFFSET([0]!_xlnm.Print_Area,3,0),4,FALSE))","v":{"$error":"#REF!"}},{"$f":"IF(J765=\"\",\"\",VLOOKUP(A765,OFFSET([0]!_xlnm.Print_Area,3,0),5,FALSE))","v":{"$error":"#REF!"}},{"$f":"IF(J765=\"\",\"\",VLOOKUP(A765,OFFSET([0]!_xlnm.Print_Area,3,0),6,FALSE))","v":{"$error":"#REF!"}},{"$f":"IF(J765=\"\",\"\",VLOOKUP(A765,OFFSET([0]!_xlnm.Print_Area,3,0,,7),7,FALSE))","v":{"$error":"#REF!"}}," ",{"$f":"INDEX(#REF!,SMALL(IF(#REF!<>\"\",ROW(#REF!)),ROWS(I$1:I765)-1))","v":{"$error":"#REF!"}},{"$f":"INDEX(#REF!,SMALL(IF(#REF!<>\"\",ROW(#REF!)),ROWS(J$1:J765)-1))","v":{"$error":"#REF!"}},{"$f":"INDEX(#REF!,SMALL(IF(#REF!<>\"\",ROW(#REF!)),ROWS(K$1:K765)-1))","v":{"$error":"#REF!"}}]
[{"$error":"#REF!"},{"$error":"#REF!"},{"$error":"#REF!"},{"$f":"IF(J766=\"\",VLOOKUP(C766,OFFSET([0]!_xlnm.Print_Area,3,2),2,FALSE),VLOOKUP(A766,OFFSET([0]!_xlnm.Print_Area,3,0),4,FALSE))","v":{"$error":"#REF!"}},{"$f":"IF(J766=\"\",\"\",VLOOKUP(A766,OFFSET([0]!_xlnm.Print_Area,3,0),5,FALSE))","v":{"$error":"#REF!"}},{"$f":"IF(J766=\"\",\"\",VLOOKUP(A766,OFFSET([0]!_xlnm.Print_Area,3,0),6,FALSE))","v":{"$error":"#REF!"}},{"$f":"IF(J766=\"\",\"\",VLOOKUP(A766,OFFSET([0]!_xlnm.Print_Area,3,0,,7),7,FALSE))","v":{"$error":"#REF!"}}," ",{"$f":"INDEX(#REF!,SMALL(IF(#REF!<>\"\",ROW(#REF!)),ROWS(I$1:I766)-1))","v":{"$error":"#REF!"}},{"$f":"INDEX(#REF!,SMALL(IF(#REF!<>\"\",ROW(#REF!)),ROWS(J$1:J766)-1))","v":{"$error":"#REF!"}},{"$f":"INDEX(#REF!,SMALL(IF(#REF!<>\"\",ROW(#REF!)),ROWS(K$1:K766)-1))","v":{"$error":"#REF!"}}]
[{"$error":"#REF!"},{"$error":"#REF!"},{"$error":"#REF!"},{"$f":"IF(J767=\"\",VLOOKUP(C767,OFFSET([0]!_xlnm.Print_Area,3,2),2,FALSE),VLOOKUP(A767,OFFSET([0]!_xlnm.Print_Area,3,0),4,FALSE))","v":{"$error":"#REF!"}},{"$f":"IF(J767=\"\",\"\",VLOOKUP(A767,OFFSET([0]!_xlnm.Print_Area,3,0),5,FALSE))","v":{"$error":"#REF!"}},{"$f":"IF(J767=\"\",\"\",VLOOKUP(A767,OFFSET([0]!_xlnm.Print_Area,3,0),6,FALSE))","v":{"$error":"#REF!"}},{"$f":"IF(J767=\"\",\"\",VLOOKUP(A767,OFFSET([0]!_xlnm.Print_Area,3,0,,7),7,FALSE))","v":{"$error":"#REF!"}}," ",{"$f":"INDEX(#REF!,SMALL(IF(#REF!<>\"\",ROW(#REF!)),ROWS(I$1:I767)-1))","v":{"$error":"#REF!"}},{"$f":"INDEX(#REF!,SMALL(IF(#REF!<>\"\",ROW(#REF!)),ROWS(J$1:J767)-1))","v":{"$error":"#REF!"}},{"$f":"INDEX(#REF!,SMALL(IF(#REF!<>\"\",ROW(#REF!)),ROWS(K$1:K767)-1))","v":{"$error":"#REF!"}}]
[{"$error":"#REF!"},{"$error":"#REF!"},{"$error":"#REF!"},{"$f":"IF(J768=\"\",VLOOKUP(C768,OFFSET([0]!_xlnm.Print_Area,3,2),2,FALSE),VLOOKUP(A768,OFFSET([0]!_xlnm.Print_Area,3,0),4,FALSE))","v":{"$error":"#REF!"}},{"$f":"IF(J768=\"\",\"\",VLOOKUP(A768,OFFSET([0]!_xlnm.Print_Area,3,0),5,FALSE))","v":{"$error":"#REF!"}},{"$f":"IF(J768=\"\",\"\",VLOOKUP(A768,OFFSET([0]!_xlnm.Print_Area,3,0),6,FALSE))","v":{"$error":"#REF!"}},{"$f":"IF(J768=\"\",\"\",VLOOKUP(A768,OFFSET([0]!_xlnm.Print_Area,3,0,,7),7,FALSE))","v":{"$error":"#REF!"}}," ",{"$f":"INDEX(#REF!,SMALL(IF(#REF!<>\"\",ROW(#REF!)),ROWS(I$1:I768)-1))","v":{"$error":"#REF!"}},{"$f":"INDEX(#REF!,SMALL(IF(#REF!<>\"\",ROW(#REF!)),ROWS(J$1:J768)-1))","v":{"$error":"#REF!"}},{"$f":"INDEX(#REF!,SMALL(IF(#REF!<>\"\",ROW(#REF!)),ROWS(K$1:K768)-1))","v":{"$error":"#REF!"}}]
[{"$error":"#REF!"},{"$error":"#REF!"},{"$error":"#REF!"},{"$f":"IF(J769=\"\",VLOOKUP(C769,OFFSET([0]!_xlnm.Print_Area,3,2),2,FALSE),VLOOKUP(A769,OFFSET([0]!_xlnm.Print_Area,3,0),4,FALSE))","v":{"$error":"#REF!"}},{"$f":"IF(J769=\"\",\"\",VLOOKUP(A769,OFFSET([0]!_xlnm.Print_Area,3,0),5,FALSE))","v":{"$error":"#REF!"}},{"$f":"IF(J769=\"\",\"\",VLOOKUP(A769,OFFSET([0]!_xlnm.Print_Area,3,0),6,FALSE))","v":{"$error":"#REF!"}},{"$f":"IF(J769=\"\",\"\",VLOOKUP(A769,OFFSET([0]!_xlnm.Print_Area,3,0,,7),7,FALSE))","v":{"$error":"#REF!"}}," ",{"$f":"INDEX(#REF!,SMALL(IF(#REF!<>\"\",ROW(#REF!)),ROWS(I$1:I769)-1))","v":{"$error":"#REF!"}},{"$f":"INDEX(#REF!,SMALL(IF(#REF!<>\"\",ROW(#REF!)),ROWS(J$1:J769)-1))","v":{"$error":"#REF!"}},{"$f":"INDEX(#REF!,SMALL(IF(#REF!<>\"\",ROW(#REF!)),ROWS(K$1:K769)-1))","v":{"$error":"#REF!"}}]
[{"$error":"#REF!"},{"$error":"#REF!"},{"$error":"#REF!"},{"$f":"IF(J770=\"\",VLOOKUP(C770,OFFSET([0]!_xlnm.Print_Area,3,2),2,FALSE),VLOOKUP(A770,OFFSET([0]!_xlnm.Print_Area,3,0),4,FALSE))","v":{"$error":"#REF!"}},{"$f":"IF(J770=\"\",\"\",VLOOKUP(A770,OFFSET([0]!_xlnm.Print_Area,3,0),5,FALSE))","v":{"$error":"#REF!"}},{"$f":"IF(J770=\"\",\"\",VLOOKUP(A770,OFFSET([0]!_xlnm.Print_Area,3,0),6,FALSE))","v":{"$error":"#REF!"}},{"$f":"IF(J770=\"\",\"\",VLOOKUP(A770,OFFSET([0]!_xlnm.Print_Area,3,0,,7),7,FALSE))","v":{"$error":"#REF!"}}," ",{"$f":"INDEX(#REF!,SMALL(IF(#REF!<>\"\",ROW(#REF!)),ROWS(I$1:I770)-1))","v":{"$error":"#REF!"}},{"$f":"INDEX(#REF!,SMALL(IF(#REF!<>\"\",ROW(#REF!)),ROWS(J$1:J770)-1))","v":{"$error":"#REF!"}},{"$f":"INDEX(#REF!,SMALL(IF(#REF!<>\"\",ROW(#REF!)),ROWS(K$1:K770)-1))","v":{"$error":"#REF!"}}]
[{"$error":"#REF!"},{"$error":"#REF!"},{"$error":"#REF!"},{"$f":"IF(J771=\"\",VLOOKUP(C771,OFFSET([0]!_xlnm.Print_Area,3,2),2,FALSE),VLOOKUP(A771,OFFSET([0]!_xlnm.Print_Area,3,0),4,FALSE))","v":{"$error":"#REF!"}},{"$f":"IF(J771=\"\",\"\",VLOOKUP(A771,OFFSET([0]!_xlnm.Print_Area,3,0),5,FALSE))","v":{"$error":"#REF!"}},{"$f":"IF(J771=\"\",\"\",VLOOKUP(A771,OFFSET([0]!_xlnm.Print_Area,3,0),6,FALSE))","v":{"$error":"#REF!"}},{"$f":"IF(J771=\"\",\"\",VLOOKUP(A771,OFFSET([0]!_xlnm.Print_Area,3,0,,7),7,FALSE))","v":{"$error":"#REF!"}}," ",{"$f":"INDEX(#REF!,SMALL(IF(#REF!<>\"\",ROW(#REF!)),ROWS(I$1:I771)-1))","v":{"$error":"#REF!"}},{"$f":"INDEX(#REF!,SMALL(IF(#REF!<>\"\",ROW(#REF!)),ROWS(J$1:J771)-1))","v":{"$error":"#REF!"}},{"$f":"INDEX(#REF!,SMALL(IF(#REF!<>\"\",ROW(#REF!)),ROWS(K$1:K771)-1))","v":{"$error":"#REF!"}}]
[{"$error":"#REF!"},{"$error":"#REF!"},{"$error":"#REF!"},{"$f":"IF(J772=\"\",VLOOKUP(C772,OFFSET([0]!_xlnm.Print_Area,3,2),2,FALSE),VLOOKUP(A772,OFFSET([0]!_xlnm.Print_Area,3,0),4,FALSE))","v":{"$error":"#REF!"}},{"$f":"IF(J772=\"\",\"\",VLOOKUP(A772,OFFSET([0]!_xlnm.Print_Area,3,0),5,FALSE))","v":{"$error":"#REF!"}},{"$f":"IF(J772=\"\",\"\",VLOOKUP(A772,OFFSET([0]!_xlnm.Print_Area,3,0),6,FALSE))","v":{"$error":"#REF!"}},{"$f":"IF(J772=\"\",\"\",VLOOKUP(A772,OFFSET([0]!_xlnm.Print_Area,3,0,,7),7,FALSE))","v":{"$error":"#REF!"}}," ",{"$f":"INDEX(#REF!,SMALL(IF(#REF!<>\"\",ROW(#REF!)),ROWS(I$1:I772)-1))","v":{"$error":"#REF!"}},{"$f":"INDEX(#REF!,SMALL(IF(#REF!<>\"\",ROW(#REF!)),ROWS(J$1:J772)-1))","v":{"$error":"#REF!"}},{"$f":"INDEX(#REF!,SMALL(IF(#REF!<>\"\",ROW(#REF!)),ROWS(K$1:K772)-1))","v":{"$error":"#REF!"}}]
[{"$f":"IF(J773=0,\"\",J773)","v":{"$error":"#REF!"}},{"$f":"IF(K773=0,\"\",K773)","v":{"$error":"#REF!"}},{"$f":"I773","v":{"$error":"#REF!"}},{"$f":"IF(J773=\"\",VLOOKUP(C773,OFFSET([0]!_xlnm.Print_Area,3,2),2,FALSE),VLOOKUP(A773,OFFSET([0]!_xlnm.Print_Area,3,0),4,FALSE))","v":{"$error":"#REF!"}},{"$f":"IF(J773=\"\",\"\",VLOOKUP(A773,OFFSET([0]!_xlnm.Print_Area,3,0),5,FALSE))","v":{"$error":"#REF!"}},{"$f":"IF(J773=\"\",\"\",VLOOKUP(A773,OFFSET([0]!_xlnm.Print_Area,3,0),6,FALSE))","v":{"$error":"#REF!"}},{"$f":"IF(J773=\"\",\"\",VLOOKUP(A773,OFFSET([0]!_xlnm.Print_Area,3,0,,7),7,FALSE))","v":{"$error":"#REF!"}},{"$f":"IFERROR(ROUND(F773*G773,2),\" \")","v":" "},{"$f":"INDEX(#REF!,SMALL(IF(#REF!<>\"\",ROW(#REF!)),ROWS(I$1:I773)-1))","v":{"$error":"#REF!"}},{"$f":"INDEX(#REF!,SMALL(IF(#REF!<>\"\",ROW(#REF!)),ROWS(J$1:J773)-1))","v":{"$error":"#REF!"}},{"$f":"INDEX(#REF!,SMALL(IF(#REF!<>\"\",ROW(#REF!)),ROWS(K$1:K773)-1))","v":{"$error":"#REF!"}}]
[{"$error":"#REF!"},{"$error":"#REF!"},{"$error":"#REF!"},{"$f":"IF(J774=\"\",VLOOKUP(C774,OFFSET([0]!_xlnm.Print_Area,3,2),2,FALSE),VLOOKUP(A774,OFFSET([0]!_xlnm.Print_Area,3,0),4,FALSE))","v":{"$error":"#REF!"}},{"$f":"IF(J774=\"\",\"\",VLOOKUP(A774,OFFSET([0]!_xlnm.Print_Area,3,0),5,FALSE))","v":{"$error":"#REF!"}},{"$f":"IF(J774=\"\",\"\",VLOOKUP(A774,OFFSET([0]!_xlnm.Print_Area,3,0),6,FALSE))","v":{"$error":"#REF!"}},{"$f":"IF(J774=\"\",\"\",VLOOKUP(A774,OFFSET([0]!_xlnm.Print_Area,3,0,,7),7,FALSE))","v":{"$error":"#REF!"}}," ",{"$f":"INDEX(#REF!,SMALL(IF(#REF!<>\"\",ROW(#REF!)),ROWS(I$1:I774)-1))","v":{"$error":"#REF!"}},{"$f":"INDEX(#REF!,SMALL(IF(#REF!<>\"\",ROW(#REF!)),ROWS(J$1:J774)-1))","v":{"$error":"#REF!"}},{"$f":"INDEX(#REF!,SMALL(IF(#REF!<>\"\",ROW(#REF!)),ROWS(K$1:K774)-1))","v":{"$error":"#REF!"}}]
[{"$error":"#REF!"},{"$error":"#REF!"},{"$error":"#REF!"},{"$f":"IF(J775=\"\",VLOOKUP(C775,OFFSET([0]!_xlnm.Print_Area,3,2),2,FALSE),VLOOKUP(A775,OFFSET([0]!_xlnm.Print_Area,3,0),4,FALSE))","v":{"$error":"#REF!"}},{"$f":"IF(J775=\"\",\"\",VLOOKUP(A775,OFFSET([0]!_xlnm.Print_Area,3,0),5,FALSE))","v":{"$error":"#REF!"}},{"$f":"IF(J775=\"\",\"\",VLOOKUP(A775,OFFSET([0]!_xlnm.Print_Area,3,0),6,FALSE))","v":{"$error":"#REF!"}},{"$f":"IF(J775=\"\",\"\",VLOOKUP(A775,OFFSET([0]!_xlnm.Print_Area,3,0,,7),7,FALSE))","v":{"$error":"#REF!"}}," ",{"$f":"INDEX(#REF!,SMALL(IF(#REF!<>\"\",ROW(#REF!)),ROWS(I$1:I775)-1))","v":{"$error":"#REF!"}},{"$f":"INDEX(#REF!,SMALL(IF(#REF!<>\"\",ROW(#REF!)),ROWS(J$1:J775)-1))","v":{"$error":"#REF!"}},{"$f":"INDEX(#REF!,SMALL(IF(#REF!<>\"\",ROW(#REF!)),ROWS(K$1:K775)-1))","v":{"$error":"#REF!"}}]
[{"$error":"#REF!"},{"$error":"#REF!"},{"$error":"#REF!"},{"$f":"IF(J776=\"\",VLOOKUP(C776,OFFSET([0]!_xlnm.Print_Area,3,2),2,FALSE),VLOOKUP(A776,OFFSET([0]!_xlnm.Print_Area,3,0),4,FALSE))","v":{"$error":"#REF!"}},{"$f":"IF(J776=\"\",\"\",VLOOKUP(A776,OFFSET([0]!_xlnm.Print_Area,3,0),5,FALSE))","v":{"$error":"#REF!"}},{"$f":"IF(J776=\"\",\"\",VLOOKUP(A776,OFFSET([0]!_xlnm.Print_Area,3,0),6,FALSE))","v":{"$error":"#REF!"}},{"$f":"IF(J776=\"\",\"\",VLOOKUP(A776,OFFSET([0]!_xlnm.Print_Area,3,0,,7),7,FALSE))","v":{"$error":"#REF!"}}," ",{"$f":"INDEX(#REF!,SMALL(IF(#REF!<>\"\",ROW(#REF!)),ROWS(I$1:I776)-1))","v":{"$error":"#REF!"}},{"$f":"INDEX(#REF!,SMALL(IF(#REF!<>\"\",ROW(#REF!)),ROWS(J$1:J776)-1))","v":{"$error":"#REF!"}},{"$f":"INDEX(#REF!,SMALL(IF(#REF!<>\"\",ROW(#REF!)),ROWS(K$1:K776)-1))","v":{"$error":"#REF!"}}]
[{"$error":"#REF!"},{"$error":"#REF!"},{"$error":"#REF!"},{"$f":"IF(J777=\"\",VLOOKUP(C777,OFFSET([0]!_xlnm.Print_Area,3,2),2,FALSE),VLOOKUP(A777,OFFSET([0]!_xlnm.Print_Area,3,0),4,FALSE))","v":{"$error":"#REF!"}},{"$f":"IF(J777=\"\",\"\",VLOOKUP(A777,OFFSET([0]!_xlnm.Print_Area,3,0),5,FALSE))","v":{"$error":"#REF!"}},{"$f":"IF(J777=\"\",\"\",VLOOKUP(A777,OFFSET([0]!_xlnm.Print_Area,3,0),6,FALSE))","v":{"$error":"#REF!"}},{"$f":"IF(J777=\"\",\"\",VLOOKUP(A777,OFFSET([0]!_xlnm.Print_Area,3,0,,7),7,FALSE))","v":{"$error":"#REF!"}}," ",{"$f":"INDEX(#REF!,SMALL(IF(#REF!<>\"\",ROW(#REF!)),ROWS(I$1:I777)-1))","v":{"$error":"#REF!"}},{"$f":"INDEX(#REF!,SMALL(IF(#REF!<>\"\",ROW(#REF!)),ROWS(J$1:J777)-1))","v":{"$error":"#REF!"}},{"$f":"INDEX(#REF!,SMALL(IF(#REF!<>\"\",ROW(#REF!)),ROWS(K$1:K777)-1))","v":{"$error":"#REF!"}}]
[{"$error":"#REF!"},{"$error":"#REF!"},{"$error":"#REF!"},{"$f":"IF(J778=\"\",VLOOKUP(C778,OFFSET([0]!_xlnm.Print_Area,3,2),2,FALSE),VLOOKUP(A778,OFFSET([0]!_xlnm.Print_Area,3,0),4,FALSE))","v":{"$error":"#REF!"}},{"$f":"IF(J778=\"\",\"\",VLOOKUP(A778,OFFSET([0]!_xlnm.Print_Area,3,0),5,FALSE))","v":{"$error":"#REF!"}},{"$f":"IF(J778=\"\",\"\",VLOOKUP(A778,OFFSET([0]!_xlnm.Print_Area,3,0),6,FALSE))","v":{"$error":"#REF!"}},{"$f":"IF(J778=\"\",\"\",VLOOKUP(A778,OFFSET([0]!_xlnm.Print_Area,3,0,,7),7,FALSE))","v":{"$error":"#REF!"}}," ",{"$f":"INDEX(#REF!,SMALL(IF(#REF!<>\"\",ROW(#REF!)),ROWS(I$1:I778)-1))","v":{"$error":"#REF!"}},{"$f":"INDEX(#REF!,SMALL(IF(#REF!<>\"\",ROW(#REF!)),ROWS(J$1:J778)-1))","v":{"$error":"#REF!"}},{"$f":"INDEX(#REF!,SMALL(IF(#REF!<>\"\",ROW(#REF!)),ROWS(K$1:K778)-1))","v":{"$error":"#REF!"}}]
[{"$error":"#REF!"},{"$error":"#REF!"},{"$error":"#REF!"},{"$f":"IF(J779=\"\",VLOOKUP(C779,OFFSET([0]!_xlnm.Print_Area,3,2),2,FALSE),VLOOKUP(A779,OFFSET([0]!_xlnm.Print_Area,3,0),4,FALSE))","v":{"$error":"#REF!"}},{"$f":"IF(J779=\"\",\"\",VLOOKUP(A779,OFFSET([0]!_xlnm.Print_Area,3,0),5,FALSE))","v":{"$error":"#REF!"}},{"$f":"IF(J779=\"\",\"\",VLOOKUP(A779,OFFSET([0]!_xlnm.Print_Area,3,0),6,FALSE))","v":{"$error":"#REF!"}},{"$f":"IF(J779=\"\",\"\",VLOOKUP(A779,OFFSET([0]!_xlnm.Print_Area,3,0,,7),7,FALSE))","v":{"$error":"#REF!"}}," ",{"$f":"INDEX(#REF!,SMALL(IF(#REF!<>\"\",ROW(#REF!)),ROWS(I$1:I779)-1))","v":{"$error":"#REF!"}},{"$f":"INDEX(#REF!,SMALL(IF(#REF!<>\"\",ROW(#REF!)),ROWS(J$1:J779)-1))","v":{"$error":"#REF!"}},{"$f":"INDEX(#REF!,SMALL(IF(#REF!<>\"\",ROW(#REF!)),ROWS(K$1:K779)-1))","v":{"$error":"#REF!"}}]
[{"$error":"#REF!"},{"$error":"#REF!"},{"$error":"#REF!"},{"$f":"IF(J780=\"\",VLOOKUP(C780,OFFSET([0]!_xlnm.Print_Area,3,2),2,FALSE),VLOOKUP(A780,OFFSET([0]!_xlnm.Print_Area,3,0),4,FALSE))","v":{"$error":"#REF!"}},{"$f":"IF(J780=\"\",\"\",VLOOKUP(A780,OFFSET([0]!_xlnm.Print_Area,3,0),5,FALSE))","v":{"$error":"#REF!"}},{"$f":"IF(J780=\"\",\"\",VLOOKUP(A780,OFFSET([0]!_xlnm.Print_Area,3,0),6,FALSE))","v":{"$error":"#REF!"}},{"$f":"IF(J780=\"\",\"\",VLOOKUP(A780,OFFSET([0]!_xlnm.Print_Area,3,0,,7),7,FALSE))","v":{"$error":"#REF!"}}," ",{"$f":"INDEX(#REF!,SMALL(IF(#REF!<>\"\",ROW(#REF!)),ROWS(I$1:I780)-1))","v":{"$error":"#REF!"}},{"$f":"INDEX(#REF!,SMALL(IF(#REF!<>\"\",ROW(#REF!)),ROWS(J$1:J780)-1))","v":{"$error":"#REF!"}},{"$f":"INDEX(#REF!,SMALL(IF(#REF!<>\"\",ROW(#REF!)),ROWS(K$1:K780)-1))","v":{"$error":"#REF!"}}]
[{"$error":"#REF!"},{"$error":"#REF!"},{"$error":"#REF!"},{"$f":"IF(J781=\"\",VLOOKUP(C781,OFFSET([0]!_xlnm.Print_Area,3,2),2,FALSE),VLOOKUP(A781,OFFSET([0]!_xlnm.Print_Area,3,0),4,FALSE))","v":{"$error":"#REF!"}},{"$f":"IF(J781=\"\",\"\",VLOOKUP(A781,OFFSET([0]!_xlnm.Print_Area,3,0),5,FALSE))","v":{"$error":"#REF!"}},{"$f":"IF(J781=\"\",\"\",VLOOKUP(A781,OFFSET([0]!_xlnm.Print_Area,3,0),6,FALSE))","v":{"$error":"#REF!"}},{"$f":"IF(J781=\"\",\"\",VLOOKUP(A781,OFFSET([0]!_xlnm.Print_Area,3,0,,7),7,FALSE))","v":{"$error":"#REF!"}}," ",{"$f":"INDEX(#REF!,SMALL(IF(#REF!<>\"\",ROW(#REF!)),ROWS(I$1:I781)-1))","v":{"$error":"#REF!"}},{"$f":"INDEX(#REF!,SMALL(IF(#REF!<>\"\",ROW(#REF!)),ROWS(J$1:J781)-1))","v":{"$error":"#REF!"}},{"$f":"INDEX(#REF!,SMALL(IF(#REF!<>\"\",ROW(#REF!)),ROWS(K$1:K781)-1))","v":{"$error":"#REF!"}}]
[{"$error":"#REF!"},{"$error":"#REF!"},{"$error":"#REF!"},{"$f":"IF(J782=\"\",VLOOKUP(C782,OFFSET([0]!_xlnm.Print_Area,3,2),2,FALSE),VLOOKUP(A782,OFFSET([0]!_xlnm.Print_Area,3,0),4,FALSE))","v":{"$error":"#REF!"}},{"$f":"IF(J782=\"\",\"\",VLOOKUP(A782,OFFSET([0]!_xlnm.Print_Area,3,0),5,FALSE))","v":{"$error":"#REF!"}},{"$f":"IF(J782=\"\",\"\",VLOOKUP(A782,OFFSET([0]!_xlnm.Print_Area,3,0),6,FALSE))","v":{"$error":"#REF!"}},{"$f":"IF(J782=\"\",\"\",VLOOKUP(A782,OFFSET([0]!_xlnm.Print_Area,3,0,,7),7,FALSE))","v":{"$error":"#REF!"}}," ",{"$f":"INDEX(#REF!,SMALL(IF(#REF!<>\"\",ROW(#REF!)),ROWS(I$1:I782)-1))","v":{"$error":"#REF!"}},{"$f":"INDEX(#REF!,SMALL(IF(#REF!<>\"\",ROW(#REF!)),ROWS(J$1:J782)-1))","v":{"$error":"#REF!"}},{"$f":"INDEX(#REF!,SMALL(IF(#REF!<>\"\",ROW(#REF!)),ROWS(K$1:K782)-1))","v":{"$error":"#REF!"}}]
[{"$error":"#REF!"},{"$error":"#REF!"},{"$error":"#REF!"},{"$f":"IF(J783=\"\",VLOOKUP(C783,OFFSET([0]!_xlnm.Print_Area,3,2),2,FALSE),VLOOKUP(A783,OFFSET([0]!_xlnm.Print_Area,3,0),4,FALSE))","v":{"$error":"#REF!"}},{"$f":"IF(J783=\"\",\"\",VLOOKUP(A783,OFFSET([0]!_xlnm.Print_Area,3,0),5,FALSE))","v":{"$error":"#REF!"}},{"$f":"IF(J783=\"\",\"\",VLOOKUP(A783,OFFSET([0]!_xlnm.Print_Area,3,0),6,FALSE))","v":{"$error":"#REF!"}},{"$f":"IF(J783=\"\",\"\",VLOOKUP(A783,OFFSET([0]!_xlnm.Print_Area,3,0,,7),7,FALSE))","v":{"$error":"#REF!"}}," ",{"$f":"INDEX(#REF!,SMALL(IF(#REF!<>\"\",ROW(#REF!)),ROWS(I$1:I783)-1))","v":{"$error":"#REF!"}},{"$f":"INDEX(#REF!,SMALL(IF(#REF!<>\"\",ROW(#REF!)),ROWS(J$1:J783)-1))","v":{"$error":"#REF!"}},{"$f":"INDEX(#REF!,SMALL(IF(#REF!<>\"\",ROW(#REF!)),ROWS(K$1:K783)-1))","v":{"$error":"#REF!"}}]
[{"$error":"#REF!"},{"$error":"#REF!"},{"$error":"#REF!"},{"$f":"IF(J784=\"\",VLOOKUP(C784,OFFSET([0]!_xlnm.Print_Area,3,2),2,FALSE),VLOOKUP(A784,OFFSET([0]!_xlnm.Print_Area,3,0),4,FALSE))","v":{"$error":"#REF!"}},{"$f":"IF(J784=\"\",\"\",VLOOKUP(A784,OFFSET([0]!_xlnm.Print_Area,3,0),5,FALSE))","v":{"$error":"#REF!"}},{"$f":"IF(J784=\"\",\"\",VLOOKUP(A784,OFFSET([0]!_xlnm.Print_Area,3,0),6,FALSE))","v":{"$error":"#REF!"}},{"$f":"IF(J784=\"\",\"\",VLOOKUP(A784,OFFSET([0]!_xlnm.Print_Area,3,0,,7),7,FALSE))","v":{"$error":"#REF!"}}," ",{"$f":"INDEX(#REF!,SMALL(IF(#REF!<>\"\",ROW(#REF!)),ROWS(I$1:I784)-1))","v":{"$error":"#REF!"}},{"$f":"INDEX(#REF!,SMALL(IF(#REF!<>\"\",ROW(#REF!)),ROWS(J$1:J784)-1))","v":{"$error":"#REF!"}},{"$f":"INDEX(#REF!,SMALL(IF(#REF!<>\"\",ROW(#REF!)),ROWS(K$1:K784)-1))","v":{"$error":"#REF!"}}]
[{"$error":"#REF!"},{"$error":"#REF!"},{"$error":"#REF!"},{"$f":"IF(J785=\"\",VLOOKUP(C785,OFFSET([0]!_xlnm.Print_Area,3,2),2,FALSE),VLOOKUP(A785,OFFSET([0]!_xlnm.Print_Area,3,0),4,FALSE))","v":{"$error":"#REF!"}},{"$f":"IF(J785=\"\",\"\",VLOOKUP(A785,OFFSET([0]!_xlnm.Print_Area,3,0),5,FALSE))","v":{"$error":"#REF!"}},{"$f":"IF(J785=\"\",\"\",VLOOKUP(A785,OFFSET([0]!_xlnm.Print_Area,3,0),6,FALSE))","v":{"$error":"#REF!"}},{"$f":"IF(J785=\"\",\"\",VLOOKUP(A785,OFFSET([0]!_xlnm.Print_Area,3,0,,7),7,FALSE))","v":{"$error":"#REF!"}}," ",{"$f":"INDEX(#REF!,SMALL(IF(#REF!<>\"\",ROW(#REF!)),ROWS(I$1:I785)-1))","v":{"$error":"#REF!"}},{"$f":"INDEX(#REF!,SMALL(IF(#REF!<>\"\",ROW(#REF!)),ROWS(J$1:J785)-1))","v":{"$error":"#REF!"}},{"$f":"INDEX(#REF!,SMALL(IF(#REF!<>\"\",ROW(#REF!)),ROWS(K$1:K785)-1))","v":{"$error":"#REF!"}}]
[{"$error":"#REF!"},{"$error":"#REF!"},{"$error":"#REF!"},{"$f":"IF(J786=\"\",VLOOKUP(C786,OFFSET([0]!_xlnm.Print_Area,3,2),2,FALSE),VLOOKUP(A786,OFFSET([0]!_xlnm.Print_Area,3,0),4,FALSE))","v":{"$error":"#REF!"}},{"$f":"IF(J786=\"\",\"\",VLOOKUP(A786,OFFSET([0]!_xlnm.Print_Area,3,0),5,FALSE))","v":{"$error":"#REF!"}},{"$f":"IF(J786=\"\",\"\",VLOOKUP(A786,OFFSET([0]!_xlnm.Print_Area,3,0),6,FALSE))","v":{"$error":"#REF!"}},{"$f":"IF(J786=\"\",\"\",VLOOKUP(A786,OFFSET([0]!_xlnm.Print_Area,3,0,,7),7,FALSE))","v":{"$error":"#REF!"}}," ",{"$f":"INDEX(#REF!,SMALL(IF(#REF!<>\"\",ROW(#REF!)),ROWS(I$1:I786)-1))","v":{"$error":"#REF!"}},{"$f":"INDEX(#REF!,SMALL(IF(#REF!<>\"\",ROW(#REF!)),ROWS(J$1:J786)-1))","v":{"$error":"#REF!"}},{"$f":"INDEX(#REF!,SMALL(IF(#REF!<>\"\",ROW(#REF!)),ROWS(K$1:K786)-1))","v":{"$error":"#REF!"}}]
[{"$error":"#REF!"},{"$error":"#REF!"},{"$error":"#REF!"},{"$f":"IF(J787=\"\",VLOOKUP(C787,OFFSET([0]!_xlnm.Print_Area,3,2),2,FALSE),VLOOKUP(A787,OFFSET([0]!_xlnm.Print_Area,3,0),4,FALSE))","v":{"$error":"#REF!"}},{"$f":"IF(J787=\"\",\"\",VLOOKUP(A787,OFFSET([0]!_xlnm.Print_Area,3,0),5,FALSE))","v":{"$error":"#REF!"}},{"$f":"IF(J787=\"\",\"\",VLOOKUP(A787,OFFSET([0]!_xlnm.Print_Area,3,0),6,FALSE))","v":{"$error":"#REF!"}},{"$f":"IF(J787=\"\",\"\",VLOOKUP(A787,OFFSET([0]!_xlnm.Print_Area,3,0,,7),7,FALSE))","v":{"$error":"#REF!"}}," ",{"$f":"INDEX(#REF!,SMALL(IF(#REF!<>\"\",ROW(#REF!)),ROWS(I$1:I787)-1))","v":{"$error":"#REF!"}},{"$f":"INDEX(#REF!,SMALL(IF(#REF!<>\"\",ROW(#REF!)),ROWS(J$1:J787)-1))","v":{"$error":"#REF!"}},{"$f":"INDEX(#REF!,SMALL(IF(#REF!<>\"\",ROW(#REF!)),ROWS(K$1:K787)-1))","v":{"$error":"#REF!"}}]
[{"$error":"#REF!"},{"$error":"#REF!"},{"$error":"#REF!"},{"$f":"IF(J788=\"\",VLOOKUP(C788,OFFSET([0]!_xlnm.Print_Area,3,2),2,FALSE),VLOOKUP(A788,OFFSET([0]!_xlnm.Print_Area,3,0),4,FALSE))","v":{"$error":"#REF!"}},{"$f":"IF(J788=\"\",\"\",VLOOKUP(A788,OFFSET([0]!_xlnm.Print_Area,3,0),5,FALSE))","v":{"$error":"#REF!"}},{"$f":"IF(J788=\"\",\"\",VLOOKUP(A788,OFFSET([0]!_xlnm.Print_Area,3,0),6,FALSE))","v":{"$error":"#REF!"}},{"$f":"IF(J788=\"\",\"\",VLOOKUP(A788,OFFSET([0]!_xlnm.Print_Area,3,0,,7),7,FALSE))","v":{"$error":"#REF!"}}," ",{"$f":"INDEX(#REF!,SMALL(IF(#REF!<>\"\",ROW(#REF!)),ROWS(I$1:I788)-1))","v":{"$error":"#REF!"}},{"$f":"INDEX(#REF!,SMALL(IF(#REF!<>\"\",ROW(#REF!)),ROWS(J$1:J788)-1))","v":{"$error":"#REF!"}},{"$f":"INDEX(#REF!,SMALL(IF(#REF!<>\"\",ROW(#REF!)),ROWS(K$1:K788)-1))","v":{"$error":"#REF!"}}]
[{"$error":"#REF!"},{"$error":"#REF!"},{"$error":"#REF!"},{"$f":"IF(J789=\"\",VLOOKUP(C789,OFFSET([0]!_xlnm.Print_Area,3,2),2,FALSE),VLOOKUP(A789,OFFSET([0]!_xlnm.Print_Area,3,0),4,FALSE))","v":{"$error":"#REF!"}},{"$f":"IF(J789=\"\",\"\",VLOOKUP(A789,OFFSET([0]!_xlnm.Print_Area,3,0),5,FALSE))","v":{"$error":"#REF!"}},{"$f":"IF(J789=\"\",\"\",VLOOKUP(A789,OFFSET([0]!_xlnm.Print_Area,3,0),6,FALSE))","v":{"$error":"#REF!"}},{"$f":"IF(J789=\"\",\"\",VLOOKUP(A789,OFFSET([0]!_xlnm.Print_Area,3,0,,7),7,FALSE))","v":{"$error":"#REF!"}}," ",{"$f":"INDEX(#REF!,SMALL(IF(#REF!<>\"\",ROW(#REF!)),ROWS(I$1:I789)-1))","v":{"$error":"#REF!"}},{"$f":"INDEX(#REF!,SMALL(IF(#REF!<>\"\",ROW(#REF!)),ROWS(J$1:J789)-1))","v":{"$error":"#REF!"}},{"$f":"INDEX(#REF!,SMALL(IF(#REF!<>\"\",ROW(#REF!)),ROWS(K$1:K789)-1))","v":{"$error":"#REF!"}}]
[{"$error":"#REF!"},{"$error":"#REF!"},{"$error":"#REF!"},{"$f":"IF(J790=\"\",VLOOKUP(C790,OFFSET([0]!_xlnm.Print_Area,3,2),2,FALSE),VLOOKUP(A790,OFFSET([0]!_xlnm.Print_Area,3,0),4,FALSE))","v":{"$error":"#REF!"}},{"$f":"IF(J790=\"\",\"\",VLOOKUP(A790,OFFSET([0]!_xlnm.Print_Area,3,0),5,FALSE))","v":{"$error":"#REF!"}},{"$f":"IF(J790=\"\",\"\",VLOOKUP(A790,OFFSET([0]!_xlnm.Print_Area,3,0),6,FALSE))","v":{"$error":"#REF!"}},{"$f":"IF(J790=\"\",\"\",VLOOKUP(A790,OFFSET([0]!_xlnm.Print_Area,3,0,,7),7,FALSE))","v":{"$error":"#REF!"}}," ",{"$f":"INDEX(#REF!,SMALL(IF(#REF!<>\"\",ROW(#REF!)),ROWS(I$1:I790)-1))","v":{"$error":"#REF!"}},{"$f":"INDEX(#REF!,SMALL(IF(#REF!<>\"\",ROW(#REF!)),ROWS(J$1:J790)-1))","v":{"$error":"#REF!"}},{"$f":"INDEX(#REF!,SMALL(IF(#REF!<>\"\",ROW(#REF!)),ROWS(K$1:K790)-1))","v":{"$error":"#REF!"}}]
[{"$error":"#REF!"},{"$error":"#REF!"},{"$error":"#REF!"},{"$f":"IF(J791=\"\",VLOOKUP(C791,OFFSET([0]!_xlnm.Print_Area,3,2),2,FALSE),VLOOKUP(A791,OFFSET([0]!_xlnm.Print_Area,3,0),4,FALSE))","v":{"$error":"#REF!"}},{"$f":"IF(J791=\"\",\"\",VLOOKUP(A791,OFFSET([0]!_xlnm.Print_Area,3,0),5,FALSE))","v":{"$error":"#REF!"}},{"$f":"IF(J791=\"\",\"\",VLOOKUP(A791,OFFSET([0]!_xlnm.Print_Area,3,0),6,FALSE))","v":{"$error":"#REF!"}},{"$f":"IF(J791=\"\",\"\",VLOOKUP(A791,OFFSET([0]!_xlnm.Print_Area,3,0,,7),7,FALSE))","v":{"$error":"#REF!"}}," ",{"$f":"INDEX(#REF!,SMALL(IF(#REF!<>\"\",ROW(#REF!)),ROWS(I$1:I791)-1))","v":{"$error":"#REF!"}},{"$f":"INDEX(#REF!,SMALL(IF(#REF!<>\"\",ROW(#REF!)),ROWS(J$1:J791)-1))","v":{"$error":"#REF!"}},{"$f":"INDEX(#REF!,SMALL(IF(#REF!<>\"\",ROW(#REF!)),ROWS(K$1:K791)-1))","v":{"$error":"#REF!"}}]
[{"$error":"#REF!"},{"$error":"#REF!"},{"$error":"#REF!"},{"$f":"IF(J792=\"\",VLOOKUP(C792,OFFSET([0]!_xlnm.Print_Area,3,2),2,FALSE),VLOOKUP(A792,OFFSET([0]!_xlnm.Print_Area,3,0),4,FALSE))","v":{"$error":"#REF!"}},{"$f":"IF(J792=\"\",\"\",VLOOKUP(A792,OFFSET([0]!_xlnm.Print_Area,3,0),5,FALSE))","v":{"$error":"#REF!"}},{"$f":"IF(J792=\"\",\"\",VLOOKUP(A792,OFFSET([0]!_xlnm.Print_Area,3,0),6,FALSE))","v":{"$error":"#REF!"}},{"$f":"IF(J792=\"\",\"\",VLOOKUP(A792,OFFSET([0]!_xlnm.Print_Area,3,0,,7),7,FALSE))","v":{"$error":"#REF!"}}," ",{"$f":"INDEX(#REF!,SMALL(IF(#REF!<>\"\",ROW(#REF!)),ROWS(I$1:I792)-1))","v":{"$error":"#REF!"}},{"$f":"INDEX(#REF!,SMALL(IF(#REF!<>\"\",ROW(#REF!)),ROWS(J$1:J792)-1))","v":{"$error":"#REF!"}},{"$f":"INDEX(#REF!,SMALL(IF(#REF!<>\"\",ROW(#REF!)),ROWS(K$1:K792)-1))","v":{"$error":"#REF!"}}]
[{"$error":"#REF!"},{"$error":"#REF!"},{"$error":"#REF!"},{"$f":"IF(J793=\"\",VLOOKUP(C793,OFFSET([0]!_xlnm.Print_Area,3,2),2,FALSE),VLOOKUP(A793,OFFSET([0]!_xlnm.Print_Area,3,0),4,FALSE))","v":{"$error":"#REF!"}},{"$f":"IF(J793=\"\",\"\",VLOOKUP(A793,OFFSET([0]!_xlnm.Print_Area,3,0),5,FALSE))","v":{"$error":"#REF!"}},{"$f":"IF(J793=\"\",\"\",VLOOKUP(A793,OFFSET([0]!_xlnm.Print_Area,3,0),6,FALSE))","v":{"$error":"#REF!"}},{"$f":"IF(J793=\"\",\"\",VLOOKUP(A793,OFFSET([0]!_xlnm.Print_Area,3,0,,7),7,FALSE))","v":{"$error":"#REF!"}}," ",{"$f":"INDEX(#REF!,SMALL(IF(#REF!<>\"\",ROW(#REF!)),ROWS(I$1:I793)-1))","v":{"$error":"#REF!"}},{"$f":"INDEX(#REF!,SMALL(IF(#REF!<>\"\",ROW(#REF!)),ROWS(J$1:J793)-1))","v":{"$error":"#REF!"}},{"$f":"INDEX(#REF!,SMALL(IF(#REF!<>\"\",ROW(#REF!)),ROWS(K$1:K793)-1))","v":{"$error":"#REF!"}}]
[{"$error":"#REF!"},{"$error":"#REF!"},{"$error":"#REF!"},{"$f":"IF(J794=\"\",VLOOKUP(C794,OFFSET([0]!_xlnm.Print_Area,3,2),2,FALSE),VLOOKUP(A794,OFFSET([0]!_xlnm.Print_Area,3,0),4,FALSE))","v":{"$error":"#REF!"}},{"$f":"IF(J794=\"\",\"\",VLOOKUP(A794,OFFSET([0]!_xlnm.Print_Area,3,0),5,FALSE))","v":{"$error":"#REF!"}},{"$f":"IF(J794=\"\",\"\",VLOOKUP(A794,OFFSET([0]!_xlnm.Print_Area,3,0),6,FALSE))","v":{"$error":"#REF!"}},{"$f":"IF(J794=\"\",\"\",VLOOKUP(A794,OFFSET([0]!_xlnm.Print_Area,3,0,,7),7,FALSE))","v":{"$error":"#REF!"}}," ",{"$f":"INDEX(#REF!,SMALL(IF(#REF!<>\"\",ROW(#REF!)),ROWS(I$1:I794)-1))","v":{"$error":"#REF!"}},{"$f":"INDEX(#REF!,SMALL(IF(#REF!<>\"\",ROW(#REF!)),ROWS(J$1:J794)-1))","v":{"$error":"#REF!"}},{"$f":"INDEX(#REF!,SMALL(IF(#REF!<>\"\",ROW(#REF!)),ROWS(K$1:K794)-1))","v":{"$error":"#REF!"}}]
[{"$error":"#REF!"},{"$error":"#REF!"},{"$error":"#REF!"},{"$f":"IF(J795=\"\",VLOOKUP(C795,OFFSET([0]!_xlnm.Print_Area,3,2),2,FALSE),VLOOKUP(A795,OFFSET([0]!_xlnm.Print_Area,3,0),4,FALSE))","v":{"$error":"#REF!"}},{"$f":"IF(J795=\"\",\"\",VLOOKUP(A795,OFFSET([0]!_xlnm.Print_Area,3,0),5,FALSE))","v":{"$error":"#REF!"}},{"$f":"IF(J795=\"\",\"\",VLOOKUP(A795,OFFSET([0]!_xlnm.Print_Area,3,0),6,FALSE))","v":{"$error":"#REF!"}},{"$f":"IF(J795=\"\",\"\",VLOOKUP(A795,OFFSET([0]!_xlnm.Print_Area,3,0,,7),7,FALSE))","v":{"$error":"#REF!"}}," ",{"$f":"INDEX(#REF!,SMALL(IF(#REF!<>\"\",ROW(#REF!)),ROWS(I$1:I795)-1))","v":{"$error":"#REF!"}},{"$f":"INDEX(#REF!,SMALL(IF(#REF!<>\"\",ROW(#REF!)),ROWS(J$1:J795)-1))","v":{"$error":"#REF!"}},{"$f":"INDEX(#REF!,SMALL(IF(#REF!<>\"\",ROW(#REF!)),ROWS(K$1:K795)-1))","v":{"$error":"#REF!"}}]
[{"$error":"#REF!"},{"$error":"#REF!"},{"$error":"#REF!"},{"$f":"IF(J796=\"\",VLOOKUP(C796,OFFSET([0]!_xlnm.Print_Area,3,2),2,FALSE),VLOOKUP(A796,OFFSET([0]!_xlnm.Print_Area,3,0),4,FALSE))","v":{"$error":"#REF!"}},{"$f":"IF(J796=\"\",\"\",VLOOKUP(A796,OFFSET([0]!_xlnm.Print_Area,3,0),5,FALSE))","v":{"$error":"#REF!"}},{"$f":"IF(J796=\"\",\"\",VLOOKUP(A796,OFFSET([0]!_xlnm.Print_Area,3,0),6,FALSE))","v":{"$error":"#REF!"}},{"$f":"IF(J796=\"\",\"\",VLOOKUP(A796,OFFSET([0]!_xlnm.Print_Area,3,0,,7),7,FALSE))","v":{"$error":"#REF!"}}," ",{"$f":"INDEX(#REF!,SMALL(IF(#REF!<>\"\",ROW(#REF!)),ROWS(I$1:I796)-1))","v":{"$error":"#REF!"}},{"$f":"INDEX(#REF!,SMALL(IF(#REF!<>\"\",ROW(#REF!)),ROWS(J$1:J796)-1))","v":{"$error":"#REF!"}},{"$f":"INDEX(#REF!,SMALL(IF(#REF!<>\"\",ROW(#REF!)),ROWS(K$1:K796)-1))","v":{"$error":"#REF!"}}]
[{"$error":"#REF!"},{"$error":"#REF!"},{"$error":"#REF!"},{"$f":"IF(J797=\"\",VLOOKUP(C797,OFFSET([0]!_xlnm.Print_Area,3,2),2,FALSE),VLOOKUP(A797,OFFSET([0]!_xlnm.Print_Area,3,0),4,FALSE))","v":{"$error":"#REF!"}},{"$f":"IF(J797=\"\",\"\",VLOOKUP(A797,OFFSET([0]!_xlnm.Print_Area,3,0),5,FALSE))","v":{"$error":"#REF!"}},{"$f":"IF(J797=\"\",\"\",VLOOKUP(A797,OFFSET([0]!_xlnm.Print_Area,3,0),6,FALSE))","v":{"$error":"#REF!"}},{"$f":"IF(J797=\"\",\"\",VLOOKUP(A797,OFFSET([0]!_xlnm.Print_Area,3,0,,7),7,FALSE))","v":{"$error":"#REF!"}}," ",{"$f":"INDEX(#REF!,SMALL(IF(#REF!<>\"\",ROW(#REF!)),ROWS(I$1:I797)-1))","v":{"$error":"#REF!"}},{"$f":"INDEX(#REF!,SMALL(IF(#REF!<>\"\",ROW(#REF!)),ROWS(J$1:J797)-1))","v":{"$error":"#REF!"}},{"$f":"INDEX(#REF!,SMALL(IF(#REF!<>\"\",ROW(#REF!)),ROWS(K$1:K797)-1))","v":{"$error":"#REF!"}}]
[{"$error":"#REF!"},{"$error":"#REF!"},{"$error":"#REF!"},{"$f":"IF(J798=\"\",VLOOKUP(C798,OFFSET([0]!_xlnm.Print_Area,3,2),2,FALSE),VLOOKUP(A798,OFFSET([0]!_xlnm.Print_Area,3,0),4,FALSE))","v":{"$error":"#REF!"}},{"$f":"IF(J798=\"\",\"\",VLOOKUP(A798,OFFSET([0]!_xlnm.Print_Area,3,0),5,FALSE))","v":{"$error":"#REF!"}},{"$f":"IF(J798=\"\",\"\",VLOOKUP(A798,OFFSET([0]!_xlnm.Print_Area,3,0),6,FALSE))","v":{"$error":"#REF!"}},{"$f":"IF(J798=\"\",\"\",VLOOKUP(A798,OFFSET([0]!_xlnm.Print_Area,3,0,,7),7,FALSE))","v":{"$error":"#REF!"}}," ",{"$f":"INDEX(#REF!,SMALL(IF(#REF!<>\"\",ROW(#REF!)),ROWS(I$1:I798)-1))","v":{"$error":"#REF!"}},{"$f":"INDEX(#REF!,SMALL(IF(#REF!<>\"\",ROW(#REF!)),ROWS(J$1:J798)-1))","v":{"$error":"#REF!"}},{"$f":"INDEX(#REF!,SMALL(IF(#REF!<>\"\",ROW(#REF!)),ROWS(K$1:K798)-1))","v":{"$error":"#REF!"}}]
[{"$error":"#REF!"},{"$error":"#REF!"},{"$error":"#REF!"},{"$f":"IF(J799=\"\",VLOOKUP(C799,OFFSET([0]!_xlnm.Print_Area,3,2),2,FALSE),VLOOKUP(A799,OFFSET([0]!_xlnm.Print_Area,3,0),4,FALSE))","v":{"$error":"#REF!"}},{"$f":"IF(J799=\"\",\"\",VLOOKUP(A799,OFFSET([0]!_xlnm.Print_Area,3,0),5,FALSE))","v":{"$error":"#REF!"}},{"$f":"IF(J799=\"\",\"\",VLOOKUP(A799,OFFSET([0]!_xlnm.Print_Area,3,0),6,FALSE))","v":{"$error":"#REF!"}},{"$f":"IF(J799=\"\",\"\",VLOOKUP(A799,OFFSET([0]!_xlnm.Print_Area,3,0,,7),7,FALSE))","v":{"$error":"#REF!"}}," ",{"$f":"INDEX(#REF!,SMALL(IF(#REF!<>\"\",ROW(#REF!)),ROWS(I$1:I799)-1))","v":{"$error":"#REF!"}},{"$f":"INDEX(#REF!,SMALL(IF(#REF!<>\"\",ROW(#REF!)),ROWS(J$1:J799)-1))","v":{"$error":"#REF!"}},{"$f":"INDEX(#REF!,SMALL(IF(#REF!<>\"\",ROW(#REF!)),ROWS(K$1:K799)-1))","v":{"$error":"#REF!"}}]
[{"$error":"#REF!"},{"$error":"#REF!"},{"$error":"#REF!"},{"$f":"IF(J800=\"\",VLOOKUP(C800,OFFSET([0]!_xlnm.Print_Area,3,2),2,FALSE),VLOOKUP(A800,OFFSET([0]!_xlnm.Print_Area,3,0),4,FALSE))","v":{"$error":"#REF!"}},{"$f":"IF(J800=\"\",\"\",VLOOKUP(A800,OFFSET([0]!_xlnm.Print_Area,3,0),5,FALSE))","v":{"$error":"#REF!"}},{"$f":"IF(J800=\"\",\"\",VLOOKUP(A800,OFFSET([0]!_xlnm.Print_Area,3,0),6,FALSE))","v":{"$error":"#REF!"}},{"$f":"IF(J800=\"\",\"\",VLOOKUP(A800,OFFSET([0]!_xlnm.Print_Area,3,0,,7),7,FALSE))","v":{"$error":"#REF!"}}," ",{"$f":"INDEX(#REF!,SMALL(IF(#REF!<>\"\",ROW(#REF!)),ROWS(I$1:I800)-1))","v":{"$error":"#REF!"}},{"$f":"INDEX(#REF!,SMALL(IF(#REF!<>\"\",ROW(#REF!)),ROWS(J$1:J800)-1))","v":{"$error":"#REF!"}},{"$f":"INDEX(#REF!,SMALL(IF(#REF!<>\"\",ROW(#REF!)),ROWS(K$1:K800)-1))","v":{"$error":"#REF!"}}]
[{"$error":"#REF!"},{"$error":"#REF!"},{"$error":"#REF!"},{"$f":"IF(J801=\"\",VLOOKUP(C801,OFFSET([0]!_xlnm.Print_Area,3,2),2,FALSE),VLOOKUP(A801,OFFSET([0]!_xlnm.Print_Area,3,0),4,FALSE))","v":{"$error":"#REF!"}},{"$f":"IF(J801=\"\",\"\",VLOOKUP(A801,OFFSET([0]!_xlnm.Print_Area,3,0),5,FALSE))","v":{"$error":"#REF!"}},{"$f":"IF(J801=\"\",\"\",VLOOKUP(A801,OFFSET([0]!_xlnm.Print_Area,3,0),6,FALSE))","v":{"$error":"#REF!"}},{"$f":"IF(J801=\"\",\"\",VLOOKUP(A801,OFFSET([0]!_xlnm.Print_Area,3,0,,7),7,FALSE))","v":{"$error":"#REF!"}}," ",{"$f":"INDEX(#REF!,SMALL(IF(#REF!<>\"\",ROW(#REF!)),ROWS(I$1:I801)-1))","v":{"$error":"#REF!"}},{"$f":"INDEX(#REF!,SMALL(IF(#REF!<>\"\",ROW(#REF!)),ROWS(J$1:J801)-1))","v":{"$error":"#REF!"}},{"$f":"INDEX(#REF!,SMALL(IF(#REF!<>\"\",ROW(#REF!)),ROWS(K$1:K801)-1))","v":{"$error":"#REF!"}}]
[{"$error":"#REF!"},{"$error":"#REF!"},{"$error":"#REF!"},{"$f":"IF(J802=\"\",VLOOKUP(C802,OFFSET([0]!_xlnm.Print_Area,3,2),2,FALSE),VLOOKUP(A802,OFFSET([0]!_xlnm.Print_Area,3,0),4,FALSE))","v":{"$error":"#REF!"}},{"$f":"IF(J802=\"\",\"\",VLOOKUP(A802,OFFSET([0]!_xlnm.Print_Area,3,0),5,FALSE))","v":{"$error":"#REF!"}},{"$f":"IF(J802=\"\",\"\",VLOOKUP(A802,OFFSET([0]!_xlnm.Print_Area,3,0),6,FALSE))","v":{"$error":"#REF!"}},{"$f":"IF(J802=\"\",\"\",VLOOKUP(A802,OFFSET([0]!_xlnm.Print_Area,3,0,,7),7,FALSE))","v":{"$error":"#REF!"}}," ",{"$f":"INDEX(#REF!,SMALL(IF(#REF!<>\"\",ROW(#REF!)),ROWS(I$1:I802)-1))","v":{"$error":"#REF!"}},{"$f":"INDEX(#REF!,SMALL(IF(#REF!<>\"\",ROW(#REF!)),ROWS(J$1:J802)-1))","v":{"$error":"#REF!"}},{"$f":"INDEX(#REF!,SMALL(IF(#REF!<>\"\",ROW(#REF!)),ROWS(K$1:K802)-1))","v":{"$error":"#REF!"}}]
[{"$error":"#REF!"},{"$error":"#REF!"},{"$error":"#REF!"},{"$f":"IF(J803=\"\",VLOOKUP(C803,OFFSET([0]!_xlnm.Print_Area,3,2),2,FALSE),VLOOKUP(A803,OFFSET([0]!_xlnm.Print_Area,3,0),4,FALSE))","v":{"$error":"#REF!"}},{"$f":"IF(J803=\"\",\"\",VLOOKUP(A803,OFFSET([0]!_xlnm.Print_Area,3,0),5,FALSE))","v":{"$error":"#REF!"}},{"$f":"IF(J803=\"\",\"\",VLOOKUP(A803,OFFSET([0]!_xlnm.Print_Area,3,0),6,FALSE))","v":{"$error":"#REF!"}},{"$f":"IF(J803=\"\",\"\",VLOOKUP(A803,OFFSET([0]!_xlnm.Print_Area,3,0,,7),7,FALSE))","v":{"$error":"#REF!"}}," ",{"$f":"INDEX(#REF!,SMALL(IF(#REF!<>\"\",ROW(#REF!)),ROWS(I$1:I803)-1))","v":{"$error":"#REF!"}},{"$f":"INDEX(#REF!,SMALL(IF(#REF!<>\"\",ROW(#REF!)),ROWS(J$1:J803)-1))","v":{"$error":"#REF!"}},{"$f":"INDEX(#REF!,SMALL(IF(#REF!<>\"\",ROW(#REF!)),ROWS(K$1:K803)-1))","v":{"$error":"#REF!"}}]
[{"$error":"#REF!"},{"$error":"#REF!"},{"$error":"#REF!"},{"$f":"IF(J804=\"\",VLOOKUP(C804,OFFSET([0]!_xlnm.Print_Area,3,2),2,FALSE),VLOOKUP(A804,OFFSET([0]!_xlnm.Print_Area,3,0),4,FALSE))","v":{"$error":"#REF!"}},{"$f":"IF(J804=\"\",\"\",VLOOKUP(A804,OFFSET([0]!_xlnm.Print_Area,3,0),5,FALSE))","v":{"$error":"#REF!"}},{"$f":"IF(J804=\"\",\"\",VLOOKUP(A804,OFFSET([0]!_xlnm.Print_Area,3,0),6,FALSE))","v":{"$error":"#REF!"}},{"$f":"IF(J804=\"\",\"\",VLOOKUP(A804,OFFSET([0]!_xlnm.Print_Area,3,0,,7),7,FALSE))","v":{"$error":"#REF!"}}," ",{"$f":"INDEX(#REF!,SMALL(IF(#REF!<>\"\",ROW(#REF!)),ROWS(I$1:I804)-1))","v":{"$error":"#REF!"}},{"$f":"INDEX(#REF!,SMALL(IF(#REF!<>\"\",ROW(#REF!)),ROWS(J$1:J804)-1))","v":{"$error":"#REF!"}},{"$f":"INDEX(#REF!,SMALL(IF(#REF!<>\"\",ROW(#REF!)),ROWS(K$1:K804)-1))","v":{"$error":"#REF!"}}]
[{"$error":"#REF!"},{"$error":"#REF!"},{"$error":"#REF!"},{"$f":"IF(J805=\"\",VLOOKUP(C805,OFFSET([0]!_xlnm.Print_Area,3,2),2,FALSE),VLOOKUP(A805,OFFSET([0]!_xlnm.Print_Area,3,0),4,FALSE))","v":{"$error":"#REF!"}},{"$f":"IF(J805=\"\",\"\",VLOOKUP(A805,OFFSET([0]!_xlnm.Print_Area,3,0),5,FALSE))","v":{"$error":"#REF!"}},{"$f":"IF(J805=\"\",\"\",VLOOKUP(A805,OFFSET([0]!_xlnm.Print_Area,3,0),6,FALSE))","v":{"$error":"#REF!"}},{"$f":"IF(J805=\"\",\"\",VLOOKUP(A805,OFFSET([0]!_xlnm.Print_Area,3,0,,7),7,FALSE))","v":{"$error":"#REF!"}}," ",{"$f":"INDEX(#REF!,SMALL(IF(#REF!<>\"\",ROW(#REF!)),ROWS(I$1:I805)-1))","v":{"$error":"#REF!"}},{"$f":"INDEX(#REF!,SMALL(IF(#REF!<>\"\",ROW(#REF!)),ROWS(J$1:J805)-1))","v":{"$error":"#REF!"}},{"$f":"INDEX(#REF!,SMALL(IF(#REF!<>\"\",ROW(#REF!)),ROWS(K$1:K805)-1))","v":{"$error":"#REF!"}}]
[{"$error":"#REF!"},{"$error":"#REF!"},{"$error":"#REF!"},{"$f":"IF(J806=\"\",VLOOKUP(C806,OFFSET([0]!_xlnm.Print_Area,3,2),2,FALSE),VLOOKUP(A806,OFFSET([0]!_xlnm.Print_Area,3,0),4,FALSE))","v":{"$error":"#REF!"}},{"$f":"IF(J806=\"\",\"\",VLOOKUP(A806,OFFSET([0]!_xlnm.Print_Area,3,0),5,FALSE))","v":{"$error":"#REF!"}},{"$f":"IF(J806=\"\",\"\",VLOOKUP(A806,OFFSET([0]!_xlnm.Print_Area,3,0),6,FALSE))","v":{"$error":"#REF!"}},{"$f":"IF(J806=\"\",\"\",VLOOKUP(A806,OFFSET([0]!_xlnm.Print_Area,3,0,,7),7,FALSE))","v":{"$error":"#REF!"}}," ",{"$f":"INDEX(#REF!,SMALL(IF(#REF!<>\"\",ROW(#REF!)),ROWS(I$1:I806)-1))","v":{"$error":"#REF!"}},{"$f":"INDEX(#REF!,SMALL(IF(#REF!<>\"\",ROW(#REF!)),ROWS(J$1:J806)-1))","v":{"$error":"#REF!"}},{"$f":"INDEX(#REF!,SMALL(IF(#REF!<>\"\",ROW(#REF!)),ROWS(K$1:K806)-1))","v":{"$error":"#REF!"}}]
[{"$error":"#REF!"},{"$error":"#REF!"},{"$error":"#REF!"},{"$f":"IF(J807=\"\",VLOOKUP(C807,OFFSET([0]!_xlnm.Print_Area,3,2),2,FALSE),VLOOKUP(A807,OFFSET([0]!_xlnm.Print_Area,3,0),4,FALSE))","v":{"$error":"#REF!"}},{"$f":"IF(J807=\"\",\"\",VLOOKUP(A807,OFFSET([0]!_xlnm.Print_Area,3,0),5,FALSE))","v":{"$error":"#REF!"}},{"$f":"IF(J807=\"\",\"\",VLOOKUP(A807,OFFSET([0]!_xlnm.Print_Area,3,0),6,FALSE))","v":{"$error":"#REF!"}},{"$f":"IF(J807=\"\",\"\",VLOOKUP(A807,OFFSET([0]!_xlnm.Print_Area,3,0,,7),7,FALSE))","v":{"$error":"#REF!"}}," ",{"$f":"INDEX(#REF!,SMALL(IF(#REF!<>\"\",ROW(#REF!)),ROWS(I$1:I807)-1))","v":{"$error":"#REF!"}},{"$f":"INDEX(#REF!,SMALL(IF(#REF!<>\"\",ROW(#REF!)),ROWS(J$1:J807)-1))","v":{"$error":"#REF!"}},{"$f":"INDEX(#REF!,SMALL(IF(#REF!<>\"\",ROW(#REF!)),ROWS(K$1:K807)-1))","v":{"$error":"#REF!"}}]
[{"$error":"#REF!"},{"$error":"#REF!"},{"$error":"#REF!"},{"$f":"IF(J808=\"\",VLOOKUP(C808,OFFSET([0]!_xlnm.Print_Area,3,2),2,FALSE),VLOOKUP(A808,OFFSET([0]!_xlnm.Print_Area,3,0),4,FALSE))","v":{"$error":"#REF!"}},{"$f":"IF(J808=\"\",\"\",VLOOKUP(A808,OFFSET([0]!_xlnm.Print_Area,3,0),5,FALSE))","v":{"$error":"#REF!"}},{"$f":"IF(J808=\"\",\"\",VLOOKUP(A808,OFFSET([0]!_xlnm.Print_Area,3,0),6,FALSE))","v":{"$error":"#REF!"}},{"$f":"IF(J808=\"\",\"\",VLOOKUP(A808,OFFSET([0]!_xlnm.Print_Area,3,0,,7),7,FALSE))","v":{"$error":"#REF!"}}," ",{"$f":"INDEX(#REF!,SMALL(IF(#REF!<>\"\",ROW(#REF!)),ROWS(I$1:I808)-1))","v":{"$error":"#REF!"}},{"$f":"INDEX(#REF!,SMALL(IF(#REF!<>\"\",ROW(#REF!)),ROWS(J$1:J808)-1))","v":{"$error":"#REF!"}},{"$f":"INDEX(#REF!,SMALL(IF(#REF!<>\"\",ROW(#REF!)),ROWS(K$1:K808)-1))","v":{"$error":"#REF!"}}]
[{"$error":"#REF!"},{"$error":"#REF!"},{"$error":"#REF!"},{"$f":"IF(J809=\"\",VLOOKUP(C809,OFFSET([0]!_xlnm.Print_Area,3,2),2,FALSE),VLOOKUP(A809,OFFSET([0]!_xlnm.Print_Area,3,0),4,FALSE))","v":{"$error":"#REF!"}},{"$f":"IF(J809=\"\",\"\",VLOOKUP(A809,OFFSET([0]!_xlnm.Print_Area,3,0),5,FALSE))","v":{"$error":"#REF!"}},{"$f":"IF(J809=\"\",\"\",VLOOKUP(A809,OFFSET([0]!_xlnm.Print_Area,3,0),6,FALSE))","v":{"$error":"#REF!"}},{"$f":"IF(J809=\"\",\"\",VLOOKUP(A809,OFFSET([0]!_xlnm.Print_Area,3,0,,7),7,FALSE))","v":{"$error":"#REF!"}}," ",{"$f":"INDEX(#REF!,SMALL(IF(#REF!<>\"\",ROW(#REF!)),ROWS(I$1:I809)-1))","v":{"$error":"#REF!"}},{"$f":"INDEX(#REF!,SMALL(IF(#REF!<>\"\",ROW(#REF!)),ROWS(J$1:J809)-1))","v":{"$error":"#REF!"}},{"$f":"INDEX(#REF!,SMALL(IF(#REF!<>\"\",ROW(#REF!)),ROWS(K$1:K809)-1))","v":{"$error":"#REF!"}}]
[{"$error":"#REF!"},{"$error":"#REF!"},{"$error":"#REF!"},{"$f":"IF(J810=\"\",VLOOKUP(C810,OFFSET([0]!_xlnm.Print_Area,3,2),2,FALSE),VLOOKUP(A810,OFFSET([0]!_xlnm.Print_Area,3,0),4,FALSE))","v":{"$error":"#REF!"}},{"$f":"IF(J810=\"\",\"\",VLOOKUP(A810,OFFSET([0]!_xlnm.Print_Area,3,0),5,FALSE))","v":{"$error":"#REF!"}},{"$f":"IF(J810=\"\",\"\",VLOOKUP(A810,OFFSET([0]!_xlnm.Print_Area,3,0),6,FALSE))","v":{"$error":"#REF!"}},{"$f":"IF(J810=\"\",\"\",VLOOKUP(A810,OFFSET([0]!_xlnm.Print_Area,3,0,,7),7,FALSE))","v":{"$error":"#REF!"}}," ",{"$f":"INDEX(#REF!,SMALL(IF(#REF!<>\"\",ROW(#REF!)),ROWS(I$1:I810)-1))","v":{"$error":"#REF!"}},{"$f":"INDEX(#REF!,SMALL(IF(#REF!<>\"\",ROW(#REF!)),ROWS(J$1:J810)-1))","v":{"$error":"#REF!"}},{"$f":"INDEX(#REF!,SMALL(IF(#REF!<>\"\",ROW(#REF!)),ROWS(K$1:K810)-1))","v":{"$error":"#REF!"}}]
[{"$error":"#REF!"},{"$error":"#REF!"},{"$error":"#REF!"},{"$f":"IF(J811=\"\",VLOOKUP(C811,OFFSET([0]!_xlnm.Print_Area,3,2),2,FALSE),VLOOKUP(A811,OFFSET([0]!_xlnm.Print_Area,3,0),4,FALSE))","v":{"$error":"#REF!"}},{"$f":"IF(J811=\"\",\"\",VLOOKUP(A811,OFFSET([0]!_xlnm.Print_Area,3,0),5,FALSE))","v":{"$error":"#REF!"}},{"$f":"IF(J811=\"\",\"\",VLOOKUP(A811,OFFSET([0]!_xlnm.Print_Area,3,0),6,FALSE))","v":{"$error":"#REF!"}},{"$f":"IF(J811=\"\",\"\",VLOOKUP(A811,OFFSET([0]!_xlnm.Print_Area,3,0,,7),7,FALSE))","v":{"$error":"#REF!"}}," ",{"$f":"INDEX(#REF!,SMALL(IF(#REF!<>\"\",ROW(#REF!)),ROWS(I$1:I811)-1))","v":{"$error":"#REF!"}},{"$f":"INDEX(#REF!,SMALL(IF(#REF!<>\"\",ROW(#REF!)),ROWS(J$1:J811)-1))","v":{"$error":"#REF!"}},{"$f":"INDEX(#REF!,SMALL(IF(#REF!<>\"\",ROW(#REF!)),ROWS(K$1:K811)-1))","v":{"$error":"#REF!"}}]
[{"$error":"#REF!"},{"$error":"#REF!"},{"$error":"#REF!"},{"$f":"IF(J812=\"\",VLOOKUP(C812,OFFSET([0]!_xlnm.Print_Area,3,2),2,FALSE),VLOOKUP(A812,OFFSET([0]!_xlnm.Print_Area,3,0),4,FALSE))","v":{"$error":"#REF!"}},{"$f":"IF(J812=\"\",\"\",VLOOKUP(A812,OFFSET([0]!_xlnm.Print_Area,3,0),5,FALSE))","v":{"$error":"#REF!"}},{"$f":"IF(J812=\"\",\"\",VLOOKUP(A812,OFFSET([0]!_xlnm.Print_Area,3,0),6,FALSE))","v":{"$error":"#REF!"}},{"$f":"IF(J812=\"\",\"\",VLOOKUP(A812,OFFSET([0]!_xlnm.Print_Area,3,0,,7),7,FALSE))","v":{"$error":"#REF!"}}," ",{"$f":"INDEX(#REF!,SMALL(IF(#REF!<>\"\",ROW(#REF!)),ROWS(I$1:I812)-1))","v":{"$error":"#REF!"}},{"$f":"INDEX(#REF!,SMALL(IF(#REF!<>\"\",ROW(#REF!)),ROWS(J$1:J812)-1))","v":{"$error":"#REF!"}},{"$f":"INDEX(#REF!,SMALL(IF(#REF!<>\"\",ROW(#REF!)),ROWS(K$1:K812)-1))","v":{"$error":"#REF!"}}]
[{"$error":"#REF!"},{"$error":"#REF!"},{"$error":"#REF!"},{"$f":"IF(J813=\"\",VLOOKUP(C813,OFFSET([0]!_xlnm.Print_Area,3,2),2,FALSE),VLOOKUP(A813,OFFSET([0]!_xlnm.Print_Area,3,0),4,FALSE))","v":{"$error":"#REF!"}},{"$f":"IF(J813=\"\",\"\",VLOOKUP(A813,OFFSET([0]!_xlnm.Print_Area,3,0),5,FALSE))","v":{"$error":"#REF!"}},{"$f":"IF(J813=\"\",\"\",VLOOKUP(A813,OFFSET([0]!_xlnm.Print_Area,3,0),6,FALSE))","v":{"$error":"#REF!"}},{"$f":"IF(J813=\"\",\"\",VLOOKUP(A813,OFFSET([0]!_xlnm.Print_Area,3,0,,7),7,FALSE))","v":{"$error":"#REF!"}}," ",{"$f":"INDEX(#REF!,SMALL(IF(#REF!<>\"\",ROW(#REF!)),ROWS(I$1:I813)-1))","v":{"$error":"#REF!"}},{"$f":"INDEX(#REF!,SMALL(IF(#REF!<>\"\",ROW(#REF!)),ROWS(J$1:J813)-1))","v":{"$error":"#REF!"}},{"$f":"INDEX(#REF!,SMALL(IF(#REF!<>\"\",ROW(#REF!)),ROWS(K$1:K813)-1))","v":{"$error":"#REF!"}}]
[{"$error":"#REF!"},{"$error":"#REF!"},{"$error":"#REF!"},{"$f":"IF(J814=\"\",VLOOKUP(C814,OFFSET([0]!_xlnm.Print_Area,3,2),2,FALSE),VLOOKUP(A814,OFFSET([0]!_xlnm.Print_Area,3,0),4,FALSE))","v":{"$error":"#REF!"}},{"$f":"IF(J814=\"\",\"\",VLOOKUP(A814,OFFSET([0]!_xlnm.Print_Area,3,0),5,FALSE))","v":{"$error":"#REF!"}},{"$f":"IF(J814=\"\",\"\",VLOOKUP(A814,OFFSET([0]!_xlnm.Print_Area,3,0),6,FALSE))","v":{"$error":"#REF!"}},{"$f":"IF(J814=\"\",\"\",VLOOKUP(A814,OFFSET([0]!_xlnm.Print_Area,3,0,,7),7,FALSE))","v":{"$error":"#REF!"}}," ",{"$f":"INDEX(#REF!,SMALL(IF(#REF!<>\"\",ROW(#REF!)),ROWS(I$1:I814)-1))","v":{"$error":"#REF!"}},{"$f":"INDEX(#REF!,SMALL(IF(#REF!<>\"\",ROW(#REF!)),ROWS(J$1:J814)-1))","v":{"$error":"#REF!"}},{"$f":"INDEX(#REF!,SMALL(IF(#REF!<>\"\",ROW(#REF!)),ROWS(K$1:K814)-1))","v":{"$error":"#REF!"}}]
[{"$error":"#REF!"},{"$error":"#REF!"},{"$error":"#REF!"},{"$f":"IF(J815=\"\",VLOOKUP(C815,OFFSET([0]!_xlnm.Print_Area,3,2),2,FALSE),VLOOKUP(A815,OFFSET([0]!_xlnm.Print_Area,3,0),4,FALSE))","v":{"$error":"#REF!"}},{"$f":"IF(J815=\"\",\"\",VLOOKUP(A815,OFFSET([0]!_xlnm.Print_Area,3,0),5,FALSE))","v":{"$error":"#REF!"}},{"$f":"IF(J815=\"\",\"\",VLOOKUP(A815,OFFSET([0]!_xlnm.Print_Area,3,0),6,FALSE))","v":{"$error":"#REF!"}},{"$f":"IF(J815=\"\",\"\",VLOOKUP(A815,OFFSET([0]!_xlnm.Print_Area,3,0,,7),7,FALSE))","v":{"$error":"#REF!"}}," ",{"$f":"INDEX(#REF!,SMALL(IF(#REF!<>\"\",ROW(#REF!)),ROWS(I$1:I815)-1))","v":{"$error":"#REF!"}},{"$f":"INDEX(#REF!,SMALL(IF(#REF!<>\"\",ROW(#REF!)),ROWS(J$1:J815)-1))","v":{"$error":"#REF!"}},{"$f":"INDEX(#REF!,SMALL(IF(#REF!<>\"\",ROW(#REF!)),ROWS(K$1:K815)-1))","v":{"$error":"#REF!"}}]
[{"$error":"#REF!"},{"$error":"#REF!"},{"$error":"#REF!"},{"$f":"IF(J816=\"\",VLOOKUP(C816,OFFSET([0]!_xlnm.Print_Area,3,2),2,FALSE),VLOOKUP(A816,OFFSET([0]!_xlnm.Print_Area,3,0),4,FALSE))","v":{"$error":"#REF!"}},{"$f":"IF(J816=\"\",\"\",VLOOKUP(A816,OFFSET([0]!_xlnm.Print_Area,3,0),5,FALSE))","v":{"$error":"#REF!"}},{"$f":"IF(J816=\"\",\"\",VLOOKUP(A816,OFFSET([0]!_xlnm.Print_Area,3,0),6,FALSE))","v":{"$error":"#REF!"}},{"$f":"IF(J816=\"\",\"\",VLOOKUP(A816,OFFSET([0]!_xlnm.Print_Area,3,0,,7),7,FALSE))","v":{"$error":"#REF!"}}," ",{"$f":"INDEX(#REF!,SMALL(IF(#REF!<>\"\",ROW(#REF!)),ROWS(I$1:I816)-1))","v":{"$error":"#REF!"}},{"$f":"INDEX(#REF!,SMALL(IF(#REF!<>\"\",ROW(#REF!)),ROWS(J$1:J816)-1))","v":{"$error":"#REF!"}},{"$f":"INDEX(#REF!,SMALL(IF(#REF!<>\"\",ROW(#REF!)),ROWS(K$1:K816)-1))","v":{"$error":"#REF!"}}]
[{"$error":"#REF!"},{"$error":"#REF!"},{"$error":"#REF!"},{"$f":"IF(J817=\"\",VLOOKUP(C817,OFFSET([0]!_xlnm.Print_Area,3,2),2,FALSE),VLOOKUP(A817,OFFSET([0]!_xlnm.Print_Area,3,0),4,FALSE))","v":{"$error":"#REF!"}},{"$f":"IF(J817=\"\",\"\",VLOOKUP(A817,OFFSET([0]!_xlnm.Print_Area,3,0),5,FALSE))","v":{"$error":"#REF!"}},{"$f":"IF(J817=\"\",\"\",VLOOKUP(A817,OFFSET([0]!_xlnm.Print_Area,3,0),6,FALSE))","v":{"$error":"#REF!"}},{"$f":"IF(J817=\"\",\"\",VLOOKUP(A817,OFFSET([0]!_xlnm.Print_Area,3,0,,7),7,FALSE))","v":{"$error":"#REF!"}}," ",{"$f":"INDEX(#REF!,SMALL(IF(#REF!<>\"\",ROW(#REF!)),ROWS(I$1:I817)-1))","v":{"$error":"#REF!"}},{"$f":"INDEX(#REF!,SMALL(IF(#REF!<>\"\",ROW(#REF!)),ROWS(J$1:J817)-1))","v":{"$error":"#REF!"}},{"$f":"INDEX(#REF!,SMALL(IF(#REF!<>\"\",ROW(#REF!)),ROWS(K$1:K817)-1))","v":{"$error":"#REF!"}}]
[{"$error":"#REF!"},{"$error":"#REF!"},{"$error":"#REF!"},{"$f":"IF(J818=\"\",VLOOKUP(C818,OFFSET([0]!_xlnm.Print_Area,3,2),2,FALSE),VLOOKUP(A818,OFFSET([0]!_xlnm.Print_Area,3,0),4,FALSE))","v":{"$error":"#REF!"}},{"$f":"IF(J818=\"\",\"\",VLOOKUP(A818,OFFSET([0]!_xlnm.Print_Area,3,0),5,FALSE))","v":{"$error":"#REF!"}},{"$f":"IF(J818=\"\",\"\",VLOOKUP(A818,OFFSET([0]!_xlnm.Print_Area,3,0),6,FALSE))","v":{"$error":"#REF!"}},{"$f":"IF(J818=\"\",\"\",VLOOKUP(A818,OFFSET([0]!_xlnm.Print_Area,3,0,,7),7,FALSE))","v":{"$error":"#REF!"}}," ",{"$f":"INDEX(#REF!,SMALL(IF(#REF!<>\"\",ROW(#REF!)),ROWS(I$1:I818)-1))","v":{"$error":"#REF!"}},{"$f":"INDEX(#REF!,SMALL(IF(#REF!<>\"\",ROW(#REF!)),ROWS(J$1:J818)-1))","v":{"$error":"#REF!"}},{"$f":"INDEX(#REF!,SMALL(IF(#REF!<>\"\",ROW(#REF!)),ROWS(K$1:K818)-1))","v":{"$error":"#REF!"}}]
[{"$error":"#REF!"},{"$error":"#REF!"},{"$error":"#REF!"},{"$f":"IF(J819=\"\",VLOOKUP(C819,OFFSET([0]!_xlnm.Print_Area,3,2),2,FALSE),VLOOKUP(A819,OFFSET([0]!_xlnm.Print_Area,3,0),4,FALSE))","v":{"$error":"#REF!"}},{"$f":"IF(J819=\"\",\"\",VLOOKUP(A819,OFFSET([0]!_xlnm.Print_Area,3,0),5,FALSE))","v":{"$error":"#REF!"}},{"$f":"IF(J819=\"\",\"\",VLOOKUP(A819,OFFSET([0]!_xlnm.Print_Area,3,0),6,FALSE))","v":{"$error":"#REF!"}},{"$f":"IF(J819=\"\",\"\",VLOOKUP(A819,OFFSET([0]!_xlnm.Print_Area,3,0,,7),7,FALSE))","v":{"$error":"#REF!"}}," ",{"$f":"INDEX(#REF!,SMALL(IF(#REF!<>\"\",ROW(#REF!)),ROWS(I$1:I819)-1))","v":{"$error":"#REF!"}},{"$f":"INDEX(#REF!,SMALL(IF(#REF!<>\"\",ROW(#REF!)),ROWS(J$1:J819)-1))","v":{"$error":"#REF!"}},{"$f":"INDEX(#REF!,SMALL(IF(#REF!<>\"\",ROW(#REF!)),ROWS(K$1:K819)-1))","v":{"$error":"#REF!"}}]
[{"$error":"#REF!"},{"$error":"#REF!"},{"$error":"#REF!"},{"$f":"IF(J820=\"\",VLOOKUP(C820,OFFSET([0]!_xlnm.Print_Area,3,2),2,FALSE),VLOOKUP(A820,OFFSET([0]!_xlnm.Print_Area,3,0),4,FALSE))","v":{"$error":"#REF!"}},{"$f":"IF(J820=\"\",\"\",VLOOKUP(A820,OFFSET([0]!_xlnm.Print_Area,3,0),5,FALSE))","v":{"$error":"#REF!"}},{"$f":"IF(J820=\"\",\"\",VLOOKUP(A820,OFFSET([0]!_xlnm.Print_Area,3,0),6,FALSE))","v":{"$error":"#REF!"}},{"$f":"IF(J820=\"\",\"\",VLOOKUP(A820,OFFSET([0]!_xlnm.Print_Area,3,0,,7),7,FALSE))","v":{"$error":"#REF!"}}," ",{"$f":"INDEX(#REF!,SMALL(IF(#REF!<>\"\",ROW(#REF!)),ROWS(I$1:I820)-1))","v":{"$error":"#REF!"}},{"$f":"INDEX(#REF!,SMALL(IF(#REF!<>\"\",ROW(#REF!)),ROWS(J$1:J820)-1))","v":{"$error":"#REF!"}},{"$f":"INDEX(#REF!,SMALL(IF(#REF!<>\"\",ROW(#REF!)),ROWS(K$1:K820)-1))","v":{"$error":"#REF!"}}]
[{"$error":"#REF!"},{"$error":"#REF!"},{"$error":"#REF!"},{"$f":"IF(J821=\"\",VLOOKUP(C821,OFFSET([0]!_xlnm.Print_Area,3,2),2,FALSE),VLOOKUP(A821,OFFSET([0]!_xlnm.Print_Area,3,0),4,FALSE))","v":{"$error":"#REF!"}},{"$f":"IF(J821=\"\",\"\",VLOOKUP(A821,OFFSET([0]!_xlnm.Print_Area,3,0),5,FALSE))","v":{"$error":"#REF!"}},{"$f":"IF(J821=\"\",\"\",VLOOKUP(A821,OFFSET([0]!_xlnm.Print_Area,3,0),6,FALSE))","v":{"$error":"#REF!"}},{"$f":"IF(J821=\"\",\"\",VLOOKUP(A821,OFFSET([0]!_xlnm.Print_Area,3,0,,7),7,FALSE))","v":{"$error":"#REF!"}}," ",{"$f":"INDEX(#REF!,SMALL(IF(#REF!<>\"\",ROW(#REF!)),ROWS(I$1:I821)-1))","v":{"$error":"#REF!"}},{"$f":"INDEX(#REF!,SMALL(IF(#REF!<>\"\",ROW(#REF!)),ROWS(J$1:J821)-1))","v":{"$error":"#REF!"}},{"$f":"INDEX(#REF!,SMALL(IF(#REF!<>\"\",ROW(#REF!)),ROWS(K$1:K821)-1))","v":{"$error":"#REF!"}}]
[{"$error":"#REF!"},{"$error":"#REF!"},{"$error":"#REF!"},{"$f":"IF(J822=\"\",VLOOKUP(C822,OFFSET([0]!_xlnm.Print_Area,3,2),2,FALSE),VLOOKUP(A822,OFFSET([0]!_xlnm.Print_Area,3,0),4,FALSE))","v":{"$error":"#REF!"}},{"$f":"IF(J822=\"\",\"\",VLOOKUP(A822,OFFSET([0]!_xlnm.Print_Area,3,0),5,FALSE))","v":{"$error":"#REF!"}},{"$f":"IF(J822=\"\",\"\",VLOOKUP(A822,OFFSET([0]!_xlnm.Print_Area,3,0),6,FALSE))","v":{"$error":"#REF!"}},{"$f":"IF(J822=\"\",\"\",VLOOKUP(A822,OFFSET([0]!_xlnm.Print_Area,3,0,,7),7,FALSE))","v":{"$error":"#REF!"}}," ",{"$f":"INDEX(#REF!,SMALL(IF(#REF!<>\"\",ROW(#REF!)),ROWS(I$1:I822)-1))","v":{"$error":"#REF!"}},{"$f":"INDEX(#REF!,SMALL(IF(#REF!<>\"\",ROW(#REF!)),ROWS(J$1:J822)-1))","v":{"$error":"#REF!"}},{"$f":"INDEX(#REF!,SMALL(IF(#REF!<>\"\",ROW(#REF!)),ROWS(K$1:K822)-1))","v":{"$error":"#REF!"}}]
[{"$error":"#REF!"},{"$error":"#REF!"},{"$error":"#REF!"},{"$f":"IF(J823=\"\",VLOOKUP(C823,OFFSET([0]!_xlnm.Print_Area,3,2),2,FALSE),VLOOKUP(A823,OFFSET([0]!_xlnm.Print_Area,3,0),4,FALSE))","v":{"$error":"#REF!"}},{"$f":"IF(J823=\"\",\"\",VLOOKUP(A823,OFFSET([0]!_xlnm.Print_Area,3,0),5,FALSE))","v":{"$error":"#REF!"}},{"$f":"IF(J823=\"\",\"\",VLOOKUP(A823,OFFSET([0]!_xlnm.Print_Area,3,0),6,FALSE))","v":{"$error":"#REF!"}},{"$f":"IF(J823=\"\",\"\",VLOOKUP(A823,OFFSET([0]!_xlnm.Print_Area,3,0,,7),7,FALSE))","v":{"$error":"#REF!"}}," ",{"$f":"INDEX(#REF!,SMALL(IF(#REF!<>\"\",ROW(#REF!)),ROWS(I$1:I823)-1))","v":{"$error":"#REF!"}},{"$f":"INDEX(#REF!,SMALL(IF(#REF!<>\"\",ROW(#REF!)),ROWS(J$1:J823)-1))","v":{"$error":"#REF!"}},{"$f":"INDEX(#REF!,SMALL(IF(#REF!<>\"\",ROW(#REF!)),ROWS(K$1:K823)-1))","v":{"$error":"#REF!"}}]
[{"$error":"#REF!"},{"$error":"#REF!"},{"$error":"#REF!"},{"$f":"IF(J824=\"\",VLOOKUP(C824,OFFSET([0]!_xlnm.Print_Area,3,2),2,FALSE),VLOOKUP(A824,OFFSET([0]!_xlnm.Print_Area,3,0),4,FALSE))","v":{"$error":"#REF!"}},{"$f":"IF(J824=\"\",\"\",VLOOKUP(A824,OFFSET([0]!_xlnm.Print_Area,3,0),5,FALSE))","v":{"$error":"#REF!"}},{"$f":"IF(J824=\"\",\"\",VLOOKUP(A824,OFFSET([0]!_xlnm.Print_Area,3,0),6,FALSE))","v":{"$error":"#REF!"}},{"$f":"IF(J824=\"\",\"\",VLOOKUP(A824,OFFSET([0]!_xlnm.Print_Area,3,0,,7),7,FALSE))","v":{"$error":"#REF!"}}," ",{"$f":"INDEX(#REF!,SMALL(IF(#REF!<>\"\",ROW(#REF!)),ROWS(I$1:I824)-1))","v":{"$error":"#REF!"}},{"$f":"INDEX(#REF!,SMALL(IF(#REF!<>\"\",ROW(#REF!)),ROWS(J$1:J824)-1))","v":{"$error":"#REF!"}},{"$f":"INDEX(#REF!,SMALL(IF(#REF!<>\"\",ROW(#REF!)),ROWS(K$1:K824)-1))","v":{"$error":"#REF!"}}]
[{"$error":"#REF!"},{"$error":"#REF!"},{"$error":"#REF!"},{"$f":"IF(J825=\"\",VLOOKUP(C825,OFFSET([0]!_xlnm.Print_Area,3,2),2,FALSE),VLOOKUP(A825,OFFSET([0]!_xlnm.Print_Area,3,0),4,FALSE))","v":{"$error":"#REF!"}},{"$f":"IF(J825=\"\",\"\",VLOOKUP(A825,OFFSET([0]!_xlnm.Print_Area,3,0),5,FALSE))","v":{"$error":"#REF!"}},{"$f":"IF(J825=\"\",\"\",VLOOKUP(A825,OFFSET([0]!_xlnm.Print_Area,3,0),6,FALSE))","v":{"$error":"#REF!"}},{"$f":"IF(J825=\"\",\"\",VLOOKUP(A825,OFFSET([0]!_xlnm.Print_Area,3,0,,7),7,FALSE))","v":{"$error":"#REF!"}}," ",{"$f":"INDEX(#REF!,SMALL(IF(#REF!<>\"\",ROW(#REF!)),ROWS(I$1:I825)-1))","v":{"$error":"#REF!"}},{"$f":"INDEX(#REF!,SMALL(IF(#REF!<>\"\",ROW(#REF!)),ROWS(J$1:J825)-1))","v":{"$error":"#REF!"}},{"$f":"INDEX(#REF!,SMALL(IF(#REF!<>\"\",ROW(#REF!)),ROWS(K$1:K825)-1))","v":{"$error":"#REF!"}}]
[{"$error":"#REF!"},{"$error":"#REF!"},{"$error":"#REF!"},{"$f":"IF(J826=\"\",VLOOKUP(C826,OFFSET([0]!_xlnm.Print_Area,3,2),2,FALSE),VLOOKUP(A826,OFFSET([0]!_xlnm.Print_Area,3,0),4,FALSE))","v":{"$error":"#REF!"}},{"$f":"IF(J826=\"\",\"\",VLOOKUP(A826,OFFSET([0]!_xlnm.Print_Area,3,0),5,FALSE))","v":{"$error":"#REF!"}},{"$f":"IF(J826=\"\",\"\",VLOOKUP(A826,OFFSET([0]!_xlnm.Print_Area,3,0),6,FALSE))","v":{"$error":"#REF!"}},{"$f":"IF(J826=\"\",\"\",VLOOKUP(A826,OFFSET([0]!_xlnm.Print_Area,3,0,,7),7,FALSE))","v":{"$error":"#REF!"}}," ",{"$f":"INDEX(#REF!,SMALL(IF(#REF!<>\"\",ROW(#REF!)),ROWS(I$1:I826)-1))","v":{"$error":"#REF!"}},{"$f":"INDEX(#REF!,SMALL(IF(#REF!<>\"\",ROW(#REF!)),ROWS(J$1:J826)-1))","v":{"$error":"#REF!"}},{"$f":"INDEX(#REF!,SMALL(IF(#REF!<>\"\",ROW(#REF!)),ROWS(K$1:K826)-1))","v":{"$error":"#REF!"}}]
[{"$error":"#REF!"},{"$error":"#REF!"},{"$error":"#REF!"},{"$f":"IF(J827=\"\",VLOOKUP(C827,OFFSET([0]!_xlnm.Print_Area,3,2),2,FALSE),VLOOKUP(A827,OFFSET([0]!_xlnm.Print_Area,3,0),4,FALSE))","v":{"$error":"#REF!"}},{"$f":"IF(J827=\"\",\"\",VLOOKUP(A827,OFFSET([0]!_xlnm.Print_Area,3,0),5,FALSE))","v":{"$error":"#REF!"}},{"$f":"IF(J827=\"\",\"\",VLOOKUP(A827,OFFSET([0]!_xlnm.Print_Area,3,0),6,FALSE))","v":{"$error":"#REF!"}},{"$f":"IF(J827=\"\",\"\",VLOOKUP(A827,OFFSET([0]!_xlnm.Print_Area,3,0,,7),7,FALSE))","v":{"$error":"#REF!"}}," ",{"$f":"INDEX(#REF!,SMALL(IF(#REF!<>\"\",ROW(#REF!)),ROWS(I$1:I827)-1))","v":{"$error":"#REF!"}},{"$f":"INDEX(#REF!,SMALL(IF(#REF!<>\"\",ROW(#REF!)),ROWS(J$1:J827)-1))","v":{"$error":"#REF!"}},{"$f":"INDEX(#REF!,SMALL(IF(#REF!<>\"\",ROW(#REF!)),ROWS(K$1:K827)-1))","v":{"$error":"#REF!"}}]
[{"$error":"#REF!"},{"$error":"#REF!"},{"$error":"#REF!"},{"$f":"IF(J828=\"\",VLOOKUP(C828,OFFSET([0]!_xlnm.Print_Area,3,2),2,FALSE),VLOOKUP(A828,OFFSET([0]!_xlnm.Print_Area,3,0),4,FALSE))","v":{"$error":"#REF!"}},{"$f":"IF(J828=\"\",\"\",VLOOKUP(A828,OFFSET([0]!_xlnm.Print_Area,3,0),5,FALSE))","v":{"$error":"#REF!"}},{"$f":"IF(J828=\"\",\"\",VLOOKUP(A828,OFFSET([0]!_xlnm.Print_Area,3,0),6,FALSE))","v":{"$error":"#REF!"}},{"$f":"IF(J828=\"\",\"\",VLOOKUP(A828,OFFSET([0]!_xlnm.Print_Area,3,0,,7),7,FALSE))","v":{"$error":"#REF!"}}," ",{"$f":"INDEX(#REF!,SMALL(IF(#REF!<>\"\",ROW(#REF!)),ROWS(I$1:I828)-1))","v":{"$error":"#REF!"}},{"$f":"INDEX(#REF!,SMALL(IF(#REF!<>\"\",ROW(#REF!)),ROWS(J$1:J828)-1))","v":{"$error":"#REF!"}},{"$f":"INDEX(#REF!,SMALL(IF(#REF!<>\"\",ROW(#REF!)),ROWS(K$1:K828)-1))","v":{"$error":"#REF!"}}]
[{"$error":"#REF!"},{"$error":"#REF!"},{"$error":"#REF!"},{"$f":"IF(J829=\"\",VLOOKUP(C829,OFFSET([0]!_xlnm.Print_Area,3,2),2,FALSE),VLOOKUP(A829,OFFSET([0]!_xlnm.Print_Area,3,0),4,FALSE))","v":{"$error":"#REF!"}},{"$f":"IF(J829=\"\",\"\",VLOOKUP(A829,OFFSET([0]!_xlnm.Print_Area,3,0),5,FALSE))","v":{"$error":"#REF!"}},{"$f":"IF(J829=\"\",\"\",VLOOKUP(A829,OFFSET([0]!_xlnm.Print_Area,3,0),6,FALSE))","v":{"$error":"#REF!"}},{"$f":"IF(J829=\"\",\"\",VLOOKUP(A829,OFFSET([0]!_xlnm.Print_Area,3,0,,7),7,FALSE))","v":{"$error":"#REF!"}}," ",{"$f":"INDEX(#REF!,SMALL(IF(#REF!<>\"\",ROW(#REF!)),ROWS(I$1:I829)-1))","v":{"$error":"#REF!"}},{"$f":"INDEX(#REF!,SMALL(IF(#REF!<>\"\",ROW(#REF!)),ROWS(J$1:J829)-1))","v":{"$error":"#REF!"}},{"$f":"INDEX(#REF!,SMALL(IF(#REF!<>\"\",ROW(#REF!)),ROWS(K$1:K829)-1))","v":{"$error":"#REF!"}}]
[{"$error":"#REF!"},{"$error":"#REF!"},{"$error":"#REF!"},{"$f":"IF(J830=\"\",VLOOKUP(C830,OFFSET([0]!_xlnm.Print_Area,3,2),2,FALSE),VLOOKUP(A830,OFFSET([0]!_xlnm.Print_Area,3,0),4,FALSE))","v":{"$error":"#REF!"}},{"$f":"IF(J830=\"\",\"\",VLOOKUP(A830,OFFSET([0]!_xlnm.Print_Area,3,0),5,FALSE))","v":{"$error":"#REF!"}},{"$f":"IF(J830=\"\",\"\",VLOOKUP(A830,OFFSET([0]!_xlnm.Print_Area,3,0),6,FALSE))","v":{"$error":"#REF!"}},{"$f":"IF(J830=\"\",\"\",VLOOKUP(A830,OFFSET([0]!_xlnm.Print_Area,3,0,,7),7,FALSE))","v":{"$error":"#REF!"}}," ",{"$f":"INDEX(#REF!,SMALL(IF(#REF!<>\"\",ROW(#REF!)),ROWS(I$1:I830)-1))","v":{"$error":"#REF!"}},{"$f":"INDEX(#REF!,SMALL(IF(#REF!<>\"\",ROW(#REF!)),ROWS(J$1:J830)-1))","v":{"$error":"#REF!"}},{"$f":"INDEX(#REF!,SMALL(IF(#REF!<>\"\",ROW(#REF!)),ROWS(K$1:K830)-1))","v":{"$error":"#REF!"}}]
[{"$error":"#REF!"},{"$error":"#REF!"},{"$error":"#REF!"},{"$f":"IF(J831=\"\",VLOOKUP(C831,OFFSET([0]!_xlnm.Print_Area,3,2),2,FALSE),VLOOKUP(A831,OFFSET([0]!_xlnm.Print_Area,3,0),4,FALSE))","v":{"$error":"#REF!"}},{"$f":"IF(J831=\"\",\"\",VLOOKUP(A831,OFFSET([0]!_xlnm.Print_Area,3,0),5,FALSE))","v":{"$error":"#REF!"}},{"$f":"IF(J831=\"\",\"\",VLOOKUP(A831,OFFSET([0]!_xlnm.Print_Area,3,0),6,FALSE))","v":{"$error":"#REF!"}},{"$f":"IF(J831=\"\",\"\",VLOOKUP(A831,OFFSET([0]!_xlnm.Print_Area,3,0,,7),7,FALSE))","v":{"$error":"#REF!"}}," ",{"$f":"INDEX(#REF!,SMALL(IF(#REF!<>\"\",ROW(#REF!)),ROWS(I$1:I831)-1))","v":{"$error":"#REF!"}},{"$f":"INDEX(#REF!,SMALL(IF(#REF!<>\"\",ROW(#REF!)),ROWS(J$1:J831)-1))","v":{"$error":"#REF!"}},{"$f":"INDEX(#REF!,SMALL(IF(#REF!<>\"\",ROW(#REF!)),ROWS(K$1:K831)-1))","v":{"$error":"#REF!"}}]
[{"$error":"#REF!"},{"$error":"#REF!"},{"$error":"#REF!"},{"$f":"IF(J832=\"\",VLOOKUP(C832,OFFSET([0]!_xlnm.Print_Area,3,2),2,FALSE),VLOOKUP(A832,OFFSET([0]!_xlnm.Print_Area,3,0),4,FALSE))","v":{"$error":"#REF!"}},{"$f":"IF(J832=\"\",\"\",VLOOKUP(A832,OFFSET([0]!_xlnm.Print_Area,3,0),5,FALSE))","v":{"$error":"#REF!"}},{"$f":"IF(J832=\"\",\"\",VLOOKUP(A832,OFFSET([0]!_xlnm.Print_Area,3,0),6,FALSE))","v":{"$error":"#REF!"}},{"$f":"IF(J832=\"\",\"\",VLOOKUP(A832,OFFSET([0]!_xlnm.Print_Area,3,0,,7),7,FALSE))","v":{"$error":"#REF!"}}," ",{"$f":"INDEX(#REF!,SMALL(IF(#REF!<>\"\",ROW(#REF!)),ROWS(I$1:I832)-1))","v":{"$error":"#REF!"}},{"$f":"INDEX(#REF!,SMALL(IF(#REF!<>\"\",ROW(#REF!)),ROWS(J$1:J832)-1))","v":{"$error":"#REF!"}},{"$f":"INDEX(#REF!,SMALL(IF(#REF!<>\"\",ROW(#REF!)),ROWS(K$1:K832)-1))","v":{"$error":"#REF!"}}]
[{"$error":"#REF!"},{"$error":"#REF!"},{"$error":"#REF!"},{"$f":"IF(J833=\"\",VLOOKUP(C833,OFFSET([0]!_xlnm.Print_Area,3,2),2,FALSE),VLOOKUP(A833,OFFSET([0]!_xlnm.Print_Area,3,0),4,FALSE))","v":{"$error":"#REF!"}},{"$f":"IF(J833=\"\",\"\",VLOOKUP(A833,OFFSET([0]!_xlnm.Print_Area,3,0),5,FALSE))","v":{"$error":"#REF!"}},{"$f":"IF(J833=\"\",\"\",VLOOKUP(A833,OFFSET([0]!_xlnm.Print_Area,3,0),6,FALSE))","v":{"$error":"#REF!"}},{"$f":"IF(J833=\"\",\"\",VLOOKUP(A833,OFFSET([0]!_xlnm.Print_Area,3,0,,7),7,FALSE))","v":{"$error":"#REF!"}}," ",{"$f":"INDEX(#REF!,SMALL(IF(#REF!<>\"\",ROW(#REF!)),ROWS(I$1:I833)-1))","v":{"$error":"#REF!"}},{"$f":"INDEX(#REF!,SMALL(IF(#REF!<>\"\",ROW(#REF!)),ROWS(J$1:J833)-1))","v":{"$error":"#REF!"}},{"$f":"INDEX(#REF!,SMALL(IF(#REF!<>\"\",ROW(#REF!)),ROWS(K$1:K833)-1))","v":{"$error":"#REF!"}}]
[{"$error":"#REF!"},{"$error":"#REF!"},{"$error":"#REF!"},{"$f":"IF(J834=\"\",VLOOKUP(C834,OFFSET([0]!_xlnm.Print_Area,3,2),2,FALSE),VLOOKUP(A834,OFFSET([0]!_xlnm.Print_Area,3,0),4,FALSE))","v":{"$error":"#REF!"}},{"$f":"IF(J834=\"\",\"\",VLOOKUP(A834,OFFSET([0]!_xlnm.Print_Area,3,0),5,FALSE))","v":{"$error":"#REF!"}},{"$f":"IF(J834=\"\",\"\",VLOOKUP(A834,OFFSET([0]!_xlnm.Print_Area,3,0),6,FALSE))","v":{"$error":"#REF!"}},{"$f":"IF(J834=\"\",\"\",VLOOKUP(A834,OFFSET([0]!_xlnm.Print_Area,3,0,,7),7,FALSE))","v":{"$error":"#REF!"}}," ",{"$f":"INDEX(#REF!,SMALL(IF(#REF!<>\"\",ROW(#REF!)),ROWS(I$1:I834)-1))","v":{"$error":"#REF!"}},{"$f":"INDEX(#REF!,SMALL(IF(#REF!<>\"\",ROW(#REF!)),ROWS(J$1:J834)-1))","v":{"$error":"#REF!"}},{"$f":"INDEX(#REF!,SMALL(IF(#REF!<>\"\",ROW(#REF!)),ROWS(K$1:K834)-1))","v":{"$error":"#REF!"}}]
[{"$error":"#REF!"},{"$error":"#REF!"},{"$error":"#REF!"},{"$f":"IF(J835=\"\",VLOOKUP(C835,OFFSET([0]!_xlnm.Print_Area,3,2),2,FALSE),VLOOKUP(A835,OFFSET([0]!_xlnm.Print_Area,3,0),4,FALSE))","v":{"$error":"#REF!"}},{"$f":"IF(J835=\"\",\"\",VLOOKUP(A835,OFFSET([0]!_xlnm.Print_Area,3,0),5,FALSE))","v":{"$error":"#REF!"}},{"$f":"IF(J835=\"\",\"\",VLOOKUP(A835,OFFSET([0]!_xlnm.Print_Area,3,0),6,FALSE))","v":{"$error":"#REF!"}},{"$f":"IF(J835=\"\",\"\",VLOOKUP(A835,OFFSET([0]!_xlnm.Print_Area,3,0,,7),7,FALSE))","v":{"$error":"#REF!"}}," ",{"$f":"INDEX(#REF!,SMALL(IF(#REF!<>\"\",ROW(#REF!)),ROWS(I$1:I835)-1))","v":{"$error":"#REF!"}},{"$f":"INDEX(#REF!,SMALL(IF(#REF!<>\"\",ROW(#REF!)),ROWS(J$1:J835)-1))","v":{"$error":"#REF!"}},{"$f":"INDEX(#REF!,SMALL(IF(#REF!<>\"\",ROW(#REF!)),ROWS(K$1:K835)-1))","v":{"$error":"#REF!"}}]
[{"$error":"#REF!"},{"$error":"#REF!"},{"$error":"#REF!"},{"$f":"IF(J836=\"\",VLOOKUP(C836,OFFSET([0]!_xlnm.Print_Area,3,2),2,FALSE),VLOOKUP(A836,OFFSET([0]!_xlnm.Print_Area,3,0),4,FALSE))","v":{"$error":"#REF!"}},{"$f":"IF(J836=\"\",\"\",VLOOKUP(A836,OFFSET([0]!_xlnm.Print_Area,3,0),5,FALSE))","v":{"$error":"#REF!"}},{"$f":"IF(J836=\"\",\"\",VLOOKUP(A836,OFFSET([0]!_xlnm.Print_Area,3,0),6,FALSE))","v":{"$error":"#REF!"}},{"$f":"IF(J836=\"\",\"\",VLOOKUP(A836,OFFSET([0]!_xlnm.Print_Area,3,0,,7),7,FALSE))","v":{"$error":"#REF!"}}," ",{"$f":"INDEX(#REF!,SMALL(IF(#REF!<>\"\",ROW(#REF!)),ROWS(I$1:I836)-1))","v":{"$error":"#REF!"}},{"$f":"INDEX(#REF!,SMALL(IF(#REF!<>\"\",ROW(#REF!)),ROWS(J$1:J836)-1))","v":{"$error":"#REF!"}},{"$f":"INDEX(#REF!,SMALL(IF(#REF!<>\"\",ROW(#REF!)),ROWS(K$1:K836)-1))","v":{"$error":"#REF!"}}]
[{"$f":"IF(J837=0,\"\",J837)","v":{"$error":"#REF!"}},{"$f":"IF(K837=0,\"\",K837)","v":{"$error":"#REF!"}},{"$f":"I837","v":{"$error":"#REF!"}},{"$f":"IF(J837=\"\",VLOOKUP(C837,OFFSET([0]!_xlnm.Print_Area,3,2),2,FALSE),VLOOKUP(A837,OFFSET([0]!_xlnm.Print_Area,3,0),4,FALSE))","v":{"$error":"#REF!"}},{"$f":"IF(J837=\"\",\"\",VLOOKUP(A837,OFFSET([0]!_xlnm.Print_Area,3,0),5,FALSE))","v":{"$error":"#REF!"}},{"$f":"IF(J837=\"\",\"\",VLOOKUP(A837,OFFSET([0]!_xlnm.Print_Area,3,0),6,FALSE))","v":{"$error":"#REF!"}},{"$f":"IF(J837=\"\",\"\",VLOOKUP(A837,OFFSET([0]!_xlnm.Print_Area,3,0,,7),7,FALSE))","v":{"$error":"#REF!"}},{"$f":"IFERROR(ROUND(F837*G837,2),\" \")","v":" "},{"$f":"INDEX(#REF!,SMALL(IF(#REF!<>\"\",ROW(#REF!)),ROWS(I$1:I837)-1))","v":{"$error":"#REF!"}},{"$f":"INDEX(#REF!,SMALL(IF(#REF!<>\"\",ROW(#REF!)),ROWS(J$1:J837)-1))","v":{"$error":"#REF!"}},{"$f":"INDEX(#REF!,SMALL(IF(#REF!<>\"\",ROW(#REF!)),ROWS(K$1:K837)-1))","v":{"$error":"#REF!"}}]
[{"$error":"#REF!"},{"$error":"#REF!"},{"$error":"#REF!"},{"$f":"IF(J838=\"\",VLOOKUP(C838,OFFSET([0]!_xlnm.Print_Area,3,2),2,FALSE),VLOOKUP(A838,OFFSET([0]!_xlnm.Print_Area,3,0),4,FALSE))","v":{"$error":"#REF!"}},{"$f":"IF(J838=\"\",\"\",VLOOKUP(A838,OFFSET([0]!_xlnm.Print_Area,3,0),5,FALSE))","v":{"$error":"#REF!"}},{"$f":"IF(J838=\"\",\"\",VLOOKUP(A838,OFFSET([0]!_xlnm.Print_Area,3,0),6,FALSE))","v":{"$error":"#REF!"}},{"$f":"IF(J838=\"\",\"\",VLOOKUP(A838,OFFSET([0]!_xlnm.Print_Area,3,0,,7),7,FALSE))","v":{"$error":"#REF!"}}," ",{"$f":"INDEX(#REF!,SMALL(IF(#REF!<>\"\",ROW(#REF!)),ROWS(I$1:I838)-1))","v":{"$error":"#REF!"}},{"$f":"INDEX(#REF!,SMALL(IF(#REF!<>\"\",ROW(#REF!)),ROWS(J$1:J838)-1))","v":{"$error":"#REF!"}},{"$f":"INDEX(#REF!,SMALL(IF(#REF!<>\"\",ROW(#REF!)),ROWS(K$1:K838)-1))","v":{"$error":"#REF!"}}]
[{"$error":"#REF!"},{"$error":"#REF!"},{"$error":"#REF!"},{"$f":"IF(J839=\"\",VLOOKUP(C839,OFFSET([0]!_xlnm.Print_Area,3,2),2,FALSE),VLOOKUP(A839,OFFSET([0]!_xlnm.Print_Area,3,0),4,FALSE))","v":{"$error":"#REF!"}},{"$f":"IF(J839=\"\",\"\",VLOOKUP(A839,OFFSET([0]!_xlnm.Print_Area,3,0),5,FALSE))","v":{"$error":"#REF!"}},{"$f":"IF(J839=\"\",\"\",VLOOKUP(A839,OFFSET([0]!_xlnm.Print_Area,3,0),6,FALSE))","v":{"$error":"#REF!"}},{"$f":"IF(J839=\"\",\"\",VLOOKUP(A839,OFFSET([0]!_xlnm.Print_Area,3,0,,7),7,FALSE))","v":{"$error":"#REF!"}}," ",{"$f":"INDEX(#REF!,SMALL(IF(#REF!<>\"\",ROW(#REF!)),ROWS(I$1:I839)-1))","v":{"$error":"#REF!"}},{"$f":"INDEX(#REF!,SMALL(IF(#REF!<>\"\",ROW(#REF!)),ROWS(J$1:J839)-1))","v":{"$error":"#REF!"}},{"$f":"INDEX(#REF!,SMALL(IF(#REF!<>\"\",ROW(#REF!)),ROWS(K$1:K839)-1))","v":{"$error":"#REF!"}}]
[{"$error":"#REF!"},{"$error":"#REF!"},{"$error":"#REF!"},{"$f":"IF(J840=\"\",VLOOKUP(C840,OFFSET([0]!_xlnm.Print_Area,3,2),2,FALSE),VLOOKUP(A840,OFFSET([0]!_xlnm.Print_Area,3,0),4,FALSE))","v":{"$error":"#REF!"}},{"$f":"IF(J840=\"\",\"\",VLOOKUP(A840,OFFSET([0]!_xlnm.Print_Area,3,0),5,FALSE))","v":{"$error":"#REF!"}},{"$f":"IF(J840=\"\",\"\",VLOOKUP(A840,OFFSET([0]!_xlnm.Print_Area,3,0),6,FALSE))","v":{"$error":"#REF!"}},{"$f":"IF(J840=\"\",\"\",VLOOKUP(A840,OFFSET([0]!_xlnm.Print_Area,3,0,,7),7,FALSE))","v":{"$error":"#REF!"}}," ",{"$f":"INDEX(#REF!,SMALL(IF(#REF!<>\"\",ROW(#REF!)),ROWS(I$1:I840)-1))","v":{"$error":"#REF!"}},{"$f":"INDEX(#REF!,SMALL(IF(#REF!<>\"\",ROW(#REF!)),ROWS(J$1:J840)-1))","v":{"$error":"#REF!"}},{"$f":"INDEX(#REF!,SMALL(IF(#REF!<>\"\",ROW(#REF!)),ROWS(K$1:K840)-1))","v":{"$error":"#REF!"}}]
[{"$error":"#REF!"},{"$error":"#REF!"},{"$error":"#REF!"},{"$f":"IF(J841=\"\",VLOOKUP(C841,OFFSET([0]!_xlnm.Print_Area,3,2),2,FALSE),VLOOKUP(A841,OFFSET([0]!_xlnm.Print_Area,3,0),4,FALSE))","v":{"$error":"#REF!"}},{"$f":"IF(J841=\"\",\"\",VLOOKUP(A841,OFFSET([0]!_xlnm.Print_Area,3,0),5,FALSE))","v":{"$error":"#REF!"}},{"$f":"IF(J841=\"\",\"\",VLOOKUP(A841,OFFSET([0]!_xlnm.Print_Area,3,0),6,FALSE))","v":{"$error":"#REF!"}},{"$f":"IF(J841=\"\",\"\",VLOOKUP(A841,OFFSET([0]!_xlnm.Print_Area,3,0,,7),7,FALSE))","v":{"$error":"#REF!"}}," ",{"$f":"INDEX(#REF!,SMALL(IF(#REF!<>\"\",ROW(#REF!)),ROWS(I$1:I841)-1))","v":{"$error":"#REF!"}},{"$f":"INDEX(#REF!,SMALL(IF(#REF!<>\"\",ROW(#REF!)),ROWS(J$1:J841)-1))","v":{"$error":"#REF!"}},{"$f":"INDEX(#REF!,SMALL(IF(#REF!<>\"\",ROW(#REF!)),ROWS(K$1:K841)-1))","v":{"$error":"#REF!"}}]
[{"$error":"#REF!"},{"$error":"#REF!"},{"$error":"#REF!"},{"$f":"IF(J842=\"\",VLOOKUP(C842,OFFSET([0]!_xlnm.Print_Area,3,2),2,FALSE),VLOOKUP(A842,OFFSET([0]!_xlnm.Print_Area,3,0),4,FALSE))","v":{"$error":"#REF!"}},{"$f":"IF(J842=\"\",\"\",VLOOKUP(A842,OFFSET([0]!_xlnm.Print_Area,3,0),5,FALSE))","v":{"$error":"#REF!"}},{"$f":"IF(J842=\"\",\"\",VLOOKUP(A842,OFFSET([0]!_xlnm.Print_Area,3,0),6,FALSE))","v":{"$error":"#REF!"}},{"$f":"IF(J842=\"\",\"\",VLOOKUP(A842,OFFSET([0]!_xlnm.Print_Area,3,0,,7),7,FALSE))","v":{"$error":"#REF!"}}," ",{"$f":"INDEX(#REF!,SMALL(IF(#REF!<>\"\",ROW(#REF!)),ROWS(I$1:I842)-1))","v":{"$error":"#REF!"}},{"$f":"INDEX(#REF!,SMALL(IF(#REF!<>\"\",ROW(#REF!)),ROWS(J$1:J842)-1))","v":{"$error":"#REF!"}},{"$f":"INDEX(#REF!,SMALL(IF(#REF!<>\"\",ROW(#REF!)),ROWS(K$1:K842)-1))","v":{"$error":"#REF!"}}]
[{"$error":"#REF!"},{"$error":"#REF!"},{"$error":"#REF!"},{"$f":"IF(J843=\"\",VLOOKUP(C843,OFFSET([0]!_xlnm.Print_Area,3,2),2,FALSE),VLOOKUP(A843,OFFSET([0]!_xlnm.Print_Area,3,0),4,FALSE))","v":{"$error":"#REF!"}},{"$f":"IF(J843=\"\",\"\",VLOOKUP(A843,OFFSET([0]!_xlnm.Print_Area,3,0),5,FALSE))","v":{"$error":"#REF!"}},{"$f":"IF(J843=\"\",\"\",VLOOKUP(A843,OFFSET([0]!_xlnm.Print_Area,3,0),6,FALSE))","v":{"$error":"#REF!"}},{"$f":"IF(J843=\"\",\"\",VLOOKUP(A843,OFFSET([0]!_xlnm.Print_Area,3,0,,7),7,FALSE))","v":{"$error":"#REF!"}}," ",{"$f":"INDEX(#REF!,SMALL(IF(#REF!<>\"\",ROW(#REF!)),ROWS(I$1:I843)-1))","v":{"$error":"#REF!"}},{"$f":"INDEX(#REF!,SMALL(IF(#REF!<>\"\",ROW(#REF!)),ROWS(J$1:J843)-1))","v":{"$error":"#REF!"}},{"$f":"INDEX(#REF!,SMALL(IF(#REF!<>\"\",ROW(#REF!)),ROWS(K$1:K843)-1))","v":{"$error":"#REF!"}}]
[{"$error":"#REF!"},{"$error":"#REF!"},{"$error":"#REF!"},{"$f":"IF(J844=\"\",VLOOKUP(C844,OFFSET([0]!_xlnm.Print_Area,3,2),2,FALSE),VLOOKUP(A844,OFFSET([0]!_xlnm.Print_Area,3,0),4,FALSE))","v":{"$error":"#REF!"}},{"$f":"IF(J844=\"\",\"\",VLOOKUP(A844,OFFSET([0]!_xlnm.Print_Area,3,0),5,FALSE))","v":{"$error":"#REF!"}},{"$f":"IF(J844=\"\",\"\",VLOOKUP(A844,OFFSET([0]!_xlnm.Print_Area,3,0),6,FALSE))","v":{"$error":"#REF!"}},{"$f":"IF(J844=\"\",\"\",VLOOKUP(A844,OFFSET([0]!_xlnm.Print_Area,3,0,,7),7,FALSE))","v":{"$error":"#REF!"}}," ",{"$f":"INDEX(#REF!,SMALL(IF(#REF!<>\"\",ROW(#REF!)),ROWS(I$1:I844)-1))","v":{"$error":"#REF!"}},{"$f":"INDEX(#REF!,SMALL(IF(#REF!<>\"\",ROW(#REF!)),ROWS(J$1:J844)-1))","v":{"$error":"#REF!"}},{"$f":"INDEX(#REF!,SMALL(IF(#REF!<>\"\",ROW(#REF!)),ROWS(K$1:K844)-1))","v":{"$error":"#REF!"}}]
[{"$error":"#REF!"},{"$error":"#REF!"},{"$error":"#REF!"},{"$f":"IF(J845=\"\",VLOOKUP(C845,OFFSET([0]!_xlnm.Print_Area,3,2),2,FALSE),VLOOKUP(A845,OFFSET([0]!_xlnm.Print_Area,3,0),4,FALSE))","v":{"$error":"#REF!"}},{"$f":"IF(J845=\"\",\"\",VLOOKUP(A845,OFFSET([0]!_xlnm.Print_Area,3,0),5,FALSE))","v":{"$error":"#REF!"}},{"$f":"IF(J845=\"\",\"\",VLOOKUP(A845,OFFSET([0]!_xlnm.Print_Area,3,0),6,FALSE))","v":{"$error":"#REF!"}},{"$f":"IF(J845=\"\",\"\",VLOOKUP(A845,OFFSET([0]!_xlnm.Print_Area,3,0,,7),7,FALSE))","v":{"$error":"#REF!"}}," ",{"$f":"INDEX(#REF!,SMALL(IF(#REF!<>\"\",ROW(#REF!)),ROWS(I$1:I845)-1))","v":{"$error":"#REF!"}},{"$f":"INDEX(#REF!,SMALL(IF(#REF!<>\"\",ROW(#REF!)),ROWS(J$1:J845)-1))","v":{"$error":"#REF!"}},{"$f":"INDEX(#REF!,SMALL(IF(#REF!<>\"\",ROW(#REF!)),ROWS(K$1:K845)-1))","v":{"$error":"#REF!"}}]
[{"$error":"#REF!"},{"$error":"#REF!"},{"$error":"#REF!"},{"$f":"IF(J846=\"\",VLOOKUP(C846,OFFSET([0]!_xlnm.Print_Area,3,2),2,FALSE),VLOOKUP(A846,OFFSET([0]!_xlnm.Print_Area,3,0),4,FALSE))","v":{"$error":"#REF!"}},{"$f":"IF(J846=\"\",\"\",VLOOKUP(A846,OFFSET([0]!_xlnm.Print_Area,3,0),5,FALSE))","v":{"$error":"#REF!"}},{"$f":"IF(J846=\"\",\"\",VLOOKUP(A846,OFFSET([0]!_xlnm.Print_Area,3,0),6,FALSE))","v":{"$error":"#REF!"}},{"$f":"IF(J846=\"\",\"\",VLOOKUP(A846,OFFSET([0]!_xlnm.Print_Area,3,0,,7),7,FALSE))","v":{"$error":"#REF!"}}," ",{"$f":"INDEX(#REF!,SMALL(IF(#REF!<>\"\",ROW(#REF!)),ROWS(I$1:I846)-1))","v":{"$error":"#REF!"}},{"$f":"INDEX(#REF!,SMALL(IF(#REF!<>\"\",ROW(#REF!)),ROWS(J$1:J846)-1))","v":{"$error":"#REF!"}},{"$f":"INDEX(#REF!,SMALL(IF(#REF!<>\"\",ROW(#REF!)),ROWS(K$1:K846)-1))","v":{"$error":"#REF!"}}]
[{"$error":"#REF!"},{"$error":"#REF!"},{"$error":"#REF!"},{"$f":"IF(J847=\"\",VLOOKUP(C847,OFFSET([0]!_xlnm.Print_Area,3,2),2,FALSE),VLOOKUP(A847,OFFSET([0]!_xlnm.Print_Area,3,0),4,FALSE))","v":{"$error":"#REF!"}},{"$f":"IF(J847=\"\",\"\",VLOOKUP(A847,OFFSET([0]!_xlnm.Print_Area,3,0),5,FALSE))","v":{"$error":"#REF!"}},{"$f":"IF(J847=\"\",\"\",VLOOKUP(A847,OFFSET([0]!_xlnm.Print_Area,3,0),6,FALSE))","v":{"$error":"#REF!"}},{"$f":"IF(J847=\"\",\"\",VLOOKUP(A847,OFFSET([0]!_xlnm.Print_Area,3,0,,7),7,FALSE))","v":{"$error":"#REF!"}}," ",{"$f":"INDEX(#REF!,SMALL(IF(#REF!<>\"\",ROW(#REF!)),ROWS(I$1:I847)-1))","v":{"$error":"#REF!"}},{"$f":"INDEX(#REF!,SMALL(IF(#REF!<>\"\",ROW(#REF!)),ROWS(J$1:J847)-1))","v":{"$error":"#REF!"}},{"$f":"INDEX(#REF!,SMALL(IF(#REF!<>\"\",ROW(#REF!)),ROWS(K$1:K847)-1))","v":{"$error":"#REF!"}}]
[{"$error":"#REF!"},{"$error":"#REF!"},{"$error":"#REF!"},{"$f":"IF(J848=\"\",VLOOKUP(C848,OFFSET([0]!_xlnm.Print_Area,3,2),2,FALSE),VLOOKUP(A848,OFFSET([0]!_xlnm.Print_Area,3,0),4,FALSE))","v":{"$error":"#REF!"}},{"$f":"IF(J848=\"\",\"\",VLOOKUP(A848,OFFSET([0]!_xlnm.Print_Area,3,0),5,FALSE))","v":{"$error":"#REF!"}},{"$f":"IF(J848=\"\",\"\",VLOOKUP(A848,OFFSET([0]!_xlnm.Print_Area,3,0),6,FALSE))","v":{"$error":"#REF!"}},{"$f":"IF(J848=\"\",\"\",VLOOKUP(A848,OFFSET([0]!_xlnm.Print_Area,3,0,,7),7,FALSE))","v":{"$error":"#REF!"}}," ",{"$f":"INDEX(#REF!,SMALL(IF(#REF!<>\"\",ROW(#REF!)),ROWS(I$1:I848)-1))","v":{"$error":"#REF!"}},{"$f":"INDEX(#REF!,SMALL(IF(#REF!<>\"\",ROW(#REF!)),ROWS(J$1:J848)-1))","v":{"$error":"#REF!"}},{"$f":"INDEX(#REF!,SMALL(IF(#REF!<>\"\",ROW(#REF!)),ROWS(K$1:K848)-1))","v":{"$error":"#REF!"}}]
[{"$error":"#REF!"},{"$error":"#REF!"},{"$error":"#REF!"},{"$f":"IF(J849=\"\",VLOOKUP(C849,OFFSET([0]!_xlnm.Print_Area,3,2),2,FALSE),VLOOKUP(A849,OFFSET([0]!_xlnm.Print_Area,3,0),4,FALSE))","v":{"$error":"#REF!"}},{"$f":"IF(J849=\"\",\"\",VLOOKUP(A849,OFFSET([0]!_xlnm.Print_Area,3,0),5,FALSE))","v":{"$error":"#REF!"}},{"$f":"IF(J849=\"\",\"\",VLOOKUP(A849,OFFSET([0]!_xlnm.Print_Area,3,0),6,FALSE))","v":{"$error":"#REF!"}},{"$f":"IF(J849=\"\",\"\",VLOOKUP(A849,OFFSET([0]!_xlnm.Print_Area,3,0,,7),7,FALSE))","v":{"$error":"#REF!"}}," ",{"$f":"INDEX(#REF!,SMALL(IF(#REF!<>\"\",ROW(#REF!)),ROWS(I$1:I849)-1))","v":{"$error":"#REF!"}},{"$f":"INDEX(#REF!,SMALL(IF(#REF!<>\"\",ROW(#REF!)),ROWS(J$1:J849)-1))","v":{"$error":"#REF!"}},{"$f":"INDEX(#REF!,SMALL(IF(#REF!<>\"\",ROW(#REF!)),ROWS(K$1:K849)-1))","v":{"$error":"#REF!"}}]
[{"$error":"#REF!"},{"$error":"#REF!"},{"$error":"#REF!"},{"$f":"IF(J850=\"\",VLOOKUP(C850,OFFSET([0]!_xlnm.Print_Area,3,2),2,FALSE),VLOOKUP(A850,OFFSET([0]!_xlnm.Print_Area,3,0),4,FALSE))","v":{"$error":"#REF!"}},{"$f":"IF(J850=\"\",\"\",VLOOKUP(A850,OFFSET([0]!_xlnm.Print_Area,3,0),5,FALSE))","v":{"$error":"#REF!"}},{"$f":"IF(J850=\"\",\"\",VLOOKUP(A850,OFFSET([0]!_xlnm.Print_Area,3,0),6,FALSE))","v":{"$error":"#REF!"}},{"$f":"IF(J850=\"\",\"\",VLOOKUP(A850,OFFSET([0]!_xlnm.Print_Area,3,0,,7),7,FALSE))","v":{"$error":"#REF!"}}," ",{"$f":"INDEX(#REF!,SMALL(IF(#REF!<>\"\",ROW(#REF!)),ROWS(I$1:I850)-1))","v":{"$error":"#REF!"}},{"$f":"INDEX(#REF!,SMALL(IF(#REF!<>\"\",ROW(#REF!)),ROWS(J$1:J850)-1))","v":{"$error":"#REF!"}},{"$f":"INDEX(#REF!,SMALL(IF(#REF!<>\"\",ROW(#REF!)),ROWS(K$1:K850)-1))","v":{"$error":"#REF!"}}]
[{"$error":"#REF!"},{"$error":"#REF!"},{"$error":"#REF!"},{"$f":"IF(J851=\"\",VLOOKUP(C851,OFFSET([0]!_xlnm.Print_Area,3,2),2,FALSE),VLOOKUP(A851,OFFSET([0]!_xlnm.Print_Area,3,0),4,FALSE))","v":{"$error":"#REF!"}},{"$f":"IF(J851=\"\",\"\",VLOOKUP(A851,OFFSET([0]!_xlnm.Print_Area,3,0),5,FALSE))","v":{"$error":"#REF!"}},{"$f":"IF(J851=\"\",\"\",VLOOKUP(A851,OFFSET([0]!_xlnm.Print_Area,3,0),6,FALSE))","v":{"$error":"#REF!"}},{"$f":"IF(J851=\"\",\"\",VLOOKUP(A851,OFFSET([0]!_xlnm.Print_Area,3,0,,7),7,FALSE))","v":{"$error":"#REF!"}}," ",{"$f":"INDEX(#REF!,SMALL(IF(#REF!<>\"\",ROW(#REF!)),ROWS(I$1:I851)-1))","v":{"$error":"#REF!"}},{"$f":"INDEX(#REF!,SMALL(IF(#REF!<>\"\",ROW(#REF!)),ROWS(J$1:J851)-1))","v":{"$error":"#REF!"}},{"$f":"INDEX(#REF!,SMALL(IF(#REF!<>\"\",ROW(#REF!)),ROWS(K$1:K851)-1))","v":{"$error":"#REF!"}}]
[{"$error":"#REF!"},{"$error":"#REF!"},{"$error":"#REF!"},{"$f":"IF(J852=\"\",VLOOKUP(C852,OFFSET([0]!_xlnm.Print_Area,3,2),2,FALSE),VLOOKUP(A852,OFFSET([0]!_xlnm.Print_Area,3,0),4,FALSE))","v":{"$error":"#REF!"}},{"$f":"IF(J852=\"\",\"\",VLOOKUP(A852,OFFSET([0]!_xlnm.Print_Area,3,0),5,FALSE))","v":{"$error":"#REF!"}},{"$f":"IF(J852=\"\",\"\",VLOOKUP(A852,OFFSET([0]!_xlnm.Print_Area,3,0),6,FALSE))","v":{"$error":"#REF!"}},{"$f":"IF(J852=\"\",\"\",VLOOKUP(A852,OFFSET([0]!_xlnm.Print_Area,3,0,,7),7,FALSE))","v":{"$error":"#REF!"}}," ",{"$f":"INDEX(#REF!,SMALL(IF(#REF!<>\"\",ROW(#REF!)),ROWS(I$1:I852)-1))","v":{"$error":"#REF!"}},{"$f":"INDEX(#REF!,SMALL(IF(#REF!<>\"\",ROW(#REF!)),ROWS(J$1:J852)-1))","v":{"$error":"#REF!"}},{"$f":"INDEX(#REF!,SMALL(IF(#REF!<>\"\",ROW(#REF!)),ROWS(K$1:K852)-1))","v":{"$error":"#REF!"}}]
[{"$error":"#REF!"},{"$error":"#REF!"},{"$error":"#REF!"},{"$f":"IF(J853=\"\",VLOOKUP(C853,OFFSET([0]!_xlnm.Print_Area,3,2),2,FALSE),VLOOKUP(A853,OFFSET([0]!_xlnm.Print_Area,3,0),4,FALSE))","v":{"$error":"#REF!"}},{"$f":"IF(J853=\"\",\"\",VLOOKUP(A853,OFFSET([0]!_xlnm.Print_Area,3,0),5,FALSE))","v":{"$error":"#REF!"}},{"$f":"IF(J853=\"\",\"\",VLOOKUP(A853,OFFSET([0]!_xlnm.Print_Area,3,0),6,FALSE))","v":{"$error":"#REF!"}},{"$f":"IF(J853=\"\",\"\",VLOOKUP(A853,OFFSET([0]!_xlnm.Print_Area,3,0,,7),7,FALSE))","v":{"$error":"#REF!"}}," ",{"$f":"INDEX(#REF!,SMALL(IF(#REF!<>\"\",ROW(#REF!)),ROWS(I$1:I853)-1))","v":{"$error":"#REF!"}},{"$f":"INDEX(#REF!,SMALL(IF(#REF!<>\"\",ROW(#REF!)),ROWS(J$1:J853)-1))","v":{"$error":"#REF!"}},{"$f":"INDEX(#REF!,SMALL(IF(#REF!<>\"\",ROW(#REF!)),ROWS(K$1:K853)-1))","v":{"$error":"#REF!"}}]
[{"$error":"#REF!"},{"$error":"#REF!"},{"$error":"#REF!"},{"$f":"IF(J854=\"\",VLOOKUP(C854,OFFSET([0]!_xlnm.Print_Area,3,2),2,FALSE),VLOOKUP(A854,OFFSET([0]!_xlnm.Print_Area,3,0),4,FALSE))","v":{"$error":"#REF!"}},{"$f":"IF(J854=\"\",\"\",VLOOKUP(A854,OFFSET([0]!_xlnm.Print_Area,3,0),5,FALSE))","v":{"$error":"#REF!"}},{"$f":"IF(J854=\"\",\"\",VLOOKUP(A854,OFFSET([0]!_xlnm.Print_Area,3,0),6,FALSE))","v":{"$error":"#REF!"}},{"$f":"IF(J854=\"\",\"\",VLOOKUP(A854,OFFSET([0]!_xlnm.Print_Area,3,0,,7),7,FALSE))","v":{"$error":"#REF!"}}," ",{"$f":"INDEX(#REF!,SMALL(IF(#REF!<>\"\",ROW(#REF!)),ROWS(I$1:I854)-1))","v":{"$error":"#REF!"}},{"$f":"INDEX(#REF!,SMALL(IF(#REF!<>\"\",ROW(#REF!)),ROWS(J$1:J854)-1))","v":{"$error":"#REF!"}},{"$f":"INDEX(#REF!,SMALL(IF(#REF!<>\"\",ROW(#REF!)),ROWS(K$1:K854)-1))","v":{"$error":"#REF!"}}]
[{"$error":"#REF!"},{"$error":"#REF!"},{"$error":"#REF!"},{"$f":"IF(J855=\"\",VLOOKUP(C855,OFFSET([0]!_xlnm.Print_Area,3,2),2,FALSE),VLOOKUP(A855,OFFSET([0]!_xlnm.Print_Area,3,0),4,FALSE))","v":{"$error":"#REF!"}},{"$f":"IF(J855=\"\",\"\",VLOOKUP(A855,OFFSET([0]!_xlnm.Print_Area,3,0),5,FALSE))","v":{"$error":"#REF!"}},{"$f":"IF(J855=\"\",\"\",VLOOKUP(A855,OFFSET([0]!_xlnm.Print_Area,3,0),6,FALSE))","v":{"$error":"#REF!"}},{"$f":"IF(J855=\"\",\"\",VLOOKUP(A855,OFFSET([0]!_xlnm.Print_Area,3,0,,7),7,FALSE))","v":{"$error":"#REF!"}}," ",{"$f":"INDEX(#REF!,SMALL(IF(#REF!<>\"\",ROW(#REF!)),ROWS(I$1:I855)-1))","v":{"$error":"#REF!"}},{"$f":"INDEX(#REF!,SMALL(IF(#REF!<>\"\",ROW(#REF!)),ROWS(J$1:J855)-1))","v":{"$error":"#REF!"}},{"$f":"INDEX(#REF!,SMALL(IF(#REF!<>\"\",ROW(#REF!)),ROWS(K$1:K855)-1))","v":{"$error":"#REF!"}}]
[{"$error":"#REF!"},{"$error":"#REF!"},{"$error":"#REF!"},{"$f":"IF(J856=\"\",VLOOKUP(C856,OFFSET([0]!_xlnm.Print_Area,3,2),2,FALSE),VLOOKUP(A856,OFFSET([0]!_xlnm.Print_Area,3,0),4,FALSE))","v":{"$error":"#REF!"}},{"$f":"IF(J856=\"\",\"\",VLOOKUP(A856,OFFSET([0]!_xlnm.Print_Area,3,0),5,FALSE))","v":{"$error":"#REF!"}},{"$f":"IF(J856=\"\",\"\",VLOOKUP(A856,OFFSET([0]!_xlnm.Print_Area,3,0),6,FALSE))","v":{"$error":"#REF!"}},{"$f":"IF(J856=\"\",\"\",VLOOKUP(A856,OFFSET([0]!_xlnm.Print_Area,3,0,,7),7,FALSE))","v":{"$error":"#REF!"}}," ",{"$f":"INDEX(#REF!,SMALL(IF(#REF!<>\"\",ROW(#REF!)),ROWS(I$1:I856)-1))","v":{"$error":"#REF!"}},{"$f":"INDEX(#REF!,SMALL(IF(#REF!<>\"\",ROW(#REF!)),ROWS(J$1:J856)-1))","v":{"$error":"#REF!"}},{"$f":"INDEX(#REF!,SMALL(IF(#REF!<>\"\",ROW(#REF!)),ROWS(K$1:K856)-1))","v":{"$error":"#REF!"}}]
[{"$error":"#REF!"},{"$error":"#REF!"},{"$error":"#REF!"},{"$f":"IF(J857=\"\",VLOOKUP(C857,OFFSET([0]!_xlnm.Print_Area,3,2),2,FALSE),VLOOKUP(A857,OFFSET([0]!_xlnm.Print_Area,3,0),4,FALSE))","v":{"$error":"#REF!"}},{"$f":"IF(J857=\"\",\"\",VLOOKUP(A857,OFFSET([0]!_xlnm.Print_Area,3,0),5,FALSE))","v":{"$error":"#REF!"}},{"$f":"IF(J857=\"\",\"\",VLOOKUP(A857,OFFSET([0]!_xlnm.Print_Area,3,0),6,FALSE))","v":{"$error":"#REF!"}},{"$f":"IF(J857=\"\",\"\",VLOOKUP(A857,OFFSET([0]!_xlnm.Print_Area,3,0,,7),7,FALSE))","v":{"$error":"#REF!"}}," ",{"$f":"INDEX(#REF!,SMALL(IF(#REF!<>\"\",ROW(#REF!)),ROWS(I$1:I857)-1))","v":{"$error":"#REF!"}},{"$f":"INDEX(#REF!,SMALL(IF(#REF!<>\"\",ROW(#REF!)),ROWS(J$1:J857)-1))","v":{"$error":"#REF!"}},{"$f":"INDEX(#REF!,SMALL(IF(#REF!<>\"\",ROW(#REF!)),ROWS(K$1:K857)-1))","v":{"$error":"#REF!"}}]
[{"$error":"#REF!"},{"$error":"#REF!"},{"$error":"#REF!"},{"$f":"IF(J858=\"\",VLOOKUP(C858,OFFSET([0]!_xlnm.Print_Area,3,2),2,FALSE),VLOOKUP(A858,OFFSET([0]!_xlnm.Print_Area,3,0),4,FALSE))","v":{"$error":"#REF!"}},{"$f":"IF(J858=\"\",\"\",VLOOKUP(A858,OFFSET([0]!_xlnm.Print_Area,3,0),5,FALSE))","v":{"$error":"#REF!"}},{"$f":"IF(J858=\"\",\"\",VLOOKUP(A858,OFFSET([0]!_xlnm.Print_Area,3,0),6,FALSE))","v":{"$error":"#REF!"}},{"$f":"IF(J858=\"\",\"\",VLOOKUP(A858,OFFSET([0]!_xlnm.Print_Area,3,0,,7),7,FALSE))","v":{"$error":"#REF!"}}," ",{"$f":"INDEX(#REF!,SMALL(IF(#REF!<>\"\",ROW(#REF!)),ROWS(I$1:I858)-1))","v":{"$error":"#REF!"}},{"$f":"INDEX(#REF!,SMALL(IF(#REF!<>\"\",ROW(#REF!)),ROWS(J$1:J858)-1))","v":{"$error":"#REF!"}},{"$f":"INDEX(#REF!,SMALL(IF(#REF!<>\"\",ROW(#REF!)),ROWS(K$1:K858)-1))","v":{"$error":"#REF!"}}]
[{"$error":"#REF!"},{"$error":"#REF!"},{"$error":"#REF!"},{"$f":"IF(J859=\"\",VLOOKUP(C859,OFFSET([0]!_xlnm.Print_Area,3,2),2,FALSE),VLOOKUP(A859,OFFSET([0]!_xlnm.Print_Area,3,0),4,FALSE))","v":{"$error":"#REF!"}},{"$f":"IF(J859=\"\",\"\",VLOOKUP(A859,OFFSET([0]!_xlnm.Print_Area,3,0),5,FALSE))","v":{"$error":"#REF!"}},{"$f":"IF(J859=\"\",\"\",VLOOKUP(A859,OFFSET([0]!_xlnm.Print_Area,3,0),6,FALSE))","v":{"$error":"#REF!"}},{"$f":"IF(J859=\"\",\"\",VLOOKUP(A859,OFFSET([0]!_xlnm.Print_Area,3,0,,7),7,FALSE))","v":{"$error":"#REF!"}}," ",{"$f":"INDEX(#REF!,SMALL(IF(#REF!<>\"\",ROW(#REF!)),ROWS(I$1:I859)-1))","v":{"$error":"#REF!"}},{"$f":"INDEX(#REF!,SMALL(IF(#REF!<>\"\",ROW(#REF!)),ROWS(J$1:J859)-1))","v":{"$error":"#REF!"}},{"$f":"INDEX(#REF!,SMALL(IF(#REF!<>\"\",ROW(#REF!)),ROWS(K$1:K859)-1))","v":{"$error":"#REF!"}}]
[{"$error":"#REF!"},{"$error":"#REF!"},{"$error":"#REF!"},{"$f":"IF(J860=\"\",VLOOKUP(C860,OFFSET([0]!_xlnm.Print_Area,3,2),2,FALSE),VLOOKUP(A860,OFFSET([0]!_xlnm.Print_Area,3,0),4,FALSE))","v":{"$error":"#REF!"}},{"$f":"IF(J860=\"\",\"\",VLOOKUP(A860,OFFSET([0]!_xlnm.Print_Area,3,0),5,FALSE))","v":{"$error":"#REF!"}},{"$f":"IF(J860=\"\",\"\",VLOOKUP(A860,OFFSET([0]!_xlnm.Print_Area,3,0),6,FALSE))","v":{"$error":"#REF!"}},{"$f":"IF(J860=\"\",\"\",VLOOKUP(A860,OFFSET([0]!_xlnm.Print_Area,3,0,,7),7,FALSE))","v":{"$error":"#REF!"}}," ",{"$f":"INDEX(#REF!,SMALL(IF(#REF!<>\"\",ROW(#REF!)),ROWS(I$1:I860)-1))","v":{"$error":"#REF!"}},{"$f":"INDEX(#REF!,SMALL(IF(#REF!<>\"\",ROW(#REF!)),ROWS(J$1:J860)-1))","v":{"$error":"#REF!"}},{"$f":"INDEX(#REF!,SMALL(IF(#REF!<>\"\",ROW(#REF!)),ROWS(K$1:K860)-1))","v":{"$error":"#REF!"}}]
[{"$error":"#REF!"},{"$error":"#REF!"},{"$error":"#REF!"},{"$f":"IF(J861=\"\",VLOOKUP(C861,OFFSET([0]!_xlnm.Print_Area,3,2),2,FALSE),VLOOKUP(A861,OFFSET([0]!_xlnm.Print_Area,3,0),4,FALSE))","v":{"$error":"#REF!"}},{"$f":"IF(J861=\"\",\"\",VLOOKUP(A861,OFFSET([0]!_xlnm.Print_Area,3,0),5,FALSE))","v":{"$error":"#REF!"}},{"$f":"IF(J861=\"\",\"\",VLOOKUP(A861,OFFSET([0]!_xlnm.Print_Area,3,0),6,FALSE))","v":{"$error":"#REF!"}},{"$f":"IF(J861=\"\",\"\",VLOOKUP(A861,OFFSET([0]!_xlnm.Print_Area,3,0,,7),7,FALSE))","v":{"$error":"#REF!"}}," ",{"$f":"INDEX(#REF!,SMALL(IF(#REF!<>\"\",ROW(#REF!)),ROWS(I$1:I861)-1))","v":{"$error":"#REF!"}},{"$f":"INDEX(#REF!,SMALL(IF(#REF!<>\"\",ROW(#REF!)),ROWS(J$1:J861)-1))","v":{"$error":"#REF!"}},{"$f":"INDEX(#REF!,SMALL(IF(#REF!<>\"\",ROW(#REF!)),ROWS(K$1:K861)-1))","v":{"$error":"#REF!"}}]
[{"$error":"#REF!"},{"$error":"#REF!"},{"$error":"#REF!"},{"$f":"IF(J862=\"\",VLOOKUP(C862,OFFSET([0]!_xlnm.Print_Area,3,2),2,FALSE),VLOOKUP(A862,OFFSET([0]!_xlnm.Print_Area,3,0),4,FALSE))","v":{"$error":"#REF!"}},{"$f":"IF(J862=\"\",\"\",VLOOKUP(A862,OFFSET([0]!_xlnm.Print_Area,3,0),5,FALSE))","v":{"$error":"#REF!"}},{"$f":"IF(J862=\"\",\"\",VLOOKUP(A862,OFFSET([0]!_xlnm.Print_Area,3,0),6,FALSE))","v":{"$error":"#REF!"}},{"$f":"IF(J862=\"\",\"\",VLOOKUP(A862,OFFSET([0]!_xlnm.Print_Area,3,0,,7),7,FALSE))","v":{"$error":"#REF!"}}," ",{"$f":"INDEX(#REF!,SMALL(IF(#REF!<>\"\",ROW(#REF!)),ROWS(I$1:I862)-1))","v":{"$error":"#REF!"}},{"$f":"INDEX(#REF!,SMALL(IF(#REF!<>\"\",ROW(#REF!)),ROWS(J$1:J862)-1))","v":{"$error":"#REF!"}},{"$f":"INDEX(#REF!,SMALL(IF(#REF!<>\"\",ROW(#REF!)),ROWS(K$1:K862)-1))","v":{"$error":"#REF!"}}]
[{"$error":"#REF!"},{"$error":"#REF!"},{"$error":"#REF!"},{"$f":"IF(J863=\"\",VLOOKUP(C863,OFFSET([0]!_xlnm.Print_Area,3,2),2,FALSE),VLOOKUP(A863,OFFSET([0]!_xlnm.Print_Area,3,0),4,FALSE))","v":{"$error":"#REF!"}},{"$f":"IF(J863=\"\",\"\",VLOOKUP(A863,OFFSET([0]!_xlnm.Print_Area,3,0),5,FALSE))","v":{"$error":"#REF!"}},{"$f":"IF(J863=\"\",\"\",VLOOKUP(A863,OFFSET([0]!_xlnm.Print_Area,3,0),6,FALSE))","v":{"$error":"#REF!"}},{"$f":"IF(J863=\"\",\"\",VLOOKUP(A863,OFFSET([0]!_xlnm.Print_Area,3,0,,7),7,FALSE))","v":{"$error":"#REF!"}}," ",{"$f":"INDEX(#REF!,SMALL(IF(#REF!<>\"\",ROW(#REF!)),ROWS(I$1:I863)-1))","v":{"$error":"#REF!"}},{"$f":"INDEX(#REF!,SMALL(IF(#REF!<>\"\",ROW(#REF!)),ROWS(J$1:J863)-1))","v":{"$error":"#REF!"}},{"$f":"INDEX(#REF!,SMALL(IF(#REF!<>\"\",ROW(#REF!)),ROWS(K$1:K863)-1))","v":{"$error":"#REF!"}}]
[{"$error":"#REF!"},{"$error":"#REF!"},{"$error":"#REF!"},{"$f":"IF(J864=\"\",VLOOKUP(C864,OFFSET([0]!_xlnm.Print_Area,3,2),2,FALSE),VLOOKUP(A864,OFFSET([0]!_xlnm.Print_Area,3,0),4,FALSE))","v":{"$error":"#REF!"}},{"$f":"IF(J864=\"\",\"\",VLOOKUP(A864,OFFSET([0]!_xlnm.Print_Area,3,0),5,FALSE))","v":{"$error":"#REF!"}},{"$f":"IF(J864=\"\",\"\",VLOOKUP(A864,OFFSET([0]!_xlnm.Print_Area,3,0),6,FALSE))","v":{"$error":"#REF!"}},{"$f":"IF(J864=\"\",\"\",VLOOKUP(A864,OFFSET([0]!_xlnm.Print_Area,3,0,,7),7,FALSE))","v":{"$error":"#REF!"}}," ",{"$f":"INDEX(#REF!,SMALL(IF(#REF!<>\"\",ROW(#REF!)),ROWS(I$1:I864)-1))","v":{"$error":"#REF!"}},{"$f":"INDEX(#REF!,SMALL(IF(#REF!<>\"\",ROW(#REF!)),ROWS(J$1:J864)-1))","v":{"$error":"#REF!"}},{"$f":"INDEX(#REF!,SMALL(IF(#REF!<>\"\",ROW(#REF!)),ROWS(K$1:K864)-1))","v":{"$error":"#REF!"}}]
[{"$error":"#REF!"},{"$error":"#REF!"},{"$error":"#REF!"},{"$f":"IF(J865=\"\",VLOOKUP(C865,OFFSET([0]!_xlnm.Print_Area,3,2),2,FALSE),VLOOKUP(A865,OFFSET([0]!_xlnm.Print_Area,3,0),4,FALSE))","v":{"$error":"#REF!"}},{"$f":"IF(J865=\"\",\"\",VLOOKUP(A865,OFFSET([0]!_xlnm.Print_Area,3,0),5,FALSE))","v":{"$error":"#REF!"}},{"$f":"IF(J865=\"\",\"\",VLOOKUP(A865,OFFSET([0]!_xlnm.Print_Area,3,0),6,FALSE))","v":{"$error":"#REF!"}},{"$f":"IF(J865=\"\",\"\",VLOOKUP(A865,OFFSET([0]!_xlnm.Print_Area,3,0,,7),7,FALSE))","v":{"$error":"#REF!"}}," ",{"$f":"INDEX(#REF!,SMALL(IF(#REF!<>\"\",ROW(#REF!)),ROWS(I$1:I865)-1))","v":{"$error":"#REF!"}},{"$f":"INDEX(#REF!,SMALL(IF(#REF!<>\"\",ROW(#REF!)),ROWS(J$1:J865)-1))","v":{"$error":"#REF!"}},{"$f":"INDEX(#REF!,SMALL(IF(#REF!<>\"\",ROW(#REF!)),ROWS(K$1:K865)-1))","v":{"$error":"#REF!"}}]
[{"$error":"#REF!"},{"$error":"#REF!"},{"$error":"#REF!"},{"$f":"IF(J866=\"\",VLOOKUP(C866,OFFSET([0]!_xlnm.Print_Area,3,2),2,FALSE),VLOOKUP(A866,OFFSET([0]!_xlnm.Print_Area,3,0),4,FALSE))","v":{"$error":"#REF!"}},{"$f":"IF(J866=\"\",\"\",VLOOKUP(A866,OFFSET([0]!_xlnm.Print_Area,3,0),5,FALSE))","v":{"$error":"#REF!"}},{"$f":"IF(J866=\"\",\"\",VLOOKUP(A866,OFFSET([0]!_xlnm.Print_Area,3,0),6,FALSE))","v":{"$error":"#REF!"}},{"$f":"IF(J866=\"\",\"\",VLOOKUP(A866,OFFSET([0]!_xlnm.Print_Area,3,0,,7),7,FALSE))","v":{"$error":"#REF!"}}," ",{"$f":"INDEX(#REF!,SMALL(IF(#REF!<>\"\",ROW(#REF!)),ROWS(I$1:I866)-1))","v":{"$error":"#REF!"}},{"$f":"INDEX(#REF!,SMALL(IF(#REF!<>\"\",ROW(#REF!)),ROWS(J$1:J866)-1))","v":{"$error":"#REF!"}},{"$f":"INDEX(#REF!,SMALL(IF(#REF!<>\"\",ROW(#REF!)),ROWS(K$1:K866)-1))","v":{"$error":"#REF!"}}]
[{"$error":"#REF!"},{"$error":"#REF!"},{"$error":"#REF!"},{"$f":"IF(J867=\"\",VLOOKUP(C867,OFFSET([0]!_xlnm.Print_Area,3,2),2,FALSE),VLOOKUP(A867,OFFSET([0]!_xlnm.Print_Area,3,0),4,FALSE))","v":{"$error":"#REF!"}},{"$f":"IF(J867=\"\",\"\",VLOOKUP(A867,OFFSET([0]!_xlnm.Print_Area,3,0),5,FALSE))","v":{"$error":"#REF!"}},{"$f":"IF(J867=\"\",\"\",VLOOKUP(A867,OFFSET([0]!_xlnm.Print_Area,3,0),6,FALSE))","v":{"$error":"#REF!"}},{"$f":"IF(J867=\"\",\"\",VLOOKUP(A867,OFFSET([0]!_xlnm.Print_Area,3,0,,7),7,FALSE))","v":{"$error":"#REF!"}}," ",{"$f":"INDEX(#REF!,SMALL(IF(#REF!<>\"\",ROW(#REF!)),ROWS(I$1:I867)-1))","v":{"$error":"#REF!"}},{"$f":"INDEX(#REF!,SMALL(IF(#REF!<>\"\",ROW(#REF!)),ROWS(J$1:J867)-1))","v":{"$error":"#REF!"}},{"$f":"INDEX(#REF!,SMALL(IF(#REF!<>\"\",ROW(#REF!)),ROWS(K$1:K867)-1))","v":{"$error":"#REF!"}}]
["","",0,{"$f":"IF(J868=\"\",VLOOKUP(C868,OFFSET([0]!_xlnm.Print_Area,3,2),2,FALSE),VLOOKUP(A868,OFFSET([0]!_xlnm.Print_Area,3,0),4,FALSE))","v":{"$error":"#REF!"}},{"$f":"IF(J868=\"\",\"\",VLOOKUP(A868,OFFSET([0]!_xlnm.Print_Area,3,0),5,FALSE))","v":""},{"$f":"IF(J868=\"\",\"\",VLOOKUP(A868,OFFSET([0]!_xlnm.Print_Area,3,0),6,FALSE))","v":""},{"$f":"IF(J868=\"\",\"\",VLOOKUP(A868,OFFSET([0]!_xlnm.Print_Area,3,0,,7),7,FALSE))","v":""}," "]
["","",0,{"$f":"IF(J869=\"\",VLOOKUP(C869,OFFSET([0]!_xlnm.Print_Area,3,2),2,FALSE),VLOOKUP(A869,OFFSET([0]!_xlnm.Print_Area,3,0),4,FALSE))","v":{"$error":"#REF!"}},{"$f":"IF(J869=\"\",\"\",VLOOKUP(A869,OFFSET([0]!_xlnm.Print_Area,3,0),5,FALSE))","v":""},{"$f":"IF(J869=\"\",\"\",VLOOKUP(A869,OFFSET([0]!_xlnm.Print_Area,3,0),6,FALSE))","v":""},{"$f":"IF(J869=\"\",\"\",VLOOKUP(A869,OFFSET([0]!_xlnm.Print_Area,3,0,,7),7,FALSE))","v":""}," "]
["","",0,{"$f":"IF(J870=\"\",VLOOKUP(C870,OFFSET([0]!_xlnm.Print_Area,3,2),2,FALSE),VLOOKUP(A870,OFFSET([0]!_xlnm.Print_Area,3,0),4,FALSE))","v":{"$error":"#REF!"}},{"$f":"IF(J870=\"\",\"\",VLOOKUP(A870,OFFSET([0]!_xlnm.Print_Area,3,0),5,FALSE))","v":""},{"$f":"IF(J870=\"\",\"\",VLOOKUP(A870,OFFSET([0]!_xlnm.Print_Area,3,0),6,FALSE))","v":""},{"$f":"IF(J870=\"\",\"\",VLOOKUP(A870,OFFSET([0]!_xlnm.Print_Area,3,0,,7),7,FALSE))","v":""}," "]
["","",0,{"$f":"IF(J871=\"\",VLOOKUP(C871,OFFSET([0]!_xlnm.Print_Area,3,2),2,FALSE),VLOOKUP(A871,OFFSET([0]!_xlnm.Print_Area,3,0),4,FALSE))","v":{"$error":"#REF!"}},{"$f":"IF(J871=\"\",\"\",VLOOKUP(A871,OFFSET([0]!_xlnm.Print_Area,3,0),5,FALSE))","v":""},{"$f":"IF(J871=\"\",\"\",VLOOKUP(A871,OFFSET([0]!_xlnm.Print_Area,3,0),6,FALSE))","v":""},{"$f":"IF(J871=\"\",\"\",VLOOKUP(A871,OFFSET([0]!_xlnm.Print_Area,3,0,,7),7,FALSE))","v":""}," "]
["","",0,{"$f":"IF(J872=\"\",VLOOKUP(C872,OFFSET([0]!_xlnm.Print_Area,3,2),2,FALSE),VLOOKUP(A872,OFFSET([0]!_xlnm.Print_Area,3,0),4,FALSE))","v":{"$error":"#REF!"}},{"$f":"IF(J872=\"\",\"\",VLOOKUP(A872,OFFSET([0]!_xlnm.Print_Area,3,0),5,FALSE))","v":""},{"$f":"IF(J872=\"\",\"\",VLOOKUP(A872,OFFSET([0]!_xlnm.Print_Area,3,0),6,FALSE))","v":""},{"$f":"IF(J872=\"\",\"\",VLOOKUP(A872,OFFSET([0]!_xlnm.Print_Area,3,0,,7),7,FALSE))","v":""}," "]
["","",0,{"$f":"IF(J873=\"\",VLOOKUP(C873,OFFSET([0]!_xlnm.Print_Area,3,2),2,FALSE),VLOOKUP(A873,OFFSET([0]!_xlnm.Print_Area,3,0),4,FALSE))","v":{"$error":"#REF!"}},{"$f":"IF(J873=\"\",\"\",VLOOKUP(A873,OFFSET([0]!_xlnm.Print_Area,3,0),5,FALSE))","v":""},{"$f":"IF(J873=\"\",\"\",VLOOKUP(A873,OFFSET([0]!_xlnm.Print_Area,3,0),6,FALSE))","v":""},{"$f":"IF(J873=\"\",\"\",VLOOKUP(A873,OFFSET([0]!_xlnm.Print_Area,3,0,,7),7,FALSE))","v":""}," "]
["","",0,{"$f":"IF(J874=\"\",VLOOKUP(C874,OFFSET([0]!_xlnm.Print_Area,3,2),2,FALSE),VLOOKUP(A874,OFFSET([0]!_xlnm.Print_Area,3,0),4,FALSE))","v":{"$error":"#REF!"}},{"$f":"IF(J874=\"\",\"\",VLOOKUP(A874,OFFSET([0]!_xlnm.Print_Area,3,0),5,FALSE))","v":""},{"$f":"IF(J874=\"\",\"\",VLOOKUP(A874,OFFSET([0]!_xlnm.Print_Area,3,0),6,FALSE))","v":""},{"$f":"IF(J874=\"\",\"\",VLOOKUP(A874,OFFSET([0]!_xlnm.Print_Area,3,0,,7),7,FALSE))","v":""}," "]
["","",0,{"$f":"IF(J875=\"\",VLOOKUP(C875,OFFSET([0]!_xlnm.Print_Area,3,2),2,FALSE),VLOOKUP(A875,OFFSET([0]!_xlnm.Print_Area,3,0),4,FALSE))","v":{"$error":"#REF!"}},{"$f":"IF(J875=\"\",\"\",VLOOKUP(A875,OFFSET([0]!_xlnm.Print_Area,3,0),5,FALSE))","v":""},{"$f":"IF(J875=\"\",\"\",VLOOKUP(A875,OFFSET([0]!_xlnm.Print_Area,3,0),6,FALSE))","v":""},{"$f":"IF(J875=\"\",\"\",VLOOKUP(A875,OFFSET([0]!_xlnm.Print_Area,3,0,,7),7,FALSE))","v":""}," "]
["","",0,{"$f":"IF(J876=\"\",VLOOKUP(C876,OFFSET([0]!_xlnm.Print_Area,3,2),2,FALSE),VLOOKUP(A876,OFFSET([0]!_xlnm.Print_Area,3,0),4,FALSE))","v":{"$error":"#REF!"}},{"$f":"IF(J876=\"\",\"\",VLOOKUP(A876,OFFSET([0]!_xlnm.Print_Area,3,0),5,FALSE))","v":""},{"$f":"IF(J876=\"\",\"\",VLOOKUP(A876,OFFSET([0]!_xlnm.Print_Area,3,0),6,FALSE))","v":""},{"$f":"IF(J876=\"\",\"\",VLOOKUP(A876,OFFSET([0]!_xlnm.Print_Area,3,0,,7),7,FALSE))","v":""}," "]
["","",0,{"$f":"IF(J877=\"\",VLOOKUP(C877,OFFSET([0]!_xlnm.Print_Area,3,2),2,FALSE),VLOOKUP(A877,OFFSET([0]!_xlnm.Print_Area,3,0),4,FALSE))","v":{"$error":"#REF!"}},{"$f":"IF(J877=\"\",\"\",VLOOKUP(A877,OFFSET([0]!_xlnm.Print_Area,3,0),5,FALSE))","v":""},{"$f":"IF(J877=\"\",\"\",VLOOKUP(A877,OFFSET([0]!_xlnm.Print_Area,3,0),6,FALSE))","v":""},{"$f":"IF(J877=\"\",\"\",VLOOKUP(A877,OFFSET([0]!_xlnm.Print_Area,3,0,,7),7,FALSE))","v":""}," "]
["","",0,{"$f":"IF(J878=\"\",VLOOKUP(C878,OFFSET([0]!_xlnm.Print_Area,3,2),2,FALSE),VLOOKUP(A878,OFFSET([0]!_xlnm.Print_Area,3,0),4,FALSE))","v":{"$error":"#REF!"}},{"$f":"IF(J878=\"\",\"\",VLOOKUP(A878,OFFSET([0]!_xlnm.Print_Area,3,0),5,FALSE))","v":""},{"$f":"IF(J878=\"\",\"\",VLOOKUP(A878,OFFSET([0]!_xlnm.Print_Area,3,0),6,FALSE))","v":""},{"$f":"IF(J878=\"\",\"\",VLOOKUP(A878,OFFSET([0]!_xlnm.Print_Area,3,0,,7),7,FALSE))","v":""}," "]
["","",0,{"$f":"IF(J879=\"\",VLOOKUP(C879,OFFSET([0]!_xlnm.Print_Area,3,2),2,FALSE),VLOOKUP(A879,OFFSET([0]!_xlnm.Print_Area,3,0),4,FALSE))","v":{"$error":"#REF!"}},{"$f":"IF(J879=\"\",\"\",VLOOKUP(A879,OFFSET([0]!_xlnm.Print_Area,3,0),5,FALSE))","v":""},{"$f":"IF(J879=\"\",\"\",VLOOKUP(A879,OFFSET([0]!_xlnm.Print_Area,3,0),6,FALSE))","v":""},{"$f":"IF(J879=\"\",\"\",VLOOKUP(A879,OFFSET([0]!_xlnm.Print_Area,3,0,,7),7,FALSE))","v":""}," "]
["","",0,{"$f":"IF(J880=\"\",VLOOKUP(C880,OFFSET([0]!_xlnm.Print_Area,3,2),2,FALSE),VLOOKUP(A880,OFFSET([0]!_xlnm.Print_Area,3,0),4,FALSE))","v":{"$error":"#REF!"}},{"$f":"IF(J880=\"\",\"\",VLOOKUP(A880,OFFSET([0]!_xlnm.Print_Area,3,0),5,FALSE))","v":""},{"$f":"IF(J880=\"\",\"\",VLOOKUP(A880,OFFSET([0]!_xlnm.Print_Area,3,0),6,FALSE))","v":""},{"$f":"IF(J880=\"\",\"\",VLOOKUP(A880,OFFSET([0]!_xlnm.Print_Area,3,0,,7),7,FALSE))","v":""}," "]
["","",0,{"$f":"IF(J881=\"\",VLOOKUP(C881,OFFSET([0]!_xlnm.Print_Area,3,2),2,FALSE),VLOOKUP(A881,OFFSET([0]!_xlnm.Print_Area,3,0),4,FALSE))","v":{"$error":"#REF!"}},{"$f":"IF(J881=\"\",\"\",VLOOKUP(A881,OFFSET([0]!_xlnm.Print_Area,3,0),5,FALSE))","v":""},{"$f":"IF(J881=\"\",\"\",VLOOKUP(A881,OFFSET([0]!_xlnm.Print_Area,3,0),6,FALSE))","v":""},{"$f":"IF(J881=\"\",\"\",VLOOKUP(A881,OFFSET([0]!_xlnm.Print_Area,3,0,,7),7,FALSE))","v":""}," "]
["","",0,{"$f":"IF(J882=\"\",VLOOKUP(C882,OFFSET([0]!_xlnm.Print_Area,3,2),2,FALSE),VLOOKUP(A882,OFFSET([0]!_xlnm.Print_Area,3,0),4,FALSE))","v":{"$error":"#REF!"}},{"$f":"IF(J882=\"\",\"\",VLOOKUP(A882,OFFSET([0]!_xlnm.Print_Area,3,0),5,FALSE))","v":""},{"$f":"IF(J882=\"\",\"\",VLOOKUP(A882,OFFSET([0]!_xlnm.Print_Area,3,0),6,FALSE))","v":""},{"$f":"IF(J882=\"\",\"\",VLOOKUP(A882,OFFSET([0]!_xlnm.Print_Area,3,0,,7),7,FALSE))","v":""}," "]
["","",0,{"$f":"IF(J883=\"\",VLOOKUP(C883,OFFSET([0]!_xlnm.Print_Area,3,2),2,FALSE),VLOOKUP(A883,OFFSET([0]!_xlnm.Print_Area,3,0),4,FALSE))","v":{"$error":"#REF!"}},{"$f":"IF(J883=\"\",\"\",VLOOKUP(A883,OFFSET([0]!_xlnm.Print_Area,3,0),5,FALSE))","v":""},{"$f":"IF(J883=\"\",\"\",VLOOKUP(A883,OFFSET([0]!_xlnm.Print_Area,3,0),6,FALSE))","v":""},{"$f":"IF(J883=\"\",\"\",VLOOKUP(A883,OFFSET([0]!_xlnm.Print_Area,3,0,,7),7,FALSE))","v":""}," "]
["","",0,{"$f":"IF(J884=\"\",VLOOKUP(C884,OFFSET([0]!_xlnm.Print_Area,3,2),2,FALSE),VLOOKUP(A884,OFFSET([0]!_xlnm.Print_Area,3,0),4,FALSE))","v":{"$error":"#REF!"}},{"$f":"IF(J884=\"\",\"\",VLOOKUP(A884,OFFSET([0]!_xlnm.Print_Area,3,0),5,FALSE))","v":""},{"$f":"IF(J884=\"\",\"\",VLOOKUP(A884,OFFSET([0]!_xlnm.Print_Area,3,0),6,FALSE))","v":""},{"$f":"IF(J884=\"\",\"\",VLOOKUP(A884,OFFSET([0]!_xlnm.Print_Area,3,0,,7),7,FALSE))","v":""}," "]
["","",0,{"$f":"IF(J885=\"\",VLOOKUP(C885,OFFSET([0]!_xlnm.Print_Area,3,2),2,FALSE),VLOOKUP(A885,OFFSET([0]!_xlnm.Print_Area,3,0),4,FALSE))","v":{"$error":"#REF!"}},{"$f":"IF(J885=\"\",\"\",VLOOKUP(A885,OFFSET([0]!_xlnm.Print_Area,3,0),5,FALSE))","v":""},{"$f":"IF(J885=\"\",\"\",VLOOKUP(A885,OFFSET([0]!_xlnm.Print_Area,3,0),6,FALSE))","v":""},{"$f":"IF(J885=\"\",\"\",VLOOKUP(A885,OFFSET([0]!_xlnm.Print_Area,3,0,,7),7,FALSE))","v":""}," "]
["","",0,{"$f":"IF(J886=\"\",VLOOKUP(C886,OFFSET([0]!_xlnm.Print_Area,3,2),2,FALSE),VLOOKUP(A886,OFFSET([0]!_xlnm.Print_Area,3,0),4,FALSE))","v":{"$error":"#REF!"}},{"$f":"IF(J886=\"\",\"\",VLOOKUP(A886,OFFSET([0]!_xlnm.Print_Area,3,0),5,FALSE))","v":""},{"$f":"IF(J886=\"\",\"\",VLOOKUP(A886,OFFSET([0]!_xlnm.Print_Area,3,0),6,FALSE))","v":""},{"$f":"IF(J886=\"\",\"\",VLOOKUP(A886,OFFSET([0]!_xlnm.Print_Area,3,0,,7),7,FALSE))","v":""}," "]
["","",0,{"$f":"IF(J887=\"\",VLOOKUP(C887,OFFSET([0]!_xlnm.Print_Area,3,2),2,FALSE),VLOOKUP(A887,OFFSET([0]!_xlnm.Print_Area,3,0),4,FALSE))","v":{"$error":"#REF!"}},{"$f":"IF(J887=\"\",\"\",VLOOKUP(A887,OFFSET([0]!_xlnm.Print_Area,3,0),5,FALSE))","v":""},{"$f":"IF(J887=\"\",\"\",VLOOKUP(A887,OFFSET([0]!_xlnm.Print_Area,3,0),6,FALSE))","v":""},{"$f":"IF(J887=\"\",\"\",VLOOKUP(A887,OFFSET([0]!_xlnm.Print_Area,3,0,,7),7,FALSE))","v":""}," "]
["","",0,{"$f":"IF(J888=\"\",VLOOKUP(C888,OFFSET([0]!_xlnm.Print_Area,3,2),2,FALSE),VLOOKUP(A888,OFFSET([0]!_xlnm.Print_Area,3,0),4,FALSE))","v":{"$error":"#REF!"}},{"$f":"IF(J888=\"\",\"\",VLOOKUP(A888,OFFSET([0]!_xlnm.Print_Area,3,0),5,FALSE))","v":""},{"$f":"IF(J888=\"\",\"\",VLOOKUP(A888,OFFSET([0]!_xlnm.Print_Area,3,0),6,FALSE))","v":""},{"$f":"IF(J888=\"\",\"\",VLOOKUP(A888,OFFSET([0]!_xlnm.Print_Area,3,0,,7),7,FALSE))","v":""}," "]
["","",0,{"$f":"IF(J889=\"\",VLOOKUP(C889,OFFSET([0]!_xlnm.Print_Area,3,2),2,FALSE),VLOOKUP(A889,OFFSET([0]!_xlnm.Print_Area,3,0),4,FALSE))","v":{"$error":"#REF!"}},{"$f":"IF(J889=\"\",\"\",VLOOKUP(A889,OFFSET([0]!_xlnm.Print_Area,3,0),5,FALSE))","v":""},{"$f":"IF(J889=\"\",\"\",VLOOKUP(A889,OFFSET([0]!_xlnm.Print_Area,3,0),6,FALSE))","v":""},{"$f":"IF(J889=\"\",\"\",VLOOKUP(A889,OFFSET([0]!_xlnm.Print_Area,3,0,,7),7,FALSE))","v":""}," "]
["","",0,{"$f":"IF(J890=\"\",VLOOKUP(C890,OFFSET([0]!_xlnm.Print_Area,3,2),2,FALSE),VLOOKUP(A890,OFFSET([0]!_xlnm.Print_Area,3,0),4,FALSE))","v":{"$error":"#REF!"}},{"$f":"IF(J890=\"\",\"\",VLOOKUP(A890,OFFSET([0]!_xlnm.Print_Area,3,0),5,FALSE))","v":""},{"$f":"IF(J890=\"\",\"\",VLOOKUP(A890,OFFSET([0]!_xlnm.Print_Area,3,0),6,FALSE))","v":""},{"$f":"IF(J890=\"\",\"\",VLOOKUP(A890,OFFSET([0]!_xlnm.Print_Area,3,0,,7),7,FALSE))","v":""}," "]
["","",0,{"$f":"IF(J891=\"\",VLOOKUP(C891,OFFSET([0]!_xlnm.Print_Area,3,2),2,FALSE),VLOOKUP(A891,OFFSET([0]!_xlnm.Print_Area,3,0),4,FALSE))","v":{"$error":"#REF!"}},{"$f":"IF(J891=\"\",\"\",VLOOKUP(A891,OFFSET([0]!_xlnm.Print_Area,3,0),5,FALSE))","v":""},{"$f":"IF(J891=\"\",\"\",VLOOKUP(A891,OFFSET([0]!_xlnm.Print_Area,3,0),6,FALSE))","v":""},{"$f":"IF(J891=\"\",\"\",VLOOKUP(A891,OFFSET([0]!_xlnm.Print_Area,3,0,,7),7,FALSE))","v":""}," "]
["","",0,{"$f":"IF(J892=\"\",VLOOKUP(C892,OFFSET([0]!_xlnm.Print_Area,3,2),2,FALSE),VLOOKUP(A892,OFFSET([0]!_xlnm.Print_Area,3,0),4,FALSE))","v":{"$error":"#REF!"}},{"$f":"IF(J892=\"\",\"\",VLOOKUP(A892,OFFSET([0]!_xlnm.Print_Area,3,0),5,FALSE))","v":""},{"$f":"IF(J892=\"\",\"\",VLOOKUP(A892,OFFSET([0]!_xlnm.Print_Area,3,0),6,FALSE))","v":""},{"$f":"IF(J892=\"\",\"\",VLOOKUP(A892,OFFSET([0]!_xlnm.Print_Area,3,0,,7),7,FALSE))","v":""}," "]
["","",0,{"$f":"IF(J893=\"\",VLOOKUP(C893,OFFSET([0]!_xlnm.Print_Area,3,2),2,FALSE),VLOOKUP(A893,OFFSET([0]!_xlnm.Print_Area,3,0),4,FALSE))","v":{"$error":"#REF!"}},{"$f":"IF(J893=\"\",\"\",VLOOKUP(A893,OFFSET([0]!_xlnm.Print_Area,3,0),5,FALSE))","v":""},{"$f":"IF(J893=\"\",\"\",VLOOKUP(A893,OFFSET([0]!_xlnm.Print_Area,3,0),6,FALSE))","v":""},{"$f":"IF(J893=\"\",\"\",VLOOKUP(A893,OFFSET([0]!_xlnm.Print_Area,3,0,,7),7,FALSE))","v":""}," "]
["","",0,{"$f":"IF(J894=\"\",VLOOKUP(C894,OFFSET([0]!_xlnm.Print_Area,3,2),2,FALSE),VLOOKUP(A894,OFFSET([0]!_xlnm.Print_Area,3,0),4,FALSE))","v":{"$error":"#REF!"}},{"$f":"IF(J894=\"\",\"\",VLOOKUP(A894,OFFSET([0]!_xlnm.Print_Area,3,0),5,FALSE))","v":""},{"$f":"IF(J894=\"\",\"\",VLOOKUP(A894,OFFSET([0]!_xlnm.Print_Area,3,0),6,FALSE))","v":""},{"$f":"IF(J894=\"\",\"\",VLOOKUP(A894,OFFSET([0]!_xlnm.Print_Area,3,0,,7),7,FALSE))","v":""}," "]
["","",0,{"$f":"IF(J895=\"\",VLOOKUP(C895,OFFSET([0]!_xlnm.Print_Area,3,2),2,FALSE),VLOOKUP(A895,OFFSET([0]!_xlnm.Print_Area,3,0),4,FALSE))","v":{"$error":"#REF!"}},{"$f":"IF(J895=\"\",\"\",VLOOKUP(A895,OFFSET([0]!_xlnm.Print_Area,3,0),5,FALSE))","v":""},{"$f":"IF(J895=\"\",\"\",VLOOKUP(A895,OFFSET([0]!_xlnm.Print_Area,3,0),6,FALSE))","v":""},{"$f":"IF(J895=\"\",\"\",VLOOKUP(A895,OFFSET([0]!_xlnm.Print_Area,3,0,,7),7,FALSE))","v":""}," "]
["","",0,{"$f":"IF(J896=\"\",VLOOKUP(C896,OFFSET([0]!_xlnm.Print_Area,3,2),2,FALSE),VLOOKUP(A896,OFFSET([0]!_xlnm.Print_Area,3,0),4,FALSE))","v":{"$error":"#REF!"}},{"$f":"IF(J896=\"\",\"\",VLOOKUP(A896,OFFSET([0]!_xlnm.Print_Area,3,0),5,FALSE))","v":""},{"$f":"IF(J896=\"\",\"\",VLOOKUP(A896,OFFSET([0]!_xlnm.Print_Area,3,0),6,FALSE))","v":""},{"$f":"IF(J896=\"\",\"\",VLOOKUP(A896,OFFSET([0]!_xlnm.Print_Area,3,0,,7),7,FALSE))","v":""}," "]
["","",0,{"$f":"IF(J897=\"\",VLOOKUP(C897,OFFSET([0]!_xlnm.Print_Area,3,2),2,FALSE),VLOOKUP(A897,OFFSET([0]!_xlnm.Print_Area,3,0),4,FALSE))","v":{"$error":"#REF!"}},{"$f":"IF(J897=\"\",\"\",VLOOKUP(A897,OFFSET([0]!_xlnm.Print_Area,3,0),5,FALSE))","v":""},{"$f":"IF(J897=\"\",\"\",VLOOKUP(A897,OFFSET([0]!_xlnm.Print_Area,3,0),6,FALSE))","v":""},{"$f":"IF(J897=\"\",\"\",VLOOKUP(A897,OFFSET([0]!_xlnm.Print_Area,3,0,,7),7,FALSE))","v":""}," "]
["","",0,{"$f":"IF(J898=\"\",VLOOKUP(C898,OFFSET([0]!_xlnm.Print_Area,3,2),2,FALSE),VLOOKUP(A898,OFFSET([0]!_xlnm.Print_Area,3,0),4,FALSE))","v":{"$error":"#REF!"}},{"$f":"IF(J898=\"\",\"\",VLOOKUP(A898,OFFSET([0]!_xlnm.Print_Area,3,0),5,FALSE))","v":""},{"$f":"IF(J898=\"\",\"\",VLOOKUP(A898,OFFSET([0]!_xlnm.Print_Area,3,0),6,FALSE))","v":""},{"$f":"IF(J898=\"\",\"\",VLOOKUP(A898,OFFSET([0]!_xlnm.Print_Area,3,0,,7),7,FALSE))","v":""}," "]
["","",0,{"$f":"IF(J899=\"\",VLOOKUP(C899,OFFSET([0]!_xlnm.Print_Area,3,2),2,FALSE),VLOOKUP(A899,OFFSET([0]!_xlnm.Print_Area,3,0),4,FALSE))","v":{"$error":"#REF!"}},{"$f":"IF(J899=\"\",\"\",VLOOKUP(A899,OFFSET([0]!_xlnm.Print_Area,3,0),5,FALSE))","v":""},{"$f":"IF(J899=\"\",\"\",VLOOKUP(A899,OFFSET([0]!_xlnm.Print_Area,3,0),6,FALSE))","v":""},{"$f":"IF(J899=\"\",\"\",VLOOKUP(A899,OFFSET([0]!_xlnm.Print_Area,3,0,,7),7,FALSE))","v":""}," "]
["","",0,{"$f":"IF(J900=\"\",VLOOKUP(C900,OFFSET([0]!_xlnm.Print_Area,3,2),2,FALSE),VLOOKUP(A900,OFFSET([0]!_xlnm.Print_Area,3,0),4,FALSE))","v":{"$error":"#REF!"}},{"$f":"IF(J900=\"\",\"\",VLOOKUP(A900,OFFSET([0]!_xlnm.Print_Area,3,0),5,FALSE))","v":""},{"$f":"IF(J900=\"\",\"\",VLOOKUP(A900,OFFSET([0]!_xlnm.Print_Area,3,0),6,FALSE))","v":""},{"$f":"IF(J900=\"\",\"\",VLOOKUP(A900,OFFSET([0]!_xlnm.Print_Area,3,0,,7),7,FALSE))","v":""}," "]
[{"$f":"IF(J901=0,\"\",J901)","v":""},{"$f":"IF(K901=0,\"\",K901)","v":""},{"$f":"I901","v":0},{"$f":"IF(J901=\"\",VLOOKUP(C901,OFFSET([0]!_xlnm.Print_Area,3,2),2,FALSE),VLOOKUP(A901,OFFSET([0]!_xlnm.Print_Area,3,0),4,FALSE))","v":{"$error":"#REF!"}},{"$f":"IF(J901=\"\",\"\",VLOOKUP(A901,OFFSET([0]!_xlnm.Print_Area,3,0),5,FALSE))","v":""},{"$f":"IF(J901=\"\",\"\",VLOOKUP(A901,OFFSET([0]!_xlnm.Print_Area,3,0),6,FALSE))","v":""},{"$f":"IF(J901=\"\",\"\",VLOOKUP(A901,OFFSET([0]!_xlnm.Print_Area,3,0,,7),7,FALSE))","v":""},{"$f":"IFERROR(ROUND(F901*G901,2),\" \")","v":" "}]
["","",0,{"$f":"IF(J902=\"\",VLOOKUP(C902,OFFSET([0]!_xlnm.Print_Area,3,2),2,FALSE),VLOOKUP(A902,OFFSET([0]!_xlnm.Print_Area,3,0),4,FALSE))","v":{"$error":"#REF!"}},{"$f":"IF(J902=\"\",\"\",VLOOKUP(A902,OFFSET([0]!_xlnm.Print_Area,3,0),5,FALSE))","v":""},{"$f":"IF(J902=\"\",\"\",VLOOKUP(A902,OFFSET([0]!_xlnm.Print_Area,3,0),6,FALSE))","v":""},{"$f":"IF(J902=\"\",\"\",VLOOKUP(A902,OFFSET([0]!_xlnm.Print_Area,3,0,,7),7,FALSE))","v":""}," "]
["","",0,{"$f":"IF(J903=\"\",VLOOKUP(C903,OFFSET([0]!_xlnm.Print_Area,3,2),2,FALSE),VLOOKUP(A903,OFFSET([0]!_xlnm.Print_Area,3,0),4,FALSE))","v":{"$error":"#REF!"}},{"$f":"IF(J903=\"\",\"\",VLOOKUP(A903,OFFSET([0]!_xlnm.Print_Area,3,0),5,FALSE))","v":""},{"$f":"IF(J903=\"\",\"\",VLOOKUP(A903,OFFSET([0]!_xlnm.Print_Area,3,0),6,FALSE))","v":""},{"$f":"IF(J903=\"\",\"\",VLOOKUP(A903,OFFSET([0]!_xlnm.Print_Area,3,0,,7),7,FALSE))","v":""}," "]
["","",0,{"$f":"IF(J904=\"\",VLOOKUP(C904,OFFSET([0]!_xlnm.Print_Area,3,2),2,FALSE),VLOOKUP(A904,OFFSET([0]!_xlnm.Print_Area,3,0),4,FALSE))","v":{"$error":"#REF!"}},{"$f":"IF(J904=\"\",\"\",VLOOKUP(A904,OFFSET([0]!_xlnm.Print_Area,3,0),5,FALSE))","v":""},{"$f":"IF(J904=\"\",\"\",VLOOKUP(A904,OFFSET([0]!_xlnm.Print_Area,3,0),6,FALSE))","v":""},{"$f":"IF(J904=\"\",\"\",VLOOKUP(A904,OFFSET([0]!_xlnm.Print_Area,3,0,,7),7,FALSE))","v":""}," "]
["","",0,{"$f":"IF(J905=\"\",VLOOKUP(C905,OFFSET([0]!_xlnm.Print_Area,3,2),2,FALSE),VLOOKUP(A905,OFFSET([0]!_xlnm.Print_Area,3,0),4,FALSE))","v":{"$error":"#REF!"}},{"$f":"IF(J905=\"\",\"\",VLOOKUP(A905,OFFSET([0]!_xlnm.Print_Area,3,0),5,FALSE))","v":""},{"$f":"IF(J905=\"\",\"\",VLOOKUP(A905,OFFSET([0]!_xlnm.Print_Area,3,0),6,FALSE))","v":""},{"$f":"IF(J905=\"\",\"\",VLOOKUP(A905,OFFSET([0]!_xlnm.Print_Area,3,0,,7),7,FALSE))","v":""}," "]
["","",0,{"$f":"IF(J906=\"\",VLOOKUP(C906,OFFSET([0]!_xlnm.Print_Area,3,2),2,FALSE),VLOOKUP(A906,OFFSET([0]!_xlnm.Print_Area,3,0),4,FALSE))","v":{"$error":"#REF!"}},{"$f":"IF(J906=\"\",\"\",VLOOKUP(A906,OFFSET([0]!_xlnm.Print_Area,3,0),5,FALSE))","v":""},{"$f":"IF(J906=\"\",\"\",VLOOKUP(A906,OFFSET([0]!_xlnm.Print_Area,3,0),6,FALSE))","v":""},{"$f":"IF(J906=\"\",\"\",VLOOKUP(A906,OFFSET([0]!_xlnm.Print_Area,3,0,,7),7,FALSE))","v":""}," "]
["","",0,{"$f":"IF(J907=\"\",VLOOKUP(C907,OFFSET([0]!_xlnm.Print_Area,3,2),2,FALSE),VLOOKUP(A907,OFFSET([0]!_xlnm.Print_Area,3,0),4,FALSE))","v":{"$error":"#REF!"}},{"$f":"IF(J907=\"\",\"\",VLOOKUP(A907,OFFSET([0]!_xlnm.Print_Area,3,0),5,FALSE))","v":""},{"$f":"IF(J907=\"\",\"\",VLOOKUP(A907,OFFSET([0]!_xlnm.Print_Area,3,0),6,FALSE))","v":""},{"$f":"IF(J907=\"\",\"\",VLOOKUP(A907,OFFSET([0]!_xlnm.Print_Area,3,0,,7),7,FALSE))","v":""}," "]
["","",0,{"$f":"IF(J908=\"\",VLOOKUP(C908,OFFSET([0]!_xlnm.Print_Area,3,2),2,FALSE),VLOOKUP(A908,OFFSET([0]!_xlnm.Print_Area,3,0),4,FALSE))","v":{"$error":"#REF!"}},{"$f":"IF(J908=\"\",\"\",VLOOKUP(A908,OFFSET([0]!_xlnm.Print_Area,3,0),5,FALSE))","v":""},{"$f":"IF(J908=\"\",\"\",VLOOKUP(A908,OFFSET([0]!_xlnm.Print_Area,3,0),6,FALSE))","v":""},{"$f":"IF(J908=\"\",\"\",VLOOKUP(A908,OFFSET([0]!_xlnm.Print_Area,3,0,,7),7,FALSE))","v":""}," "]
["","",0,{"$f":"IF(J909=\"\",VLOOKUP(C909,OFFSET([0]!_xlnm.Print_Area,3,2),2,FALSE),VLOOKUP(A909,OFFSET([0]!_xlnm.Print_Area,3,0),4,FALSE))","v":{"$error":"#REF!"}},{"$f":"IF(J909=\"\",\"\",VLOOKUP(A909,OFFSET([0]!_xlnm.Print_Area,3,0),5,FALSE))","v":""},{"$f":"IF(J909=\"\",\"\",VLOOKUP(A909,OFFSET([0]!_xlnm.Print_Area,3,0),6,FALSE))","v":""},{"$f":"IF(J909=\"\",\"\",VLOOKUP(A909,OFFSET([0]!_xlnm.Print_Area,3,0,,7),7,FALSE))","v":""}," "]
["","",0,{"$f":"IF(J910=\"\",VLOOKUP(C910,OFFSET([0]!_xlnm.Print_Area,3,2),2,FALSE),VLOOKUP(A910,OFFSET([0]!_xlnm.Print_Area,3,0),4,FALSE))","v":{"$error":"#REF!"}},{"$f":"IF(J910=\"\",\"\",VLOOKUP(A910,OFFSET([0]!_xlnm.Print_Area,3,0),5,FALSE))","v":""},{"$f":"IF(J910=\"\",\"\",VLOOKUP(A910,OFFSET([0]!_xlnm.Print_Area,3,0),6,FALSE))","v":""},{"$f":"IF(J910=\"\",\"\",VLOOKUP(A910,OFFSET([0]!_xlnm.Print_Area,3,0,,7),7,FALSE))","v":""}," "]
["","",0,{"$f":"IF(J911=\"\",VLOOKUP(C911,OFFSET([0]!_xlnm.Print_Area,3,2),2,FALSE),VLOOKUP(A911,OFFSET([0]!_xlnm.Print_Area,3,0),4,FALSE))","v":{"$error":"#REF!"}},{"$f":"IF(J911=\"\",\"\",VLOOKUP(A911,OFFSET([0]!_xlnm.Print_Area,3,0),5,FALSE))","v":""},{"$f":"IF(J911=\"\",\"\",VLOOKUP(A911,OFFSET([0]!_xlnm.Print_Area,3,0),6,FALSE))","v":""},{"$f":"IF(J911=\"\",\"\",VLOOKUP(A911,OFFSET([0]!_xlnm.Print_Area,3,0,,7),7,FALSE))","v":""}," "]
["","",0,{"$f":"IF(J912=\"\",VLOOKUP(C912,OFFSET([0]!_xlnm.Print_Area,3,2),2,FALSE),VLOOKUP(A912,OFFSET([0]!_xlnm.Print_Area,3,0),4,FALSE))","v":{"$error":"#REF!"}},{"$f":"IF(J912=\"\",\"\",VLOOKUP(A912,OFFSET([0]!_xlnm.Print_Area,3,0),5,FALSE))","v":""},{"$f":"IF(J912=\"\",\"\",VLOOKUP(A912,OFFSET([0]!_xlnm.Print_Area,3,0),6,FALSE))","v":""},{"$f":"IF(J912=\"\",\"\",VLOOKUP(A912,OFFSET([0]!_xlnm.Print_Area,3,0,,7),7,FALSE))","v":""}," "]
["","",0,{"$f":"IF(J913=\"\",VLOOKUP(C913,OFFSET([0]!_xlnm.Print_Area,3,2),2,FALSE),VLOOKUP(A913,OFFSET([0]!_xlnm.Print_Area,3,0),4,FALSE))","v":{"$error":"#REF!"}},{"$f":"IF(J913=\"\",\"\",VLOOKUP(A913,OFFSET([0]!_xlnm.Print_Area,3,0),5,FALSE))","v":""},{"$f":"IF(J913=\"\",\"\",VLOOKUP(A913,OFFSET([0]!_xlnm.Print_Area,3,0),6,FALSE))","v":""},{"$f":"IF(J913=\"\",\"\",VLOOKUP(A913,OFFSET([0]!_xlnm.Print_Area,3,0,,7),7,FALSE))","v":""}," "]
["","",0,{"$f":"IF(J914=\"\",VLOOKUP(C914,OFFSET([0]!_xlnm.Print_Area,3,2),2,FALSE),VLOOKUP(A914,OFFSET([0]!_xlnm.Print_Area,3,0),4,FALSE))","v":{"$error":"#REF!"}},{"$f":"IF(J914=\"\",\"\",VLOOKUP(A914,OFFSET([0]!_xlnm.Print_Area,3,0),5,FALSE))","v":""},{"$f":"IF(J914=\"\",\"\",VLOOKUP(A914,OFFSET([0]!_xlnm.Print_Area,3,0),6,FALSE))","v":""},{"$f":"IF(J914=\"\",\"\",VLOOKUP(A914,OFFSET([0]!_xlnm.Print_Area,3,0,,7),7,FALSE))","v":""}," "]
["","",0,{"$f":"IF(J915=\"\",VLOOKUP(C915,OFFSET([0]!_xlnm.Print_Area,3,2),2,FALSE),VLOOKUP(A915,OFFSET([0]!_xlnm.Print_Area,3,0),4,FALSE))","v":{"$error":"#REF!"}},{"$f":"IF(J915=\"\",\"\",VLOOKUP(A915,OFFSET([0]!_xlnm.Print_Area,3,0),5,FALSE))","v":""},{"$f":"IF(J915=\"\",\"\",VLOOKUP(A915,OFFSET([0]!_xlnm.Print_Area,3,0),6,FALSE))","v":""},{"$f":"IF(J915=\"\",\"\",VLOOKUP(A915,OFFSET([0]!_xlnm.Print_Area,3,0,,7),7,FALSE))","v":""}," "]
["","",0,{"$f":"IF(J916=\"\",VLOOKUP(C916,OFFSET([0]!_xlnm.Print_Area,3,2),2,FALSE),VLOOKUP(A916,OFFSET([0]!_xlnm.Print_Area,3,0),4,FALSE))","v":{"$error":"#REF!"}},{"$f":"IF(J916=\"\",\"\",VLOOKUP(A916,OFFSET([0]!_xlnm.Print_Area,3,0),5,FALSE))","v":""},{"$f":"IF(J916=\"\",\"\",VLOOKUP(A916,OFFSET([0]!_xlnm.Print_Area,3,0),6,FALSE))","v":""},{"$f":"IF(J916=\"\",\"\",VLOOKUP(A916,OFFSET([0]!_xlnm.Print_Area,3,0,,7),7,FALSE))","v":""}," "]
["","",0,{"$f":"IF(J917=\"\",VLOOKUP(C917,OFFSET([0]!_xlnm.Print_Area,3,2),2,FALSE),VLOOKUP(A917,OFFSET([0]!_xlnm.Print_Area,3,0),4,FALSE))","v":{"$error":"#REF!"}},{"$f":"IF(J917=\"\",\"\",VLOOKUP(A917,OFFSET([0]!_xlnm.Print_Area,3,0),5,FALSE))","v":""},{"$f":"IF(J917=\"\",\"\",VLOOKUP(A917,OFFSET([0]!_xlnm.Print_Area,3,0),6,FALSE))","v":""},{"$f":"IF(J917=\"\",\"\",VLOOKUP(A917,OFFSET([0]!_xlnm.Print_Area,3,0,,7),7,FALSE))","v":""}," "]
["","",0,{"$f":"IF(J918=\"\",VLOOKUP(C918,OFFSET([0]!_xlnm.Print_Area,3,2),2,FALSE),VLOOKUP(A918,OFFSET([0]!_xlnm.Print_Area,3,0),4,FALSE))","v":{"$error":"#REF!"}},{"$f":"IF(J918=\"\",\"\",VLOOKUP(A918,OFFSET([0]!_xlnm.Print_Area,3,0),5,FALSE))","v":""},{"$f":"IF(J918=\"\",\"\",VLOOKUP(A918,OFFSET([0]!_xlnm.Print_Area,3,0),6,FALSE))","v":""},{"$f":"IF(J918=\"\",\"\",VLOOKUP(A918,OFFSET([0]!_xlnm.Print_Area,3,0,,7),7,FALSE))","v":""}," "]
["","",0,{"$f":"IF(J919=\"\",VLOOKUP(C919,OFFSET([0]!_xlnm.Print_Area,3,2),2,FALSE),VLOOKUP(A919,OFFSET([0]!_xlnm.Print_Area,3,0),4,FALSE))","v":{"$error":"#REF!"}},{"$f":"IF(J919=\"\",\"\",VLOOKUP(A919,OFFSET([0]!_xlnm.Print_Area,3,0),5,FALSE))","v":""},{"$f":"IF(J919=\"\",\"\",VLOOKUP(A919,OFFSET([0]!_xlnm.Print_Area,3,0),6,FALSE))","v":""},{"$f":"IF(J919=\"\",\"\",VLOOKUP(A919,OFFSET([0]!_xlnm.Print_Area,3,0,,7),7,FALSE))","v":""}," "]
["","",0,{"$f":"IF(J920=\"\",VLOOKUP(C920,OFFSET([0]!_xlnm.Print_Area,3,2),2,FALSE),VLOOKUP(A920,OFFSET([0]!_xlnm.Print_Area,3,0),4,FALSE))","v":{"$error":"#REF!"}},{"$f":"IF(J920=\"\",\"\",VLOOKUP(A920,OFFSET([0]!_xlnm.Print_Area,3,0),5,FALSE))","v":""},{"$f":"IF(J920=\"\",\"\",VLOOKUP(A920,OFFSET([0]!_xlnm.Print_Area,3,0),6,FALSE))","v":""},{"$f":"IF(J920=\"\",\"\",VLOOKUP(A920,OFFSET([0]!_xlnm.Print_Area,3,0,,7),7,FALSE))","v":""}," "]
["","",0,{"$f":"IF(J921=\"\",VLOOKUP(C921,OFFSET([0]!_xlnm.Print_Area,3,2),2,FALSE),VLOOKUP(A921,OFFSET([0]!_xlnm.Print_Area,3,0),4,FALSE))","v":{"$error":"#REF!"}},{"$f":"IF(J921=\"\",\"\",VLOOKUP(A921,OFFSET([0]!_xlnm.Print_Area,3,0),5,FALSE))","v":""},{"$f":"IF(J921=\"\",\"\",VLOOKUP(A921,OFFSET([0]!_xlnm.Print_Area,3,0),6,FALSE))","v":""},{"$f":"IF(J921=\"\",\"\",VLOOKUP(A921,OFFSET([0]!_xlnm.Print_Area,3,0,,7),7,FALSE))","v":""}," "]
["","",0,{"$f":"IF(J922=\"\",VLOOKUP(C922,OFFSET([0]!_xlnm.Print_Area,3,2),2,FALSE),VLOOKUP(A922,OFFSET([0]!_xlnm.Print_Area,3,0),4,FALSE))","v":{"$error":"#REF!"}},{"$f":"IF(J922=\"\",\"\",VLOOKUP(A922,OFFSET([0]!_xlnm.Print_Area,3,0),5,FALSE))","v":""},{"$f":"IF(J922=\"\",\"\",VLOOKUP(A922,OFFSET([0]!_xlnm.Print_Area,3,0),6,FALSE))","v":""},{"$f":"IF(J922=\"\",\"\",VLOOKUP(A922,OFFSET([0]!_xlnm.Print_Area,3,0,,7),7,FALSE))","v":""}," "]
["","",0,{"$f":"IF(J923=\"\",VLOOKUP(C923,OFFSET([0]!_xlnm.Print_Area,3,2),2,FALSE),VLOOKUP(A923,OFFSET([0]!_xlnm.Print_Area,3,0),4,FALSE))","v":{"$error":"#REF!"}},{"$f":"IF(J923=\"\",\"\",VLOOKUP(A923,OFFSET([0]!_xlnm.Print_Area,3,0),5,FALSE))","v":""},{"$f":"IF(J923=\"\",\"\",VLOOKUP(A923,OFFSET([0]!_xlnm.Print_Area,3,0),6,FALSE))","v":""},{"$f":"IF(J923=\"\",\"\",VLOOKUP(A923,OFFSET([0]!_xlnm.Print_Area,3,0,,7),7,FALSE))","v":""}," "]
["","",0,{"$f":"IF(J924=\"\",VLOOKUP(C924,OFFSET([0]!_xlnm.Print_Area,3,2),2,FALSE),VLOOKUP(A924,OFFSET([0]!_xlnm.Print_Area,3,0),4,FALSE))","v":{"$error":"#REF!"}},{"$f":"IF(J924=\"\",\"\",VLOOKUP(A924,OFFSET([0]!_xlnm.Print_Area,3,0),5,FALSE))","v":""},{"$f":"IF(J924=\"\",\"\",VLOOKUP(A924,OFFSET([0]!_xlnm.Print_Area,3,0),6,FALSE))","v":""},{"$f":"IF(J924=\"\",\"\",VLOOKUP(A924,OFFSET([0]!_xlnm.Print_Area,3,0,,7),7,FALSE))","v":""}," "]
["","",0,{"$f":"IF(J925=\"\",VLOOKUP(C925,OFFSET([0]!_xlnm.Print_Area,3,2),2,FALSE),VLOOKUP(A925,OFFSET([0]!_xlnm.Print_Area,3,0),4,FALSE))","v":{"$error":"#REF!"}},{"$f":"IF(J925=\"\",\"\",VLOOKUP(A925,OFFSET([0]!_xlnm.Print_Area,3,0),5,FALSE))","v":""},{"$f":"IF(J925=\"\",\"\",VLOOKUP(A925,OFFSET([0]!_xlnm.Print_Area,3,0),6,FALSE))","v":""},{"$f":"IF(J925=\"\",\"\",VLOOKUP(A925,OFFSET([0]!_xlnm.Print_Area,3,0,,7),7,FALSE))","v":""}," "]
["","",0,{"$f":"IF(J926=\"\",VLOOKUP(C926,OFFSET([0]!_xlnm.Print_Area,3,2),2,FALSE),VLOOKUP(A926,OFFSET([0]!_xlnm.Print_Area,3,0),4,FALSE))","v":{"$error":"#REF!"}},{"$f":"IF(J926=\"\",\"\",VLOOKUP(A926,OFFSET([0]!_xlnm.Print_Area,3,0),5,FALSE))","v":""},{"$f":"IF(J926=\"\",\"\",VLOOKUP(A926,OFFSET([0]!_xlnm.Print_Area,3,0),6,FALSE))","v":""},{"$f":"IF(J926=\"\",\"\",VLOOKUP(A926,OFFSET([0]!_xlnm.Print_Area,3,0,,7),7,FALSE))","v":""}," "]
["","",0,{"$f":"IF(J927=\"\",VLOOKUP(C927,OFFSET([0]!_xlnm.Print_Area,3,2),2,FALSE),VLOOKUP(A927,OFFSET([0]!_xlnm.Print_Area,3,0),4,FALSE))","v":{"$error":"#REF!"}},{"$f":"IF(J927=\"\",\"\",VLOOKUP(A927,OFFSET([0]!_xlnm.Print_Area,3,0),5,FALSE))","v":""},{"$f":"IF(J927=\"\",\"\",VLOOKUP(A927,OFFSET([0]!_xlnm.Print_Area,3,0),6,FALSE))","v":""},{"$f":"IF(J927=\"\",\"\",VLOOKUP(A927,OFFSET([0]!_xlnm.Print_Area,3,0,,7),7,FALSE))","v":""}," "]
["","",0,{"$f":"IF(J928=\"\",VLOOKUP(C928,OFFSET([0]!_xlnm.Print_Area,3,2),2,FALSE),VLOOKUP(A928,OFFSET([0]!_xlnm.Print_Area,3,0),4,FALSE))","v":{"$error":"#REF!"}},{"$f":"IF(J928=\"\",\"\",VLOOKUP(A928,OFFSET([0]!_xlnm.Print_Area,3,0),5,FALSE))","v":""},{"$f":"IF(J928=\"\",\"\",VLOOKUP(A928,OFFSET([0]!_xlnm.Print_Area,3,0),6,FALSE))","v":""},{"$f":"IF(J928=\"\",\"\",VLOOKUP(A928,OFFSET([0]!_xlnm.Print_Area,3,0,,7),7,FALSE))","v":""}," "]
["","",0,{"$f":"IF(J929=\"\",VLOOKUP(C929,OFFSET([0]!_xlnm.Print_Area,3,2),2,FALSE),VLOOKUP(A929,OFFSET([0]!_xlnm.Print_Area,3,0),4,FALSE))","v":{"$error":"#REF!"}},{"$f":"IF(J929=\"\",\"\",VLOOKUP(A929,OFFSET([0]!_xlnm.Print_Area,3,0),5,FALSE))","v":""},{"$f":"IF(J929=\"\",\"\",VLOOKUP(A929,OFFSET([0]!_xlnm.Print_Area,3,0),6,FALSE))","v":""},{"$f":"IF(J929=\"\",\"\",VLOOKUP(A929,OFFSET([0]!_xlnm.Print_Area,3,0,,7),7,FALSE))","v":""}," "]
["","",0,{"$f":"IF(J930=\"\",VLOOKUP(C930,OFFSET([0]!_xlnm.Print_Area,3,2),2,FALSE),VLOOKUP(A930,OFFSET([0]!_xlnm.Print_Area,3,0),4,FALSE))","v":{"$error":"#REF!"}},{"$f":"IF(J930=\"\",\"\",VLOOKUP(A930,OFFSET([0]!_xlnm.Print_Area,3,0),5,FALSE))","v":""},{"$f":"IF(J930=\"\",\"\",VLOOKUP(A930,OFFSET([0]!_xlnm.Print_Area,3,0),6,FALSE))","v":""},{"$f":"IF(J930=\"\",\"\",VLOOKUP(A930,OFFSET([0]!_xlnm.Print_Area,3,0,,7),7,FALSE))","v":""}," "]
["","",0,{"$f":"IF(J931=\"\",VLOOKUP(C931,OFFSET([0]!_xlnm.Print_Area,3,2),2,FALSE),VLOOKUP(A931,OFFSET([0]!_xlnm.Print_Area,3,0),4,FALSE))","v":{"$error":"#REF!"}},{"$f":"IF(J931=\"\",\"\",VLOOKUP(A931,OFFSET([0]!_xlnm.Print_Area,3,0),5,FALSE))","v":""},{"$f":"IF(J931=\"\",\"\",VLOOKUP(A931,OFFSET([0]!_xlnm.Print_Area,3,0),6,FALSE))","v":""},{"$f":"IF(J931=\"\",\"\",VLOOKUP(A931,OFFSET([0]!_xlnm.Print_Area,3,0,,7),7,FALSE))","v":""}," "]
["","",0,{"$f":"IF(J932=\"\",VLOOKUP(C932,OFFSET([0]!_xlnm.Print_Area,3,2),2,FALSE),VLOOKUP(A932,OFFSET([0]!_xlnm.Print_Area,3,0),4,FALSE))","v":{"$error":"#REF!"}},{"$f":"IF(J932=\"\",\"\",VLOOKUP(A932,OFFSET([0]!_xlnm.Print_Area,3,0),5,FALSE))","v":""},{"$f":"IF(J932=\"\",\"\",VLOOKUP(A932,OFFSET([0]!_xlnm.Print_Area,3,0),6,FALSE))","v":""},{"$f":"IF(J932=\"\",\"\",VLOOKUP(A932,OFFSET([0]!_xlnm.Print_Area,3,0,,7),7,FALSE))","v":""}," "]
["","",0,{"$f":"IF(J933=\"\",VLOOKUP(C933,OFFSET([0]!_xlnm.Print_Area,3,2),2,FALSE),VLOOKUP(A933,OFFSET([0]!_xlnm.Print_Area,3,0),4,FALSE))","v":{"$error":"#REF!"}},{"$f":"IF(J933=\"\",\"\",VLOOKUP(A933,OFFSET([0]!_xlnm.Print_Area,3,0),5,FALSE))","v":""},{"$f":"IF(J933=\"\",\"\",VLOOKUP(A933,OFFSET([0]!_xlnm.Print_Area,3,0),6,FALSE))","v":""},{"$f":"IF(J933=\"\",\"\",VLOOKUP(A933,OFFSET([0]!_xlnm.Print_Area,3,0,,7),7,FALSE))","v":""}," "]
["","",0,{"$f":"IF(J934=\"\",VLOOKUP(C934,OFFSET([0]!_xlnm.Print_Area,3,2),2,FALSE),VLOOKUP(A934,OFFSET([0]!_xlnm.Print_Area,3,0),4,FALSE))","v":{"$error":"#REF!"}},{"$f":"IF(J934=\"\",\"\",VLOOKUP(A934,OFFSET([0]!_xlnm.Print_Area,3,0),5,FALSE))","v":""},{"$f":"IF(J934=\"\",\"\",VLOOKUP(A934,OFFSET([0]!_xlnm.Print_Area,3,0),6,FALSE))","v":""},{"$f":"IF(J934=\"\",\"\",VLOOKUP(A934,OFFSET([0]!_xlnm.Print_Area,3,0,,7),7,FALSE))","v":""}," "]
["","",0,{"$f":"IF(J935=\"\",VLOOKUP(C935,OFFSET([0]!_xlnm.Print_Area,3,2),2,FALSE),VLOOKUP(A935,OFFSET([0]!_xlnm.Print_Area,3,0),4,FALSE))","v":{"$error":"#REF!"}},{"$f":"IF(J935=\"\",\"\",VLOOKUP(A935,OFFSET([0]!_xlnm.Print_Area,3,0),5,FALSE))","v":""},{"$f":"IF(J935=\"\",\"\",VLOOKUP(A935,OFFSET([0]!_xlnm.Print_Area,3,0),6,FALSE))","v":""},{"$f":"IF(J935=\"\",\"\",VLOOKUP(A935,OFFSET([0]!_xlnm.Print_Area,3,0,,7),7,FALSE))","v":""}," "]
["","",0,{"$f":"IF(J936=\"\",VLOOKUP(C936,OFFSET([0]!_xlnm.Print_Area,3,2),2,FALSE),VLOOKUP(A936,OFFSET([0]!_xlnm.Print_Area,3,0),4,FALSE))","v":{"$error":"#REF!"}},{"$f":"IF(J936=\"\",\"\",VLOOKUP(A936,OFFSET([0]!_xlnm.Print_Area,3,0),5,FALSE))","v":""},{"$f":"IF(J936=\"\",\"\",VLOOKUP(A936,OFFSET([0]!_xlnm.Print_Area,3,0),6,FALSE))","v":""},{"$f":"IF(J936=\"\",\"\",VLOOKUP(A936,OFFSET([0]!_xlnm.Print_Area,3,0,,7),7,FALSE))","v":""}," "]
["","",0,{"$f":"IF(J937=\"\",VLOOKUP(C937,OFFSET([0]!_xlnm.Print_Area,3,2),2,FALSE),VLOOKUP(A937,OFFSET([0]!_xlnm.Print_Area,3,0),4,FALSE))","v":{"$error":"#REF!"}},{"$f":"IF(J937=\"\",\"\",VLOOKUP(A937,OFFSET([0]!_xlnm.Print_Area,3,0),5,FALSE))","v":""},{"$f":"IF(J937=\"\",\"\",VLOOKUP(A937,OFFSET([0]!_xlnm.Print_Area,3,0),6,FALSE))","v":""},{"$f":"IF(J937=\"\",\"\",VLOOKUP(A937,OFFSET([0]!_xlnm.Print_Area,3,0,,7),7,FALSE))","v":""}," "]
["","",0,{"$f":"IF(J938=\"\",VLOOKUP(C938,OFFSET([0]!_xlnm.Print_Area,3,2),2,FALSE),VLOOKUP(A938,OFFSET([0]!_xlnm.Print_Area,3,0),4,FALSE))","v":{"$error":"#REF!"}},{"$f":"IF(J938=\"\",\"\",VLOOKUP(A938,OFFSET([0]!_xlnm.Print_Area,3,0),5,FALSE))","v":""},{"$f":"IF(J938=\"\",\"\",VLOOKUP(A938,OFFSET([0]!_xlnm.Print_Area,3,0),6,FALSE))","v":""},{"$f":"IF(J938=\"\",\"\",VLOOKUP(A938,OFFSET([0]!_xlnm.Print_Area,3,0,,7),7,FALSE))","v":""}," "]
["","",0,{"$f":"IF(J939=\"\",VLOOKUP(C939,OFFSET([0]!_xlnm.Print_Area,3,2),2,FALSE),VLOOKUP(A939,OFFSET([0]!_xlnm.Print_Area,3,0),4,FALSE))","v":{"$error":"#REF!"}},{"$f":"IF(J939=\"\",\"\",VLOOKUP(A939,OFFSET([0]!_xlnm.Print_Area,3,0),5,FALSE))","v":""},{"$f":"IF(J939=\"\",\"\",VLOOKUP(A939,OFFSET([0]!_xlnm.Print_Area,3,0),6,FALSE))","v":""},{"$f":"IF(J939=\"\",\"\",VLOOKUP(A939,OFFSET([0]!_xlnm.Print_Area,3,0,,7),7,FALSE))","v":""}," "]
["","",0,{"$f":"IF(J940=\"\",VLOOKUP(C940,OFFSET([0]!_xlnm.Print_Area,3,2),2,FALSE),VLOOKUP(A940,OFFSET([0]!_xlnm.Print_Area,3,0),4,FALSE))","v":{"$error":"#REF!"}},{"$f":"IF(J940=\"\",\"\",VLOOKUP(A940,OFFSET([0]!_xlnm.Print_Area,3,0),5,FALSE))","v":""},{"$f":"IF(J940=\"\",\"\",VLOOKUP(A940,OFFSET([0]!_xlnm.Print_Area,3,0),6,FALSE))","v":""},{"$f":"IF(J940=\"\",\"\",VLOOKUP(A940,OFFSET([0]!_xlnm.Print_Area,3,0,,7),7,FALSE))","v":""}," "]
["","",0,{"$f":"IF(J941=\"\",VLOOKUP(C941,OFFSET([0]!_xlnm.Print_Area,3,2),2,FALSE),VLOOKUP(A941,OFFSET([0]!_xlnm.Print_Area,3,0),4,FALSE))","v":{"$error":"#REF!"}},{"$f":"IF(J941=\"\",\"\",VLOOKUP(A941,OFFSET([0]!_xlnm.Print_Area,3,0),5,FALSE))","v":""},{"$f":"IF(J941=\"\",\"\",VLOOKUP(A941,OFFSET([0]!_xlnm.Print_Area,3,0),6,FALSE))","v":""},{"$f":"IF(J941=\"\",\"\",VLOOKUP(A941,OFFSET([0]!_xlnm.Print_Area,3,0,,7),7,FALSE))","v":""}," "]
["","",0,{"$f":"IF(J942=\"\",VLOOKUP(C942,OFFSET([0]!_xlnm.Print_Area,3,2),2,FALSE),VLOOKUP(A942,OFFSET([0]!_xlnm.Print_Area,3,0),4,FALSE))","v":{"$error":"#REF!"}},{"$f":"IF(J942=\"\",\"\",VLOOKUP(A942,OFFSET([0]!_xlnm.Print_Area,3,0),5,FALSE))","v":""},{"$f":"IF(J942=\"\",\"\",VLOOKUP(A942,OFFSET([0]!_xlnm.Print_Area,3,0),6,FALSE))","v":""},{"$f":"IF(J942=\"\",\"\",VLOOKUP(A942,OFFSET([0]!_xlnm.Print_Area,3,0,,7),7,FALSE))","v":""}," "]
["","",0,{"$f":"IF(J943=\"\",VLOOKUP(C943,OFFSET([0]!_xlnm.Print_Area,3,2),2,FALSE),VLOOKUP(A943,OFFSET([0]!_xlnm.Print_Area,3,0),4,FALSE))","v":{"$error":"#REF!"}},{"$f":"IF(J943=\"\",\"\",VLOOKUP(A943,OFFSET([0]!_xlnm.Print_Area,3,0),5,FALSE))","v":""},{"$f":"IF(J943=\"\",\"\",VLOOKUP(A943,OFFSET([0]!_xlnm.Print_Area,3,0),6,FALSE))","v":""},{"$f":"IF(J943=\"\",\"\",VLOOKUP(A943,OFFSET([0]!_xlnm.Print_Area,3,0,,7),7,FALSE))","v":""}," "]
["","",0,{"$f":"IF(J944=\"\",VLOOKUP(C944,OFFSET([0]!_xlnm.Print_Area,3,2),2,FALSE),VLOOKUP(A944,OFFSET([0]!_xlnm.Print_Area,3,0),4,FALSE))","v":{"$error":"#REF!"}},{"$f":"IF(J944=\"\",\"\",VLOOKUP(A944,OFFSET([0]!_xlnm.Print_Area,3,0),5,FALSE))","v":""},{"$f":"IF(J944=\"\",\"\",VLOOKUP(A944,OFFSET([0]!_xlnm.Print_Area,3,0),6,FALSE))","v":""},{"$f":"IF(J944=\"\",\"\",VLOOKUP(A944,OFFSET([0]!_xlnm.Print_Area,3,0,,7),7,FALSE))","v":""}," "]
["","",0,{"$f":"IF(J945=\"\",VLOOKUP(C945,OFFSET([0]!_xlnm.Print_Area,3,2),2,FALSE),VLOOKUP(A945,OFFSET([0]!_xlnm.Print_Area,3,0),4,FALSE))","v":{"$error":"#REF!"}},{"$f":"IF(J945=\"\",\"\",VLOOKUP(A945,OFFSET([0]!_xlnm.Print_Area,3,0),5,FALSE))","v":""},{"$f":"IF(J945=\"\",\"\",VLOOKUP(A945,OFFSET([0]!_xlnm.Print_Area,3,0),6,FALSE))","v":""},{"$f":"IF(J945=\"\",\"\",VLOOKUP(A945,OFFSET([0]!_xlnm.Print_Area,3,0,,7),7,FALSE))","v":""}," "]
["","",0,{"$f":"IF(J946=\"\",VLOOKUP(C946,OFFSET([0]!_xlnm.Print_Area,3,2),2,FALSE),VLOOKUP(A946,OFFSET([0]!_xlnm.Print_Area,3,0),4,FALSE))","v":{"$error":"#REF!"}},{"$f":"IF(J946=\"\",\"\",VLOOKUP(A946,OFFSET([0]!_xlnm.Print_Area,3,0),5,FALSE))","v":""},{"$f":"IF(J946=\"\",\"\",VLOOKUP(A946,OFFSET([0]!_xlnm.Print_Area,3,0),6,FALSE))","v":""},{"$f":"IF(J946=\"\",\"\",VLOOKUP(A946,OFFSET([0]!_xlnm.Print_Area,3,0,,7),7,FALSE))","v":""}," "]
["","",0,{"$f":"IF(J947=\"\",VLOOKUP(C947,OFFSET([0]!_xlnm.Print_Area,3,2),2,FALSE),VLOOKUP(A947,OFFSET([0]!_xlnm.Print_Area,3,0),4,FALSE))","v":{"$error":"#REF!"}},{"$f":"IF(J947=\"\",\"\",VLOOKUP(A947,OFFSET([0]!_xlnm.Print_Area,3,0),5,FALSE))","v":""},{"$f":"IF(J947=\"\",\"\",VLOOKUP(A947,OFFSET([0]!_xlnm.Print_Area,3,0),6,FALSE))","v":""},{"$f":"IF(J947=\"\",\"\",VLOOKUP(A947,OFFSET([0]!_xlnm.Print_Area,3,0,,7),7,FALSE))","v":""}," "]
["","",0,{"$f":"IF(J948=\"\",VLOOKUP(C948,OFFSET([0]!_xlnm.Print_Area,3,2),2,FALSE),VLOOKUP(A948,OFFSET([0]!_xlnm.Print_Area,3,0),4,FALSE))","v":{"$error":"#REF!"}},{"$f":"IF(J948=\"\",\"\",VLOOKUP(A948,OFFSET([0]!_xlnm.Print_Area,3,0),5,FALSE))","v":""},{"$f":"IF(J948=\"\",\"\",VLOOKUP(A948,OFFSET([0]!_xlnm.Print_Area,3,0),6,FALSE))","v":""},{"$f":"IF(J948=\"\",\"\",VLOOKUP(A948,OFFSET([0]!_xlnm.Print_Area,3,0,,7),7,FALSE))","v":""}," "]
["","",0,{"$f":"IF(J949=\"\",VLOOKUP(C949,OFFSET([0]!_xlnm.Print_Area,3,2),2,FALSE),VLOOKUP(A949,OFFSET([0]!_xlnm.Print_Area,3,0),4,FALSE))","v":{"$error":"#REF!"}},{"$f":"IF(J949=\"\",\"\",VLOOKUP(A949,OFFSET([0]!_xlnm.Print_Area,3,0),5,FALSE))","v":""},{"$f":"IF(J949=\"\",\"\",VLOOKUP(A949,OFFSET([0]!_xlnm.Print_Area,3,0),6,FALSE))","v":""},{"$f":"IF(J949=\"\",\"\",VLOOKUP(A949,OFFSET([0]!_xlnm.Print_Area,3,0,,7),7,FALSE))","v":""}," "]
["","",0,{"$f":"IF(J950=\"\",VLOOKUP(C950,OFFSET([0]!_xlnm.Print_Area,3,2),2,FALSE),VLOOKUP(A950,OFFSET([0]!_xlnm.Print_Area,3,0),4,FALSE))","v":{"$error":"#REF!"}},{"$f":"IF(J950=\"\",\"\",VLOOKUP(A950,OFFSET([0]!_xlnm.Print_Area,3,0),5,FALSE))","v":""},{"$f":"IF(J950=\"\",\"\",VLOOKUP(A950,OFFSET([0]!_xlnm.Print_Area,3,0),6,FALSE))","v":""},{"$f":"IF(J950=\"\",\"\",VLOOKUP(A950,OFFSET([0]!_xlnm.Print_Area,3,0,,7),7,FALSE))","v":""}," "]
["","",0,{"$f":"IF(J951=\"\",VLOOKUP(C951,OFFSET([0]!_xlnm.Print_Area,3,2),2,FALSE),VLOOKUP(A951,OFFSET([0]!_xlnm.Print_Area,3,0),4,FALSE))","v":{"$error":"#REF!"}},{"$f":"IF(J951=\"\",\"\",VLOOKUP(A951,OFFSET([0]!_xlnm.Print_Area,3,0),5,FALSE))","v":""},{"$f":"IF(J951=\"\",\"\",VLOOKUP(A951,OFFSET([0]!_xlnm.Print_Area,3,0),6,FALSE))","v":""},{"$f":"IF(J951=\"\",\"\",VLOOKUP(A951,OFFSET([0]!_xlnm.Print_Area,3,0,,7),7,FALSE))","v":""}," "]
["","",0,{"$f":"IF(J952=\"\",VLOOKUP(C952,OFFSET([0]!_xlnm.Print_Area,3,2),2,FALSE),VLOOKUP(A952,OFFSET([0]!_xlnm.Print_Area,3,0),4,FALSE))","v":{"$error":"#REF!"}},{"$f":"IF(J952=\"\",\"\",VLOOKUP(A952,OFFSET([0]!_xlnm.Print_Area,3,0),5,FALSE))","v":""},{"$f":"IF(J952=\"\",\"\",VLOOKUP(A952,OFFSET([0]!_xlnm.Print_Area,3,0),6,FALSE))","v":""},{"$f":"IF(J952=\"\",\"\",VLOOKUP(A952,OFFSET([0]!_xlnm.Print_Area,3,0,,7),7,FALSE))","v":""}," "]
["","",0,{"$f":"IF(J953=\"\",VLOOKUP(C953,OFFSET([0]!_xlnm.Print_Area,3,2),2,FALSE),VLOOKUP(A953,OFFSET([0]!_xlnm.Print_Area,3,0),4,FALSE))","v":{"$error":"#REF!"}},{"$f":"IF(J953=\"\",\"\",VLOOKUP(A953,OFFSET([0]!_xlnm.Print_Area,3,0),5,FALSE))","v":""},{"$f":"IF(J953=\"\",\"\",VLOOKUP(A953,OFFSET([0]!_xlnm.Print_Area,3,0),6,FALSE))","v":""},{"$f":"IF(J953=\"\",\"\",VLOOKUP(A953,OFFSET([0]!_xlnm.Print_Area,3,0,,7),7,FALSE))","v":""}," "]
["","",0,{"$f":"IF(J954=\"\",VLOOKUP(C954,OFFSET([0]!_xlnm.Print_Area,3,2),2,FALSE),VLOOKUP(A954,OFFSET([0]!_xlnm.Print_Area,3,0),4,FALSE))","v":{"$error":"#REF!"}},{"$f":"IF(J954=\"\",\"\",VLOOKUP(A954,OFFSET([0]!_xlnm.Print_Area,3,0),5,FALSE))","v":""},{"$f":"IF(J954=\"\",\"\",VLOOKUP(A954,OFFSET([0]!_xlnm.Print_Area,3,0),6,FALSE))","v":""},{"$f":"IF(J954=\"\",\"\",VLOOKUP(A954,OFFSET([0]!_xlnm.Print_Area,3,0,,7),7,FALSE))","v":""}," "]
["","",0,{"$f":"IF(J955=\"\",VLOOKUP(C955,OFFSET([0]!_xlnm.Print_Area,3,2),2,FALSE),VLOOKUP(A955,OFFSET([0]!_xlnm.Print_Area,3,0),4,FALSE))","v":{"$error":"#REF!"}},{"$f":"IF(J955=\"\",\"\",VLOOKUP(A955,OFFSET([0]!_xlnm.Print_Area,3,0),5,FALSE))","v":""},{"$f":"IF(J955=\"\",\"\",VLOOKUP(A955,OFFSET([0]!_xlnm.Print_Area,3,0),6,FALSE))","v":""},{"$f":"IF(J955=\"\",\"\",VLOOKUP(A955,OFFSET([0]!_xlnm.Print_Area,3,0,,7),7,FALSE))","v":""}," "]
["","",0,{"$f":"IF(J956=\"\",VLOOKUP(C956,OFFSET([0]!_xlnm.Print_Area,3,2),2,FALSE),VLOOKUP(A956,OFFSET([0]!_xlnm.Print_Area,3,0),4,FALSE))","v":{"$error":"#REF!"}},{"$f":"IF(J956=\"\",\"\",VLOOKUP(A956,OFFSET([0]!_xlnm.Print_Area,3,0),5,FALSE))","v":""},{"$f":"IF(J956=\"\",\"\",VLOOKUP(A956,OFFSET([0]!_xlnm.Print_Area,3,0),6,FALSE))","v":""},{"$f":"IF(J956=\"\",\"\",VLOOKUP(A956,OFFSET([0]!_xlnm.Print_Area,3,0,,7),7,FALSE))","v":""}," "]
["","",0,{"$f":"IF(J957=\"\",VLOOKUP(C957,OFFSET([0]!_xlnm.Print_Area,3,2),2,FALSE),VLOOKUP(A957,OFFSET([0]!_xlnm.Print_Area,3,0),4,FALSE))","v":{"$error":"#REF!"}},{"$f":"IF(J957=\"\",\"\",VLOOKUP(A957,OFFSET([0]!_xlnm.Print_Area,3,0),5,FALSE))","v":""},{"$f":"IF(J957=\"\",\"\",VLOOKUP(A957,OFFSET([0]!_xlnm.Print_Area,3,0),6,FALSE))","v":""},{"$f":"IF(J957=\"\",\"\",VLOOKUP(A957,OFFSET([0]!_xlnm.Print_Area,3,0,,7),7,FALSE))","v":""}," "]
["","",0,{"$f":"IF(J958=\"\",VLOOKUP(C958,OFFSET([0]!_xlnm.Print_Area,3,2),2,FALSE),VLOOKUP(A958,OFFSET([0]!_xlnm.Print_Area,3,0),4,FALSE))","v":{"$error":"#REF!"}},{"$f":"IF(J958=\"\",\"\",VLOOKUP(A958,OFFSET([0]!_xlnm.Print_Area,3,0),5,FALSE))","v":""},{"$f":"IF(J958=\"\",\"\",VLOOKUP(A958,OFFSET([0]!_xlnm.Print_Area,3,0),6,FALSE))","v":""},{"$f":"IF(J958=\"\",\"\",VLOOKUP(A958,OFFSET([0]!_xlnm.Print_Area,3,0,,7),7,FALSE))","v":""}," "]
["","",0,{"$f":"IF(J959=\"\",VLOOKUP(C959,OFFSET([0]!_xlnm.Print_Area,3,2),2,FALSE),VLOOKUP(A959,OFFSET([0]!_xlnm.Print_Area,3,0),4,FALSE))","v":{"$error":"#REF!"}},{"$f":"IF(J959=\"\",\"\",VLOOKUP(A959,OFFSET([0]!_xlnm.Print_Area,3,0),5,FALSE))","v":""},{"$f":"IF(J959=\"\",\"\",VLOOKUP(A959,OFFSET([0]!_xlnm.Print_Area,3,0),6,FALSE))","v":""},{"$f":"IF(J959=\"\",\"\",VLOOKUP(A959,OFFSET([0]!_xlnm.Print_Area,3,0,,7),7,FALSE))","v":""}," "]
["","",0,{"$f":"IF(J960=\"\",VLOOKUP(C960,OFFSET([0]!_xlnm.Print_Area,3,2),2,FALSE),VLOOKUP(A960,OFFSET([0]!_xlnm.Print_Area,3,0),4,FALSE))","v":{"$error":"#REF!"}},{"$f":"IF(J960=\"\",\"\",VLOOKUP(A960,OFFSET([0]!_xlnm.Print_Area,3,0),5,FALSE))","v":""},{"$f":"IF(J960=\"\",\"\",VLOOKUP(A960,OFFSET([0]!_xlnm.Print_Area,3,0),6,FALSE))","v":""},{"$f":"IF(J960=\"\",\"\",VLOOKUP(A960,OFFSET([0]!_xlnm.Print_Area,3,0,,7),7,FALSE))","v":""}," "]
["","",0,{"$f":"IF(J961=\"\",VLOOKUP(C961,OFFSET([0]!_xlnm.Print_Area,3,2),2,FALSE),VLOOKUP(A961,OFFSET([0]!_xlnm.Print_Area,3,0),4,FALSE))","v":{"$error":"#REF!"}},{"$f":"IF(J961=\"\",\"\",VLOOKUP(A961,OFFSET([0]!_xlnm.Print_Area,3,0),5,FALSE))","v":""},{"$f":"IF(J961=\"\",\"\",VLOOKUP(A961,OFFSET([0]!_xlnm.Print_Area,3,0),6,FALSE))","v":""},{"$f":"IF(J961=\"\",\"\",VLOOKUP(A961,OFFSET([0]!_xlnm.Print_Area,3,0,,7),7,FALSE))","v":""}," "]
["","",0,{"$f":"IF(J962=\"\",VLOOKUP(C962,OFFSET([0]!_xlnm.Print_Area,3,2),2,FALSE),VLOOKUP(A962,OFFSET([0]!_xlnm.Print_Area,3,0),4,FALSE))","v":{"$error":"#REF!"}},{"$f":"IF(J962=\"\",\"\",VLOOKUP(A962,OFFSET([0]!_xlnm.Print_Area,3,0),5,FALSE))","v":""},{"$f":"IF(J962=\"\",\"\",VLOOKUP(A962,OFFSET([0]!_xlnm.Print_Area,3,0),6,FALSE))","v":""},{"$f":"IF(J962=\"\",\"\",VLOOKUP(A962,OFFSET([0]!_xlnm.Print_Area,3,0,,7),7,FALSE))","v":""}," "]
["","",0,{"$f":"IF(J963=\"\",VLOOKUP(C963,OFFSET([0]!_xlnm.Print_Area,3,2),2,FALSE),VLOOKUP(A963,OFFSET([0]!_xlnm.Print_Area,3,0),4,FALSE))","v":{"$error":"#REF!"}},{"$f":"IF(J963=\"\",\"\",VLOOKUP(A963,OFFSET([0]!_xlnm.Print_Area,3,0),5,FALSE))","v":""},{"$f":"IF(J963=\"\",\"\",VLOOKUP(A963,OFFSET([0]!_xlnm.Print_Area,3,0),6,FALSE))","v":""},{"$f":"IF(J963=\"\",\"\",VLOOKUP(A963,OFFSET([0]!_xlnm.Print_Area,3,0,,7),7,FALSE))","v":""}," "]
["","",0,{"$f":"IF(J964=\"\",VLOOKUP(C964,OFFSET([0]!_xlnm.Print_Area,3,2),2,FALSE),VLOOKUP(A964,OFFSET([0]!_xlnm.Print_Area,3,0),4,FALSE))","v":{"$error":"#REF!"}},{"$f":"IF(J964=\"\",\"\",VLOOKUP(A964,OFFSET([0]!_xlnm.Print_Area,3,0),5,FALSE))","v":""},{"$f":"IF(J964=\"\",\"\",VLOOKUP(A964,OFFSET([0]!_xlnm.Print_Area,3,0),6,FALSE))","v":""},{"$f":"IF(J964=\"\",\"\",VLOOKUP(A964,OFFSET([0]!_xlnm.Print_Area,3,0,,7),7,FALSE))","v":""}," "]
[{"$f":"IF(J965=0,\"\",J965)","v":""},{"$f":"IF(K965=0,\"\",K965)","v":""},{"$f":"I965","v":0},{"$f":"IF(J965=\"\",VLOOKUP(C965,OFFSET([0]!_xlnm.Print_Area,3,2),2,FALSE),VLOOKUP(A965,OFFSET([0]!_xlnm.Print_Area,3,0),4,FALSE))","v":{"$error":"#REF!"}},{"$f":"IF(J965=\"\",\"\",VLOOKUP(A965,OFFSET([0]!_xlnm.Print_Area,3,0),5,FALSE))","v":""},{"$f":"IF(J965=\"\",\"\",VLOOKUP(A965,OFFSET([0]!_xlnm.Print_Area,3,0),6,FALSE))","v":""},{"$f":"IF(J965=\"\",\"\",VLOOKUP(A965,OFFSET([0]!_xlnm.Print_Area,3,0,,7),7,FALSE))","v":""},{"$f":"IFERROR(ROUND(F965*G965,2),\" \")","v":" "}]
["","",0,{"$f":"IF(J966=\"\",VLOOKUP(C966,OFFSET([0]!_xlnm.Print_Area,3,2),2,FALSE),VLOOKUP(A966,OFFSET([0]!_xlnm.Print_Area,3,0),4,FALSE))","v":{"$error":"#REF!"}},{"$f":"IF(J966=\"\",\"\",VLOOKUP(A966,OFFSET([0]!_xlnm.Print_Area,3,0),5,FALSE))","v":""},{"$f":"IF(J966=\"\",\"\",VLOOKUP(A966,OFFSET([0]!_xlnm.Print_Area,3,0),6,FALSE))","v":""},{"$f":"IF(J966=\"\",\"\",VLOOKUP(A966,OFFSET([0]!_xlnm.Print_Area,3,0,,7),7,FALSE))","v":""}," "]
["","",0,{"$f":"IF(J967=\"\",VLOOKUP(C967,OFFSET([0]!_xlnm.Print_Area,3,2),2,FALSE),VLOOKUP(A967,OFFSET([0]!_xlnm.Print_Area,3,0),4,FALSE))","v":{"$error":"#REF!"}},{"$f":"IF(J967=\"\",\"\",VLOOKUP(A967,OFFSET([0]!_xlnm.Print_Area,3,0),5,FALSE))","v":""},{"$f":"IF(J967=\"\",\"\",VLOOKUP(A967,OFFSET([0]!_xlnm.Print_Area,3,0),6,FALSE))","v":""},{"$f":"IF(J967=\"\",\"\",VLOOKUP(A967,OFFSET([0]!_xlnm.Print_Area,3,0,,7),7,FALSE))","v":""}," "]
["","",0,{"$f":"IF(J968=\"\",VLOOKUP(C968,OFFSET([0]!_xlnm.Print_Area,3,2),2,FALSE),VLOOKUP(A968,OFFSET([0]!_xlnm.Print_Area,3,0),4,FALSE))","v":{"$error":"#REF!"}},{"$f":"IF(J968=\"\",\"\",VLOOKUP(A968,OFFSET([0]!_xlnm.Print_Area,3,0),5,FALSE))","v":""},{"$f":"IF(J968=\"\",\"\",VLOOKUP(A968,OFFSET([0]!_xlnm.Print_Area,3,0),6,FALSE))","v":""},{"$f":"IF(J968=\"\",\"\",VLOOKUP(A968,OFFSET([0]!_xlnm.Print_Area,3,0,,7),7,FALSE))","v":""}," "]
["","",0,{"$f":"IF(J969=\"\",VLOOKUP(C969,OFFSET([0]!_xlnm.Print_Area,3,2),2,FALSE),VLOOKUP(A969,OFFSET([0]!_xlnm.Print_Area,3,0),4,FALSE))","v":{"$error":"#REF!"}},{"$f":"IF(J969=\"\",\"\",VLOOKUP(A969,OFFSET([0]!_xlnm.Print_Area,3,0),5,FALSE))","v":""},{"$f":"IF(J969=\"\",\"\",VLOOKUP(A969,OFFSET([0]!_xlnm.Print_Area,3,0),6,FALSE))","v":""},{"$f":"IF(J969=\"\",\"\",VLOOKUP(A969,OFFSET([0]!_xlnm.Print_Area,3,0,,7),7,FALSE))","v":""}," "]
["","",0,{"$f":"IF(J970=\"\",VLOOKUP(C970,OFFSET([0]!_xlnm.Print_Area,3,2),2,FALSE),VLOOKUP(A970,OFFSET([0]!_xlnm.Print_Area,3,0),4,FALSE))","v":{"$error":"#REF!"}},{"$f":"IF(J970=\"\",\"\",VLOOKUP(A970,OFFSET([0]!_xlnm.Print_Area,3,0),5,FALSE))","v":""},{"$f":"IF(J970=\"\",\"\",VLOOKUP(A970,OFFSET([0]!_xlnm.Print_Area,3,0),6,FALSE))","v":""},{"$f":"IF(J970=\"\",\"\",VLOOKUP(A970,OFFSET([0]!_xlnm.Print_Area,3,0,,7),7,FALSE))","v":""}," "]
["","",0,{"$f":"IF(J971=\"\",VLOOKUP(C971,OFFSET([0]!_xlnm.Print_Area,3,2),2,FALSE),VLOOKUP(A971,OFFSET([0]!_xlnm.Print_Area,3,0),4,FALSE))","v":{"$error":"#REF!"}},{"$f":"IF(J971=\"\",\"\",VLOOKUP(A971,OFFSET([0]!_xlnm.Print_Area,3,0),5,FALSE))","v":""},{"$f":"IF(J971=\"\",\"\",VLOOKUP(A971,OFFSET([0]!_xlnm.Print_Area,3,0),6,FALSE))","v":""},{"$f":"IF(J971=\"\",\"\",VLOOKUP(A971,OFFSET([0]!_xlnm.Print_Area,3,0,,7),7,FALSE))","v":""}," "]
["","",0,{"$f":"IF(J972=\"\",VLOOKUP(C972,OFFSET([0]!_xlnm.Print_Area,3,2),2,FALSE),VLOOKUP(A972,OFFSET([0]!_xlnm.Print_Area,3,0),4,FALSE))","v":{"$error":"#REF!"}},{"$f":"IF(J972=\"\",\"\",VLOOKUP(A972,OFFSET([0]!_xlnm.Print_Area,3,0),5,FALSE))","v":""},{"$f":"IF(J972=\"\",\"\",VLOOKUP(A972,OFFSET([0]!_xlnm.Print_Area,3,0),6,FALSE))","v":""},{"$f":"IF(J972=\"\",\"\",VLOOKUP(A972,OFFSET([0]!_xlnm.Print_Area,3,0,,7),7,FALSE))","v":""}," "]
["","",0,{"$f":"IF(J973=\"\",VLOOKUP(C973,OFFSET([0]!_xlnm.Print_Area,3,2),2,FALSE),VLOOKUP(A973,OFFSET([0]!_xlnm.Print_Area,3,0),4,FALSE))","v":{"$error":"#REF!"}},{"$f":"IF(J973=\"\",\"\",VLOOKUP(A973,OFFSET([0]!_xlnm.Print_Area,3,0),5,FALSE))","v":""},{"$f":"IF(J973=\"\",\"\",VLOOKUP(A973,OFFSET([0]!_xlnm.Print_Area,3,0),6,FALSE))","v":""},{"$f":"IF(J973=\"\",\"\",VLOOKUP(A973,OFFSET([0]!_xlnm.Print_Area,3,0,,7),7,FALSE))","v":""}," "]
["","",0,{"$f":"IF(J974=\"\",VLOOKUP(C974,OFFSET([0]!_xlnm.Print_Area,3,2),2,FALSE),VLOOKUP(A974,OFFSET([0]!_xlnm.Print_Area,3,0),4,FALSE))","v":{"$error":"#REF!"}},{"$f":"IF(J974=\"\",\"\",VLOOKUP(A974,OFFSET([0]!_xlnm.Print_Area,3,0),5,FALSE))","v":""},{"$f":"IF(J974=\"\",\"\",VLOOKUP(A974,OFFSET([0]!_xlnm.Print_Area,3,0),6,FALSE))","v":""},{"$f":"IF(J974=\"\",\"\",VLOOKUP(A974,OFFSET([0]!_xlnm.Print_Area,3,0,,7),7,FALSE))","v":""}," "]
["","",0,{"$f":"IF(J975=\"\",VLOOKUP(C975,OFFSET([0]!_xlnm.Print_Area,3,2),2,FALSE),VLOOKUP(A975,OFFSET([0]!_xlnm.Print_Area,3,0),4,FALSE))","v":{"$error":"#REF!"}},{"$f":"IF(J975=\"\",\"\",VLOOKUP(A975,OFFSET([0]!_xlnm.Print_Area,3,0),5,FALSE))","v":""},{"$f":"IF(J975=\"\",\"\",VLOOKUP(A975,OFFSET([0]!_xlnm.Print_Area,3,0),6,FALSE))","v":""},{"$f":"IF(J975=\"\",\"\",VLOOKUP(A975,OFFSET([0]!_xlnm.Print_Area,3,0,,7),7,FALSE))","v":""}," "]
["","",0,{"$f":"IF(J976=\"\",VLOOKUP(C976,OFFSET([0]!_xlnm.Print_Area,3,2),2,FALSE),VLOOKUP(A976,OFFSET([0]!_xlnm.Print_Area,3,0),4,FALSE))","v":{"$error":"#REF!"}},{"$f":"IF(J976=\"\",\"\",VLOOKUP(A976,OFFSET([0]!_xlnm.Print_Area,3,0),5,FALSE))","v":""},{"$f":"IF(J976=\"\",\"\",VLOOKUP(A976,OFFSET([0]!_xlnm.Print_Area,3,0),6,FALSE))","v":""},{"$f":"IF(J976=\"\",\"\",VLOOKUP(A976,OFFSET([0]!_xlnm.Print_Area,3,0,,7),7,FALSE))","v":""}," "]
["","",0,{"$f":"IF(J977=\"\",VLOOKUP(C977,OFFSET([0]!_xlnm.Print_Area,3,2),2,FALSE),VLOOKUP(A977,OFFSET([0]!_xlnm.Print_Area,3,0),4,FALSE))","v":{"$error":"#REF!"}},{"$f":"IF(J977=\"\",\"\",VLOOKUP(A977,OFFSET([0]!_xlnm.Print_Area,3,0),5,FALSE))","v":""},{"$f":"IF(J977=\"\",\"\",VLOOKUP(A977,OFFSET([0]!_xlnm.Print_Area,3,0),6,FALSE))","v":""},{"$f":"IF(J977=\"\",\"\",VLOOKUP(A977,OFFSET([0]!_xlnm.Print_Area,3,0,,7),7,FALSE))","v":""}," "]
["","",0,{"$f":"IF(J978=\"\",VLOOKUP(C978,OFFSET([0]!_xlnm.Print_Area,3,2),2,FALSE),VLOOKUP(A978,OFFSET([0]!_xlnm.Print_Area,3,0),4,FALSE))","v":{"$error":"#REF!"}},{"$f":"IF(J978=\"\",\"\",VLOOKUP(A978,OFFSET([0]!_xlnm.Print_Area,3,0),5,FALSE))","v":""},{"$f":"IF(J978=\"\",\"\",VLOOKUP(A978,OFFSET([0]!_xlnm.Print_Area,3,0),6,FALSE))","v":""},{"$f":"IF(J978=\"\",\"\",VLOOKUP(A978,OFFSET([0]!_xlnm.Print_Area,3,0,,7),7,FALSE))","v":""}," "]
["","",0,{"$f":"IF(J979=\"\",VLOOKUP(C979,OFFSET([0]!_xlnm.Print_Area,3,2),2,FALSE),VLOOKUP(A979,OFFSET([0]!_xlnm.Print_Area,3,0),4,FALSE))","v":{"$error":"#REF!"}},{"$f":"IF(J979=\"\",\"\",VLOOKUP(A979,OFFSET([0]!_xlnm.Print_Area,3,0),5,FALSE))","v":""},{"$f":"IF(J979=\"\",\"\",VLOOKUP(A979,OFFSET([0]!_xlnm.Print_Area,3,0),6,FALSE))","v":""},{"$f":"IF(J979=\"\",\"\",VLOOKUP(A979,OFFSET([0]!_xlnm.Print_Area,3,0,,7),7,FALSE))","v":""}," "]
["","",0,{"$f":"IF(J980=\"\",VLOOKUP(C980,OFFSET([0]!_xlnm.Print_Area,3,2),2,FALSE),VLOOKUP(A980,OFFSET([0]!_xlnm.Print_Area,3,0),4,FALSE))","v":{"$error":"#REF!"}},{"$f":"IF(J980=\"\",\"\",VLOOKUP(A980,OFFSET([0]!_xlnm.Print_Area,3,0),5,FALSE))","v":""},{"$f":"IF(J980=\"\",\"\",VLOOKUP(A980,OFFSET([0]!_xlnm.Print_Area,3,0),6,FALSE))","v":""},{"$f":"IF(J980=\"\",\"\",VLOOKUP(A980,OFFSET([0]!_xlnm.Print_Area,3,0,,7),7,FALSE))","v":""}," "]
["","",0,{"$f":"IF(J981=\"\",VLOOKUP(C981,OFFSET([0]!_xlnm.Print_Area,3,2),2,FALSE),VLOOKUP(A981,OFFSET([0]!_xlnm.Print_Area,3,0),4,FALSE))","v":{"$error":"#REF!"}},{"$f":"IF(J981=\"\",\"\",VLOOKUP(A981,OFFSET([0]!_xlnm.Print_Area,3,0),5,FALSE))","v":""},{"$f":"IF(J981=\"\",\"\",VLOOKUP(A981,OFFSET([0]!_xlnm.Print_Area,3,0),6,FALSE))","v":""},{"$f":"IF(J981=\"\",\"\",VLOOKUP(A981,OFFSET([0]!_xlnm.Print_Area,3,0,,7),7,FALSE))","v":""}," "]
["","",0,{"$f":"IF(J982=\"\",VLOOKUP(C982,OFFSET([0]!_xlnm.Print_Area,3,2),2,FALSE),VLOOKUP(A982,OFFSET([0]!_xlnm.Print_Area,3,0),4,FALSE))","v":{"$error":"#REF!"}},{"$f":"IF(J982=\"\",\"\",VLOOKUP(A982,OFFSET([0]!_xlnm.Print_Area,3,0),5,FALSE))","v":""},{"$f":"IF(J982=\"\",\"\",VLOOKUP(A982,OFFSET([0]!_xlnm.Print_Area,3,0),6,FALSE))","v":""},{"$f":"IF(J982=\"\",\"\",VLOOKUP(A982,OFFSET([0]!_xlnm.Print_Area,3,0,,7),7,FALSE))","v":""}," "]
["","",0,{"$f":"IF(J983=\"\",VLOOKUP(C983,OFFSET([0]!_xlnm.Print_Area,3,2),2,FALSE),VLOOKUP(A983,OFFSET([0]!_xlnm.Print_Area,3,0),4,FALSE))","v":{"$error":"#REF!"}},{"$f":"IF(J983=\"\",\"\",VLOOKUP(A983,OFFSET([0]!_xlnm.Print_Area,3,0),5,FALSE))","v":""},{"$f":"IF(J983=\"\",\"\",VLOOKUP(A983,OFFSET([0]!_xlnm.Print_Area,3,0),6,FALSE))","v":""},{"$f":"IF(J983=\"\",\"\",VLOOKUP(A983,OFFSET([0]!_xlnm.Print_Area,3,0,,7),7,FALSE))","v":""}," "]
["","",0,{"$f":"IF(J984=\"\",VLOOKUP(C984,OFFSET([0]!_xlnm.Print_Area,3,2),2,FALSE),VLOOKUP(A984,OFFSET([0]!_xlnm.Print_Area,3,0),4,FALSE))","v":{"$error":"#REF!"}},{"$f":"IF(J984=\"\",\"\",VLOOKUP(A984,OFFSET([0]!_xlnm.Print_Area,3,0),5,FALSE))","v":""},{"$f":"IF(J984=\"\",\"\",VLOOKUP(A984,OFFSET([0]!_xlnm.Print_Area,3,0),6,FALSE))","v":""},{"$f":"IF(J984=\"\",\"\",VLOOKUP(A984,OFFSET([0]!_xlnm.Print_Area,3,0,,7),7,FALSE))","v":""}," "]
["","",0,{"$f":"IF(J985=\"\",VLOOKUP(C985,OFFSET([0]!_xlnm.Print_Area,3,2),2,FALSE),VLOOKUP(A985,OFFSET([0]!_xlnm.Print_Area,3,0),4,FALSE))","v":{"$error":"#REF!"}},{"$f":"IF(J985=\"\",\"\",VLOOKUP(A985,OFFSET([0]!_xlnm.Print_Area,3,0),5,FALSE))","v":""},{"$f":"IF(J985=\"\",\"\",VLOOKUP(A985,OFFSET([0]!_xlnm.Print_Area,3,0),6,FALSE))","v":""},{"$f":"IF(J985=\"\",\"\",VLOOKUP(A985,OFFSET([0]!_xlnm.Print_Area,3,0,,7),7,FALSE))","v":""}," "]
["","",0,{"$f":"IF(J986=\"\",VLOOKUP(C986,OFFSET([0]!_xlnm.Print_Area,3,2),2,FALSE),VLOOKUP(A986,OFFSET([0]!_xlnm.Print_Area,3,0),4,FALSE))","v":{"$error":"#REF!"}},{"$f":"IF(J986=\"\",\"\",VLOOKUP(A986,OFFSET([0]!_xlnm.Print_Area,3,0),5,FALSE))","v":""},{"$f":"IF(J986=\"\",\"\",VLOOKUP(A986,OFFSET([0]!_xlnm.Print_Area,3,0),6,FALSE))","v":""},{"$f":"IF(J986=\"\",\"\",VLOOKUP(A986,OFFSET([0]!_xlnm.Print_Area,3,0,,7),7,FALSE))","v":""}," "]
["","",0,{"$f":"IF(J987=\"\",VLOOKUP(C987,OFFSET([0]!_xlnm.Print_Area,3,2),2,FALSE),VLOOKUP(A987,OFFSET([0]!_xlnm.Print_Area,3,0),4,FALSE))","v":{"$error":"#REF!"}},{"$f":"IF(J987=\"\",\"\",VLOOKUP(A987,OFFSET([0]!_xlnm.Print_Area,3,0),5,FALSE))","v":""},{"$f":"IF(J987=\"\",\"\",VLOOKUP(A987,OFFSET([0]!_xlnm.Print_Area,3,0),6,FALSE))","v":""},{"$f":"IF(J987=\"\",\"\",VLOOKUP(A987,OFFSET([0]!_xlnm.Print_Area,3,0,,7),7,FALSE))","v":""}," "]
["","",0,{"$f":"IF(J988=\"\",VLOOKUP(C988,OFFSET([0]!_xlnm.Print_Area,3,2),2,FALSE),VLOOKUP(A988,OFFSET([0]!_xlnm.Print_Area,3,0),4,FALSE))","v":{"$error":"#REF!"}},{"$f":"IF(J988=\"\",\"\",VLOOKUP(A988,OFFSET([0]!_xlnm.Print_Area,3,0),5,FALSE))","v":""},{"$f":"IF(J988=\"\",\"\",VLOOKUP(A988,OFFSET([0]!_xlnm.Print_Area,3,0),6,FALSE))","v":""},{"$f":"IF(J988=\"\",\"\",VLOOKUP(A988,OFFSET([0]!_xlnm.Print_Area,3,0,,7),7,FALSE))","v":""}," "]
["","",0,{"$f":"IF(J989=\"\",VLOOKUP(C989,OFFSET([0]!_xlnm.Print_Area,3,2),2,FALSE),VLOOKUP(A989,OFFSET([0]!_xlnm.Print_Area,3,0),4,FALSE))","v":{"$error":"#REF!"}},{"$f":"IF(J989=\"\",\"\",VLOOKUP(A989,OFFSET([0]!_xlnm.Print_Area,3,0),5,FALSE))","v":""},{"$f":"IF(J989=\"\",\"\",VLOOKUP(A989,OFFSET([0]!_xlnm.Print_Area,3,0),6,FALSE))","v":""},{"$f":"IF(J989=\"\",\"\",VLOOKUP(A989,OFFSET([0]!_xlnm.Print_Area,3,0,,7),7,FALSE))","v":""}," "]
["","",0,{"$f":"IF(J990=\"\",VLOOKUP(C990,OFFSET([0]!_xlnm.Print_Area,3,2),2,FALSE),VLOOKUP(A990,OFFSET([0]!_xlnm.Print_Area,3,0),4,FALSE))","v":{"$error":"#REF!"}},{"$f":"IF(J990=\"\",\"\",VLOOKUP(A990,OFFSET([0]!_xlnm.Print_Area,3,0),5,FALSE))","v":""},{"$f":"IF(J990=\"\",\"\",VLOOKUP(A990,OFFSET([0]!_xlnm.Print_Area,3,0),6,FALSE))","v":""},{"$f":"IF(J990=\"\",\"\",VLOOKUP(A990,OFFSET([0]!_xlnm.Print_Area,3,0,,7),7,FALSE))","v":""}," "]
["","",0,{"$f":"IF(J991=\"\",VLOOKUP(C991,OFFSET([0]!_xlnm.Print_Area,3,2),2,FALSE),VLOOKUP(A991,OFFSET([0]!_xlnm.Print_Area,3,0),4,FALSE))","v":{"$error":"#REF!"}},{"$f":"IF(J991=\"\",\"\",VLOOKUP(A991,OFFSET([0]!_xlnm.Print_Area,3,0),5,FALSE))","v":""},{"$f":"IF(J991=\"\",\"\",VLOOKUP(A991,OFFSET([0]!_xlnm.Print_Area,3,0),6,FALSE))","v":""},{"$f":"IF(J991=\"\",\"\",VLOOKUP(A991,OFFSET([0]!_xlnm.Print_Area,3,0,,7),7,FALSE))","v":""}," "]
["","",0,{"$f":"IF(J992=\"\",VLOOKUP(C992,OFFSET([0]!_xlnm.Print_Area,3,2),2,FALSE),VLOOKUP(A992,OFFSET([0]!_xlnm.Print_Area,3,0),4,FALSE))","v":{"$error":"#REF!"}},{"$f":"IF(J992=\"\",\"\",VLOOKUP(A992,OFFSET([0]!_xlnm.Print_Area,3,0),5,FALSE))","v":""},{"$f":"IF(J992=\"\",\"\",VLOOKUP(A992,OFFSET([0]!_xlnm.Print_Area,3,0),6,FALSE))","v":""},{"$f":"IF(J992=\"\",\"\",VLOOKUP(A992,OFFSET([0]!_xlnm.Print_Area,3,0,,7),7,FALSE))","v":""}," "]
["","",0,{"$f":"IF(J993=\"\",VLOOKUP(C993,OFFSET([0]!_xlnm.Print_Area,3,2),2,FALSE),VLOOKUP(A993,OFFSET([0]!_xlnm.Print_Area,3,0),4,FALSE))","v":{"$error":"#REF!"}},{"$f":"IF(J993=\"\",\"\",VLOOKUP(A993,OFFSET([0]!_xlnm.Print_Area,3,0),5,FALSE))","v":""},{"$f":"IF(J993=\"\",\"\",VLOOKUP(A993,OFFSET([0]!_xlnm.Print_Area,3,0),6,FALSE))","v":""},{"$f":"IF(J993=\"\",\"\",VLOOKUP(A993,OFFSET([0]!_xlnm.Print_Area,3,0,,7),7,FALSE))","v":""}," "]
["","",0,{"$f":"IF(J994=\"\",VLOOKUP(C994,OFFSET([0]!_xlnm.Print_Area,3,2),2,FALSE),VLOOKUP(A994,OFFSET([0]!_xlnm.Print_Area,3,0),4,FALSE))","v":{"$error":"#REF!"}},{"$f":"IF(J994=\"\",\"\",VLOOKUP(A994,OFFSET([0]!_xlnm.Print_Area,3,0),5,FALSE))","v":""},{"$f":"IF(J994=\"\",\"\",VLOOKUP(A994,OFFSET([0]!_xlnm.Print_Area,3,0),6,FALSE))","v":""},{"$f":"IF(J994=\"\",\"\",VLOOKUP(A994,OFFSET([0]!_xlnm.Print_Area,3,0,,7),7,FALSE))","v":""}," "]
["","",0,{"$f":"IF(J995=\"\",VLOOKUP(C995,OFFSET([0]!_xlnm.Print_Area,3,2),2,FALSE),VLOOKUP(A995,OFFSET([0]!_xlnm.Print_Area,3,0),4,FALSE))","v":{"$error":"#REF!"}},{"$f":"IF(J995=\"\",\"\",VLOOKUP(A995,OFFSET([0]!_xlnm.Print_Area,3,0),5,FALSE))","v":""},{"$f":"IF(J995=\"\",\"\",VLOOKUP(A995,OFFSET([0]!_xlnm.Print_Area,3,0),6,FALSE))","v":""},{"$f":"IF(J995=\"\",\"\",VLOOKUP(A995,OFFSET([0]!_xlnm.Print_Area,3,0,,7),7,FALSE))","v":""}," "]
["","",0,{"$f":"IF(J996=\"\",VLOOKUP(C996,OFFSET([0]!_xlnm.Print_Area,3,2),2,FALSE),VLOOKUP(A996,OFFSET([0]!_xlnm.Print_Area,3,0),4,FALSE))","v":{"$error":"#REF!"}},{"$f":"IF(J996=\"\",\"\",VLOOKUP(A996,OFFSET([0]!_xlnm.Print_Area,3,0),5,FALSE))","v":""},{"$f":"IF(J996=\"\",\"\",VLOOKUP(A996,OFFSET([0]!_xlnm.Print_Area,3,0),6,FALSE))","v":""},{"$f":"IF(J996=\"\",\"\",VLOOKUP(A996,OFFSET([0]!_xlnm.Print_Area,3,0,,7),7,FALSE))","v":""}," "]
["","",0,{"$f":"IF(J997=\"\",VLOOKUP(C997,OFFSET([0]!_xlnm.Print_Area,3,2),2,FALSE),VLOOKUP(A997,OFFSET([0]!_xlnm.Print_Area,3,0),4,FALSE))","v":{"$error":"#REF!"}},{"$f":"IF(J997=\"\",\"\",VLOOKUP(A997,OFFSET([0]!_xlnm.Print_Area,3,0),5,FALSE))","v":""},{"$f":"IF(J997=\"\",\"\",VLOOKUP(A997,OFFSET([0]!_xlnm.Print_Area,3,0),6,FALSE))","v":""},{"$f":"IF(J997=\"\",\"\",VLOOKUP(A997,OFFSET([0]!_xlnm.Print_Area,3,0,,7),7,FALSE))","v":""}," "]
["","",0,{"$f":"IF(J998=\"\",VLOOKUP(C998,OFFSET([0]!_xlnm.Print_Area,3,2),2,FALSE),VLOOKUP(A998,OFFSET([0]!_xlnm.Print_Area,3,0),4,FALSE))","v":{"$error":"#REF!"}},{"$f":"IF(J998=\"\",\"\",VLOOKUP(A998,OFFSET([0]!_xlnm.Print_Area,3,0),5,FALSE))","v":""},{"$f":"IF(J998=\"\",\"\",VLOOKUP(A998,OFFSET([0]!_xlnm.Print_Area,3,0),6,FALSE))","v":""},{"$f":"IF(J998=\"\",\"\",VLOOKUP(A998,OFFSET([0]!_xlnm.Print_Area,3,0,,7),7,FALSE))","v":""}," "]
["","",0,{"$f":"IF(J999=\"\",VLOOKUP(C999,OFFSET([0]!_xlnm.Print_Area,3,2),2,FALSE),VLOOKUP(A999,OFFSET([0]!_xlnm.Print_Area,3,0),4,FALSE))","v":{"$error":"#REF!"}},{"$f":"IF(J999=\"\",\"\",VLOOKUP(A999,OFFSET([0]!_xlnm.Print_Area,3,0),5,FALSE))","v":""},{"$f":"IF(J999=\"\",\"\",VLOOKUP(A999,OFFSET([0]!_xlnm.Print_Area,3,0),6,FALSE))","v":""},{"$f":"IF(J999=\"\",\"\",VLOOKUP(A999,OFFSET([0]!_xlnm.Print_Area,3,0,,7),7,FALSE))","v":""}," "]
["","",0,{"$f":"IF(J1000=\"\",VLOOKUP(C1000,OFFSET([0]!_xlnm.Print_Area,3,2),2,FALSE),VLOOKUP(A1000,OFFSET([0]!_xlnm.Print_Area,3,0),4,FALSE))","v":{"$error":"#REF!"}},{"$f":"IF(J1000=\"\",\"\",VLOOKUP(A1000,OFFSET([0]!_xlnm.Print_Area,3,0),5,FALSE))","v":""},{"$f":"IF(J1000=\"\",\"\",VLOOKUP(A1000,OFFSET([0]!_xlnm.Print_Area,3,0),6,FALSE))","v":""},{"$f":"IF(J1000=\"\",\"\",VLOOKUP(A1000,OFFSET([0]!_xlnm.Print_Area,3,0,,7),7,FALSE))","v":""}," "]